Workbook

Sheet titulo

Sheet Cuadro01
A1: Cuadro No. 1. Principal fuente de obtención de agua en las viviendas según dominio, nivel educativo del jefe y sexo del jefe
A3: Categorias | B3: Total | D3: Tuberia instalada | E3: 0 | F3: Pozo con bomba | G3: 0 | H3: Pozo malacate | I3: 0 | J3: Llave publica o comunitaria | L3: Rio,riachuelo,manantial | M3: 0 | N3: Carro cisterna | O3: 0 | P3: Pick-up con dron o barril | Q3: 0 | R3: Del vecino / otra vivienda | S3: 0 | T3: Otro | U3: 0
B4: No | C4: % /1 | D4: No | E4: % /1 | F4: No | G4: % /1 | H4: No | I4: % /1 | J4: No | K4: % /1 | L4: No | M4: % /1 | N4: No | O4: % /1 | P4: No | Q4: % /1 | R4: No | S4: % /1 | T4: No | U4: % /1
A5: Total Nacional/2 | B5: =+D5+F5+H5+J5+L5+N5+P5+R5+T5 -> 2295812.4 | C5: =+C8+C12 -> 100 | D5: =[1]Sheet1!C6 -> 1995579.8 | E5: =+D5/$B5*100 -> 86.922599 | F5: =[1]Sheet1!E6 -> 69538.591 | G5: =+F5/$B5*100 -> 3.0289318 | H5: =[1]Sheet1!G6 -> 22558.687 | I5: =+H5/$B5*100 -> 0.98260152 | J5: =[1]Sheet1!I6 -> 6588.5586 | K5: =+J5/$B5*100 -> 0.28698158 | L5: =[1]Sheet1!K6 -> 67572.79 | M5: =+L5/$B5*100 -> 2.9433063 | N5: =[1]Sheet1!M6 -> 33912.095 | O5: =+N5/$B5*100 -> 1.4771283 | P5: =[1]Sheet1!O6 -> 7141.3169 | Q5: =+P5/$B5*100 -> 0.31105838 | R5: =[1]Sheet1!Q6 -> 38694.839 | S5: =+R5/$B5*100 -> 1.685453 | T5: =[1]Sheet1!S6 -> 54225.72 | U5: =+T5/$B5*100 -> 2.3619404
A7: Dominio
A8: Urbano | B8: =+D8+F8+H8+J8+L8+N8+P8+R8+T8 -> 1292359 | C8: =+B8/B$5*100 -> 56.292013 | D8: =[1]Sheet1!C7 -> 1193660.3 | E8: =+D8/D$5*100 -> 59.815214 | F8: =[1]Sheet1!E7 -> 37495.541 | G8: =+F8/F$5*100 -> 53.920479 | H8: =[1]Sheet1!G7 -> 2320.972 | I8: =+H8/H$5*100 -> 10.288595 | J8: =[1]Sheet1!I7 -> 1529.1297 | K8: =+J8/J$5*100 -> 23.208866 | L8: =[1]Sheet1!K7 -> 3065.0722 | M8: =+L8/L$5*100 -> 4.5359562 | N8: =[1]Sheet1!M7 -> 30117.523 | O8: =+N8/N$5*100 -> 88.810565 | P8: =[1]Sheet1!O7 -> 5033.2215 | Q8: =+P8/P$5*100 -> 70.480299 | R8: =[1]Sheet1!Q7 -> 13819.314 | S8: =+R8/R$5*100 -> 35.713584 | T8: =[1]Sheet1!S7 -> 5317.9074 | U8: =+T8/T$5*100 -> 9.8069836
A9: Distrito Central | B9: =+D9+F9+H9+J9+L9+N9+P9+R9+T9 -> 269265.14 | C9: =+B9/B$5*100 -> 11.728534 | D9: =[1]Sheet1!C9 -> 250424.43 | E9: =+D9/D$5*100 -> 12.548956 | F9: =[1]Sheet1!E9 -> 523.35304 | G9: =+F9/F$5*100 -> 0.75260806 | H9: =[1]Sheet1!G9 -> 0 | I9: =+H9/H$5*100 -> 0 | J9: =[1]Sheet1!I9 -> 785.02956 | K9: =+J9/J$5*100 -> 11.915043 | L9: =[1]Sheet1!K9 -> 0 | M9: =+L9/L$5*100 -> 0 | N9: =[1]Sheet1!M9 -> 14915.562 | O9: =+N9/N$5*100 -> 43.983015 | P9: =[1]Sheet1!O9 -> 1046.7061 | Q9: =+P9/P$5*100 -> 14.657046 | R9: =[1]Sheet1!Q9 -> 1046.7061 | S9: =+R9/R$5*100 -> 2.7050276 | T9: =[1]Sheet1!S9 -> 523.35304 | U9: =+T9/T$5*100 -> 0.96513802
A10: San Pedro Sula | B10: =+D10+F10+H10+J10+L10+N10+P10+R10+T10 -> 165317.7 | C10: =+B10/B$5*100 -> 7.2008368 | D10: =[1]Sheet1!C10 -> 150288.82 | E10: =+D10/D$5*100 -> 7.5310856 | F10: =[1]Sheet1!E10 -> 10820.795 | G10: =+F10/F$5*100 -> 15.560849 | H10: =[1]Sheet1!G10 -> 0 | I10: =+H10/H$5*100 -> 0 | J10: =[1]Sheet1!I10 -> 0 | K10: =+J10/J$5*100 -> 0 | L10: =[1]Sheet1!K10 -> 0 | M10: =+L10/L$5*100 -> 0 | N10: =[1]Sheet1!M10 -> 0 | O10: =+N10/N$5*100 -> 0 | P10: =[1]Sheet1!O10 -> 0 | Q10: =+P10/P$5*100 -> 0 | R10: =[1]Sheet1!Q10 -> 901.73293 | S10: =+R10/R$5*100 -> 2.33037 | T10: =[1]Sheet1!S10 -> 3306.3541 | U10: =+T10/T$5*100 -> 6.0973908
A11: Resto Urbano | B11: =+D11+F11+H11+J11+L11+N11+P11+R11+T11 -> 857776.15 | C11: =+B11/B$5*100 -> 37.362642 | D11: =[1]Sheet1!C11 -> 792947.06 | E11: =+D11/D$5*100 -> 39.735172 | F11: =[1]Sheet1!E11 -> 26151.393 | G11: =+F11/F$5*100 -> 37.607022 | H11: =[1]Sheet1!G11 -> 2320.972 | I11: =+H11/H$5*100 -> 10.288595 | J11: =[1]Sheet1!I11 -> 744.10015 | K11: =+J11/J$5*100 -> 11.293823 | L11: =[1]Sheet1!K11 -> 3065.0722 | M11: =+L11/L$5*100 -> 4.5359562 | N11: =[1]Sheet1!M11 -> 15201.962 | O11: =+N11/N$5*100 -> 44.827551 | P11: =[1]Sheet1!O11 -> 3986.5154 | Q11: =+P11/P$5*100 -> 55.823254 | R11: =[1]Sheet1!Q11 -> 11870.875 | S11: =+R11/R$5*100 -> 30.678186 | T11: =[1]Sheet1!S11 -> 1488.2003 | U11: =+T11/T$5*100 -> 2.7444547
A12: Rural | B12: =+D12+F12+H12+J12+L12+N12+P12+R12+T12 -> 1003453.4 | C12: =+B12/B$5*100 -> 43.707987 | D12: =[1]Sheet1!C12 -> 801919.47 | E12: =+D12/D$5*100 -> 40.184786 | F12: =[1]Sheet1!E12 -> 32043.049 | G12: =+F12/F$5*100 -> 46.079521 | H12: =[1]Sheet1!G12 -> 20237.715 | I12: =+H12/H$5*100 -> 89.711405 | J12: =[1]Sheet1!I12 -> 5059.4289 | K12: =+J12/J$5*100 -> 76.791134 | L12: =[1]Sheet1!K12 -> 64507.718 | M12: =+L12/L$5*100 -> 95.464044 | N12: =[1]Sheet1!M12 -> 3794.5716 | O12: =+N12/N$5*100 -> 11.189435 | P12: =[1]Sheet1!O12 -> 2108.0954 | Q12: =+P12/P$5*100 -> 29.519701 | R12: =[1]Sheet1!Q12 -> 24875.525 | S12: =+R12/R$5*100 -> 64.286416 | T12: =[1]Sheet1!S12 -> 48907.812 | U12: =+T12/T$5*100 -> 90.193016
A14: Nivel Educativo del Jefe
A15: Sin Nivel | B15: =+D15+F15+H15+J15+L15+N15+P15+R15+T15 -> 269922.1 | C15: =+B15/B$5*100 -> 11.75715 | D15: =[1]Sheet1!C13 -> 222458.07 | E15: =+D15/D$5*100 -> 11.147541 | F15: =[1]Sheet1!E13 -> 6372.3144 | G15: =+F15/F$5*100 -> 9.1637095 | H15: =[1]Sheet1!G13 -> 4216.1907 | I15: =+H15/H$5*100 -> 18.689876 | J15: =[1]Sheet1!I13 -> 1264.8572 | K15: =+J15/J$5*100 -> 19.197784 | L15: =[1]Sheet1!K13 -> 13070.191 | M15: =+L15/L$5*100 -> 19.342388 | N15: =[1]Sheet1!M13 -> 4330.0507 | O15: =+N15/N$5*100 -> 12.768456 | P15: =[1]Sheet1!O13 -> 832.7717 | Q15: =+P15/P$5*100 -> 11.661319 | R15: =[1]Sheet1!Q13 -> 5993.9345 | S15: =+R15/R$5*100 -> 15.490269 | T15: =[1]Sheet1!S13 -> 11383.715 | U15: =+T15/T$5*100 -> 20.993202
A16: Primaria | B16: =+D16+F16+H16+J16+L16+N16+P16+R16+T16 -> 1353032.4 | C16: =+B16/B$5*100 -> 58.9348 | D16: =[1]Sheet1!C14 -> 1143978 | E16: =+D16/D$5*100 -> 57.325595 | F16: =[1]Sheet1!E14 -> 47207.584 | G16: =+F16/F$5*100 -> 67.886887 | H16: =[1]Sheet1!G14 -> 16755.158 | I16: =+H16/H$5*100 -> 74.273641 | J16: =[1]Sheet1!I14 -> 3736.3631 | K16: =+J16/J$5*100 -> 56.709871 | L16: =[1]Sheet1!K14 -> 50286.408 | M16: =+L16/L$5*100 -> 74.418132 | N16: =[1]Sheet1!M14 -> 19406.56 | O16: =+N16/N$5*100 -> 57.226072 | P16: =[1]Sheet1!O14 -> 4048.3777 | Q16: =+P16/P$5*100 -> 56.689512 | R16: =[1]Sheet1!Q14 -> 28344.079 | S16: =+R16/R$5*100 -> 73.250282 | T16: =[1]Sheet1!S14 -> 39269.922 | U16: =+T16/T$5*100 -> 72.419366
A17: Secundaria | B17: =+D17+F17+H17+J17+L17+N17+P17+R17+T17 -> 448406.91 | C17: =+B17/B$5*100 -> 19.531514 | D17: =[1]Sheet1!C15 -> 416613.12 | E17: =+D17/D$5*100 -> 20.876796 | F17: =[1]Sheet1!E15 -> 10354.778 | G17: =+F17/F$5*100 -> 14.890693 | H17: =[1]Sheet1!G15 -> 0 | I17: =+H17/H$5*100 -> 0 | J17: =[1]Sheet1!I15 -> 1587.3383 | K17: =+J17/J$5*100 -> 24.092346 | L17: =[1]Sheet1!K15 -> 2951.3335 | M17: =+L17/L$5*100 -> 4.367636 | N17: =[1]Sheet1!M15 -> 7976.1215 | O17: =+N17/N$5*100 -> 23.519991 | P17: =[1]Sheet1!O15 -> 2260.1674 | Q17: =+P17/P$5*100 -> 31.649169 | R17: =[1]Sheet1!Q15 -> 3935.2067 | S17: =+R17/R$5*100 -> 10.169849 | T17: =[1]Sheet1!S15 -> 2728.8443 | U17: =+T17/T$5*100 -> 5.0323801
A18: Superior | B18: =+D18+F18+H18+J18+L18+N18+P18+R18+T18 -> 176592.19 | C18: =+B18/B$5*100 -> 7.6919262 | D18: =[1]Sheet1!C16 -> 169210.54 | E18: =+D18/D$5*100 -> 8.4792669 | F18: =[1]Sheet1!E16 -> 4438.1946 | G18: =+F18/F$5*100 -> 6.3823476 | H18: =[1]Sheet1!G16 -> 1165.7192 | I18: =+H18/H$5*100 -> 5.1674958 | J18: =[1]Sheet1!I16 -> 0 | K18: =+J18/J$5*100 -> 0 | L18: =[1]Sheet1!K16 -> 0 | M18: =+L18/L$5*100 -> 0 | N18: =[1]Sheet1!M16 -> 1777.7438 | O18: =+N18/N$5*100 -> 5.2422117 | P18: =[1]Sheet1!O16 -> 0 | Q18: =+P18/P$5*100 -> 0 | R18: =[1]Sheet1!Q16 -> 0 | S18: =+R18/R$5*100 -> 0 | T18: =[1]Sheet1!S16 -> 0 | U18: =+T18/T$5*100 -> 0
A19: Ns / Nr | B19: =+D19+F19+H19+J19+L19+N19+P19+R19+T19 -> 47858.753 | C19: =+B19/B$5*100 -> 2.0846108 | D19: =[1]Sheet1!C17 -> 43320.081 | E19: =+D19/D$5*100 -> 2.1708017 | F19: =[1]Sheet1!E17 -> 1165.7192 | G19: =+F19/F$5*100 -> 1.676363 | H19: =[1]Sheet1!G17 -> 421.61907 | I19: =+H19/H$5*100 -> 1.8689876 | J19: =[1]Sheet1!I17 -> 0 | K19: =+J19/J$5*100 -> 0 | L19: =[1]Sheet1!K17 -> 1264.8572 | M19: =+L19/L$5*100 -> 1.871844 | N19: =[1]Sheet1!M17 -> 421.61907 | O19: =+N19/N$5*100 -> 1.2432705 | P19: =[1]Sheet1!O17 -> 0 | Q19: =+P19/P$5*100 -> 0 | R19: =[1]Sheet1!Q17 -> 421.61907 | S19: =+R19/R$5*100 -> 1.0896003 | T19: =[1]Sheet1!S17 -> 843.23814 | U19: =+T19/T$5*100 -> 1.555052
A21: Sexo del Jefe
A22: Hombre | B22: =+D22+F22+H22+J22+L22+N22+P22+R22+T22 -> 1440682.5 | C22: =+B22/B$5*100 -> 62.752624 | D22: =[1]Sheet1!C18 -> 1233295.1 | E22: =+D22/D$5*100 -> 61.801341 | F22: =[1]Sheet1!E18 -> 45029.441 | G22: =+F22/F$5*100 -> 64.754606 | H22: =[1]Sheet1!G18 -> 16755.158 | I22: =+H22/H$5*100 -> 74.273641 | J22: =[1]Sheet1!I18 -> 5161.1628 | K22: =+J22/J$5*100 -> 78.335235 | L22: =[1]Sheet1!K18 -> 51551.265 | M22: =+L22/L$5*100 -> 76.289976 | N22: =[1]Sheet1!M18 -> 21075.757 | O22: =+N22/N$5*100 -> 62.148201 | P22: =[1]Sheet1!O18 -> 3626.7586 | Q22: =+P22/P$5*100 -> 50.785572 | R22: =[1]Sheet1!Q18 -> 22008.156 | S22: =+R22/R$5*100 -> 56.876206 | T22: =[1]Sheet1!S18 -> 42179.759 | U22: =+T22/T$5*100 -> 77.785521
A23: Mujer | B23: =+D23+F23+H23+J23+L23+N23+P23+R23+T23 -> 855129.87 | C23: =+B23/B$5*100 -> 37.247376 | D23: =[1]Sheet1!C19 -> 762284.73 | E23: =+D23/D$5*100 -> 38.198659 | F23: =[1]Sheet1!E19 -> 24509.15 | G23: =+F23/F$5*100 -> 35.245394 | H23: =[1]Sheet1!G19 -> 5803.529 | I23: =+H23/H$5*100 -> 25.726359 | J23: =[1]Sheet1!I19 -> 1427.3957 | K23: =+J23/J$5*100 -> 21.664765 | L23: =[1]Sheet1!K19 -> 16021.525 | M23: =+L23/L$5*100 -> 23.710024 | N23: =[1]Sheet1!M19 -> 12836.338 | O23: =+N23/N$5*100 -> 37.851799 | P23: =[1]Sheet1!O19 -> 3514.5582 | Q23: =+P23/P$5*100 -> 49.214428 | R23: =[1]Sheet1!Q19 -> 16686.682 | S23: =+R23/R$5*100 -> 43.123794 | T23: =[1]Sheet1!S19 -> 12045.961 | U23: =+T23/T$5*100 -> 22.214479
A25: =[2]Resumen!A44 -> Fuente: Instituto Nacional de Estadística (INE). LXXIII Encuesta Permanente de Hogares de Propósitos Múltiples, Otubre 2021
A26: 1/ Porcentaje por columnas
A27: 2/ Porcentaje por filas

Sheet Cuadro02
A1: Cuadro No. 2. Principal medio de eliminación de excretas en las viviendas según dominio, nivel educativo del jefe y sexo del jefe
A3: Categorias | B3: Total | C3: 0 | D3: Inodoro conectado a alcantarilla | E3: 0 | F3: Inodoro conectado a pozo septico | G3: 0 | H3: Inodoro con desague a rio, laguna o mar | I3: 0 | J3: Letrina con descarga a rio, laguna o mar | K3: 0 | L3: Letrina con cierre hidraulico | M3: 0 | N3: Letrina con pozo septico | O3: 0 | P3: Letrina con pozo negro | Q3: 0 | R3: Otro tipo | S3: 0 | T3: No Tiene | U3: 0
B4: No | C4: % /1 | D4: No | E4: % /1 | F4: No | G4: % /1 | H4: No | I4: % /1 | J4: No | K4: % /1 | L4: No | M4: % /1 | N4: No | O4: % /1 | P4: No | Q4: % /1 | R4: No | S4: % /1 | T4: No | U4: % /1
A5: Total Nacional/2 | B5: =+D5+F5+H5+J5+L5+N5+P5+R5+T5 -> 2295812.4 | C5: =+C8+C12 -> 100 | D5: =[1]Sheet1!U6 -> 842459.07 | E5: =+D5/$B5*100 -> 36.695467 | F5: =[1]Sheet1!W6 -> 534174.01 | G5: =+F5/$B5*100 -> 23.26732 | H5: =[1]Sheet1!Y6 -> 27286.876 | I5: =+H5/$B5*100 -> 1.1885499 | J5: =[1]Sheet1!AA6 -> 7713.6346 | K5: =+J5/$B5*100 -> 0.33598715 | L5: =[1]Sheet1!AC6 -> 512712.19 | M5: =+L5/$B5*100 -> 22.332495 | N5: =[1]Sheet1!AE6 -> 115002.9 | O5: =+N5/$B5*100 -> 5.0092465 | P5: =[1]Sheet1!AG6 -> 117897.07 | Q5: =+P5/$B5*100 -> 5.1353095 | R5: =[1]Sheet1!AI6 -> 14220.863 | S5: =+R5/$B5*100 -> 0.61942619 | T5: =+W5-X5 -> 124345.77 | U5: =+T5/$B5*100 -> 5.4161991 | W5: =Cuadro01!B5 -> 2295812.4 | X5: 2171466.6 | Y5: =+W5-X5 -> 124345.77
A7: Dominio
A8: Urbano | B8: =+D8+F8+H8+J8+L8+N8+P8+R8+T8 -> 1292359 | C8: =+B8/B5*100 -> 56.292013 | D8: =[1]Sheet1!U7 -> 803248.5 | E8: =+D8/D$5*100 -> 95.3457 | F8: =[1]Sheet1!W7 -> 258013.52 | G8: =+F8/F5*100 -> 48.301398 | H8: =[1]Sheet1!Y7 -> 20540.971 | I8: =+H8/H5*100 -> 75.27784 | J8: =[1]Sheet1!AA7 -> 3919.0629 | K8: =+J8/J5*100 -> 50.806956 | L8: =[1]Sheet1!AC7 -> 96152.546 | M8: =+L8/L5*100 -> 18.753708 | N8: =[1]Sheet1!AE7 -> 31100.707 | O8: =+N8/N5*100 -> 27.043411 | P8: =[1]Sheet1!AG7 -> 46221.829 | Q8: =+P8/P5*100 -> 39.205239 | R8: =[1]Sheet1!AI7 -> 9161.4344 | S8: =+R8/R5*100 -> 64.422491 | T8: =+W8-X8 -> 24000.432 | U8: =+T8/T5*100 -> 19.301366 | W8: =Cuadro01!B8 -> 1292359 | X8: 1268358.6 | Y8: =+W8-X8 -> 24000.432
A9: Distrito Central | B9: =+D9+F9+H9+J9+L9+N9+P9+R9+T9 -> 269265.14 | C9: =+B9/B8*100 -> 20.835166 | D9: =[1]Sheet1!U9 -> 219284.92 | E9: =+D9/D$5*100 -> 26.029149 | F9: =[1]Sheet1!W9 -> 13868.856 | G9: =+F9/F$5*100 -> 2.5963179 | H9: =[1]Sheet1!Y9 -> 3663.4713 | I9: =+H9/H$5*100 -> 13.425763 | J9: =[1]Sheet1!AA9 -> 785.02956 | K9: =+J9/J$5*100 -> 10.177168 | L9: =[1]Sheet1!AC9 -> 6280.2365 | M9: =+L9/L$5*100 -> 1.2249049 | N9: =[1]Sheet1!AE9 -> 6018.56 | O9: =+N9/N$5*100 -> 5.2333983 | P9: =[1]Sheet1!AG9 -> 12560.473 | Q9: =+P9/P$5*100 -> 10.653762 | R9: =[1]Sheet1!AI9 -> 5495.2069 | S9: =+R9/R$5*100 -> 38.641866 | T9: =+W9-X9 -> 1308.3826 | U9: =+T9/T$5*100 -> 1.0522132 | W9: =Cuadro01!B9 -> 269265.14 | X9: 267956.76 | Y9: =+W9-X9 -> 1308.3826
A10: San Pedro Sula | B10: =+D10+F10+H10+J10+L10+N10+P10+R10+T10 -> 165317.7 | C10: =+B10/B8*100 -> 12.791934 | D10: =[1]Sheet1!U10 -> 133757.05 | E10: =+D10/D$5*100 -> 15.876979 | F10: =[1]Sheet1!W10 -> 17433.503 | G10: =+F10/F$5*100 -> 3.2636375 | H10: =[1]Sheet1!Y10 -> 3306.3541 | I10: =+H10/H$5*100 -> 12.117012 | J10: =[1]Sheet1!AA10 -> 901.73293 | K10: =+J10/J$5*100 -> 11.690117 | L10: =[1]Sheet1!AC10 -> 3606.9317 | M10: =+L10/L$5*100 -> 0.70350029 | N10: =[1]Sheet1!AE10 -> 2705.1988 | O10: =+N10/N$5*100 -> 2.3522874 | P10: =[1]Sheet1!AG10 -> 901.73293 | Q10: =+P10/P$5*100 -> 0.76484761 | R10: =[1]Sheet1!AI10 -> 601.15529 | S10: =+R10/R$5*100 -> 4.227277 | T10: =+W10-X10 -> 2104.0435 | U10: =+T10/T$5*100 -> 1.6920909 | W10: =Cuadro01!B10 -> 165317.7 | X10: 163213.66 | Y10: =+W10-X10 -> 2104.0435
A11: Resto Urbano | B11: =+D11+F11+H11+J11+L11+N11+P11+R11+T11 -> 857776.15 | C11: =+B11/B8*100 -> 66.372901 | D11: =[1]Sheet1!U11 -> 450206.52 | E11: =+D11/D$5*100 -> 53.439572 | F11: =[1]Sheet1!W11 -> 226711.16 | G11: =+F11/F$5*100 -> 42.441443 | H11: =[1]Sheet1!Y11 -> 13571.146 | I11: =+H11/H$5*100 -> 49.735066 | J11: =[1]Sheet1!AA11 -> 2232.3005 | K11: =+J11/J$5*100 -> 28.939671 | L11: =[1]Sheet1!AC11 -> 86265.378 | M11: =+L11/L$5*100 -> 16.825303 | N11: =[1]Sheet1!AE11 -> 22376.948 | O11: =+N11/N$5*100 -> 19.457725 | P11: =[1]Sheet1!AG11 -> 32759.623 | Q11: =+P11/P$5*100 -> 27.78663 | R11: =[1]Sheet1!AI11 -> 3065.0722 | S11: =+R11/R$5*100 -> 21.553348 | T11: =+W11-X11 -> 20588.006 | U11: =+T11/T$5*100 -> 16.557061 | W11: =Cuadro01!B11 -> 857776.15 | X11: 837188.15 | Y11: =+W11-X11 -> 20588.006
A12: Rural | B12: =+D12+F12+H12+J12+L12+N12+P12+R12+T12 -> 1003453.4 | C12: =+B12/B5*100 -> 43.707987 | D12: =[1]Sheet1!U12 -> 39210.574 | E12: =+D12/D$5*100 -> 4.6543001 | F12: =[1]Sheet1!W12 -> 276160.49 | G12: =+F12/F$5*100 -> 51.698602 | H12: =[1]Sheet1!Y12 -> 6745.9051 | I12: =+H12/H$5*100 -> 24.72216 | J12: =[1]Sheet1!AA12 -> 3794.5716 | K12: =+J12/J$5*100 -> 49.193044 | L12: =[1]Sheet1!AC12 -> 416559.64 | M12: =+L12/L$5*100 -> 81.246292 | N12: =[1]Sheet1!AE12 -> 83902.195 | O12: =+N12/N$5*100 -> 72.956589 | P12: =[1]Sheet1!AG12 -> 71675.242 | Q12: =+P12/P$5*100 -> 60.794761 | R12: =[1]Sheet1!AI12 -> 5059.4289 | S12: =+R12/R$5*100 -> 35.577509 | T12: =+W12-X12 -> 100345.34 | U12: =+T12/T$5*100 -> 80.698634 | W12: =Cuadro01!B12 -> 1003453.4 | X12: 903108.05 | Y12: =+W12-X12 -> 100345.34
Y13: =+W13-X13 -> 0
A14: Nivel Educativo del Jefe | Y14: =+W14-X14 -> 0
A15: Sin Nivel | B15: =+D15+F15+H15+J15+L15+N15+P15+R15+T15 -> 269922.1 | C15: =+B15/B$5*100 -> 11.75715 | D15: =[1]Sheet1!U13 -> 35938.826 | E15: =+D15/D$5*100 -> 4.2659433 | F15: =[1]Sheet1!W13 -> 59787.026 | G15: =+F15/F$5*100 -> 11.192425 | H15: =[1]Sheet1!Y13 -> 5443.5684 | I15: =+H15/H$5*100 -> 19.949401 | J15: =[1]Sheet1!AA13 -> 1405.4923 | K15: =+J15/J$5*100 -> 18.220883 | L15: =[1]Sheet1!AC13 -> 98657.921 | M15: =+L15/L$5*100 -> 19.242359 | N15: =[1]Sheet1!AE13 -> 15350.52 | O15: =+N15/N$5*100 -> 13.347941 | P15: =[1]Sheet1!AG13 -> 24849.235 | Q15: =+P15/P$5*100 -> 21.077059 | R15: =[1]Sheet1!AI13 -> 2612.1409 | S15: =+R15/R$5*100 -> 18.368371 | T15: =+W15-X15 -> 25877.367 | U15: =+T15/T$5*100 -> 20.810814 | W15: =Cuadro01!B15 -> 269922.1 | X15: 244044.73 | Y15: =+W15-X15 -> 25877.367
A16: Primaria | B16: =+D16+F16+H16+J16+L16+N16+P16+R16+T16 -> 1353032.4 | C16: =+B16/B$5*100 -> 58.9348 | D16: =[1]Sheet1!U14 -> 376635.49 | E16: =+D16/D$5*100 -> 44.706681 | F16: =[1]Sheet1!W14 -> 335320.99 | G16: =+F16/F$5*100 -> 62.773738 | H16: =[1]Sheet1!Y14 -> 16094.824 | I16: =+H16/H$5*100 -> 58.983753 | J16: =[1]Sheet1!AA14 -> 5324.269 | K16: =+J16/J$5*100 -> 69.024128 | L16: =[1]Sheet1!AC14 -> 362056.6 | M16: =+L16/L$5*100 -> 70.615954 | N16: =[1]Sheet1!AE14 -> 80577.305 | O16: =+N16/N$5*100 -> 70.065453 | P16: =[1]Sheet1!AG14 -> 82314.44 | Q16: =+P16/P$5*100 -> 69.818901 | R16: =[1]Sheet1!AI14 -> 7095.2001 | S16: =+R16/R$5*100 -> 49.892893 | T16: =+W16-X16 -> 87613.317 | U16: =+T16/T$5*100 -> 70.459426 | W16: =Cuadro01!B16 -> 1353032.4 | X16: 1265419.1 | Y16: =+W16-X16 -> 87613.317
A17: Secundaria | B17: =+D17+F17+H17+J17+L17+N17+P17+R17+T17 -> 448406.91 | C17: =+B17/B$5*100 -> 19.531514 | D17: =[1]Sheet1!U15 -> 274724.99 | E17: =+D17/D$5*100 -> 32.609891 | F17: =[1]Sheet1!W15 -> 96272.277 | G17: =+F17/F$5*100 -> 18.022644 | H17: =[1]Sheet1!Y15 -> 4905.246 | I17: =+H17/H$5*100 -> 17.976576 | J17: =[1]Sheet1!AA15 -> 983.87323 | K17: =+J17/J$5*100 -> 12.754989 | L17: =[1]Sheet1!AC15 -> 37198.53 | M17: =+L17/L$5*100 -> 7.2552459 | N17: =[1]Sheet1!AE15 -> 15280.506 | O17: =+N17/N$5*100 -> 13.287061 | P17: =[1]Sheet1!AG15 -> 8211.5518 | Q17: =+P17/P$5*100 -> 6.9650176 | R17: =[1]Sheet1!AI15 -> 4091.9031 | S17: =+R17/R$5*100 -> 28.773943 | T17: =+W17-X17 -> 6738.0347 | U17: =+T17/T$5*100 -> 5.4187888 | W17: =Cuadro01!B17 -> 448406.91 | X17: 441668.87 | Y17: =+W17-X17 -> 6738.0347
A18: Superior | B18: =+D18+F18+H18+J18+L18+N18+P18+R18+T18 -> 176592.19 | C18: =+B18/B$5*100 -> 7.6919262 | D18: =[1]Sheet1!U16 -> 136157.78 | E18: =+D18/D$5*100 -> 16.161947 | F18: =[1]Sheet1!W16 -> 33635.57 | G18: =+F18/F$5*100 -> 6.296744 | H18: =[1]Sheet1!Y16 -> 0 | I18: =+H18/H$5*100 -> 0 | J18: =[1]Sheet1!AA16 -> 0 | K18: =+J18/J$5*100 -> 0 | L18: =[1]Sheet1!AC16 -> 4368.2628 | M18: =+L18/L$5*100 -> 0.85199121 | N18: =[1]Sheet1!AE16 -> 1264.8572 | O18: =+N18/N$5*100 -> 1.0998481 | P18: =[1]Sheet1!AG16 -> 0 | Q18: =+P18/P$5*100 -> 0 | R18: =[1]Sheet1!AI16 -> 0 | S18: =+R18/R$5*100 -> 0 | T18: =+W18-X18 -> 1165.7192 | U18: =+T18/T$5*100 -> 0.937482 | W18: =Cuadro01!B18 -> 176592.19 | X18: 175426.47 | Y18: =+W18-X18 -> 1165.7192
A19: Ns / Nr | B19: =+D19+F19+H19+J19+L19+N19+P19+R19+T19 -> 47858.753 | C19: =+B19/B$5*100 -> 2.0846108 | D19: =[1]Sheet1!U17 -> 19001.987 | E19: =+D19/D$5*100 -> 2.2555382 | F19: =[1]Sheet1!W17 -> 9158.1447 | G19: =+F19/F$5*100 -> 1.7144497 | H19: =[1]Sheet1!Y17 -> 843.23814 | I19: =+H19/H$5*100 -> 3.09027 | J19: =[1]Sheet1!AA17 -> 0 | K19: =+J19/J$5*100 -> 0 | L19: =[1]Sheet1!AC17 -> 10430.872 | M19: =+L19/L$5*100 -> 2.0344498 | N19: =[1]Sheet1!AE17 -> 2529.7144 | O19: =+N19/N$5*100 -> 2.1996962 | P19: =[1]Sheet1!AG17 -> 2521.844 | Q19: =+P19/P$5*100 -> 2.1390217 | R19: =[1]Sheet1!AI17 -> 421.61907 | S19: =+R19/R$5*100 -> 2.9647924 | T19: =+W19-X19 -> 2951.3335 | U19: =+T19/T$5*100 -> 2.3734892 | W19: =Cuadro01!B19 -> 47858.753 | X19: 44907.419 | Y19: =+W19-X19 -> 2951.3335
Y20: =+W20-X20 -> 0
A21: Sexo del Jefe | Y21: =+W21-X21 -> 0
A22: Hombre | B22: =+D22+F22+H22+J22+L22+N22+P22+R22+T22 -> 1440682.5 | C22: =+B22/B$5*100 -> 62.752624 | D22: =[1]Sheet1!U18 -> 487650.77 | E22: =+D22/D$5*100 -> 57.884209 | F22: =[1]Sheet1!W18 -> 336426.92 | G22: =+F22/F$5*100 -> 62.980774 | H22: =[1]Sheet1!Y18 -> 15809.216 | I22: =+H22/H$5*100 -> 57.937066 | J22: =[1]Sheet1!AA18 -> 3654.2228 | K22: =+J22/J$5*100 -> 47.373553 | L22: =[1]Sheet1!AC18 -> 348563.34 | M22: =+L22/L$5*100 -> 67.984211 | N22: =[1]Sheet1!AE18 -> 74069.916 | O22: =+N22/N$5*100 -> 64.406997 | P22: =[1]Sheet1!AG18 -> 79804.033 | Q22: =+P22/P$5*100 -> 67.689581 | R22: =[1]Sheet1!AI18 -> 10564.044 | S22: =+R22/R$5*100 -> 74.285536 | T22: =+W22-X22 -> 84140.056 | U22: =+T22/T$5*100 -> 67.666199 | W22: =Cuadro01!B22 -> 1440682.5 | X22: 1356542.5 | Y22: =+W22-X22 -> 84140.056
A23: Mujer | B23: =+D23+F23+H23+J23+L23+N23+P23+R23+T23 -> 855129.87 | C23: =+B23/B$5*100 -> 37.247376 | D23: =[1]Sheet1!U19 -> 354808.3 | E23: =+D23/D$5*100 -> 42.115791 | F23: =[1]Sheet1!W19 -> 197747.08 | G23: =+F23/F$5*100 -> 37.019226 | H23: =[1]Sheet1!Y19 -> 11477.661 | I23: =+H23/H$5*100 -> 42.062934 | J23: =[1]Sheet1!AA19 -> 4059.4118 | K23: =+J23/J$5*100 -> 52.626447 | L23: =[1]Sheet1!AC19 -> 164148.85 | M23: =+L23/L$5*100 -> 32.015789 | N23: =[1]Sheet1!AE19 -> 40932.986 | O23: =+N23/N$5*100 -> 35.593003 | P23: =[1]Sheet1!AG19 -> 38093.038 | Q23: =+P23/P$5*100 -> 32.310419 | R23: =[1]Sheet1!AI19 -> 3656.8187 | S23: =+R23/R$5*100 -> 25.714464 | T23: =+W23-X23 -> 40205.714 | U23: =+T23/T$5*100 -> 32.333801 | W23: =Cuadro01!B23 -> 855129.87 | X23: 814924.15 | Y23: =+W23-X23 -> 40205.714
A25: =Cuadro01!A25 -> Fuente: Instituto Nacional de Estadística (INE). LXXIII Encuesta Permanente de Hogares de Propósitos Múltiples, Otubre 2021
A26: /1 Porcentaje por columnas
A27: /2 Porcentaje por filas

Sheet Cuadro03
A1: Cuadro No. 3. Principal fuente de alumbrado en las viviendas según dominio, nivel educativo del jefe y sexo del jefe
A3: Categorias | B3: Total | C3: 0 | D3: Servicio publico | E3: 0 | F3: Servicio privado colectivo | G3: 0 | H3: Planta propia | I3: 0 | J3: Energia solar | K3: 0 | L3: Vela | M3: 0 | N3: Candil o lampara de gas | O3: 0 | P3: Ocote | Q3: 0 | R3: Otro | S3: 0
B4: No | C4: % /1 | D4: No | E4: % /1 | F4: No | G4: % /1 | H4: No | I4: % /1 | J4: No | K4: % /1 | L4: No | M4: % /1 | N4: No | O4: % /1 | P4: No | Q4: % /1 | R4: No | S4: % /1
A5: Total Nacional/2 | B5: =+D5+F5+H5+J5+L5+N5+P5+R5 -> 2295812.4 | C5: =[3]vivienda!AR5 -> 100 | D5: =[1]Sheet1!AK6 -> 2073689.1 | E5: =+D5/$B$5*100 -> 90.324849 | F5: =[1]Sheet1!AM6 -> 3372.9526 | G5: =+F5/$B$5*100 -> 0.1469176 | H5: =[1]Sheet1!AO6 -> 15599.906 | I5: =+H5/$B$5*100 -> 0.67949392 | J5: =[1]Sheet1!AQ6 -> 76313.052 | K5: =+J5/$B$5*100 -> 3.3240108 | L5: =[1]Sheet1!AS6 -> 37970.784 | M5: =+L5/$B$5*100 -> 1.6539149 | N5: =[1]Sheet1!AU6 -> 27306.102 | O5: =+N5/$B$5*100 -> 1.1893873 | P5: =[1]Sheet1!AW6 -> 22345.811 | Q5: =+P5/$B$5*100 -> 0.97332913 | R5: =[1]Sheet1!AY6 -> 39214.708 | S5: =+R5/$B$5*100 -> 1.7080972
A7: Dominio
A8: Urbano | B8: =+D8+F8+H8+J8+L8+N8+P8+R8 -> 1292359 | C8: =+B8/B$5*100 -> 56.292013 | D8: =[1]Sheet1!AK7 -> 1283996.6 | E8: =+D8/D$5*100 -> 61.91847 | F8: =[1]Sheet1!AM7 -> 0 | G8: =+F8/F$5*100 -> 0 | H8: =[1]Sheet1!AO7 -> 0 | I8: =+H8/H$5*100 -> 0 | J8: =[1]Sheet1!AQ7 -> 0 | K8: =+J8/J$5*100 -> 0 | L8: =[1]Sheet1!AS7 -> 2976.4006 | M8: =+L8/L$5*100 -> 7.83866 | N8: =[1]Sheet1!AU7 -> 744.10015 | O8: =+N8/N$5*100 -> 2.7250325 | P8: =[1]Sheet1!AW7 -> 0 | Q8: =+P8/P$5*100 -> 0 | R8: =[1]Sheet1!AY7 -> 4641.944 | S8: =+R8/R$5*100 -> 11.837253
A9: Distrito Central | B9: =+D9+F9+H9+J9+L9+N9+P9+R9 -> 269265.14 | C9: =+B9/B$5*100 -> 11.728534 | D9: =[1]Sheet1!AK9 -> 269265.14 | E9: =+D9/D$5*100 -> 12.984837 | F9: =[1]Sheet1!AM9 -> 0 | G9: =+F9/F$5*100 -> 0 | H9: =[1]Sheet1!AO9 -> 0 | I9: =+H9/H$5*100 -> 0 | J9: =[1]Sheet1!AQ9 -> 0 | K9: =+J9/J$5*100 -> 0 | L9: =[1]Sheet1!AS9 -> 0 | M9: =+L9/L$5*100 -> 0 | N9: =[1]Sheet1!AU9 -> 0 | O9: =+N9/N$5*100 -> 0 | P9: =[1]Sheet1!AW9 -> 0 | Q9: =+P9/P$5*100 -> 0 | R9: =[1]Sheet1!AY9 -> 0 | S9: =+R9/R$5*100 -> 0
A10: San Pedro Sula | B10: =+D10+F10+H10+J10+L10+N10+P10+R10 -> 165317.7 | C10: =+B10/B$5*100 -> 7.2008368 | D10: =[1]Sheet1!AK10 -> 165317.7 | E10: =+D10/D$5*100 -> 7.9721548 | F10: =[1]Sheet1!AM10 -> 0 | G10: =+F10/F$5*100 -> 0 | H10: =[1]Sheet1!AO10 -> 0 | I10: =+H10/H$5*100 -> 0 | J10: =[1]Sheet1!AQ10 -> 0 | K10: =+J10/J$5*100 -> 0 | L10: =[1]Sheet1!AS10 -> 0 | M10: =+L10/L$5*100 -> 0 | N10: =[1]Sheet1!AU10 -> 0 | O10: =+N10/N$5*100 -> 0 | P10: =[1]Sheet1!AW10 -> 0 | Q10: =+P10/P$5*100 -> 0 | R10: =[1]Sheet1!AY10 -> 0 | S10: =+R10/R$5*100 -> 0
A11: Resto Urbano | B11: =+D11+F11+H11+J11+L11+N11+P11+R11 -> 857776.15 | C11: =+B11/B$5*100 -> 37.362642 | D11: =[1]Sheet1!AK11 -> 849413.71 | E11: =+D11/D$5*100 -> 40.961479 | F11: =[1]Sheet1!AM11 -> 0 | G11: =+F11/F$5*100 -> 0 | H11: =[1]Sheet1!AO11 -> 0 | I11: =+H11/H$5*100 -> 0 | J11: =[1]Sheet1!AQ11 -> 0 | K11: =+J11/J$5*100 -> 0 | L11: =[1]Sheet1!AS11 -> 2976.4006 | M11: =+L11/L$5*100 -> 7.83866 | N11: =[1]Sheet1!AU11 -> 744.10015 | O11: =+N11/N$5*100 -> 2.7250325 | P11: =[1]Sheet1!AW11 -> 0 | Q11: =+P11/P$5*100 -> 0 | R11: =[1]Sheet1!AY11 -> 4641.944 | S11: =+R11/R$5*100 -> 11.837253
A12: Rural | B12: =+D12+F12+H12+J12+L12+N12+P12+R12 -> 1003453.4 | C12: =+B12/B$5*100 -> 43.707987 | D12: =[1]Sheet1!AK12 -> 789692.52 | E12: =+D12/D$5*100 -> 38.08153 | F12: =[1]Sheet1!AM12 -> 3372.9526 | G12: =+F12/F$5*100 -> 100 | H12: =[1]Sheet1!AO12 -> 15599.906 | I12: =+H12/H$5*100 -> 100 | J12: =[1]Sheet1!AQ12 -> 76313.052 | K12: =+J12/J$5*100 -> 100 | L12: =[1]Sheet1!AS12 -> 34994.383 | M12: =+L12/L$5*100 -> 92.16134 | N12: =[1]Sheet1!AU12 -> 26562.001 | O12: =+N12/N$5*100 -> 97.274967 | P12: =[1]Sheet1!AW12 -> 22345.811 | Q12: =+P12/P$5*100 -> 100 | R12: =[1]Sheet1!AY12 -> 34572.764 | S12: =+R12/R$5*100 -> 88.162747
A14: Nivel Educativo del Jefe
A15: Sin Nivel | B15: =+D15+F15+H15+J15+L15+N15+P15+R15 -> 269922.1 | C15: =[3]vivienda!AR12 -> 31.541067 | D15: =[1]Sheet1!AK13 -> 223965.62 | E15: =[3]vivienda!AT12 -> 41.712922 | F15: =[1]Sheet1!AM13 -> 0 | G15: =[3]vivienda!AV12 -> 14.994309 | H15: =[1]Sheet1!AO13 -> 4216.1907 | I15: =[3]vivienda!AX12 -> 13.242692 | J15: =[1]Sheet1!AQ13 -> 12648.572 | K15: =[3]vivienda!AZ12 -> 17.188574 | L15: =[1]Sheet1!AS13 -> 9275.6196 | M15: =[3]vivienda!BB12 -> 18.494166 | N15: =[1]Sheet1!AU13 -> 5481.0479 | O15: =[3]vivienda!BD12 -> 23.979921 | P15: =[1]Sheet1!AW13 -> 5059.4289 | Q15: =[3]vivienda!BF12 -> 26.636692 | R15: =[1]Sheet1!AY13 -> 9275.6196 | S15: =[3]vivienda!BH12 -> 34.148171
A16: Primaria | B16: =+D16+F16+H16+J16+L16+N16+P16+R16 -> 1353032.4 | C16: =[3]vivienda!AR13 -> 62.168366 | D16: =[1]Sheet1!AK14 -> 1188571.8 | E16: =[3]vivienda!AT13 -> 50.70291 | F16: =[1]Sheet1!AM14 -> 3372.9526 | G16: =[3]vivienda!AV13 -> 56.621223 | H16: =[1]Sheet1!AO14 -> 10118.858 | I16: =[3]vivienda!AX13 -> 55.660128 | J16: =[1]Sheet1!AQ14 -> 59448.289 | K16: =[3]vivienda!AZ13 -> 75.823702 | L16: =[1]Sheet1!AS14 -> 26686.207 | M16: =[3]vivienda!BB13 -> 76.134883 | N16: =[1]Sheet1!AU14 -> 20981.816 | O16: =[3]vivienda!BD13 -> 68.304602 | P16: =[1]Sheet1!AW14 -> 16864.763 | Q16: =[3]vivienda!BF13 -> 67.576435 | R16: =[1]Sheet1!AY14 -> 26987.755 | S16: =[3]vivienda!BH13 -> 61.543867
A17: Secundaria | B17: =+D17+F17+H17+J17+L17+N17+P17+R17 -> 448406.91 | C17: =[3]vivienda!AR14 -> 5.1285627 | D17: =[1]Sheet1!AK15 -> 440916.9 | E17: =[3]vivienda!AT14 -> 0 | F17: =[1]Sheet1!AM15 -> 0 | G17: =[3]vivienda!AV14 -> 20.232445 | H17: =[1]Sheet1!AO15 -> 843.23814 | I17: =[3]vivienda!AX14 -> 22.111219 | J17: =[1]Sheet1!AQ15 -> 2951.3335 | K17: =[3]vivienda!AZ14 -> 5.306898 | L17: =[1]Sheet1!AS15 -> 1587.3383 | M17: =[3]vivienda!BB14 -> 5.3709513 | N17: =[1]Sheet1!AU15 -> 421.61907 | O17: =[3]vivienda!BD14 -> 5.7913727 | P17: =[1]Sheet1!AW15 -> 421.61907 | Q17: =[3]vivienda!BF14 -> 5.3328423 | R17: =[1]Sheet1!AY15 -> 1264.8572 | S17: =[3]vivienda!BH14 -> 3.4685893
A18: Superior | B18: =+D18+F18+H18+J18+L18+N18+P18+R18 -> 176592.19 | C18: =[3]vivienda!AR15 -> 0.54732859 | D18: =[1]Sheet1!AK16 -> 175748.96 | E18: =[3]vivienda!AT15 -> 0 | F18: =[1]Sheet1!AM16 -> 0 | G18: =[3]vivienda!AV15 -> 7.384869 | H18: =[1]Sheet1!AO16 -> 0 | I18: =[3]vivienda!AX15 -> 8.1898243 | J18: =[1]Sheet1!AQ16 -> 843.23814 | K18: =[3]vivienda!AZ15 -> 1.6808261 | L18: =[1]Sheet1!AS16 -> 0 | M18: =[3]vivienda!BB15 -> 0 | N18: =[1]Sheet1!AU16 -> 0 | O18: =[3]vivienda!BD15 -> 1.3412786 | P18: =[1]Sheet1!AW16 -> 0 | Q18: =[3]vivienda!BF15 -> 0.21049448 | R18: =[1]Sheet1!AY16 -> 0 | S18: =[3]vivienda!BH15 -> 0
A19: Ns / Nr | B19: =+D19+F19+H19+J19+L19+N19+P19+R19 -> 47858.753 | C19: =[3]vivienda!AR16 -> 0.61467606 | D19: =[1]Sheet1!AK17 -> 44485.8 | E19: =[3]vivienda!AT16 -> 7.5841677 | F19: =[1]Sheet1!AM17 -> 0 | G19: =[3]vivienda!AV16 -> 0.76715461 | H19: =[1]Sheet1!AO17 -> 421.61907 | I19: =[3]vivienda!AX16 -> 0.79613793 | J19: =[1]Sheet1!AQ17 -> 421.61907 | K19: =[3]vivienda!AZ16 -> 0 | L19: =[1]Sheet1!AS17 -> 421.61907 | M19: =[3]vivienda!BB16 -> 0 | N19: =[1]Sheet1!AU17 -> 421.61907 | O19: =[3]vivienda!BD16 -> 0.58282609 | P19: =[1]Sheet1!AW17 -> 0 | Q19: =[3]vivienda!BF16 -> 0.24353602 | R19: =[1]Sheet1!AY17 -> 1686.4763 | S19: =[3]vivienda!BH16 -> 0.83937335
A21: Sexo del Jefe
A22: Hombre | B22: =+D22+F22+H22+J22+L22+N22+P22+R22 -> 1440682.5 | C22: =[3]vivienda!AR18 -> 74.51937 | D22: =[1]Sheet1!AK18 -> 1274649.1 | E22: =[3]vivienda!AT18 -> 93.920184 | F22: =[1]Sheet1!AM18 -> 2951.3335 | G22: =[3]vivienda!AV18 -> 65.506335 | H22: =[1]Sheet1!AO18 -> 11383.715 | I22: =[3]vivienda!AX18 -> 64.114364 | J22: =[1]Sheet1!AQ18 -> 59026.67 | K22: =[3]vivienda!AZ18 -> 85.232544 | L22: =[1]Sheet1!AS18 -> 27206.964 | M22: =[3]vivienda!BB18 -> 78.206872 | N22: =[1]Sheet1!AU18 -> 18551.239 | O22: =[3]vivienda!BD18 -> 77.276509 | P22: =[1]Sheet1!AW18 -> 17708.001 | Q22: =[3]vivienda!BF18 -> 73.895061 | R22: =[1]Sheet1!AY18 -> 29205.455 | S22: =[3]vivienda!BH18 -> 78.55522
A23: Mujer | B23: =+D23+F23+H23+J23+L23+N23+P23+R23 -> 855129.87 | C23: =[3]vivienda!AR19 -> 25.48063 | D23: =[1]Sheet1!AK19 -> 799039.93 | E23: =[3]vivienda!AT19 -> 6.079816 | F23: =[1]Sheet1!AM19 -> 421.61907 | G23: =[3]vivienda!AV19 -> 34.493665 | H23: =[1]Sheet1!AO19 -> 4216.1907 | I23: =[3]vivienda!AX19 -> 35.885636 | J23: =[1]Sheet1!AQ19 -> 17286.382 | K23: =[3]vivienda!AZ19 -> 14.767456 | L23: =[1]Sheet1!AS19 -> 10763.82 | M23: =[3]vivienda!BB19 -> 21.793128 | N23: =[1]Sheet1!AU19 -> 8754.8625 | O23: =[3]vivienda!BD19 -> 22.723491 | P23: =[1]Sheet1!AW19 -> 4637.8098 | Q23: =[3]vivienda!BF19 -> 26.104939 | R23: =[1]Sheet1!AY19 -> 10009.253 | S23: =[3]vivienda!BH19 -> 21.44478
A25: =Cuadro02!A25 -> Fuente: Instituto Nacional de Estadística (INE). LXXIII Encuesta Permanente de Hogares de Propósitos Múltiples, Otubre 2021
A26: /1 Porcentaje por columnas
A27: /2 Porcentaje por filas
