Workbook

Sheet Portada

Sheet C01
A1: Cuadro No. 1. Población en Edad de Trabajar (PET), Fuerza de trabajo y Tasa de Participación (TP)
A2: según dominio, nivel educativo y rango de edad
A4: Categorías | B4: Población en Edad de Trabajar (PET)/3 | H4: Fuerza de trabajo | N4: Tasa de Participación (TP)
B5: Total | C5: % 1/ | D5: Hombre | E5: % 1/ | F5: Mujer | G5: % 1/ | H5: Total | I5: % 1/ | J5: Hombre | K5: % 1/ | L5: Mujer | M5: % 1/ | N5: Total | O5: Hombre | P5: Mujer
A7: Total Nacional 2/ | B7: =B10+B14 -> 6704669.6 | C7: =SUM(E7,G7) -> 100 | D7: =D10+D14 -> 3144545.8 | E7: =IF(ISNUMBER(D7/$B$7*100),D7/$B$7*100,0) -> 46.900831 | F7: =F10+F14 -> 3560123.8 | G7: =IF(ISNUMBER(F7/$B$7*100),F7/$B$7*100,0) -> 53.099169 | H7: =H10+H14 -> 4071227.2 | I7: =SUM(K7,M7) -> 100 | J7: =J10+J14 -> 2337252.7 | K7: =IF(ISNUMBER(J7/$H$7*100),J7/$H$7*100,0) -> 57.409046 | L7: =L10+L14 -> 1733974.5 | M7: =IF(ISNUMBER(L7/$H$7*100),L7/$H$7*100,0) -> 42.590954 | N7: =IF(ISNUMBER(H7/B7*100),H7/B7*100,0) -> 60.722265 | O7: =IF(ISNUMBER(J7/D7*100),J7/D7*100,0) -> 74.327197 | P7: =IF(ISNUMBER(L7/F7*100),L7/F7*100,0) -> 48.705455
A9: Dominio
A10: Urbano | B10: =SUM(B11:B13) -> 3843562.6 | C10: =IF(ISNUMBER(B10/B$7*100),B10/B$7*100,0) -> 57.326652 | D10: =SUM(D11:D13) -> 1763743.3 | E10: =IF(ISNUMBER(D10/D$7*100),D10/D$7*100,0) -> 56.088969 | F10: =SUM(F11:F13) -> 2079819.3 | G10: =IF(ISNUMBER(F10/F$7*100),F10/F$7*100,0) -> 58.419858 | H10: =SUM(H11:H13) -> 2509128.6 | I10: =IF(ISNUMBER(H10/H$7*100),H10/H$7*100,0) -> 61.630767 | J10: =SUM(J11:J13) -> 1330004.8 | K10: =IF(ISNUMBER(J10/J$7*100),J10/J$7*100,0) -> 56.904619 | L10: =SUM(L11:L13) -> 1179123.8 | M10: =IF(ISNUMBER(L10/L$7*100),L10/L$7*100,0) -> 68.00122 | N10: =IF(ISNUMBER(H10/B10*100),H10/B10*100,0) -> 65.281325 | O10: =IF(ISNUMBER(J10/D10*100),J10/D10*100,0) -> 75.408068 | P10: =IF(ISNUMBER(L10/F10*100),L10/F10*100,0) -> 56.693571
A11: Distrito Central | B11: =[1]CUADRO1!B6 -> 849925.34 | C11: =IF(ISNUMBER(B11/B$7*100),B11/B$7*100,0) -> 12.676618 | D11: =[1]CUADRO1!D6 -> 395916.57 | E11: =IF(ISNUMBER(D11/D$7*100),D11/D$7*100,0) -> 12.590581 | F11: =[1]CUADRO1!F6 -> 454008.76 | G11: =IF(ISNUMBER(F11/F$7*100),F11/F$7*100,0) -> 12.752611 | H11: =[1]CUADRO1!H6 -> 547165.6 | I11: =IF(ISNUMBER(H11/H$7*100),H11/H$7*100,0) -> 13.43982 | J11: =[1]CUADRO1!J6 -> 286012.44 | K11: =IF(ISNUMBER(J11/J$7*100),J11/J$7*100,0) -> 12.237121 | L11: =[1]CUADRO1!L6 -> 261153.17 | M11: =IF(ISNUMBER(L11/L$7*100),L11/L$7*100,0) -> 15.060957 | N11: =IF(ISNUMBER(H11/B11*100),H11/B11*100,0) -> 64.378079 | O11: =IF(ISNUMBER(J11/D11*100),J11/D11*100,0) -> 72.240582 | P11: =IF(ISNUMBER(L11/F11*100),L11/F11*100,0) -> 57.521614
A12: San Pedro Sula | B12: =[1]CUADRO1!B7 -> 473710.36 | C12: =IF(ISNUMBER(B12/B$7*100),B12/B$7*100,0) -> 7.0653797 | D12: =[1]CUADRO1!D7 -> 206496.84 | E12: =IF(ISNUMBER(D12/D$7*100),D12/D$7*100,0) -> 6.5668257 | F12: =[1]CUADRO1!F7 -> 267213.52 | G12: =IF(ISNUMBER(F12/F$7*100),F12/F$7*100,0) -> 7.5057368 | H12: =[1]CUADRO1!H7 -> 320415.77 | I12: =IF(ISNUMBER(H12/H$7*100),H12/H$7*100,0) -> 7.8702501 | J12: =[1]CUADRO1!J7 -> 161109.62 | K12: =IF(ISNUMBER(J12/J$7*100),J12/J$7*100,0) -> 6.8931192 | L12: =[1]CUADRO1!L7 -> 159306.15 | M12: =IF(ISNUMBER(L12/L$7*100),L12/L$7*100,0) -> 9.1873409 | N12: =IF(ISNUMBER(H12/B12*100),H12/B12*100,0) -> 67.639594 | O12: =IF(ISNUMBER(J12/D12*100),J12/D12*100,0) -> 78.020378 | P12: =IF(ISNUMBER(L12/F12*100),L12/F12*100,0) -> 59.617548
A13: Resto urbano | B13: =[1]CUADRO1!B8 -> 2519926.9 | C13: =IF(ISNUMBER(B13/B$7*100),B13/B$7*100,0) -> 37.584654 | D13: =[1]CUADRO1!D8 -> 1161329.9 | E13: =IF(ISNUMBER(D13/D$7*100),D13/D$7*100,0) -> 36.931563 | F13: =[1]CUADRO1!F8 -> 1358597 | G13: =IF(ISNUMBER(F13/F$7*100),F13/F$7*100,0) -> 38.161509 | H13: =[1]CUADRO1!H8 -> 1641547.2 | I13: =IF(ISNUMBER(H13/H$7*100),H13/H$7*100,0) -> 40.320697 | J13: =[1]CUADRO1!J8 -> 882882.7 | K13: =IF(ISNUMBER(J13/J$7*100),J13/J$7*100,0) -> 37.774379 | L13: =[1]CUADRO1!L8 -> 758664.51 | M13: =IF(ISNUMBER(L13/L$7*100),L13/L$7*100,0) -> 43.752921 | N13: =IF(ISNUMBER(H13/B13*100),H13/B13*100,0) -> 65.142653 | O13: =IF(ISNUMBER(J13/D13*100),J13/D13*100,0) -> 76.02342 | P13: =IF(ISNUMBER(L13/F13*100),L13/F13*100,0) -> 55.841763
A14: Rural | B14: =[1]CUADRO1!B9 -> 2861107 | C14: =IF(ISNUMBER(B14/B$7*100),B14/B$7*100,0) -> 42.673348 | D14: =[1]CUADRO1!D9 -> 1380802.5 | E14: =IF(ISNUMBER(D14/D$7*100),D14/D$7*100,0) -> 43.911031 | F14: =[1]CUADRO1!F9 -> 1480304.6 | G14: =IF(ISNUMBER(F14/F$7*100),F14/F$7*100,0) -> 41.580142 | H14: =[1]CUADRO1!H9 -> 1562098.7 | I14: =IF(ISNUMBER(H14/H$7*100),H14/H$7*100,0) -> 38.369233 | J14: =[1]CUADRO1!J9 -> 1007248 | K14: =IF(ISNUMBER(J14/J$7*100),J14/J$7*100,0) -> 43.095381 | L14: =[1]CUADRO1!L9 -> 554850.7 | M14: =IF(ISNUMBER(L14/L$7*100),L14/L$7*100,0) -> 31.99878 | N14: =IF(ISNUMBER(H14/B14*100),H14/B14*100,0) -> 54.597701 | O14: =IF(ISNUMBER(J14/D14*100),J14/D14*100,0) -> 72.946565 | P14: =IF(ISNUMBER(L14/F14*100),L14/F14*100,0) -> 37.482199
A16: Nivel Educativo
A17: Sin Nivel | B17: =[1]CUADRO1!B10 -> 691145.26 | C17: =IF(ISNUMBER(B17/B$7*100),B17/B$7*100,0) -> 10.308416 | D17: =[1]CUADRO1!D10 -> 308149.24 | E17: =IF(ISNUMBER(D17/D$7*100),D17/D$7*100,0) -> 9.7994835 | F17: =[1]CUADRO1!F10 -> 382996.02 | G17: =IF(ISNUMBER(F17/F$7*100),F17/F$7*100,0) -> 10.757941 | H17: =[1]CUADRO1!H10 -> 244908.45 | I17: =IF(ISNUMBER(H17/H$7*100),H17/H$7*100,0) -> 6.0155928 | J17: =[1]CUADRO1!J10 -> 157723.53 | K17: =IF(ISNUMBER(J17/J$7*100),J17/J$7*100,0) -> 6.7482446 | L17: =[1]CUADRO1!L10 -> 87184.924 | M17: =IF(ISNUMBER(L17/L$7*100),L17/L$7*100,0) -> 5.0280395 | N17: =IF(ISNUMBER(H17/B17*100),H17/B17*100,0) -> 35.435164 | O17: =IF(ISNUMBER(J17/D17*100),J17/D17*100,0) -> 51.184137 | P17: =IF(ISNUMBER(L17/F17*100),L17/F17*100,0) -> 22.763924
A18: Primaria | B18: =[1]CUADRO1!B11 -> 3393222.6 | C18: =IF(ISNUMBER(B18/B$7*100),B18/B$7*100,0) -> 50.60984 | D18: =[1]CUADRO1!D11 -> 1639377.1 | E18: =IF(ISNUMBER(D18/D$7*100),D18/D$7*100,0) -> 52.133988 | F18: =[1]CUADRO1!F11 -> 1753845.5 | G18: =IF(ISNUMBER(F18/F$7*100),F18/F$7*100,0) -> 49.263608 | H18: =[1]CUADRO1!H11 -> 2001242.4 | I18: =IF(ISNUMBER(H18/H$7*100),H18/H$7*100,0) -> 49.155753 | J18: =[1]CUADRO1!J11 -> 1242760 | K18: =IF(ISNUMBER(J18/J$7*100),J18/J$7*100,0) -> 53.17183 | L18: =[1]CUADRO1!L11 -> 758482.37 | M18: =IF(ISNUMBER(L18/L$7*100),L18/L$7*100,0) -> 43.742417 | N18: =IF(ISNUMBER(H18/B18*100),H18/B18*100,0) -> 58.977635 | O18: =IF(ISNUMBER(J18/D18*100),J18/D18*100,0) -> 75.806843 | P18: =IF(ISNUMBER(L18/F18*100),L18/F18*100,0) -> 43.246819
A19: Secundaria | B19: =[1]CUADRO1!B12 -> 1824216.3 | C19: =IF(ISNUMBER(B19/B$7*100),B19/B$7*100,0) -> 27.208145 | D19: =[1]CUADRO1!D12 -> 818072.22 | E19: =IF(ISNUMBER(D19/D$7*100),D19/D$7*100,0) -> 26.015593 | F19: =[1]CUADRO1!F12 -> 1006144 | G19: =IF(ISNUMBER(F19/F$7*100),F19/F$7*100,0) -> 28.26149 | H19: =[1]CUADRO1!H12 -> 1239810.5 | I19: =IF(ISNUMBER(H19/H$7*100),H19/H$7*100,0) -> 30.452993 | J19: =[1]CUADRO1!J12 -> 643971.95 | K19: =IF(ISNUMBER(J19/J$7*100),J19/J$7*100,0) -> 27.552517 | L19: =[1]CUADRO1!L12 -> 595838.58 | M19: =IF(ISNUMBER(L19/L$7*100),L19/L$7*100,0) -> 34.362591 | N19: =IF(ISNUMBER(H19/B19*100),H19/B19*100,0) -> 67.964011 | O19: =IF(ISNUMBER(J19/D19*100),J19/D19*100,0) -> 78.718228 | P19: =IF(ISNUMBER(L19/F19*100),L19/F19*100,0) -> 59.220008
A20: Superior | B20: =[1]CUADRO1!B13 -> 659431.06 | C20: =IF(ISNUMBER(B20/B$7*100),B20/B$7*100,0) -> 9.8353998 | D20: =[1]CUADRO1!D13 -> 294308.03 | E20: =IF(ISNUMBER(D20/D$7*100),D20/D$7*100,0) -> 9.3593179 | F20: =[1]CUADRO1!F13 -> 365123.02 | G20: =IF(ISNUMBER(F20/F$7*100),F20/F$7*100,0) -> 10.255908 | H20: =[1]CUADRO1!H13 -> 493124.16 | I20: =IF(ISNUMBER(H20/H$7*100),H20/H$7*100,0) -> 12.11242 | J20: =[1]CUADRO1!J13 -> 225994.68 | K20: =IF(ISNUMBER(J20/J$7*100),J20/J$7*100,0) -> 9.6692444 | L20: =[1]CUADRO1!L13 -> 267129.49 | M20: =IF(ISNUMBER(L20/L$7*100),L20/L$7*100,0) -> 15.405618 | N20: =IF(ISNUMBER(H20/B20*100),H20/B20*100,0) -> 74.780245 | O20: =IF(ISNUMBER(J20/D20*100),J20/D20*100,0) -> 76.788484 | P20: =IF(ISNUMBER(L20/F20*100),L20/F20*100,0) -> 73.161501
A21: No sabe, no responde | B21: =[1]CUADRO1!B14 -> 136654.47 | C21: =IF(ISNUMBER(B21/B$7*100),B21/B$7*100,0) -> 2.0381984 | D21: =[1]CUADRO1!D14 -> 84639.152 | E21: =IF(ISNUMBER(D21/D$7*100),D21/D$7*100,0) -> 2.6916178 | F21: =[1]CUADRO1!F14 -> 52015.313 | G21: =IF(ISNUMBER(F21/F$7*100),F21/F$7*100,0) -> 1.4610535 | H21: =[1]CUADRO1!H14 -> 92141.687 | I21: =IF(ISNUMBER(H21/H$7*100),H21/H$7*100,0) -> 2.2632411 | J21: =[1]CUADRO1!J14 -> 66802.521 | K21: =IF(ISNUMBER(J21/J$7*100),J21/J$7*100,0) -> 2.8581642 | L21: =[1]CUADRO1!L14 -> 25339.165 | M21: =IF(ISNUMBER(L21/L$7*100),L21/L$7*100,0) -> 1.4613344 | N21: =IF(ISNUMBER(H21/B21*100),H21/B21*100,0) -> 67.426766 | O21: =IF(ISNUMBER(J21/D21*100),J21/D21*100,0) -> 78.926264 | P21: =IF(ISNUMBER(L21/F21*100),L21/F21*100,0) -> 48.714819
A23: Rango de edad
A24: De 15 a 18 años | B24: =[1]CUADRO1!B16 -> 806497.65 | C24: =IF(ISNUMBER(B24/B$7*100),B24/B$7*100,0) -> 12.028895 | D24: =[1]CUADRO1!D16 -> 414768.75 | E24: =IF(ISNUMBER(D24/D$7*100),D24/D$7*100,0) -> 13.190101 | F24: =[1]CUADRO1!F16 -> 391728.9 | G24: =IF(ISNUMBER(F24/F$7*100),F24/F$7*100,0) -> 11.003238 | H24: =[1]CUADRO1!H16 -> 353274.88 | I24: =IF(ISNUMBER(H24/H$7*100),H24/H$7*100,0) -> 8.6773559 | J24: =[1]CUADRO1!J16 -> 229854.16 | K24: =IF(ISNUMBER(J24/J$7*100),J24/J$7*100,0) -> 9.8343736 | L24: =[1]CUADRO1!L16 -> 123420.71 | M24: =IF(ISNUMBER(L24/L$7*100),L24/L$7*100,0) -> 7.1177927 | N24: =IF(ISNUMBER(H24/B24*100),H24/B24*100,0) -> 43.803584 | O24: =IF(ISNUMBER(J24/D24*100),J24/D24*100,0) -> 55.417426 | P24: =IF(ISNUMBER(L24/F24*100),L24/F24*100,0) -> 31.506665
A25: De 19 a 24 años | B25: =[1]CUADRO1!B17 -> 1152096.3 | C25: =IF(ISNUMBER(B25/B$7*100),B25/B$7*100,0) -> 17.183492 | D25: =[1]CUADRO1!D17 -> 546434.01 | E25: =IF(ISNUMBER(D25/D$7*100),D25/D$7*100,0) -> 17.3772 | F25: =[1]CUADRO1!F17 -> 605662.32 | G25: =IF(ISNUMBER(F25/F$7*100),F25/F$7*100,0) -> 17.012395 | H25: =[1]CUADRO1!H17 -> 752378.71 | I25: =IF(ISNUMBER(H25/H$7*100),H25/H$7*100,0) -> 18.480391 | J25: =[1]CUADRO1!J17 -> 425007.29 | K25: =IF(ISNUMBER(J25/J$7*100),J25/J$7*100,0) -> 18.184054 | L25: =[1]CUADRO1!L17 -> 327371.41 | M25: =IF(ISNUMBER(L25/L$7*100),L25/L$7*100,0) -> 18.879828 | N25: =IF(ISNUMBER(H25/B25*100),H25/B25*100,0) -> 65.305191 | O25: =IF(ISNUMBER(J25/D25*100),J25/D25*100,0) -> 77.778338 | P25: =IF(ISNUMBER(L25/F25*100),L25/F25*100,0) -> 54.051805
A26: De 25 a 29 años | B26: =[1]CUADRO1!B18 -> 677033.38 | C26: =IF(ISNUMBER(B26/B$7*100),B26/B$7*100,0) -> 10.097938 | D26: =[1]CUADRO1!D18 -> 330397.33 | E26: =IF(ISNUMBER(D26/D$7*100),D26/D$7*100,0) -> 10.506997 | F26: =[1]CUADRO1!F18 -> 346636.06 | G26: =IF(ISNUMBER(F26/F$7*100),F26/F$7*100,0) -> 9.7366292 | H26: =[1]CUADRO1!H18 -> 477495.82 | I26: =IF(ISNUMBER(H26/H$7*100),H26/H$7*100,0) -> 11.728547 | J26: =[1]CUADRO1!J18 -> 282492.17 | K26: =IF(ISNUMBER(J26/J$7*100),J26/J$7*100,0) -> 12.086505 | L26: =[1]CUADRO1!L18 -> 195003.65 | M26: =IF(ISNUMBER(L26/L$7*100),L26/L$7*100,0) -> 11.24605 | N26: =IF(ISNUMBER(H26/B26*100),H26/B26*100,0) -> 70.527662 | O26: =IF(ISNUMBER(J26/D26*100),J26/D26*100,0) -> 85.500744 | P26: =IF(ISNUMBER(L26/F26*100),L26/F26*100,0) -> 56.256019
A27: De 30 a 35 años | B27: =[1]CUADRO1!B19 -> 728507.53 | C27: =IF(ISNUMBER(B27/B$7*100),B27/B$7*100,0) -> 10.865674 | D27: =[1]CUADRO1!D19 -> 355201.75 | E27: =IF(ISNUMBER(D27/D$7*100),D27/D$7*100,0) -> 11.295805 | F27: =[1]CUADRO1!F19 -> 373305.78 | G27: =IF(ISNUMBER(F27/F$7*100),F27/F$7*100,0) -> 10.485753 | H27: =[1]CUADRO1!H19 -> 535237.83 | I27: =IF(ISNUMBER(H27/H$7*100),H27/H$7*100,0) -> 13.146843 | J27: =[1]CUADRO1!J19 -> 311077.5 | K27: =IF(ISNUMBER(J27/J$7*100),J27/J$7*100,0) -> 13.309536 | L27: =[1]CUADRO1!L19 -> 224160.34 | M27: =IF(ISNUMBER(L27/L$7*100),L27/L$7*100,0) -> 12.927545 | N27: =IF(ISNUMBER(H27/B27*100),H27/B27*100,0) -> 73.470461 | O27: =IF(ISNUMBER(J27/D27*100),J27/D27*100,0) -> 87.577694 | P27: =IF(ISNUMBER(L27/F27*100),L27/F27*100,0) -> 60.047379
A28: De 36 a 44 años | B28: =[1]CUADRO1!B20 -> 1024994.3 | C28: =IF(ISNUMBER(B28/B$7*100),B28/B$7*100,0) -> 15.287767 | D28: =[1]CUADRO1!D20 -> 453139.11 | E28: =IF(ISNUMBER(D28/D$7*100),D28/D$7*100,0) -> 14.41032 | F28: =[1]CUADRO1!F20 -> 571855.17 | G28: =IF(ISNUMBER(F28/F$7*100),F28/F$7*100,0) -> 16.062789 | H28: =[1]CUADRO1!H20 -> 753872.54 | I28: =IF(ISNUMBER(H28/H$7*100),H28/H$7*100,0) -> 18.517083 | J28: =[1]CUADRO1!J20 -> 397683.91 | K28: =IF(ISNUMBER(J28/J$7*100),J28/J$7*100,0) -> 17.015015 | L28: =[1]CUADRO1!L20 -> 356188.63 | M28: =IF(ISNUMBER(L28/L$7*100),L28/L$7*100,0) -> 20.541745 | N28: =IF(ISNUMBER(H28/B28*100),H28/B28*100,0) -> 73.548952 | O28: =IF(ISNUMBER(J28/D28*100),J28/D28*100,0) -> 87.761993 | P28: =IF(ISNUMBER(L28/F28*100),L28/F28*100,0) -> 62.286511
A29: De 45 a 59 años | B29: =[1]CUADRO1!B21 -> 1208617.1 | C29: =IF(ISNUMBER(B29/B$7*100),B29/B$7*100,0) -> 18.026498 | D29: =[1]CUADRO1!D21 -> 540589.71 | E29: =IF(ISNUMBER(D29/D$7*100),D29/D$7*100,0) -> 17.191345 | F29: =[1]CUADRO1!F21 -> 668027.41 | G29: =IF(ISNUMBER(F29/F$7*100),F29/F$7*100,0) -> 18.764162 | H29: =[1]CUADRO1!H21 -> 793664.85 | I29: =IF(ISNUMBER(H29/H$7*100),H29/H$7*100,0) -> 19.494487 | J29: =[1]CUADRO1!J21 -> 440723.68 | K29: =IF(ISNUMBER(J29/J$7*100),J29/J$7*100,0) -> 18.856484 | L29: =[1]CUADRO1!L21 -> 352941.17 | M29: =IF(ISNUMBER(L29/L$7*100),L29/L$7*100,0) -> 20.354461 | N29: =IF(ISNUMBER(H29/B29*100),H29/B29*100,0) -> 65.667186 | O29: =IF(ISNUMBER(J29/D29*100),J29/D29*100,0) -> 81.526464 | P29: =IF(ISNUMBER(L29/F29*100),L29/F29*100,0) -> 52.833337
A30: De 60 años y más | B30: =[1]CUADRO1!B22 -> 1106923.3 | C30: =IF(ISNUMBER(B30/B$7*100),B30/B$7*100,0) -> 16.509737 | D30: =[1]CUADRO1!D22 -> 504015.11 | E30: =IF(ISNUMBER(D30/D$7*100),D30/D$7*100,0) -> 16.028233 | F30: =[1]CUADRO1!F22 -> 602908.21 | G30: =IF(ISNUMBER(F30/F$7*100),F30/F$7*100,0) -> 16.935035 | H30: =[1]CUADRO1!H22 -> 405302.61 | I30: =IF(ISNUMBER(H30/H$7*100),H30/H$7*100,0) -> 9.9552933 | J30: =[1]CUADRO1!J22 -> 250414 | K30: =IF(ISNUMBER(J30/J$7*100),J30/J$7*100,0) -> 10.714032 | L30: =[1]CUADRO1!L22 -> 154888.61 | M30: =IF(ISNUMBER(L30/L$7*100),L30/L$7*100,0) -> 8.9325773 | N30: =IF(ISNUMBER(H30/B30*100),H30/B30*100,0) -> 36.615238 | O30: =IF(ISNUMBER(J30/D30*100),J30/D30*100,0) -> 49.683828 | P30: =IF(ISNUMBER(L30/F30*100),L30/F30*100,0) -> 25.690248
A32: =[2]Resumen!A44 -> Fuente: Instituto Nacional de Estadística (INE). LXXIII Encuesta Permanente de Hogares de Propósitos Múltiples, Otubre 2021
A33: 1/ Porcentaje por columnas
A34: 2/ Porcentaje por filas
A35: /3PET: Comprende la población de 15 años y más

Sheet C02
A1: Cuadro No. 2. Tasa de Desocupación (TD), Población en Edad de Trabajar (PET) y Fuerza de trabajo,
A2: según dominio, nivel educativo, rango de edad, sexo, rama de actividad y ocupación
A3: Categorías | B3: Población Total | E3: Población en Edad de Trabajar (PET)/3 | H3: Fuerza de trabajo | Q3: TD | R3: MBT
H4: Total | K4: Ocupados | N4: Desocupados
B5: No. | C5: % 1/ | D5: AEP | E5: No. | F5: % 1/ | G5: AEP | H5: No. | I5: % 1/ | J5: AEP | K5: No. | L5: % 1/ | M5: AEP | N5: No. | O5: % 1/ | P5: AEP
A7: Total Nacional | B7: =[1]CUADRO2!C5 -> 9500257 | C7: =SUM(C10,C14) -> 100 | D7: =[1]CUADRO2!E5 -> 6.7161317 | E7: =[1]CUADRO2!F5 -> 6704669.6 | F7: =SUM(F10,F14) -> 100 | G7: =[1]CUADRO2!H5 -> 7.6312043 | H7: =[1]CUADRO2!I5 -> 4071227.2 | I7: =SUM(I10,I14) -> 100 | J7: =[1]CUADRO2!K5 -> 8.1267214 | K7: =[1]CUADRO2!L5 -> 3722369.5 | L7: =SUM(L10,L14) -> 100 | M7: =[1]CUADRO2!N5 -> 8.0945061 | N7: =[1]CUADRO2!O5 -> 348857.7 | O7: =SUM(O10,O14) -> 100 | P7: =[1]CUADRO2!Q5 -> 8.4732624 | Q7: =IF(ISNUMBER(N7/H7*100),N7/H7*100,0) -> 8.5688585 | R7: 3.4913691
A9: Dominio
A10: Urbano | B10: =[1]CUADRO2!C6 -> 5251180 | C10: =IF(ISNUMBER(B10/B$7*100),B10/B$7*100,0) -> 55.274084 | D10: =[1]CUADRO2!E6 -> 7.7565304 | E10: =[1]CUADRO2!F6 -> 3843562.6 | F10: =IF(ISNUMBER(E10/E$7*100),E10/E$7*100,0) -> 57.326652 | G10: =[1]CUADRO2!H6 -> 8.7634268 | H10: =[1]CUADRO2!I6 -> 2509128.6 | I10: =IF(ISNUMBER(H10/H$7*100),H10/H$7*100,0) -> 61.630767 | J10: =[1]CUADRO2!K6 -> 9.2077007 | K10: =[1]CUADRO2!L6 -> 2263567.6 | L10: =IF(ISNUMBER(K10/K$7*100),K10/K$7*100,0) -> 60.809856 | M10: =[1]CUADRO2!N6 -> 9.2119771 | N10: =[1]CUADRO2!O6 -> 245561.03 | O10: =IF(ISNUMBER(N10/N$7*100),N10/N$7*100,0) -> 70.390027 | P10: =[1]CUADRO2!Q6 -> 9.1675686 | Q10: =IF(ISNUMBER(N10/H10*100),N10/H10*100,0) -> 9.7867056 | R10: 3.5789428
A11: Distrito Central | B11: =[1]CUADRO2!C8 -> 1097733 | C11: =IF(ISNUMBER(B11/B$7*100),B11/B$7*100,0) -> 11.554772 | D11: =[1]CUADRO2!E8 -> 8.5728751 | E11: =[1]CUADRO2!F8 -> 849925.34 | F11: =IF(ISNUMBER(E11/E$7*100),E11/E$7*100,0) -> 12.676618 | G11: =[1]CUADRO2!H8 -> 9.6751212 | H11: =[1]CUADRO2!I8 -> 547165.6 | I11: =IF(ISNUMBER(H11/H$7*100),H11/H$7*100,0) -> 13.43982 | J11: =[1]CUADRO2!K8 -> 10.13521 | K11: =[1]CUADRO2!L8 -> 491951.86 | L11: =IF(ISNUMBER(K11/K$7*100),K11/K$7*100,0) -> 13.216094 | M11: =[1]CUADRO2!N8 -> 10.100367 | N11: =[1]CUADRO2!O8 -> 55213.746 | O11: =IF(ISNUMBER(N11/N$7*100),N11/N$7*100,0) -> 15.827011 | P11: =[1]CUADRO2!Q8 -> 10.455056 | Q11: =IF(ISNUMBER(N11/H11*100),N11/H11*100,0) -> 10.090866 | R11: 3.2867265
A12: San Pedro Sula | B12: =[1]CUADRO2!C9 -> 642635 | C12: =IF(ISNUMBER(B12/B$7*100),B12/B$7*100,0) -> 6.764396 | D12: =[1]CUADRO2!E9 -> 7.886972 | E12: =[1]CUADRO2!F9 -> 473710.36 | F12: =IF(ISNUMBER(E12/E$7*100),E12/E$7*100,0) -> 7.0653797 | G12: =[1]CUADRO2!H9 -> 8.8212454 | H12: =[1]CUADRO2!I9 -> 320415.77 | I12: =IF(ISNUMBER(H12/H$7*100),H12/H$7*100,0) -> 7.8702501 | J12: =[1]CUADRO2!K9 -> 9.2650475 | K12: =[1]CUADRO2!L9 -> 290057.43 | L12: =IF(ISNUMBER(K12/K$7*100),K12/K$7*100,0) -> 7.7922791 | M12: =[1]CUADRO2!N9 -> 9.2751756 | N12: =[1]CUADRO2!O9 -> 30358.342 | O12: =IF(ISNUMBER(N12/N$7*100),N12/N$7*100,0) -> 8.7022135 | P12: =[1]CUADRO2!Q9 -> 9.172043 | Q12: =IF(ISNUMBER(N12/H12*100),N12/H12*100,0) -> 9.4746717 | R12: 3.106746
A13: Resto urbano | B13: =[1]CUADRO2!C10 -> 3510812 | C13: =IF(ISNUMBER(B13/B$7*100),B13/B$7*100,0) -> 36.954916 | D13: =[1]CUADRO2!E10 -> 7.4776807 | E13: =[1]CUADRO2!F10 -> 2519926.9 | F13: =IF(ISNUMBER(E13/E$7*100),E13/E$7*100,0) -> 37.584654 | G13: =[1]CUADRO2!H10 -> 8.4577749 | H13: =[1]CUADRO2!I10 -> 1641547.2 | I13: =IF(ISNUMBER(H13/H$7*100),H13/H$7*100,0) -> 40.320697 | J13: =[1]CUADRO2!K10 -> 8.8999125 | K13: =[1]CUADRO2!L10 -> 1481558.3 | L13: =IF(ISNUMBER(K13/K$7*100),K13/K$7*100,0) -> 39.801483 | M13: =[1]CUADRO2!N10 -> 8.9165384 | N13: =[1]CUADRO2!O10 -> 159988.94 | O13: =IF(ISNUMBER(N13/N$7*100),N13/N$7*100,0) -> 45.860803 | P13: =[1]CUADRO2!Q10 -> 8.7421043 | Q13: =IF(ISNUMBER(N13/H13*100),N13/H13*100,0) -> 9.7462284 | R13: 4.088392
A14: Rural | B14: =[1]CUADRO2!C11 -> 4249077 | C14: =IF(ISNUMBER(B14/B$7*100),B14/B$7*100,0) -> 44.725916 | D14: =[1]CUADRO2!E11 -> 5.3623441 | E14: =[1]CUADRO2!F11 -> 2861107 | F14: =IF(ISNUMBER(E14/E$7*100),E14/E$7*100,0) -> 42.673348 | G14: =[1]CUADRO2!H11 -> 6.0474394 | H14: =[1]CUADRO2!I11 -> 1562098.7 | I14: =IF(ISNUMBER(H14/H$7*100),H14/H$7*100,0) -> 38.369233 | J14: =[1]CUADRO2!K11 -> 6.3286385 | K14: =[1]CUADRO2!L11 -> 1458802 | L14: =IF(ISNUMBER(K14/K$7*100),K14/K$7*100,0) -> 39.190144 | M14: =[1]CUADRO2!N11 -> 6.2953403 | N14: =[1]CUADRO2!O11 -> 103296.67 | O14: =IF(ISNUMBER(N14/N$7*100),N14/N$7*100,0) -> 29.609973 | P14: =[1]CUADRO2!Q11 -> 6.7971698 | Q14: =IF(ISNUMBER(N14/H14*100),N14/H14*100,0) -> 6.6126856 | R14: 3.6420334
A16: Nivel educativo 2/
A17: Sin Nivel | B17: =[1]CUADRO2!C12 -> 1872667 | C17: =IF(ISNUMBER(B17/B$7*100),B17/B$7*100,0) -> 19.711751 | D17: =[1]CUADRO2!E12 -> 0 | E17: =[1]CUADRO2!F12 -> 691145.26 | F17: =IF(ISNUMBER(E17/E$7*100),E17/E$7*100,0) -> 10.308416 | G17: =[1]CUADRO2!H12 -> 0 | H17: =[1]CUADRO2!I12 -> 244908.45 | I17: =IF(ISNUMBER(H17/H$7*100),H17/H$7*100,0) -> 6.0155928 | J17: =[1]CUADRO2!K12 -> 0 | K17: =[1]CUADRO2!L12 -> 230226.14 | L17: =IF(ISNUMBER(K17/K$7*100),K17/K$7*100,0) -> 6.1849351 | M17: =[1]CUADRO2!N12 -> 0 | N17: =[1]CUADRO2!O12 -> 14682.315 | O17: =IF(ISNUMBER(N17/N$7*100),N17/N$7*100,0) -> 4.2086831 | P17: =[1]CUADRO2!Q12 -> 0 | Q17: =IF(ISNUMBER(N17/H17*100),N17/H17*100,0) -> 5.9950217 | R17: 3.4222528
A18: Primaria | B18: =[1]CUADRO2!C13 -> 4963396.6 | C18: =IF(ISNUMBER(B18/B$7*100),B18/B$7*100,0) -> 52.244866 | D18: =[1]CUADRO2!E13 -> 4.5064017 | E18: =[1]CUADRO2!F13 -> 3393222.6 | F18: =IF(ISNUMBER(E18/E$7*100),E18/E$7*100,0) -> 50.60984 | G18: =[1]CUADRO2!H13 -> 5.0048828 | H18: =[1]CUADRO2!I13 -> 2001242.4 | I18: =IF(ISNUMBER(H18/H$7*100),H18/H$7*100,0) -> 49.155753 | J18: =[1]CUADRO2!K13 -> 5.1316262 | K18: =[1]CUADRO2!L13 -> 1846723 | L18: =IF(ISNUMBER(K18/K$7*100),K18/K$7*100,0) -> 49.611491 | M18: =[1]CUADRO2!N13 -> 5.1076108 | N18: =[1]CUADRO2!O13 -> 154519.39 | O18: =IF(ISNUMBER(N18/N$7*100),N18/N$7*100,0) -> 44.292957 | P18: =[1]CUADRO2!Q13 -> 5.418644 | Q18: =IF(ISNUMBER(N18/H18*100),N18/H18*100,0) -> 7.7211731 | R18: 2.9294541
A19: Secundaria | B19: =[1]CUADRO2!C14 -> 1860754.8 | C19: =IF(ISNUMBER(B19/B$7*100),B19/B$7*100,0) -> 19.586363 | D19: =[1]CUADRO2!E14 -> 10.513276 | E19: =[1]CUADRO2!F14 -> 1824216.3 | F19: =IF(ISNUMBER(E19/E$7*100),E19/E$7*100,0) -> 27.208145 | G19: =[1]CUADRO2!H14 -> 10.583565 | H19: =[1]CUADRO2!I14 -> 1239810.5 | I19: =IF(ISNUMBER(H19/H$7*100),H19/H$7*100,0) -> 30.452993 | J19: =[1]CUADRO2!K14 -> 10.69401 | K19: =[1]CUADRO2!L14 -> 1110936.2 | L19: =IF(ISNUMBER(K19/K$7*100),K19/K$7*100,0) -> 29.844866 | M19: =[1]CUADRO2!N14 -> 10.67157 | N19: =[1]CUADRO2!O14 -> 128874.35 | O19: =IF(ISNUMBER(N19/N$7*100),N19/N$7*100,0) -> 36.94181 | P19: =[1]CUADRO2!Q14 -> 10.887135 | Q19: =IF(ISNUMBER(N19/H19*100),N19/H19*100,0) -> 10.394681 | R19: 4.0352926
A20: Superior | B20: =[1]CUADRO2!C15 -> 659431.06 | C20: =IF(ISNUMBER(B20/B$7*100),B20/B$7*100,0) -> 6.9411918 | D20: =[1]CUADRO2!E15 -> 16.164495 | E20: =[1]CUADRO2!F15 -> 659431.06 | F20: =IF(ISNUMBER(E20/E$7*100),E20/E$7*100,0) -> 9.8353998 | G20: =[1]CUADRO2!H15 -> 16.164495 | H20: =[1]CUADRO2!I15 -> 493124.16 | I20: =IF(ISNUMBER(H20/H$7*100),H20/H$7*100,0) -> 12.11242 | J20: =[1]CUADRO2!K15 -> 16.205168 | K20: =[1]CUADRO2!L15 -> 447031.35 | L20: =IF(ISNUMBER(K20/K$7*100),K20/K$7*100,0) -> 12.009322 | M20: =[1]CUADRO2!N15 -> 16.227744 | N20: =[1]CUADRO2!O15 -> 46092.81 | O20: =IF(ISNUMBER(N20/N$7*100),N20/N$7*100,0) -> 13.212496 | P20: =[1]CUADRO2!Q15 -> 15.866233 | Q20: =IF(ISNUMBER(N20/H20*100),N20/H20*100,0) -> 9.3471002 | R20: 3.7686257
A21: No sabe, no responde | B21: =[1]CUADRO2!C16 -> 144007.57 | C21: =IF(ISNUMBER(B21/B$7*100),B21/B$7*100,0) -> 1.5158282 | D21: =[1]CUADRO2!E16 -> 0 | E21: =[1]CUADRO2!F16 -> 136654.47 | F21: =IF(ISNUMBER(E21/E$7*100),E21/E$7*100,0) -> 2.0381984 | G21: =[1]CUADRO2!H16 -> 0 | H21: =[1]CUADRO2!I16 -> 92141.687 | I21: =IF(ISNUMBER(H21/H$7*100),H21/H$7*100,0) -> 2.2632411 | J21: =[1]CUADRO2!K16 -> 0 | K21: =[1]CUADRO2!L16 -> 87452.85 | L21: =IF(ISNUMBER(K21/K$7*100),K21/K$7*100,0) -> 2.3493866 | M21: =[1]CUADRO2!N16 -> 0 | N21: =[1]CUADRO2!O16 -> 4688.837 | O21: =IF(ISNUMBER(N21/N$7*100),N21/N$7*100,0) -> 1.3440543 | P21: =[1]CUADRO2!Q16 -> 0 | Q21: =IF(ISNUMBER(N21/H21*100),N21/H21*100,0) -> 5.0887249 | R21: 4.0256416
A23: Rango de Edad
A24: Menores de 15 | B24: =[1]CUADRO2!C17 -> 2795587.4 | C24: =IF(ISNUMBER(B24/B$7*100),B24/B$7*100,0) -> 29.42644 | D24: =[1]CUADRO2!E17 -> 3.5106098 | E24: =[1]CUADRO2!F17 -> 0 | F24: =IF(ISNUMBER(E24/E$7*100),E24/E$7*100,0) -> 0 | G24: =[1]CUADRO2!H17 -> 0 | H24: =[1]CUADRO2!I17 -> 0 | I24: =IF(ISNUMBER(H24/H$7*100),H24/H$7*100,0) -> 0 | J24: =[1]CUADRO2!K17 -> 0 | K24: =[1]CUADRO2!L17 -> 0 | L24: =IF(ISNUMBER(K24/K$7*100),K24/K$7*100,0) -> 0 | M24: =[1]CUADRO2!N17 -> 0 | N24: =[1]CUADRO2!O17 -> 0 | O24: =IF(ISNUMBER(N24/N$7*100),N24/N$7*100,0) -> 0 | P24: =[1]CUADRO2!Q17 -> 0 | Q24: =IF(ISNUMBER(N24/H24*100),N24/H24*100,0) -> 0 | R24: 2.4932962
A25: De 15 a 18 años | B25: =[1]CUADRO2!C18 -> 806497.65 | C25: =IF(ISNUMBER(B25/B$7*100),B25/B$7*100,0) -> 8.4892193 | D25: =[1]CUADRO2!E18 -> 7.9180156 | E25: =[1]CUADRO2!F18 -> 806497.65 | F25: =IF(ISNUMBER(E25/E$7*100),E25/E$7*100,0) -> 12.028895 | G25: =[1]CUADRO2!H18 -> 7.9180156 | H25: =[1]CUADRO2!I18 -> 353274.88 | I25: =IF(ISNUMBER(H25/H$7*100),H25/H$7*100,0) -> 8.6773559 | J25: =[1]CUADRO2!K18 -> 7.6109436 | K25: =[1]CUADRO2!L18 -> 305528.25 | L25: =IF(ISNUMBER(K25/K$7*100),K25/K$7*100,0) -> 8.2078967 | M25: =[1]CUADRO2!N18 -> 7.5727992 | N25: =[1]CUADRO2!O18 -> 47746.63 | O25: =IF(ISNUMBER(N25/N$7*100),N25/N$7*100,0) -> 13.686563 | P25: =[1]CUADRO2!Q18 -> 7.8593156 | Q25: =IF(ISNUMBER(N25/H25*100),N25/H25*100,0) -> 13.515433 | R25: 2.4932962
A26: De 19 a 24 años | B26: =[1]CUADRO2!C19 -> 1152096.3 | C26: =IF(ISNUMBER(B26/B$7*100),B26/B$7*100,0) -> 12.127002 | D26: =[1]CUADRO2!E19 -> 8.6615991 | E26: =[1]CUADRO2!F19 -> 1152096.3 | F26: =IF(ISNUMBER(E26/E$7*100),E26/E$7*100,0) -> 17.183492 | G26: =[1]CUADRO2!H19 -> 8.6615991 | H26: =[1]CUADRO2!I19 -> 752378.71 | I26: =IF(ISNUMBER(H26/H$7*100),H26/H$7*100,0) -> 18.480391 | J26: =[1]CUADRO2!K19 -> 8.8741175 | K26: =[1]CUADRO2!L19 -> 640834.64 | L26: =IF(ISNUMBER(K26/K$7*100),K26/K$7*100,0) -> 17.215772 | M26: =[1]CUADRO2!N19 -> 8.7716365 | N26: =[1]CUADRO2!O19 -> 111544.06 | O26: =IF(ISNUMBER(N26/N$7*100),N26/N$7*100,0) -> 31.974087 | P26: =[1]CUADRO2!Q19 -> 9.4956266 | Q26: =IF(ISNUMBER(N26/H26*100),N26/H26*100,0) -> 14.825521 | R26: 3.7505162
A27: De 25 a 29 años | B27: =[1]CUADRO2!C20 -> 677033.38 | C27: =IF(ISNUMBER(B27/B$7*100),B27/B$7*100,0) -> 7.1264744 | D27: =[1]CUADRO2!E20 -> 9.1921251 | E27: =[1]CUADRO2!F20 -> 677033.38 | F27: =IF(ISNUMBER(E27/E$7*100),E27/E$7*100,0) -> 10.097938 | G27: =[1]CUADRO2!H20 -> 9.1921251 | H27: =[1]CUADRO2!I20 -> 477495.82 | I27: =IF(ISNUMBER(H27/H$7*100),H27/H$7*100,0) -> 11.728547 | J27: =[1]CUADRO2!K20 -> 9.7248575 | K27: =[1]CUADRO2!L20 -> 428155.6 | L27: =IF(ISNUMBER(K27/K$7*100),K27/K$7*100,0) -> 11.502232 | M27: =[1]CUADRO2!N20 -> 9.7556735 | N27: =[1]CUADRO2!O20 -> 49340.223 | O27: =IF(ISNUMBER(N27/N$7*100),N27/N$7*100,0) -> 14.143366 | P27: =[1]CUADRO2!Q20 -> 9.4544447 | Q27: =IF(ISNUMBER(N27/H27*100),N27/H27*100,0) -> 10.333121 | R27: 4.198523
A28: De 30 a 35 años | B28: =[1]CUADRO2!C21 -> 728507.53 | C28: =IF(ISNUMBER(B28/B$7*100),B28/B$7*100,0) -> 7.6682928 | D28: =[1]CUADRO2!E21 -> 8.33924 | E28: =[1]CUADRO2!F21 -> 728507.53 | F28: =IF(ISNUMBER(E28/E$7*100),E28/E$7*100,0) -> 10.865674 | G28: =[1]CUADRO2!H21 -> 8.33924 | H28: =[1]CUADRO2!I21 -> 535237.83 | I28: =IF(ISNUMBER(H28/H$7*100),H28/H$7*100,0) -> 13.146843 | J28: =[1]CUADRO2!K21 -> 8.7197405 | K28: =[1]CUADRO2!L21 -> 501089.42 | L28: =IF(ISNUMBER(K28/K$7*100),K28/K$7*100,0) -> 13.461571 | M28: =[1]CUADRO2!N21 -> 8.6679514 | N28: =[1]CUADRO2!O21 -> 34148.418 | O28: =IF(ISNUMBER(N28/N$7*100),N28/N$7*100,0) -> 9.7886381 | P28: =[1]CUADRO2!Q21 -> 9.4586902 | Q28: =IF(ISNUMBER(N28/H28*100),N28/H28*100,0) -> 6.3800456 | R28: 3.8001218
A29: De 36 a 44 años | B29: =[1]CUADRO2!C22 -> 1024994.3 | C29: =IF(ISNUMBER(B29/B$7*100),B29/B$7*100,0) -> 10.789122 | D29: =[1]CUADRO2!E22 -> 7.4687969 | E29: =[1]CUADRO2!F22 -> 1024994.3 | F29: =IF(ISNUMBER(E29/E$7*100),E29/E$7*100,0) -> 15.287767 | G29: =[1]CUADRO2!H22 -> 7.4687969 | H29: =[1]CUADRO2!I22 -> 753872.54 | I29: =IF(ISNUMBER(H29/H$7*100),H29/H$7*100,0) -> 18.517083 | J29: =[1]CUADRO2!K22 -> 7.9976784 | K29: =[1]CUADRO2!L22 -> 707711.9 | L29: =IF(ISNUMBER(K29/K$7*100),K29/K$7*100,0) -> 19.012403 | M29: =[1]CUADRO2!N22 -> 8.0521344 | N29: =[1]CUADRO2!O22 -> 46160.64 | O29: =IF(ISNUMBER(N29/N$7*100),N29/N$7*100,0) -> 13.23194 | P29: =[1]CUADRO2!Q22 -> 7.1549962 | Q29: =IF(ISNUMBER(N29/H29*100),N29/H29*100,0) -> 6.1231359 | R29: 3.0342242
A30: De 45 a 59 años | B30: =[1]CUADRO2!C23 -> 1208617.1 | C30: =IF(ISNUMBER(B30/B$7*100),B30/B$7*100,0) -> 12.721941 | D30: =[1]CUADRO2!E23 -> 6.8554778 | E30: =[1]CUADRO2!F23 -> 1208617.1 | F30: =IF(ISNUMBER(E30/E$7*100),E30/E$7*100,0) -> 18.026498 | G30: =[1]CUADRO2!H23 -> 6.8554778 | H30: =[1]CUADRO2!I23 -> 793664.85 | I30: =IF(ISNUMBER(H30/H$7*100),H30/H$7*100,0) -> 19.494487 | J30: =[1]CUADRO2!K23 -> 7.4131357 | K30: =[1]CUADRO2!L23 -> 761062.22 | L30: =IF(ISNUMBER(K30/K$7*100),K30/K$7*100,0) -> 20.445639 | M30: =[1]CUADRO2!N23 -> 7.4275943 | N30: =[1]CUADRO2!O23 -> 32602.63 | O30: =IF(ISNUMBER(N30/N$7*100),N30/N$7*100,0) -> 9.3455382 | P30: =[1]CUADRO2!Q23 -> 7.0725316 | Q30: =IF(ISNUMBER(N30/H30*100),N30/H30*100,0) -> 4.1078586 | R30: 3.2093509
A31: De 60 años y más | B31: =[1]CUADRO2!C24 -> 1106923.3 | C31: =IF(ISNUMBER(B31/B$7*100),B31/B$7*100,0) -> 11.651509 | D31: =[1]CUADRO2!E24 -> 5.5758921 | E31: =[1]CUADRO2!F24 -> 1106923.3 | F31: =IF(ISNUMBER(E31/E$7*100),E31/E$7*100,0) -> 16.509737 | G31: =[1]CUADRO2!H24 -> 5.5758921 | H31: =[1]CUADRO2!I24 -> 405302.61 | I31: =IF(ISNUMBER(H31/H$7*100),H31/H$7*100,0) -> 9.9552933 | J31: =[1]CUADRO2!K24 -> 5.889228 | K31: =[1]CUADRO2!L24 -> 377987.51 | L31: =IF(ISNUMBER(K31/K$7*100),K31/K$7*100,0) -> 10.154487 | M31: =[1]CUADRO2!N24 -> 5.843686 | N31: =[1]CUADRO2!O24 -> 27315.098 | O31: =IF(ISNUMBER(N31/N$7*100),N31/N$7*100,0) -> 7.8298682 | P31: =[1]CUADRO2!Q24 -> 6.4601907 | Q31: =IF(ISNUMBER(N31/H31*100),N31/H31*100,0) -> 6.739433 | R31: 3.652841
A33: Sexo
A34: Hombre | B34: =[1]CUADRO2!C25 -> 4559924.6 | C34: =IF(ISNUMBER(B34/B$7*100),B34/B$7*100,0) -> 47.997908 | D34: =[1]CUADRO2!E25 -> 6.5812784 | E34: =[1]CUADRO2!F25 -> 3144545.8 | F34: =IF(ISNUMBER(E34/E$7*100),E34/E$7*100,0) -> 46.900831 | G34: =[1]CUADRO2!H25 -> 7.5234145 | H34: =[1]CUADRO2!I25 -> 2337252.7 | I34: =IF(ISNUMBER(H34/H$7*100),H34/H$7*100,0) -> 57.409046 | J34: =[1]CUADRO2!K25 -> 7.7549522 | K34: =[1]CUADRO2!L25 -> 2173399.2 | L34: =IF(ISNUMBER(K34/K$7*100),K34/K$7*100,0) -> 58.387519 | M34: =[1]CUADRO2!N25 -> 7.7327387 | N34: =[1]CUADRO2!O25 -> 163853.5 | O34: =IF(ISNUMBER(N34/N$7*100),N34/N$7*100,0) -> 46.968578 | P34: =[1]CUADRO2!Q25 -> 8.0521202 | Q34: =IF(ISNUMBER(N34/H34*100),N34/H34*100,0) -> 7.0105171 | R34: 3.4
A35: Mujer | B35: =[1]CUADRO2!C26 -> 4940332.4 | C35: =IF(ISNUMBER(B35/B$7*100),B35/B$7*100,0) -> 52.002092 | D35: =[1]CUADRO2!E26 -> 6.8395187 | E35: =[1]CUADRO2!F26 -> 3560123.8 | F35: =IF(ISNUMBER(E35/E$7*100),E35/E$7*100,0) -> 53.099169 | G35: =[1]CUADRO2!H26 -> 7.7268122 | H35: =[1]CUADRO2!I26 -> 1733974.5 | I35: =IF(ISNUMBER(H35/H$7*100),H35/H$7*100,0) -> 42.590954 | J35: =[1]CUADRO2!K26 -> 8.6247352 | K35: =[1]CUADRO2!L26 -> 1548970.3 | L35: =IF(ISNUMBER(K35/K$7*100),K35/K$7*100,0) -> 41.612481 | M35: =[1]CUADRO2!N26 -> 8.5987804 | N35: =[1]CUADRO2!O26 -> 185004.2 | O35: =IF(ISNUMBER(N35/N$7*100),N35/N$7*100,0) -> 53.031422 | P35: =[1]CUADRO2!Q26 -> 8.8440445 | Q35: =IF(ISNUMBER(N35/H35*100),N35/H35*100,0) -> 10.669372 | R35: 3.6
A37: Rama de Actividad
A38: Primaria | B38: =[1]CUADRO2!C27 -> 839906.81 | C38: =IF(ISNUMBER(B38/B$7*100),B38/B$7*100,0) -> 8.8408852 | D38: =[1]CUADRO2!E27 -> 5.6672634 | E38: =[1]CUADRO2!F27 -> 839906.81 | F38: =IF(ISNUMBER(E38/E$7*100),E38/E$7*100,0) -> 12.527192 | G38: =[1]CUADRO2!H27 -> 5.6672634 | H38: =[1]CUADRO2!I27 -> 839906.81 | I38: =IF(ISNUMBER(H38/H$7*100),H38/H$7*100,0) -> 20.63031 | J38: =[1]CUADRO2!K27 -> 5.6672634 | K38: =[1]CUADRO2!L27 -> 839906.81 | L38: =IF(ISNUMBER(K38/K$7*100),K38/K$7*100,0) -> 22.563768 | M38: =[1]CUADRO2!N27 -> 5.6672634 | N38: =[1]CUADRO2!O27 -> 0 | O38: =IF(ISNUMBER(N38/N$7*100),N38/N$7*100,0) -> 0 | P38: =[1]CUADRO2!Q27 -> 0 | Q38: =IF(ISNUMBER(N38/H38*100),N38/H38*100,0) -> 0
A39: Secundaria | B39: =[1]CUADRO2!C28 -> 567507.08 | C39: =IF(ISNUMBER(B39/B$7*100),B39/B$7*100,0) -> 5.9735971 | D39: =[1]CUADRO2!E28 -> 8.1556694 | E39: =[1]CUADRO2!F28 -> 567507.08 | F39: =IF(ISNUMBER(E39/E$7*100),E39/E$7*100,0) -> 8.4643556 | G39: =[1]CUADRO2!H28 -> 8.1556694 | H39: =[1]CUADRO2!I28 -> 567507.08 | I39: =IF(ISNUMBER(H39/H$7*100),H39/H$7*100,0) -> 13.93946 | J39: =[1]CUADRO2!K28 -> 8.1556694 | K39: =[1]CUADRO2!L28 -> 567507.08 | L39: =IF(ISNUMBER(K39/K$7*100),K39/K$7*100,0) -> 15.245855 | M39: =[1]CUADRO2!N28 -> 8.1556694 | N39: =[1]CUADRO2!O28 -> 0 | O39: =IF(ISNUMBER(N39/N$7*100),N39/N$7*100,0) -> 0 | P39: =[1]CUADRO2!Q28 -> 0 | Q39: =IF(ISNUMBER(N39/H39*100),N39/H39*100,0) -> 0
A40: Terciaria | H40: =[1]CUADRO2!I29 -> 2221636.9 | I40: =IF(ISNUMBER(H40/H$7*100),H40/H$7*100,0) -> 54.569219 | J40: =[1]CUADRO2!K29 -> 8.9082933 | K40: =[1]CUADRO2!L29 -> 2221636.9 | L40: =IF(ISNUMBER(K40/K$7*100),K40/K$7*100,0) -> 59.683406 | M40: =[1]CUADRO2!N29 -> 8.9082933 | N40: =[1]CUADRO2!O29 -> 0 | O40: =IF(ISNUMBER(N40/N$7*100),N40/N$7*100,0) -> 0 | P40: =[1]CUADRO2!Q29 -> 0 | Q40: =IF(ISNUMBER(N40/H40*100),N40/H40*100,0) -> 0
A41: No sabe, no responde | H41: =[1]CUADRO2!I30 -> 93318.736 | I41: =IF(ISNUMBER(H41/H$7*100),H41/H$7*100,0) -> 2.2921525 | J41: =[1]CUADRO2!K30 -> 9.0215844 | K41: =[1]CUADRO2!L30 -> 93318.736 | L41: =IF(ISNUMBER(K41/K$7*100),K41/K$7*100,0) -> 2.5069713 | M41: =[1]CUADRO2!N30 -> 9.0215844 | N41: =[1]CUADRO2!O30 -> 0 | O41: =IF(ISNUMBER(N41/N$7*100),N41/N$7*100,0) -> 0 | P41: =[1]CUADRO2!Q30 -> 0 | Q41: =IF(ISNUMBER(N41/H41*100),N41/H41*100,0) -> 0
A42: Busca trabajo por primera vez | H42: =[1]CUADRO2!I31 -> 88511.357 | I42: =IF(ISNUMBER(H42/H$7*100),H42/H$7*100,0) -> 2.1740706 | J42: =[1]CUADRO2!K31 -> 9.2596718 | K42: =[1]CUADRO2!L31 -> 0 | L42: =IF(ISNUMBER(K42/K$7*100),K42/K$7*100,0) -> 0 | M42: =[1]CUADRO2!N31 -> 0 | N42: =[1]CUADRO2!O31 -> 88511.357 | O42: =IF(ISNUMBER(N42/N$7*100),N42/N$7*100,0) -> 25.371765 | P42: =[1]CUADRO2!Q31 -> 9.2596718 | Q42: =IF(ISNUMBER(N42/H42*100),N42/H42*100,0) -> 100 | R42: 3.7
A44: ='C01'!A32 -> Fuente: Instituto Nacional de Estadística (INE). LXXIII Encuesta Permanente de Hogares de Propósitos Múltiples, Otubre 2021
A45: AEP= Años de Estudio Promedio
A46: TD= Tasa De Desocupación antes llamada Tasa de Desempleo Abierto
A47: MBT= Meses promedio en Busca de Trabajo
A48: 1/ Porcentaje por columna
A49: 2/ El nivel educativo incluye la población menor de cinco años
A50: /3 PET: Comprende la población de 15 años y más

Sheet C03
A1: Cuadro No. 3. Personas ocupadas por categoría ocupacional, según dominio, nivel educativo, rango de edad, sexo.
A2: número de salarios mínimos, rama de actividad y ocupación
A3: Ocupación Principal
A4: Categorías | B4: Total Ocupados | D4: Asalariados | L4: Cuenta propia | N4: Trabajador Familiar | P4: Contratista Dependiente
D5: Total Asalariados | F5: Público | H5: Privado | J5: Doméstico
B6: No. | C6: % 1/ | D6: No. | E6: % 1/ | F6: No. | G6: % 1/ | H6: No. | I6: % 1/ | J6: No. | K6: % 1/ | L6: No. | M6: % 1/ | N6: No. | O6: % 1/ | P6: No. | Q6: % 1/
A8: Total Nacional 2/ | B8: =+B11+B15 -> 3722369.5 | C8: =SUM(E8,M8,O8)+Q8 -> 100 | D8: =+D11+D15 -> 2045688.1 | E8: =IF(ISNUMBER(D8/$B$8*100),D8/$B$8*100,0) -> 54.956609 | F8: =+F11+F15 -> 237126.29 | G8: =IF(ISNUMBER(F8/$B$8*100),F8/$B$8*100,0) -> 6.3703048 | H8: =+H11+H15 -> 1688152 | I8: =IF(ISNUMBER(H8/$B$8*100),H8/$B$8*100,0) -> 45.351543 | J8: =+J11+J15 -> 120409.75 | K8: =IF(ISNUMBER(J8/$B$8*100),J8/$B$8*100,0) -> 3.2347607 | L8: =+L11+L15 -> 1117397.7 | M8: =IF(ISNUMBER(L8/$B$8*100),L8/$B$8*100,0) -> 30.018452 | N8: =+N11+N15 -> 249821.73 | O8: =IF(ISNUMBER(N8/$B$8*100),N8/$B$8*100,0) -> 6.7113628 | P8: =+P11+P15 -> 309462.04 | Q8: =IF(ISNUMBER(P8/$B$8*100),P8/$B$8*100,0) -> 8.3135764
A10: Dominio
A11: Urbano | B11: =SUM(B12:B14) -> 2263567.6 | C11: =IF(ISNUMBER(B11/B$8*100),B11/B$8*100,0) -> 60.809856 | D11: =SUM(D12:D14) -> 1354232.8 | E11: =IF(ISNUMBER(D11/D$8*100),D11/D$8*100,0) -> 66.199379 | F11: =SUM(F12:F14) -> 186110.38 | G11: =IF(ISNUMBER(F11/F$8*100),F11/F$8*100,0) -> 78.485764 | H11: =SUM(H12:H14) -> 1079755.7 | I11: =IF(ISNUMBER(H11/H$8*100),H11/H$8*100,0) -> 63.96081 | J11: =SUM(J12:J14) -> 88366.699 | K11: =IF(ISNUMBER(J11/J$8*100),J11/J$8*100,0) -> 73.388326 | L11: =SUM(L12:L14) -> 638438.46 | M11: =IF(ISNUMBER(L11/L$8*100),L11/L$8*100,0) -> 57.136187 | N11: =SUM(N12:N14) -> 131768.39 | O11: =IF(ISNUMBER(N11/N$8*100),N11/N$8*100,0) -> 52.744967 | P11: =SUM(P12:P14) -> 139127.93 | Q11: =IF(ISNUMBER(P11/P$8*100),P11/P$8*100,0) -> 44.957997
A12: Distrito Central | B12: =[1]CUADRO3!B5 -> 491951.86 | C12: =IF(ISNUMBER(B12/B$8*100),B12/B$8*100,0) -> 13.216094 | D12: =F12+H12+J12 -> 313750.15 | E12: =IF(ISNUMBER(D12/D$8*100),D12/D$8*100,0) -> 15.337145 | F12: =[1]CUADRO3!D5 -> 60970.629 | G12: =IF(ISNUMBER(F12/F$8*100),F12/F$8*100,0) -> 25.712303 | H12: =[1]CUADRO3!F5 -> 230798.69 | I12: =IF(ISNUMBER(H12/H$8*100),H12/H$8*100,0) -> 13.671677 | J12: =[1]CUADRO3!H5 -> 21980.828 | K12: =IF(ISNUMBER(J12/J$8*100),J12/J$8*100,0) -> 18.255023 | L12: =[1]CUADRO3!J5 -> 124819.7 | M12: =IF(ISNUMBER(L12/L$8*100),L12/L$8*100,0) -> 11.17057 | N12: =[1]CUADRO3!L5 -> 26167.652 | O12: =IF(ISNUMBER(N12/N$8*100),N12/N$8*100,0) -> 10.47453 | P12: =[1]CUADRO3!N5 -> 27214.358 | Q12: =IF(ISNUMBER(P12/P$8*100),P12/P$8*100,0) -> 8.7940861
A13: San Pedro Sula | B13: =[1]CUADRO3!B6 -> 290057.43 | C13: =IF(ISNUMBER(B13/B$8*100),B13/B$8*100,0) -> 7.7922791 | D13: =F13+H13+J13 -> 179444.85 | E13: =IF(ISNUMBER(D13/D$8*100),D13/D$8*100,0) -> 8.771858 | F13: =[1]CUADRO3!D6 -> 7815.0187 | G13: =IF(ISNUMBER(F13/F$8*100),F13/F$8*100,0) -> 3.2957201 | H13: =[1]CUADRO3!F6 -> 162011.35 | I13: =IF(ISNUMBER(H13/H$8*100),H13/H$8*100,0) -> 9.5969644 | J13: =[1]CUADRO3!H6 -> 9618.4846 | K13: =IF(ISNUMBER(J13/J$8*100),J13/J$8*100,0) -> 7.9881278 | L13: =[1]CUADRO3!J6 -> 83560.585 | M13: =IF(ISNUMBER(L13/L$8*100),L13/L$8*100,0) -> 7.4781417 | N13: =[1]CUADRO3!L6 -> 15028.882 | O13: =IF(ISNUMBER(N13/N$8*100),N13/N$8*100,0) -> 6.0158427 | P13: =[1]CUADRO3!N6 -> 12023.106 | Q13: =IF(ISNUMBER(P13/P$8*100),P13/P$8*100,0) -> 3.8851634
A14: Resto urbano | B14: =[1]CUADRO3!B7 -> 1481558.3 | C14: =IF(ISNUMBER(B14/B$8*100),B14/B$8*100,0) -> 39.801483 | D14: =F14+H14+J14 -> 861037.78 | E14: =IF(ISNUMBER(D14/D$8*100),D14/D$8*100,0) -> 42.090375 | F14: =[1]CUADRO3!D7 -> 117324.73 | G14: =IF(ISNUMBER(F14/F$8*100),F14/F$8*100,0) -> 49.477741 | H14: =[1]CUADRO3!F7 -> 686945.67 | I14: =IF(ISNUMBER(H14/H$8*100),H14/H$8*100,0) -> 40.692169 | J14: =[1]CUADRO3!H7 -> 56767.387 | K14: =IF(ISNUMBER(J14/J$8*100),J14/J$8*100,0) -> 47.145175 | L14: =[1]CUADRO3!J7 -> 430058.17 | M14: =IF(ISNUMBER(L14/L$8*100),L14/L$8*100,0) -> 38.487475 | N14: =[1]CUADRO3!L7 -> 90571.852 | O14: =IF(ISNUMBER(N14/N$8*100),N14/N$8*100,0) -> 36.254594 | P14: =[1]CUADRO3!N7 -> 99890.468 | Q14: =IF(ISNUMBER(P14/P$8*100),P14/P$8*100,0) -> 32.278747
A15: Rural | B15: =[1]CUADRO3!B8 -> 1458802 | C15: =IF(ISNUMBER(B15/B$8*100),B15/B$8*100,0) -> 39.190144 | D15: =F15+H15+J15 -> 691455.28 | E15: =IF(ISNUMBER(D15/D$8*100),D15/D$8*100,0) -> 33.800621 | F15: =[1]CUADRO3!D8 -> 51015.908 | G15: =IF(ISNUMBER(F15/F$8*100),F15/F$8*100,0) -> 21.514236 | H15: =[1]CUADRO3!F8 -> 608396.32 | I15: =IF(ISNUMBER(H15/H$8*100),H15/H$8*100,0) -> 36.03919 | J15: =[1]CUADRO3!H8 -> 32043.049 | K15: =IF(ISNUMBER(J15/J$8*100),J15/J$8*100,0) -> 26.611674 | L15: =[1]CUADRO3!J8 -> 478959.26 | M15: =IF(ISNUMBER(L15/L$8*100),L15/L$8*100,0) -> 42.863813 | N15: =[1]CUADRO3!L8 -> 118053.34 | O15: =IF(ISNUMBER(N15/N$8*100),N15/N$8*100,0) -> 47.255033 | P15: =[1]CUADRO3!N8 -> 170334.1 | Q15: =IF(ISNUMBER(P15/P$8*100),P15/P$8*100,0) -> 55.042003
D16: =F16+H16+J16 -> 0
A17: Nivel Educativo
A18: Sin Nivel | B18: =[1]CUADRO3!B9 -> 230226.14 | C18: =IF(ISNUMBER(B18/B$8*100),B18/B$8*100,0) -> 6.1849351 | D18: =F18+H18+J18 -> 91764.204 | E18: =IF(ISNUMBER(D18/D$8*100),D18/D$8*100,0) -> 4.4857379 | F18: =[1]CUADRO3!D9 -> 3498.9045 | G18: =IF(ISNUMBER(F18/F$8*100),F18/F$8*100,0) -> 1.4755448 | H18: =[1]CUADRO3!F9 -> 77010.866 | I18: =IF(ISNUMBER(H18/H$8*100),H18/H$8*100,0) -> 4.5618442 | J18: =[1]CUADRO3!H9 -> 11254.434 | K18: =IF(ISNUMBER(J18/J$8*100),J18/J$8*100,0) -> 9.3467801 | L18: =[1]CUADRO3!J9 -> 92477.677 | M18: =IF(ISNUMBER(L18/L$8*100),L18/L$8*100,0) -> 8.2761648 | N18: =[1]CUADRO3!L9 -> 11988.437 | O18: =IF(ISNUMBER(N18/N$8*100),N18/N$8*100,0) -> 4.7987967 | P18: =[1]CUADRO3!N9 -> 33995.822 | Q18: =IF(ISNUMBER(P18/P$8*100),P18/P$8*100,0) -> 10.985458
A19: Primaria | B19: =[1]CUADRO3!B10 -> 1846723 | C19: =IF(ISNUMBER(B19/B$8*100),B19/B$8*100,0) -> 49.611491 | D19: =F19+H19+J19 -> 879377.35 | E19: =IF(ISNUMBER(D19/D$8*100),D19/D$8*100,0) -> 42.986874 | F19: =[1]CUADRO3!D10 -> 28394.829 | G19: =IF(ISNUMBER(F19/F$8*100),F19/F$8*100,0) -> 11.97456 | H19: =[1]CUADRO3!F10 -> 786479.15 | I19: =IF(ISNUMBER(H19/H$8*100),H19/H$8*100,0) -> 46.588171 | J19: =[1]CUADRO3!H10 -> 64503.37 | K19: =IF(ISNUMBER(J19/J$8*100),J19/J$8*100,0) -> 53.56989 | L19: =[1]CUADRO3!J10 -> 639751.86 | M19: =IF(ISNUMBER(L19/L$8*100),L19/L$8*100,0) -> 57.253729 | N19: =[1]CUADRO3!L10 -> 129669.56 | O19: =IF(ISNUMBER(N19/N$8*100),N19/N$8*100,0) -> 51.904837 | P19: =[1]CUADRO3!N10 -> 197924.25 | Q19: =IF(ISNUMBER(P19/P$8*100),P19/P$8*100,0) -> 63.957523
A20: Secundaria | B20: =[1]CUADRO3!B11 -> 1110936.2 | C20: =IF(ISNUMBER(B20/B$8*100),B20/B$8*100,0) -> 29.844866 | D20: =F20+H20+J20 -> 686260.12 | E20: =IF(ISNUMBER(D20/D$8*100),D20/D$8*100,0) -> 33.546665 | F20: =[1]CUADRO3!D11 -> 80765.91 | G20: =IF(ISNUMBER(F20/F$8*100),F20/F$8*100,0) -> 34.060294 | H20: =[1]CUADRO3!F11 -> 568016.24 | I20: =IF(ISNUMBER(H20/H$8*100),H20/H$8*100,0) -> 33.647221 | J20: =[1]CUADRO3!H11 -> 37477.971 | K20: =IF(ISNUMBER(J20/J$8*100),J20/J$8*100,0) -> 31.125363 | L20: =[1]CUADRO3!J11 -> 279717.25 | M20: =IF(ISNUMBER(L20/L$8*100),L20/L$8*100,0) -> 25.032918 | N20: =[1]CUADRO3!L11 -> 83132.727 | O20: =IF(ISNUMBER(N20/N$8*100),N20/N$8*100,0) -> 33.27682 | P20: =[1]CUADRO3!N11 -> 61826.086 | Q20: =IF(ISNUMBER(P20/P$8*100),P20/P$8*100,0) -> 19.978569
A21: Superior | B21: =[1]CUADRO3!B12 -> 447031.35 | C21: =IF(ISNUMBER(B21/B$8*100),B21/B$8*100,0) -> 12.009322 | D21: =F21+H21+J21 -> 326491.62 | E21: =IF(ISNUMBER(D21/D$8*100),D21/D$8*100,0) -> 15.959991 | F21: =[1]CUADRO3!D12 -> 118691.92 | G21: =IF(ISNUMBER(F21/F$8*100),F21/F$8*100,0) -> 50.054306 | H21: =[1]CUADRO3!F12 -> 205890.17 | I21: =IF(ISNUMBER(H21/H$8*100),H21/H$8*100,0) -> 12.196186 | J21: =[1]CUADRO3!H12 -> 1909.5379 | K21: =IF(ISNUMBER(J21/J$8*100),J21/J$8*100,0) -> 1.5858665 | L21: =[1]CUADRO3!J12 -> 88498.633 | M21: =IF(ISNUMBER(L21/L$8*100),L21/L$8*100,0) -> 7.9200657 | N21: =[1]CUADRO3!L12 -> 23887.188 | O21: =IF(ISNUMBER(N21/N$8*100),N21/N$8*100,0) -> 9.5616935 | P21: =[1]CUADRO3!N12 -> 8153.9109 | Q21: =IF(ISNUMBER(P21/P$8*100),P21/P$8*100,0) -> 2.6348663
A22: No sabe, no responde | B22: =[1]CUADRO3!B13 -> 87452.85 | C22: =IF(ISNUMBER(B22/B$8*100),B22/B$8*100,0) -> 2.3493866 | D22: =F22+H22+J22 -> 61794.77 | E22: =IF(ISNUMBER(D22/D$8*100),D22/D$8*100,0) -> 3.0207328 | F22: =[1]CUADRO3!D13 -> 5774.7257 | G22: =IF(ISNUMBER(F22/F$8*100),F22/F$8*100,0) -> 2.4352955 | H22: =[1]CUADRO3!F13 -> 50755.609 | I22: =IF(ISNUMBER(H22/H$8*100),H22/H$8*100,0) -> 3.0065781 | J22: =[1]CUADRO3!H13 -> 5264.435 | K22: =IF(ISNUMBER(J22/J$8*100),J22/J$8*100,0) -> 4.3721004 | L22: =[1]CUADRO3!J13 -> 16952.299 | M22: =IF(ISNUMBER(L22/L$8*100),L22/L$8*100,0) -> 1.5171231 | N22: =[1]CUADRO3!L13 -> 1143.8158 | O22: =IF(ISNUMBER(N22/N$8*100),N22/N$8*100,0) -> 0.45785281 | P22: =[1]CUADRO3!N13 -> 7561.9654 | Q22: =IF(ISNUMBER(P22/P$8*100),P22/P$8*100,0) -> 2.4435842
A24: Rango de Edad
A25: De 15 a 18 años | B25: =[1]CUADRO3!B14 -> 305528.25 | C25: =IF(ISNUMBER(B25/B$8*100),B25/B$8*100,0) -> 8.2078967 | D25: =F25+H25+J25 -> 167429.89 | E25: =IF(ISNUMBER(D25/D$8*100),D25/D$8*100,0) -> 8.1845268 | F25: =[1]CUADRO3!D14 -> 421.61907 | G25: =IF(ISNUMBER(F25/F$8*100),F25/F$8*100,0) -> 0.1778036 | H25: =[1]CUADRO3!F14 -> 149475.06 | I25: =IF(ISNUMBER(H25/H$8*100),H25/H$8*100,0) -> 8.8543603 | J25: =[1]CUADRO3!H14 -> 17533.206 | K25: =IF(ISNUMBER(J25/J$8*100),J25/J$8*100,0) -> 14.561284 | L25: =[1]CUADRO3!J14 -> 25499.477 | M25: =IF(ISNUMBER(L25/L$8*100),L25/L$8*100,0) -> 2.2820412 | N25: =[1]CUADRO3!L14 -> 85459.741 | O25: =IF(ISNUMBER(N25/N$8*100),N25/N$8*100,0) -> 34.20829 | P25: =[1]CUADRO3!N14 -> 27139.143 | Q25: =IF(ISNUMBER(P25/P$8*100),P25/P$8*100,0) -> 8.7697809
A26: De 19 a 24 años | B26: =[1]CUADRO3!B15 -> 640834.64 | C26: =IF(ISNUMBER(B26/B$8*100),B26/B$8*100,0) -> 17.215772 | D26: =F26+H26+J26 -> 445197.42 | E26: =IF(ISNUMBER(D26/D$8*100),D26/D$8*100,0) -> 21.762723 | F26: =[1]CUADRO3!D15 -> 18766.469 | G26: =IF(ISNUMBER(F26/F$8*100),F26/F$8*100,0) -> 7.9141244 | H26: =[1]CUADRO3!F15 -> 404661.68 | I26: =IF(ISNUMBER(H26/H$8*100),H26/H$8*100,0) -> 23.970689 | J26: =[1]CUADRO3!H15 -> 21769.276 | K26: =IF(ISNUMBER(J26/J$8*100),J26/J$8*100,0) -> 18.07933 | L26: =[1]CUADRO3!J15 -> 70310.873 | M26: =IF(ISNUMBER(L26/L$8*100),L26/L$8*100,0) -> 6.2923766 | N26: =[1]CUADRO3!L15 -> 58225.768 | O26: =IF(ISNUMBER(N26/N$8*100),N26/N$8*100,0) -> 23.306927 | P26: =[1]CUADRO3!N15 -> 67100.58 | Q26: =IF(ISNUMBER(P26/P$8*100),P26/P$8*100,0) -> 21.682976
A27: De 25 a 29 años | B27: =[1]CUADRO3!B16 -> 428155.6 | C27: =IF(ISNUMBER(B27/B$8*100),B27/B$8*100,0) -> 11.502232 | D27: =F27+H27+J27 -> 289025.33 | E27: =IF(ISNUMBER(D27/D$8*100),D27/D$8*100,0) -> 14.128514 | F27: =[1]CUADRO3!D16 -> 31047.036 | G27: =IF(ISNUMBER(F27/F$8*100),F27/F$8*100,0) -> 13.093038 | H27: =[1]CUADRO3!F16 -> 249870.22 | I27: =IF(ISNUMBER(H27/H$8*100),H27/H$8*100,0) -> 14.801405 | J27: =[1]CUADRO3!H16 -> 8108.0757 | K27: =IF(ISNUMBER(J27/J$8*100),J27/J$8*100,0) -> 6.733737 | L27: =[1]CUADRO3!J16 -> 84705.266 | M27: =IF(ISNUMBER(L27/L$8*100),L27/L$8*100,0) -> 7.5805834 | N27: =[1]CUADRO3!L16 -> 23090.401 | O27: =IF(ISNUMBER(N27/N$8*100),N27/N$8*100,0) -> 9.2427513 | P27: =[1]CUADRO3!N16 -> 31334.599 | Q27: =IF(ISNUMBER(P27/P$8*100),P27/P$8*100,0) -> 10.125507
A28: De 30 a 35 años | B28: =[1]CUADRO3!B17 -> 501089.42 | C28: =IF(ISNUMBER(B28/B$8*100),B28/B$8*100,0) -> 13.461571 | D28: =F28+H28+J28 -> 295927.86 | E28: =IF(ISNUMBER(D28/D$8*100),D28/D$8*100,0) -> 14.465933 | F28: =[1]CUADRO3!D17 -> 27472.333 | G28: =IF(ISNUMBER(F28/F$8*100),F28/F$8*100,0) -> 11.585528 | H28: =[1]CUADRO3!F17 -> 253207.4 | I28: =IF(ISNUMBER(H28/H$8*100),H28/H$8*100,0) -> 14.999087 | J28: =[1]CUADRO3!H17 -> 15248.136 | K28: =IF(ISNUMBER(J28/J$8*100),J28/J$8*100,0) -> 12.663539 | L28: =[1]CUADRO3!J17 -> 138324.96 | M28: =IF(ISNUMBER(L28/L$8*100),L28/L$8*100,0) -> 12.379205 | N28: =[1]CUADRO3!L17 -> 17628.374 | O28: =IF(ISNUMBER(N28/N$8*100),N28/N$8*100,0) -> 7.0563815 | P28: =[1]CUADRO3!N17 -> 49208.22 | Q28: =IF(ISNUMBER(P28/P$8*100),P28/P$8*100,0) -> 15.901214
A29: De 36 a 44 años | B29: =[1]CUADRO3!B18 -> 707711.9 | C29: =IF(ISNUMBER(B29/B$8*100),B29/B$8*100,0) -> 19.012403 | D29: =F29+H29+J29 -> 381702.72 | E29: =IF(ISNUMBER(D29/D$8*100),D29/D$8*100,0) -> 18.658892 | F29: =[1]CUADRO3!D18 -> 51963.674 | G29: =IF(ISNUMBER(F29/F$8*100),F29/F$8*100,0) -> 21.913924 | H29: =[1]CUADRO3!F18 -> 307286.19 | I29: =IF(ISNUMBER(H29/H$8*100),H29/H$8*100,0) -> 18.202519 | J29: =[1]CUADRO3!H18 -> 22452.853 | K29: =IF(ISNUMBER(J29/J$8*100),J29/J$8*100,0) -> 18.647039 | L29: =[1]CUADRO3!J18 -> 249626.65 | M29: =IF(ISNUMBER(L29/L$8*100),L29/L$8*100,0) -> 22.34 | N29: =[1]CUADRO3!L18 -> 22884.25 | O29: =IF(ISNUMBER(N29/N$8*100),N29/N$8*100,0) -> 9.160232 | P29: =[1]CUADRO3!N18 -> 53498.282 | Q29: =IF(ISNUMBER(P29/P$8*100),P29/P$8*100,0) -> 17.287511
A30: De 45 a 59 años | B30: =[1]CUADRO3!B19 -> 761062.22 | C30: =IF(ISNUMBER(B30/B$8*100),B30/B$8*100,0) -> 20.445639 | D30: =F30+H30+J30 -> 347049.41 | E30: =IF(ISNUMBER(D30/D$8*100),D30/D$8*100,0) -> 16.964923 | F30: =[1]CUADRO3!D19 -> 84105.319 | G30: =IF(ISNUMBER(F30/F$8*100),F30/F$8*100,0) -> 35.468577 | H30: =[1]CUADRO3!F19 -> 234014.96 | I30: =IF(ISNUMBER(H30/H$8*100),H30/H$8*100,0) -> 13.862197 | J30: =[1]CUADRO3!H19 -> 28929.134 | K30: =IF(ISNUMBER(J30/J$8*100),J30/J$8*100,0) -> 24.025574 | L30: =[1]CUADRO3!J19 -> 331724.2 | M30: =IF(ISNUMBER(L30/L$8*100),L30/L$8*100,0) -> 29.68721 | N30: =[1]CUADRO3!L19 -> 25028.941 | O30: =IF(ISNUMBER(N30/N$8*100),N30/N$8*100,0) -> 10.018721 | P30: =[1]CUADRO3!N19 -> 57259.665 | Q30: =IF(ISNUMBER(P30/P$8*100),P30/P$8*100,0) -> 18.502969
A31: De 60 años y más | B31: =[1]CUADRO3!B20 -> 377987.51 | C31: =IF(ISNUMBER(B31/B$8*100),B31/B$8*100,0) -> 10.154487 | D31: =F31+H31+J31 -> 119355.42 | E31: =IF(ISNUMBER(D31/D$8*100),D31/D$8*100,0) -> 5.834488 | F31: =[1]CUADRO3!D20 -> 23349.836 | G31: =IF(ISNUMBER(F31/F$8*100),F31/F$8*100,0) -> 9.8470045 | H31: =[1]CUADRO3!F20 -> 89636.52 | I31: =IF(ISNUMBER(H31/H$8*100),H31/H$8*100,0) -> 5.3097422 | J31: =[1]CUADRO3!H20 -> 6369.0682 | K31: =IF(ISNUMBER(J31/J$8*100),J31/J$8*100,0) -> 5.2894955 | L31: =[1]CUADRO3!J20 -> 217206.29 | M31: =IF(ISNUMBER(L31/L$8*100),L31/L$8*100,0) -> 19.438584 | N31: =[1]CUADRO3!L20 -> 17504.251 | O31: =IF(ISNUMBER(N31/N$8*100),N31/N$8*100,0) -> 7.006697 | P31: =[1]CUADRO3!N20 -> 23921.547 | Q31: =IF(ISNUMBER(P31/P$8*100),P31/P$8*100,0) -> 7.7300425
A33: Sexo
A34: Hombre | B34: =[1]CUADRO3!B22 -> 2173399.2 | C34: =IF(ISNUMBER(B34/B$8*100),B34/B$8*100,0) -> 58.387519 | D34: =F34+H34+J34 -> 1290847.7 | E34: =IF(ISNUMBER(D34/D$8*100),D34/D$8*100,0) -> 63.100907 | F34: =[1]CUADRO3!D22 -> 95515.809 | G34: =IF(ISNUMBER(F34/F$8*100),F34/F$8*100,0) -> 40.280565 | H34: =[1]CUADRO3!F22 -> 1187394.5 | I34: =IF(ISNUMBER(H34/H$8*100),H34/H$8*100,0) -> 70.336943 | J34: =[1]CUADRO3!H22 -> 7937.3805 | K34: =IF(ISNUMBER(J34/J$8*100),J34/J$8*100,0) -> 6.591975 | L34: =[1]CUADRO3!J22 -> 552812.2 | M34: =IF(ISNUMBER(L34/L$8*100),L34/L$8*100,0) -> 49.473181 | N34: =[1]CUADRO3!L22 -> 102349.7 | O34: =IF(ISNUMBER(N34/N$8*100),N34/N$8*100,0) -> 40.969093 | P34: =[1]CUADRO3!N22 -> 227389.6 | Q34: =IF(ISNUMBER(P34/P$8*100),P34/P$8*100,0) -> 73.478996
A35: Mujer | B35: =[1]CUADRO3!B23 -> 1548970.3 | C35: =IF(ISNUMBER(B35/B$8*100),B35/B$8*100,0) -> 41.612481 | D35: =F35+H35+J35 -> 754840.34 | E35: =IF(ISNUMBER(D35/D$8*100),D35/D$8*100,0) -> 36.899093 | F35: =[1]CUADRO3!D23 -> 141610.48 | G35: =IF(ISNUMBER(F35/F$8*100),F35/F$8*100,0) -> 59.719435 | H35: =[1]CUADRO3!F23 -> 500757.49 | I35: =IF(ISNUMBER(H35/H$8*100),H35/H$8*100,0) -> 29.663057 | J35: =[1]CUADRO3!H23 -> 112472.37 | K35: =IF(ISNUMBER(J35/J$8*100),J35/J$8*100,0) -> 93.408025 | L35: =[1]CUADRO3!J23 -> 564585.52 | M35: =IF(ISNUMBER(L35/L$8*100),L35/L$8*100,0) -> 50.526819 | N35: =[1]CUADRO3!L23 -> 147472.03 | O35: =IF(ISNUMBER(N35/N$8*100),N35/N$8*100,0) -> 59.030907 | P35: =[1]CUADRO3!N23 -> 82072.439 | Q35: =IF(ISNUMBER(P35/P$8*100),P35/P$8*100,0) -> 26.521004
A37: No. de Salarios Mínimos 3/ | B37: =SUM(B39:B46) -> 3722369.5 | C37: =IF(ISNUMBER(B37/B$8*100),B37/B$8*100,0) -> 100 | D37: =F37+H37+J37 -> 2045688.1 | E37: =IF(ISNUMBER(D37/D$8*100),D37/D$8*100,0) -> 100 | F37: =SUM(F39:F46) -> 237126.29 | G37: =IF(ISNUMBER(F37/F$8*100),F37/F$8*100,0) -> 100 | H37: =SUM(H39:H46) -> 1688152 | I37: =IF(ISNUMBER(H37/H$8*100),H37/H$8*100,0) -> 100 | J37: =SUM(J39:J46) -> 120409.75 | K37: =IF(ISNUMBER(J37/J$8*100),J37/J$8*100,0) -> 100 | L37: =SUM(L39:L46) -> 1117397.7 | M37: =IF(ISNUMBER(L37/L$8*100),L37/L$8*100,0) -> 100 | N37: =SUM(N39:N46) -> 249821.73 | O37: =IF(ISNUMBER(N37/N$8*100),N37/N$8*100,0) -> 100 | P37: =SUM(P39:P46) -> 309462.04 | Q37: =IF(ISNUMBER(P37/P$8*100),P37/P$8*100,0) -> 100
A38: Menos de un salario | B38: =SUM(B39:B41) -> 2142934.9 | C38: =IF(ISNUMBER(B38/B$8*100),B38/B$8*100,0) -> 57.569107 | D38: =F38+H38+J38 -> 1331286.6 | E38: =IF(ISNUMBER(D38/D$8*100),D38/D$8*100,0) -> 65.077693 | F38: =SUM(F39:F41) -> 80390.179 | G38: =IF(ISNUMBER(F38/F$8*100),F38/F$8*100,0) -> 33.901842 | H38: =SUM(H39:H41) -> 1139987.6 | I38: =IF(ISNUMBER(H38/H$8*100),H38/H$8*100,0) -> 67.528727 | J38: =SUM(J39:J41) -> 110908.84 | K38: =IF(ISNUMBER(J38/J$8*100),J38/J$8*100,0) -> 92.109519 | L38: =SUM(L39:L41) -> 671163.14 | M38: =IF(ISNUMBER(L38/L$8*100),L38/L$8*100,0) -> 60.064839 | N38: =SUM(N39:N41) -> 0 | O38: =IF(ISNUMBER(N38/N$8*100),N38/N$8*100,0) -> 0 | P38: =SUM(P39:P41) -> 140485.17 | Q38: =IF(ISNUMBER(P38/P$8*100),P38/P$8*100,0) -> 45.396577
A39: Menos de 1 salario y trabaja menos de una jornada laboral | B39: =[1]CUADRO3!B24 -> 1041032.5 | C39: =IF(ISNUMBER(B39/B$8*100),B39/B$8*100,0) -> 27.96693 | D39: =F39+H39+J39 -> 542485.68 | E39: =IF(ISNUMBER(D39/D$8*100),D39/D$8*100,0) -> 26.518495 | F39: =[1]CUADRO3!D24 -> 35810.079 | G39: =IF(ISNUMBER(F39/F$8*100),F39/F$8*100,0) -> 15.101691 | H39: =[1]CUADRO3!F24 -> 457993.37 | I39: =IF(ISNUMBER(H39/H$8*100),H39/H$8*100,0) -> 27.129865 | J39: =[1]CUADRO3!H24 -> 48682.232 | K39: =IF(ISNUMBER(J39/J$8*100),J39/J$8*100,0) -> 40.430474 | L39: =[1]CUADRO3!J24 -> 416885.9 | M39: =IF(ISNUMBER(L39/L$8*100),L39/L$8*100,0) -> 37.308641 | N39: =[1]CUADRO3!L24 -> 0 | O39: =IF(ISNUMBER(N39/N$8*100),N39/N$8*100,0) -> 0 | P39: =[1]CUADRO3!N24 -> 81660.889 | Q39: =IF(ISNUMBER(P39/P$8*100),P39/P$8*100,0) -> 26.388015
A40: Menos de 1 salario y trabaja mas de una jornada laboral | B40: =[1]CUADRO3!B25 -> 1101480.8 | C40: =IF(ISNUMBER(B40/B$8*100),B40/B$8*100,0) -> 29.590851 | D40: =F40+H40+J40 -> 788379.29 | E40: =IF(ISNUMBER(D40/D$8*100),D40/D$8*100,0) -> 38.538588 | F40: =[1]CUADRO3!D25 -> 44158.481 | G40: =IF(ISNUMBER(F40/F$8*100),F40/F$8*100,0) -> 18.622348 | H40: =[1]CUADRO3!F25 -> 681994.2 | I40: =IF(ISNUMBER(H40/H$8*100),H40/H$8*100,0) -> 40.398862 | J40: =[1]CUADRO3!H25 -> 62226.608 | K40: =IF(ISNUMBER(J40/J$8*100),J40/J$8*100,0) -> 51.679045 | L40: =[1]CUADRO3!J25 -> 254277.24 | M40: =IF(ISNUMBER(L40/L$8*100),L40/L$8*100,0) -> 22.756198 | N40: =[1]CUADRO3!L25 -> 0 | O40: =IF(ISNUMBER(N40/N$8*100),N40/N$8*100,0) -> 0 | P40: =[1]CUADRO3!N25 -> 58824.284 | Q40: =IF(ISNUMBER(P40/P$8*100),P40/P$8*100,0) -> 19.008562
A41: Menos de 1 salario y no declaran horas | B41: =[1]CUADRO3!B26 -> 421.61907 | C41: =IF(ISNUMBER(B41/B$8*100),B41/B$8*100,0) -> 0.011326631 | D41: =F41+H41+J41 -> 421.61907 | E41: =IF(ISNUMBER(D41/D$8*100),D41/D$8*100,0) -> 0.020610135 | F41: =[1]CUADRO3!D26 -> 421.61907 | G41: =IF(ISNUMBER(F41/F$8*100),F41/F$8*100,0) -> 0.1778036 | H41: =[1]CUADRO3!F26 -> 0 | I41: =IF(ISNUMBER(H41/H$8*100),H41/H$8*100,0) -> 0 | J41: =[1]CUADRO3!H26 -> 0 | K41: =IF(ISNUMBER(J41/J$8*100),J41/J$8*100,0) -> 0 | L41: =[1]CUADRO3!J26 -> 0 | M41: =IF(ISNUMBER(L41/L$8*100),L41/L$8*100,0) -> 0 | N41: =[1]CUADRO3!L26 -> 0 | O41: =IF(ISNUMBER(N41/N$8*100),N41/N$8*100,0) -> 0 | P41: =[1]CUADRO3!N26 -> 0 | Q41: =IF(ISNUMBER(P41/P$8*100),P41/P$8*100,0) -> 0
A42: De 1 a 2 salarios | B42: =[1]CUADRO3!B27 -> 379805.14 | C42: =IF(ISNUMBER(B42/B$8*100),B42/B$8*100,0) -> 10.203316 | D42: =F42+H42+J42 -> 292399.26 | E42: =IF(ISNUMBER(D42/D$8*100),D42/D$8*100,0) -> 14.293443 | F42: =[1]CUADRO3!D27 -> 70381.897 | G42: =IF(ISNUMBER(F42/F$8*100),F42/F$8*100,0) -> 29.681187 | H42: =[1]CUADRO3!F27 -> 218011.82 | I42: =IF(ISNUMBER(H42/H$8*100),H42/H$8*100,0) -> 12.914229 | J42: =[1]CUADRO3!H27 -> 4005.5414 | K42: =IF(ISNUMBER(J42/J$8*100),J42/J$8*100,0) -> 3.3265923 | L42: =[1]CUADRO3!J27 -> 78247.448 | M42: =IF(ISNUMBER(L42/L$8*100),L42/L$8*100,0) -> 7.0026497 | N42: =[1]CUADRO3!L27 -> 0 | O42: =IF(ISNUMBER(N42/N$8*100),N42/N$8*100,0) -> 0 | P42: =[1]CUADRO3!N27 -> 9158.4309 | Q42: =IF(ISNUMBER(P42/P$8*100),P42/P$8*100,0) -> 2.9594683
A43: De 2 a 3 salarios | B43: =[1]CUADRO3!B28 -> 57753.088 | C43: =IF(ISNUMBER(B43/B$8*100),B43/B$8*100,0) -> 1.5515141 | D43: =F43+H43+J43 -> 34976.007 | E43: =IF(ISNUMBER(D43/D$8*100),D43/D$8*100,0) -> 1.7097429 | F43: =[1]CUADRO3!D28 -> 9994.3662 | G43: =IF(ISNUMBER(F43/F$8*100),F43/F$8*100,0) -> 4.2147863 | H43: =[1]CUADRO3!F28 -> 24981.641 | I43: =IF(ISNUMBER(H43/H$8*100),H43/H$8*100,0) -> 1.4798217 | J43: =[1]CUADRO3!H28 -> 0 | K43: =IF(ISNUMBER(J43/J$8*100),J43/J$8*100,0) -> 0 | L43: =[1]CUADRO3!J28 -> 21682.633 | M43: =IF(ISNUMBER(L43/L$8*100),L43/L$8*100,0) -> 1.940458 | N43: =[1]CUADRO3!L28 -> 0 | O43: =IF(ISNUMBER(N43/N$8*100),N43/N$8*100,0) -> 0 | P43: =[1]CUADRO3!N28 -> 1094.4482 | Q43: =IF(ISNUMBER(P43/P$8*100),P43/P$8*100,0) -> 0.35366155
A44: De 3 a 4 salarios | B44: =[1]CUADRO3!B29 -> 17109.563 | C44: =IF(ISNUMBER(B44/B$8*100),B44/B$8*100,0) -> 0.45964171 | D44: =F44+H44+J44 -> 10037.324 | E44: =IF(ISNUMBER(D44/D$8*100),D44/D$8*100,0) -> 0.4906576 | F44: =[1]CUADRO3!D29 -> 2623.5779 | G44: =IF(ISNUMBER(F44/F$8*100),F44/F$8*100,0) -> 1.1064054 | H44: =[1]CUADRO3!F29 -> 7413.746 | I44: =IF(ISNUMBER(H44/H$8*100),H44/H$8*100,0) -> 0.43916341 | J44: =[1]CUADRO3!H29 -> 0 | K44: =IF(ISNUMBER(J44/J$8*100),J44/J$8*100,0) -> 0 | L44: =[1]CUADRO3!J29 -> 6239.4673 | M44: =IF(ISNUMBER(L44/L$8*100),L44/L$8*100,0) -> 0.5583927 | N44: =[1]CUADRO3!L29 -> 0 | O44: =IF(ISNUMBER(N44/N$8*100),N44/N$8*100,0) -> 0 | P44: =[1]CUADRO3!N29 -> 832.7717 | Q44: =IF(ISNUMBER(P44/P$8*100),P44/P$8*100,0) -> 0.26910303
A45: De 4 salarios y más | B45: =[1]CUADRO3!B30 -> 21953.437 | C45: =IF(ISNUMBER(B45/B$8*100),B45/B$8*100,0) -> 0.58977048 | D45: =F45+H45+J45 -> 7593.6851 | E45: =IF(ISNUMBER(D45/D$8*100),D45/D$8*100,0) -> 0.37120445 | F45: =[1]CUADRO3!D30 -> 1094.4482 | G45: =IF(ISNUMBER(F45/F$8*100),F45/F$8*100,0) -> 0.46154656 | H45: =[1]CUADRO3!F30 -> 6499.2369 | I45: =IF(ISNUMBER(H45/H$8*100),H45/H$8*100,0) -> 0.38499121 | J45: =[1]CUADRO3!H30 -> 0 | K45: =IF(ISNUMBER(J45/J$8*100),J45/J$8*100,0) -> 0 | L45: =[1]CUADRO3!J30 -> 14098.075 | M45: =IF(ISNUMBER(L45/L$8*100),L45/L$8*100,0) -> 1.2616882 | N45: =[1]CUADRO3!L30 -> 0 | O45: =IF(ISNUMBER(N45/N$8*100),N45/N$8*100,0) -> 0 | P45: =[1]CUADRO3!N30 -> 261.67652 | Q45: =IF(ISNUMBER(P45/P$8*100),P45/P$8*100,0) -> 0.084558521
A46: No declara Ingresos | B46: =[1]CUADRO3!B31 -> 1102813.4 | C46: =IF(ISNUMBER(B46/B$8*100),B46/B$8*100,0) -> 29.62665 | D46: =F46+H46+J46 -> 369395.19 | E46: =IF(ISNUMBER(D46/D$8*100),D46/D$8*100,0) -> 18.057259 | F46: =[1]CUADRO3!D31 -> 72641.817 | G46: =IF(ISNUMBER(F46/F$8*100),F46/F$8*100,0) -> 30.634232 | H46: =[1]CUADRO3!F31 -> 291258.01 | I46: =IF(ISNUMBER(H46/H$8*100),H46/H$8*100,0) -> 17.253068 | J46: =[1]CUADRO3!H31 -> 5495.3671 | K46: =IF(ISNUMBER(J46/J$8*100),J46/J$8*100,0) -> 4.5638889 | L46: =[1]CUADRO3!J31 -> 325966.96 | M46: =IF(ISNUMBER(L46/L$8*100),L46/L$8*100,0) -> 29.171972 | N46: =[1]CUADRO3!L31 -> 249821.73 | O46: =IF(ISNUMBER(N46/N$8*100),N46/N$8*100,0) -> 100 | P46: =[1]CUADRO3!N31 -> 157629.54 | Q46: =IF(ISNUMBER(P46/P$8*100),P46/P$8*100,0) -> 50.936631
D47: =F47+H47+J47 -> 0
A48: Rama de Actividad
A49: Primaria | B49: =[1]CUADRO3!B32 -> 839906.81 | C49: =IF(ISNUMBER(B49/B$8*100),B49/B$8*100,0) -> 22.563768 | D49: =F49+H49+J49 -> 424700.09 | E49: =IF(ISNUMBER(D49/D$8*100),D49/D$8*100,0) -> 20.760745 | F49: =[1]CUADRO3!D32 -> 0 | G49: =IF(ISNUMBER(F49/F$8*100),F49/F$8*100,0) -> 0 | H49: =[1]CUADRO3!F32 -> 424700.09 | I49: =IF(ISNUMBER(H49/H$8*100),H49/H$8*100,0) -> 25.157692 | J49: =[1]CUADRO3!H32 -> 0 | K49: =IF(ISNUMBER(J49/J$8*100),J49/J$8*100,0) -> 0 | L49: =[1]CUADRO3!J32 -> 231110.87 | M49: =IF(ISNUMBER(L49/L$8*100),L49/L$8*100,0) -> 20.682955 | N49: =[1]CUADRO3!L32 -> 76894.041 | O49: =IF(ISNUMBER(N49/N$8*100),N49/N$8*100,0) -> 30.779565 | P49: =[1]CUADRO3!N32 -> 107201.81 | Q49: =IF(ISNUMBER(P49/P$8*100),P49/P$8*100,0) -> 34.641346
A50: Secundaria | B50: =[1]CUADRO3!B33 -> 567507.08 | C50: =IF(ISNUMBER(B50/B$8*100),B50/B$8*100,0) -> 15.245855 | D50: =F50+H50+J50 -> 318872.89 | E50: =IF(ISNUMBER(D50/D$8*100),D50/D$8*100,0) -> 15.587562 | F50: =[1]CUADRO3!D33 -> 0 | G50: =IF(ISNUMBER(F50/F$8*100),F50/F$8*100,0) -> 0 | H50: =[1]CUADRO3!F33 -> 318872.89 | I50: =IF(ISNUMBER(H50/H$8*100),H50/H$8*100,0) -> 18.888873 | J50: =[1]CUADRO3!H33 -> 0 | K50: =IF(ISNUMBER(J50/J$8*100),J50/J$8*100,0) -> 0 | L50: =[1]CUADRO3!J33 -> 195818.47 | M50: =IF(ISNUMBER(L50/L$8*100),L50/L$8*100,0) -> 17.52451 | N50: =[1]CUADRO3!L33 -> 34359.276 | O50: =IF(ISNUMBER(N50/N$8*100),N50/N$8*100,0) -> 13.753518 | P50: =[1]CUADRO3!N33 -> 18456.439 | Q50: =IF(ISNUMBER(P50/P$8*100),P50/P$8*100,0) -> 5.9640398
A51: Terciaria | B51: =[1]CUADRO3!B34 -> 2221636.9 | C51: =IF(ISNUMBER(B51/B$8*100),B51/B$8*100,0) -> 59.683406 | D51: =F51+H51+J51 -> 1239456.6 | E51: =IF(ISNUMBER(D51/D$8*100),D51/D$8*100,0) -> 60.58874 | F51: =[1]CUADRO3!D34 -> 228198.38 | G51: =IF(ISNUMBER(F51/F$8*100),F51/F$8*100,0) -> 96.234957 | H51: =[1]CUADRO3!F34 -> 890848.49 | I51: =IF(ISNUMBER(H51/H$8*100),H51/H$8*100,0) -> 52.770632 | J51: =[1]CUADRO3!H34 -> 120409.75 | K51: =IF(ISNUMBER(J51/J$8*100),J51/J$8*100,0) -> 100 | L51: =[1]CUADRO3!J34 -> 671507.69 | M51: =IF(ISNUMBER(L51/L$8*100),L51/L$8*100,0) -> 60.095674 | N51: =[1]CUADRO3!L34 -> 134781.71 | O51: =IF(ISNUMBER(N51/N$8*100),N51/N$8*100,0) -> 53.951156 | P51: =[1]CUADRO3!N34 -> 175890.9 | Q51: =IF(ISNUMBER(P51/P$8*100),P51/P$8*100,0) -> 56.837635
A52: No sabe, no responde | B52: =[1]CUADRO3!B35 -> 93318.736 | C52: =IF(ISNUMBER(B52/B$8*100),B52/B$8*100,0) -> 2.5069713 | D52: =F52+H52+J52 -> 62658.465 | E52: =IF(ISNUMBER(D52/D$8*100),D52/D$8*100,0) -> 3.062953 | F52: =[1]CUADRO3!D35 -> 8927.9063 | G52: =IF(ISNUMBER(F52/F$8*100),F52/F$8*100,0) -> 3.7650429 | H52: =[1]CUADRO3!F35 -> 53730.558 | I52: =IF(ISNUMBER(H52/H$8*100),H52/H$8*100,0) -> 3.1828033 | J52: =[1]CUADRO3!H35 -> 0 | K52: =IF(ISNUMBER(J52/J$8*100),J52/J$8*100,0) -> 0 | L52: =[1]CUADRO3!J35 -> 18960.689 | M52: =IF(ISNUMBER(L52/L$8*100),L52/L$8*100,0) -> 1.6968612 | N52: =[1]CUADRO3!L35 -> 3786.7012 | O52: =IF(ISNUMBER(N52/N$8*100),N52/N$8*100,0) -> 1.5157614 | P52: =[1]CUADRO3!N35 -> 7912.8811 | Q52: =IF(ISNUMBER(P52/P$8*100),P52/P$8*100,0) -> 2.5569796
A54: ='C01'!$A$32 -> Fuente: Instituto Nacional de Estadística (INE). LXXIII Encuesta Permanente de Hogares de Propósitos Múltiples, Otubre 2021
A55: 1/ Porcentaje por columnas
A56: 2/ Porcentaje por filas
A57: 3/ No. de salarios mínimos (personas que declaran ingresos) y trabajan 40 Hrs.en ele sector Publico y 44 Hrs.en el sector Privado
A60: Cuadro No. 3. Personas ocupadas por categoría ocupacional, según dominio, nivel educativo, rango de edad, sexo.
A61: número de salarios mínimos, rama de actividad y ocupación
A62: Ocupación Principal
A63: ....... Continuación
A64: Categorías | B64: Total Ocupados | D64: Asalariados | L64: Cuenta propia | N64: Trabajador Familiar | P64: Contratista Dependiente
D65: Total Asalariados | F65: Público | H65: Privado | J65: Doméstico
B66: No. | C66: % 1/ | D66: No. | E66: % 1/ | F66: No. | G66: % 1/ | H66: No. | I66: % 1/ | J66: No. | K66: % 1/ | L66: No. | M66: % 1/ | N66: No. | O66: % 1/ | P66: No. | Q66: % 1/
A68: Total Nacional 2/ | B68: =B8 -> 3722369.5 | C68: =C8 -> 100 | D68: =D8 -> 2045688.1 | E68: =E8 -> 54.956609 | F68: =F8 -> 237126.29 | G68: =G8 -> 6.3703048 | H68: =H8 -> 1688152 | I68: =I8 -> 45.351543 | ... Q68: =Q8 -> 8.3135764
A70: Rama de Actividad (1 dig.)
A71: Agricultura, ganaderia, silvicultura y pesca | B71: =[1]CUADRO3!B37 -> 826951.34 | C71: =IF(ISNUMBER(B71/B$68*100),B71/B$68*100,0) -> 22.215724 | D71: =F71+H71+J71 -> 418028.25 | E71: =IF(ISNUMBER(D71/D$68*100),D71/D$68*100,0) -> 20.434604 | F71: =[1]CUADRO3!D37 -> 0 | G71: =IF(ISNUMBER(F71/F$68*100),F71/F$68*100,0) -> 0 | H71: =[1]CUADRO3!F37 -> 418028.25 | I71: =IF(ISNUMBER(H71/H$68*100),H71/H$68*100,0) -> 24.762477 | J71: =[1]CUADRO3!H37 -> 0 | K71: =IF(ISNUMBER(J71/J$68*100),J71/J$68*100,0) -> 0 | L71: =[1]CUADRO3!J37 -> 227657.52 | M71: =IF(ISNUMBER(L71/L$68*100),L71/L$68*100,0) -> 20.373902 | N71: =[1]CUADRO3!L37 -> 76894.041 | O71: =IF(ISNUMBER(N71/N$68*100),N71/N$68*100,0) -> 30.779565 | P71: =[1]CUADRO3!N37 -> 104371.52 | Q71: =IF(ISNUMBER(P71/P$68*100),P71/P$68*100,0) -> 33.726761
A72: Explotacion de minas y canteras | B72: =[1]CUADRO3!B38 -> 12955.477 | C72: =IF(ISNUMBER(B72/B$68*100),B72/B$68*100,0) -> 0.34804382 | D72: =F72+H72+J72 -> 6671.8343 | E72: =IF(ISNUMBER(D72/D$68*100),D72/D$68*100,0) -> 0.32614133 | F72: =[1]CUADRO3!D38 -> 0 | G72: =IF(ISNUMBER(F72/F$68*100),F72/F$68*100,0) -> 0 | H72: =[1]CUADRO3!F38 -> 6671.8343 | I72: =IF(ISNUMBER(H72/H$68*100),H72/H$68*100,0) -> 0.39521525 | J72: =[1]CUADRO3!H38 -> 0 | K72: =IF(ISNUMBER(J72/J$68*100),J72/J$68*100,0) -> 0 | L72: =[1]CUADRO3!J38 -> 3453.3508 | M72: =IF(ISNUMBER(L72/L$68*100),L72/L$68*100,0) -> 0.30905297 | N72: =[1]CUADRO3!L38 -> 0 | O72: =IF(ISNUMBER(N72/N$68*100),N72/N$68*100,0) -> 0 | P72: =[1]CUADRO3!N38 -> 2830.2921 | Q72: =IF(ISNUMBER(P72/P$68*100),P72/P$68*100,0) -> 0.91458458
A73: Industria manufacturera | B73: =[1]CUADRO3!B39 -> 567245.4 | C73: =IF(ISNUMBER(B73/B$68*100),B73/B$68*100,0) -> 15.238826 | D73: =F73+H73+J73 -> 318611.21 | E73: =IF(ISNUMBER(D73/D$68*100),D73/D$68*100,0) -> 15.57477 | F73: =[1]CUADRO3!D39 -> 0 | G73: =IF(ISNUMBER(F73/F$68*100),F73/F$68*100,0) -> 0 | H73: =[1]CUADRO3!F39 -> 318611.21 | I73: =IF(ISNUMBER(H73/H$68*100),H73/H$68*100,0) -> 18.873372 | J73: =[1]CUADRO3!H39 -> 0 | K73: =IF(ISNUMBER(J73/J$68*100),J73/J$68*100,0) -> 0 | L73: =[1]CUADRO3!J39 -> 195818.47 | M73: =IF(ISNUMBER(L73/L$68*100),L73/L$68*100,0) -> 17.52451 | N73: =[1]CUADRO3!L39 -> 34359.276 | O73: =IF(ISNUMBER(N73/N$68*100),N73/N$68*100,0) -> 13.753518 | P73: =[1]CUADRO3!N39 -> 18456.439 | Q73: =IF(ISNUMBER(P73/P$68*100),P73/P$68*100,0) -> 5.9640398
A74: Suministro de electricidad, gas, vapor y aire acondicionado | B74: =[1]CUADRO3!B40 -> 6631.0262 | C74: =IF(ISNUMBER(B74/B$68*100),B74/B$68*100,0) -> 0.17813992 | D74: =F74+H74+J74 -> 4965.4828 | E74: =IF(ISNUMBER(D74/D$68*100),D74/D$68*100,0) -> 0.24272923 | F74: =[1]CUADRO3!D40 -> 2273.2299 | G74: =IF(ISNUMBER(F74/F$68*100),F74/F$68*100,0) -> 0.9586579 | H74: =[1]CUADRO3!F40 -> 2692.253 | I74: =IF(ISNUMBER(H74/H$68*100),H74/H$68*100,0) -> 0.1594793 | J74: =[1]CUADRO3!H40 -> 0 | K74: =IF(ISNUMBER(J74/J$68*100),J74/J$68*100,0) -> 0 | L74: =[1]CUADRO3!J40 -> 1665.5434 | M74: =IF(ISNUMBER(L74/L$68*100),L74/L$68*100,0) -> 0.14905556 | N74: =[1]CUADRO3!L40 -> 0 | O74: =IF(ISNUMBER(N74/N$68*100),N74/N$68*100,0) -> 0 | P74: =[1]CUADRO3!N40 -> 0 | Q74: =IF(ISNUMBER(P74/P$68*100),P74/P$68*100,0) -> 0
A75: Suministro de agua, evacuacion de aguas residuales, gestion de desechos y descontaminacion | B75: =[1]CUADRO3!B41 -> 21268.797 | C75: =IF(ISNUMBER(B75/B$68*100),B75/B$68*100,0) -> 0.57137791 | D75: =F75+H75+J75 -> 12552.918 | E75: =IF(ISNUMBER(D75/D$68*100),D75/D$68*100,0) -> 0.61362817 | F75: =[1]CUADRO3!D41 -> 3293.8111 | G75: =IF(ISNUMBER(F75/F$68*100),F75/F$68*100,0) -> 1.3890536 | H75: =[1]CUADRO3!F41 -> 9259.1071 | I75: =IF(ISNUMBER(H75/H$68*100),H75/H$68*100,0) -> 0.54847591 | J75: =[1]CUADRO3!H41 -> 0 | K75: =IF(ISNUMBER(J75/J$68*100),J75/J$68*100,0) -> 0 | L75: =[1]CUADRO3!J41 -> 4338.4889 | M75: =IF(ISNUMBER(L75/L$68*100),L75/L$68*100,0) -> 0.38826721 | N75: =[1]CUADRO3!L41 -> 2387.7401 | O75: =IF(ISNUMBER(N75/N$68*100),N75/N$68*100,0) -> 0.95577761 | P75: =[1]CUADRO3!N41 -> 1989.6499 | Q75: =IF(ISNUMBER(P75/P$68*100),P75/P$68*100,0) -> 0.64293828
A76: Construccion | B76: =[1]CUADRO3!B42 -> 293881.96 | C76: =IF(ISNUMBER(B76/B$68*100),B76/B$68*100,0) -> 7.8950238 | D76: =F76+H76+J76 -> 194663.54 | E76: =IF(ISNUMBER(D76/D$68*100),D76/D$68*100,0) -> 9.5157977 | F76: =[1]CUADRO3!D42 -> 1046.7061 | G76: =IF(ISNUMBER(F76/F$68*100),F76/F$68*100,0) -> 0.44141293 | H76: =[1]CUADRO3!F42 -> 193616.83 | I76: =IF(ISNUMBER(H76/H$68*100),H76/H$68*100,0) -> 11.469159 | J76: =[1]CUADRO3!H42 -> 0 | K76: =IF(ISNUMBER(J76/J$68*100),J76/J$68*100,0) -> 0 | L76: =[1]CUADRO3!J42 -> 51769.29 | M76: =IF(ISNUMBER(L76/L$68*100),L76/L$68*100,0) -> 4.6330227 | N76: =[1]CUADRO3!L42 -> 6689.521 | O76: =IF(ISNUMBER(N76/N$68*100),N76/N$68*100,0) -> 2.6777179 | P76: =[1]CUADRO3!N42 -> 40759.612 | Q76: =IF(ISNUMBER(P76/P$68*100),P76/P$68*100,0) -> 13.171119
A77: Comercio al por mayor y al por menor, reparacion de vehiculos automotores y motocicletas | B77: =[1]CUADRO3!B43 -> 747381.08 | C77: =IF(ISNUMBER(B77/B$68*100),B77/B$68*100,0) -> 20.0781 | D77: =F77+H77+J77 -> 289203.94 | E77: =IF(ISNUMBER(D77/D$68*100),D77/D$68*100,0) -> 14.137245 | F77: =[1]CUADRO3!D43 -> 0 | G77: =IF(ISNUMBER(F77/F$68*100),F77/F$68*100,0) -> 0 | H77: =[1]CUADRO3!F43 -> 289203.94 | I77: =IF(ISNUMBER(H77/H$68*100),H77/H$68*100,0) -> 17.131392 | J77: =[1]CUADRO3!H43 -> 0 | K77: =IF(ISNUMBER(J77/J$68*100),J77/J$68*100,0) -> 0 | L77: =[1]CUADRO3!J43 -> 334028.83 | M77: =IF(ISNUMBER(L77/L$68*100),L77/L$68*100,0) -> 29.893459 | N77: =[1]CUADRO3!L43 -> 80593.57 | O77: =IF(ISNUMBER(N77/N$68*100),N77/N$68*100,0) -> 32.260433 | P77: =[1]CUADRO3!N43 -> 43554.74 | Q77: =IF(ISNUMBER(P77/P$68*100),P77/P$68*100,0) -> 14.07434
A78: Transporte y almacenamiento | B78: =[1]CUADRO3!B44 -> 129333.56 | C78: =IF(ISNUMBER(B78/B$68*100),B78/B$68*100,0) -> 3.4744954 | D78: =F78+H78+J78 -> 45960.89 | E78: =IF(ISNUMBER(D78/D$68*100),D78/D$68*100,0) -> 2.2467203 | F78: =[1]CUADRO3!D44 -> 1998.4909 | G78: =IF(ISNUMBER(F78/F$68*100),F78/F$68*100,0) -> 0.84279603 | H78: =[1]CUADRO3!F44 -> 43962.399 | I78: =IF(ISNUMBER(H78/H$68*100),H78/H$68*100,0) -> 2.604173 | J78: =[1]CUADRO3!H44 -> 0 | K78: =IF(ISNUMBER(J78/J$68*100),J78/J$68*100,0) -> 0 | L78: =[1]CUADRO3!J44 -> 45632.862 | M78: =IF(ISNUMBER(L78/L$68*100),L78/L$68*100,0) -> 4.0838514 | N78: =[1]CUADRO3!L44 -> 2593.115 | O78: =IF(ISNUMBER(N78/N$68*100),N78/N$68*100,0) -> 1.0379862 | P78: =[1]CUADRO3!N44 -> 35146.693 | Q78: =IF(ISNUMBER(P78/P$68*100),P78/P$68*100,0) -> 11.357352
A79: Actividades de alojamiento y de servicios de comida | B79: =[1]CUADRO3!B45 -> 201229.63 | C79: =IF(ISNUMBER(B79/B$68*100),B79/B$68*100,0) -> 5.4059551 | D79: =F79+H79+J79 -> 85486.651 | E79: =IF(ISNUMBER(D79/D$68*100),D79/D$68*100,0) -> 4.1788703 | F79: =[1]CUADRO3!D45 -> 0 | G79: =IF(ISNUMBER(F79/F$68*100),F79/F$68*100,0) -> 0 | H79: =[1]CUADRO3!F45 -> 85486.651 | I79: =IF(ISNUMBER(H79/H$68*100),H79/H$68*100,0) -> 5.063919 | J79: =[1]CUADRO3!H45 -> 0 | K79: =IF(ISNUMBER(J79/J$68*100),J79/J$68*100,0) -> 0 | L79: =[1]CUADRO3!J45 -> 79124.798 | M79: =IF(ISNUMBER(L79/L$68*100),L79/L$68*100,0) -> 7.081167 | N79: =[1]CUADRO3!L45 -> 28319.414 | O79: =IF(ISNUMBER(N79/N$68*100),N79/N$68*100,0) -> 11.335849 | P79: =[1]CUADRO3!N45 -> 8298.7627 | Q79: =IF(ISNUMBER(P79/P$68*100),P79/P$68*100,0) -> 2.6816739
A80: Informacion y comunicaciones | B80: =[1]CUADRO3!B46 -> 18310.908 | C80: =IF(ISNUMBER(B80/B$68*100),B80/B$68*100,0) -> 0.49191536 | D80: =F80+H80+J80 -> 16725.879 | E80: =IF(ISNUMBER(D80/D$68*100),D80/D$68*100,0) -> 0.8176163 | F80: =[1]CUADRO3!D46 -> 0 | G80: =IF(ISNUMBER(F80/F$68*100),F80/F$68*100,0) -> 0 | H80: =[1]CUADRO3!F46 -> 16725.879 | I80: =IF(ISNUMBER(H80/H$68*100),H80/H$68*100,0) -> 0.99078038 | J80: =[1]CUADRO3!H46 -> 0 | K80: =IF(ISNUMBER(J80/J$68*100),J80/J$68*100,0) -> 0 | L80: =[1]CUADRO3!J46 -> 1323.352 | M80: =IF(ISNUMBER(L80/L$68*100),L80/L$68*100,0) -> 0.1184316 | N80: =[1]CUADRO3!L46 -> 0 | O80: =IF(ISNUMBER(N80/N$68*100),N80/N$68*100,0) -> 0 | P80: =[1]CUADRO3!N46 -> 261.67652 | Q80: =IF(ISNUMBER(P80/P$68*100),P80/P$68*100,0) -> 0.084558521
A81: Actividades finacieras y de seguros | B81: =[1]CUADRO3!B47 -> 33113.367 | C81: =IF(ISNUMBER(B81/B$68*100),B81/B$68*100,0) -> 0.88957763 | D81: =F81+H81+J81 -> 32812.789 | E81: =IF(ISNUMBER(D81/D$68*100),D81/D$68*100,0) -> 1.6039977 | F81: =[1]CUADRO3!D47 -> 1356.1247 | G81: =IF(ISNUMBER(F81/F$68*100),F81/F$68*100,0) -> 0.5718998 | H81: =[1]CUADRO3!F47 -> 31456.664 | I81: =IF(ISNUMBER(H81/H$68*100),H81/H$68*100,0) -> 1.8633786 | J81: =[1]CUADRO3!H47 -> 0 | K81: =IF(ISNUMBER(J81/J$68*100),J81/J$68*100,0) -> 0 | L81: =[1]CUADRO3!J47 -> 300.57764 | M81: =IF(ISNUMBER(L81/L$68*100),L81/L$68*100,0) -> 0.02689979 | N81: =[1]CUADRO3!L47 -> 0 | O81: =IF(ISNUMBER(N81/N$68*100),N81/N$68*100,0) -> 0 | P81: =[1]CUADRO3!N47 -> 0 | Q81: =IF(ISNUMBER(P81/P$68*100),P81/P$68*100,0) -> 0
A82: Actividades inmobiliarias | B82: =[1]CUADRO3!B48 -> 7362.3502 | C82: =IF(ISNUMBER(B82/B$68*100),B82/B$68*100,0) -> 0.19778665 | D82: =F82+H82+J82 -> 3834.7295 | E82: =IF(ISNUMBER(D82/D$68*100),D82/D$68*100,0) -> 0.18745427 | F82: =[1]CUADRO3!D48 -> 0 | G82: =IF(ISNUMBER(F82/F$68*100),F82/F$68*100,0) -> 0 | H82: =[1]CUADRO3!F48 -> 3834.7295 | I82: =IF(ISNUMBER(H82/H$68*100),H82/H$68*100,0) -> 0.22715546 | J82: =[1]CUADRO3!H48 -> 0 | K82: =IF(ISNUMBER(J82/J$68*100),J82/J$68*100,0) -> 0 | L82: =[1]CUADRO3!J48 -> 1427.3957 | M82: =IF(ISNUMBER(L82/L$68*100),L82/L$68*100,0) -> 0.12774285 | N82: =[1]CUADRO3!L48 -> 744.10015 | O82: =IF(ISNUMBER(N82/N$68*100),N82/N$68*100,0) -> 0.29785246 | P82: =[1]CUADRO3!N48 -> 1356.1247 | Q82: =IF(ISNUMBER(P82/P$68*100),P82/P$68*100,0) -> 0.43822007
... A92: Rama de actividad NO especificada | B92: =[1]CUADRO3!B58 -> 0 | C92: =IF(ISNUMBER(B92/B$68*100),B92/B$68*100,0) -> 0 | D92: =F92+H92+J92 -> 0 | E92: =IF(ISNUMBER(D92/D$68*100),D92/D$68*100,0) -> 0 | F92: =[1]CUADRO3!D58 -> 0 | G92: =IF(ISNUMBER(F92/F$68*100),F92/F$68*100,0) -> 0 | H92: =[1]CUADRO3!F58 -> 0 | I92: =IF(ISNUMBER(H92/H$68*100),H92/H$68*100,0) -> 0 | J92: =[1]CUADRO3!H58 -> 0 | K92: =IF(ISNUMBER(J92/J$68*100),J92/J$68*100,0) -> 0 | L92: =[1]CUADRO3!J58 -> 0 | M92: =IF(ISNUMBER(L92/L$68*100),L92/L$68*100,0) -> 0 | N92: =[1]CUADRO3!L58 -> 0 | O92: =IF(ISNUMBER(N92/N$68*100),N92/N$68*100,0) -> 0 | P92: =[1]CUADRO3!N58 -> 0 | Q92: =IF(ISNUMBER(P92/P$68*100),P92/P$68*100,0) -> 0
A93: NS/NR | B93: =[1]CUADRO3!B60 -> 93318.736 | C93: =IF(ISNUMBER(B93/B$68*100),B93/B$68*100,0) -> 2.5069713 | D93: =F93+H93+J93 -> 62658.465 | E93: =IF(ISNUMBER(D93/D$68*100),D93/D$68*100,0) -> 3.062953 | F93: =[1]CUADRO3!D60 -> 8927.9063 | G93: =IF(ISNUMBER(F93/F$68*100),F93/F$68*100,0) -> 3.7650429 | H93: =[1]CUADRO3!F60 -> 53730.558 | I93: =IF(ISNUMBER(H93/H$68*100),H93/H$68*100,0) -> 3.1828033 | J93: =[1]CUADRO3!H60 -> 0 | K93: =IF(ISNUMBER(J93/J$68*100),J93/J$68*100,0) -> 0 | L93: =[1]CUADRO3!J60 -> 18960.689 | M93: =IF(ISNUMBER(L93/L$68*100),L93/L$68*100,0) -> 1.6968612 | N93: =[1]CUADRO3!L60 -> 3786.7012 | O93: =IF(ISNUMBER(N93/N$68*100),N93/N$68*100,0) -> 1.5157614 | P93: =[1]CUADRO3!N60 -> 7912.8811 | Q93: =IF(ISNUMBER(P93/P$68*100),P93/P$68*100,0) -> 2.5569796
A95: Ocupación (1 Dig.)
A96: Directores y gerentes | B96: =[1]CUADRO3!B61 -> 86507.062 | C96: =IF(ISNUMBER(B96/B$68*100),B96/B$68*100,0) -> 2.3239784 | D96: =F96+H96+J96 -> 50141.721 | E96: =IF(ISNUMBER(D96/D$68*100),D96/D$68*100,0) -> 2.4510932 | F96: =[1]CUADRO3!D61 -> 12125.826 | G96: =IF(ISNUMBER(F96/F$68*100),F96/F$68*100,0) -> 5.1136573 | H96: =[1]CUADRO3!F61 -> 38015.895 | I96: =IF(ISNUMBER(H96/H$68*100),H96/H$68*100,0) -> 2.2519237 | J96: =[1]CUADRO3!H61 -> 0 | K96: =IF(ISNUMBER(J96/J$68*100),J96/J$68*100,0) -> 0 | L96: =[1]CUADRO3!J61 -> 35097.888 | M96: =IF(ISNUMBER(L96/L$68*100),L96/L$68*100,0) -> 3.1410381 | N96: =[1]CUADRO3!L61 -> 0 | O96: =IF(ISNUMBER(N96/N$68*100),N96/N$68*100,0) -> 0 | P96: =[1]CUADRO3!N61 -> 1267.4532 | Q96: =IF(ISNUMBER(P96/P$68*100),P96/P$68*100,0) -> 0.40956662
A97: Profesionales cientificos e intelectuales | B97: =[1]CUADRO3!B62 -> 169706.55 | C97: =IF(ISNUMBER(B97/B$68*100),B97/B$68*100,0) -> 4.5590999 | D97: =F97+H97+J97 -> 147025.72 | E97: =IF(ISNUMBER(D97/D$68*100),D97/D$68*100,0) -> 7.1871034 | F97: =[1]CUADRO3!D62 -> 79752.19 | G97: =IF(ISNUMBER(F97/F$68*100),F97/F$68*100,0) -> 33.632792 | H97: =[1]CUADRO3!F62 -> 67273.526 | I97: =IF(ISNUMBER(H97/H$68*100),H97/H$68*100,0) -> 3.9850396 | J97: =[1]CUADRO3!H62 -> 0 | K97: =IF(ISNUMBER(J97/J$68*100),J97/J$68*100,0) -> 0 | L97: =[1]CUADRO3!J62 -> 19795.576 | M97: =IF(ISNUMBER(L97/L$68*100),L97/L$68*100,0) -> 1.7715783 | N97: =[1]CUADRO3!L62 -> 0 | O97: =IF(ISNUMBER(N97/N$68*100),N97/N$68*100,0) -> 0 | P97: =[1]CUADRO3!N62 -> 2885.2545 | Q97: =IF(ISNUMBER(P97/P$68*100),P97/P$68*100,0) -> 0.9323452
A98: Tecnicos y profesionales de nivel medio | B98: =[1]CUADRO3!B63 -> 188112.1 | C98: =IF(ISNUMBER(B98/B$68*100),B98/B$68*100,0) -> 5.053558 | D98: =F98+H98+J98 -> 157269.62 | E98: =IF(ISNUMBER(D98/D$68*100),D98/D$68*100,0) -> 7.6878593 | F98: =[1]CUADRO3!D63 -> 62880.164 | G98: =IF(ISNUMBER(F98/F$68*100),F98/F$68*100,0) -> 26.517585 | H98: =[1]CUADRO3!F63 -> 94389.456 | I98: =IF(ISNUMBER(H98/H$68*100),H98/H$68*100,0) -> 5.5912888 | J98: =[1]CUADRO3!H63 -> 0 | K98: =IF(ISNUMBER(J98/J$68*100),J98/J$68*100,0) -> 0 | L98: =[1]CUADRO3!J63 -> 19066.44 | M98: =IF(ISNUMBER(L98/L$68*100),L98/L$68*100,0) -> 1.7063253 | N98: =[1]CUADRO3!L63 -> 4161.1458 | O98: =IF(ISNUMBER(N98/N$68*100),N98/N$68*100,0) -> 1.6656461 | P98: =[1]CUADRO3!N63 -> 7614.8995 | Q98: =IF(ISNUMBER(P98/P$68*100),P98/P$68*100,0) -> 2.4606894
A99: Personal de apoyo administrativo | B99: =[1]CUADRO3!B64 -> 110985.08 | C99: =IF(ISNUMBER(B99/B$68*100),B99/B$68*100,0) -> 2.9815707 | D99: =F99+H99+J99 -> 102366.71 | E99: =IF(ISNUMBER(D99/D$68*100),D99/D$68*100,0) -> 5.0040236 | F99: =[1]CUADRO3!D64 -> 18320.268 | G99: =IF(ISNUMBER(F99/F$68*100),F99/F$68*100,0) -> 7.7259542 | H99: =[1]CUADRO3!F64 -> 84046.445 | I99: =IF(ISNUMBER(H99/H$68*100),H99/H$68*100,0) -> 4.9786064 | J99: =[1]CUADRO3!H64 -> 0 | K99: =IF(ISNUMBER(J99/J$68*100),J99/J$68*100,0) -> 0 | L99: =[1]CUADRO3!J64 -> 5785.4783 | M99: =IF(ISNUMBER(L99/L$68*100),L99/L$68*100,0) -> 0.51776357 | N99: =[1]CUADRO3!L64 -> 2270.6339 | O99: =IF(ISNUMBER(N99/N$68*100),N99/N$68*100,0) -> 0.90890169 | P99: =[1]CUADRO3!N64 -> 562.25416 | Q99: =IF(ISNUMBER(P99/P$68*100),P99/P$68*100,0) -> 0.1816876
A100: Trabajadores de los servicios y vendedores de comercios y mercados | B100: =[1]CUADRO3!B65 -> 880167.54 | C100: =IF(ISNUMBER(B100/B$68*100),B100/B$68*100,0) -> 23.645356 | D100: =F100+H100+J100 -> 336929.42 | E100: =IF(ISNUMBER(D100/D$68*100),D100/D$68*100,0) -> 16.470225 | F100: =[1]CUADRO3!D65 -> 16771.423 | G100: =IF(ISNUMBER(F100/F$68*100),F100/F$68*100,0) -> 7.0727812 | H100: =[1]CUADRO3!F65 -> 285400.27 | I100: =IF(ISNUMBER(H100/H$68*100),H100/H$68*100,0) -> 16.906076 | J100: =[1]CUADRO3!H65 -> 34757.73 | K100: =IF(ISNUMBER(J100/J$68*100),J100/J$68*100,0) -> 28.866209 | L100: =[1]CUADRO3!J65 -> 411311.11 | M100: =IF(ISNUMBER(L100/L$68*100),L100/L$68*100,0) -> 36.809732 | N100: =[1]CUADRO3!L65 -> 91405.335 | O100: =IF(ISNUMBER(N100/N$68*100),N100/N$68*100,0) -> 36.588225 | P100: =[1]CUADRO3!N65 -> 40521.669 | Q100: =IF(ISNUMBER(P100/P$68*100),P100/P$68*100,0) -> 13.094229
A101: Agricultores y trabajadores calificados agropecuarios forestales y pesqueros | B101: =[1]CUADRO3!B66 -> 259505.46 | C101: =IF(ISNUMBER(B101/B$68*100),B101/B$68*100,0) -> 6.9715125 | D101: =F101+H101+J101 -> 40140.285 | E101: =IF(ISNUMBER(D101/D$68*100),D101/D$68*100,0) -> 1.9621899 | F101: =[1]CUADRO3!D66 -> 0 | G101: =IF(ISNUMBER(F101/F$68*100),F101/F$68*100,0) -> 0 | H101: =[1]CUADRO3!F66 -> 40140.285 | I101: =IF(ISNUMBER(H101/H$68*100),H101/H$68*100,0) -> 2.3777648 | J101: =[1]CUADRO3!H66 -> 0 | K101: =IF(ISNUMBER(J101/J$68*100),J101/J$68*100,0) -> 0 | L101: =[1]CUADRO3!J66 -> 208102.5 | M101: =IF(ISNUMBER(L101/L$68*100),L101/L$68*100,0) -> 18.623852 | N101: =[1]CUADRO3!L66 -> 2830.2921 | O101: =IF(ISNUMBER(N101/N$68*100),N101/N$68*100,0) -> 1.1329247 | P101: =[1]CUADRO3!N66 -> 8432.3814 | Q101: =IF(ISNUMBER(P101/P$68*100),P101/P$68*100,0) -> 2.7248517
A102: Oficiales, operarios y artesanos de artes mecanicas y de otros oficios | B102: =[1]CUADRO3!B67 -> 607193.07 | C102: =IF(ISNUMBER(B102/B$68*100),B102/B$68*100,0) -> 16.312004 | D102: =F102+H102+J102 -> 280010.3 | E102: =IF(ISNUMBER(D102/D$68*100),D102/D$68*100,0) -> 13.68783 | F102: =[1]CUADRO3!D67 -> 7728.0704 | G102: =IF(ISNUMBER(F102/F$68*100),F102/F$68*100,0) -> 3.2590526 | H102: =[1]CUADRO3!F67 -> 272282.23 | I102: =IF(ISNUMBER(H102/H$68*100),H102/H$68*100,0) -> 16.129011 | J102: =[1]CUADRO3!H67 -> 0 | K102: =IF(ISNUMBER(J102/J$68*100),J102/J$68*100,0) -> 0 | L102: =[1]CUADRO3!J67 -> 256714.31 | M102: =IF(ISNUMBER(L102/L$68*100),L102/L$68*100,0) -> 22.9743 | N102: =[1]CUADRO3!L67 -> 29394.642 | O102: =IF(ISNUMBER(N102/N$68*100),N102/N$68*100,0) -> 11.766247 | P102: =[1]CUADRO3!N67 -> 41073.825 | Q102: =IF(ISNUMBER(P102/P$68*100),P102/P$68*100,0) -> 13.272654
A103: Operadores de instalaciones y maquinas y ensambladores | B103: =[1]CUADRO3!B68 -> 268805.89 | C103: =IF(ISNUMBER(B103/B$68*100),B103/B$68*100,0) -> 7.2213651 | D103: =F103+H103+J103 -> 177547.28 | E103: =IF(ISNUMBER(D103/D$68*100),D103/D$68*100,0) -> 8.6790984 | F103: =[1]CUADRO3!D68 -> 4935.1412 | G103: =IF(ISNUMBER(F103/F$68*100),F103/F$68*100,0) -> 2.0812291 | H103: =[1]CUADRO3!F68 -> 172612.14 | I103: =IF(ISNUMBER(H103/H$68*100),H103/H$68*100,0) -> 10.224917 | J103: =[1]CUADRO3!H68 -> 0 | K103: =IF(ISNUMBER(J103/J$68*100),J103/J$68*100,0) -> 0 | L103: =[1]CUADRO3!J68 -> 51942.057 | M103: =IF(ISNUMBER(L103/L$68*100),L103/L$68*100,0) -> 4.6484843 | N103: =[1]CUADRO3!L68 -> 1887.9159 | O103: =IF(ISNUMBER(N103/N$68*100),N103/N$68*100,0) -> 0.75570526 | P103: =[1]CUADRO3!N68 -> 37428.642 | Q103: =IF(ISNUMBER(P103/P$68*100),P103/P$68*100,0) -> 12.094744
A104: Ocupaciones elementales | B104: =[1]CUADRO3!B69 -> 1148344.2 | C104: =IF(ISNUMBER(B104/B$68*100),B104/B$68*100,0) -> 30.849817 | D104: =F104+H104+J104 -> 751214.4 | E104: =IF(ISNUMBER(D104/D$68*100),D104/D$68*100,0) -> 36.721845 | F104: =[1]CUADRO3!D69 -> 31570.602 | G104: =IF(ISNUMBER(F104/F$68*100),F104/F$68*100,0) -> 13.313835 | H104: =[1]CUADRO3!F69 -> 633991.78 | I104: =IF(ISNUMBER(H104/H$68*100),H104/H$68*100,0) -> 37.555373 | J104: =[1]CUADRO3!H69 -> 85652.019 | K104: =IF(ISNUMBER(J104/J$68*100),J104/J$68*100,0) -> 71.133791 | L104: =[1]CUADRO3!J69 -> 109582.37 | M104: =IF(ISNUMBER(L104/L$68*100),L104/L$68*100,0) -> 9.806926 | N104: =[1]CUADRO3!L69 -> 117871.76 | O104: =IF(ISNUMBER(N104/N$68*100),N104/N$68*100,0) -> 47.18235 | P104: =[1]CUADRO3!N69 -> 169675.66 | Q104: =IF(ISNUMBER(P104/P$68*100),P104/P$68*100,0) -> 54.829232
A105: Ocupaciones militares | B105: =[1]CUADRO3!B70 -> 3042.601 | C105: =IF(ISNUMBER(B105/B$68*100),B105/B$68*100,0) -> 0.081738285 | D105: =F105+H105+J105 -> 3042.601 | E105: =IF(ISNUMBER(D105/D$68*100),D105/D$68*100,0) -> 0.1487324 | F105: =[1]CUADRO3!D70 -> 3042.601 | G105: =IF(ISNUMBER(F105/F$68*100),F105/F$68*100,0) -> 1.2831142 | H105: =[1]CUADRO3!F70 -> 0 | I105: =IF(ISNUMBER(H105/H$68*100),H105/H$68*100,0) -> 0 | J105: =[1]CUADRO3!H70 -> 0 | K105: =IF(ISNUMBER(J105/J$68*100),J105/J$68*100,0) -> 0 | L105: =[1]CUADRO3!J70 -> 0 | M105: =IF(ISNUMBER(L105/L$68*100),L105/L$68*100,0) -> 0 | N105: =[1]CUADRO3!L70 -> 0 | O105: =IF(ISNUMBER(N105/N$68*100),N105/N$68*100,0) -> 0 | P105: =[1]CUADRO3!N70 -> 0 | Q105: =IF(ISNUMBER(P105/P$68*100),P105/P$68*100,0) -> 0
A106: Ocupaciones NO especificadas | B106: =[1]CUADRO3!B71 -> 0 | C106: =IF(ISNUMBER(B106/B$68*100),B106/B$68*100,0) -> 0 | D106: =F106+H106+J106 -> 0 | E106: =IF(ISNUMBER(D106/D$68*100),D106/D$68*100,0) -> 0 | F106: =[1]CUADRO3!D71 -> 0 | G106: =IF(ISNUMBER(F106/F$68*100),F106/F$68*100,0) -> 0 | H106: =[1]CUADRO3!F71 -> 0 | I106: =IF(ISNUMBER(H106/H$68*100),H106/H$68*100,0) -> 0 | J106: =[1]CUADRO3!H71 -> 0 | K106: =IF(ISNUMBER(J106/J$68*100),J106/J$68*100,0) -> 0 | L106: =[1]CUADRO3!J71 -> 0 | M106: =IF(ISNUMBER(L106/L$68*100),L106/L$68*100,0) -> 0 | N106: =[1]CUADRO3!L71 -> 0 | O106: =IF(ISNUMBER(N106/N$68*100),N106/N$68*100,0) -> 0 | P106: =[1]CUADRO3!N71 -> 0 | Q106: =IF(ISNUMBER(P106/P$68*100),P106/P$68*100,0) -> 0
A107: NS/NR | B107: =[1]CUADRO3!B72 -> 0 | C107: =IF(ISNUMBER(B107/B$68*100),B107/B$68*100,0) -> 0 | D107: =F107+H107+J107 -> 0 | E107: =IF(ISNUMBER(D107/D$68*100),D107/D$68*100,0) -> 0 | F107: =[1]CUADRO3!D72 -> 0 | G107: =IF(ISNUMBER(F107/F$68*100),F107/F$68*100,0) -> 0 | H107: =[1]CUADRO3!F72 -> 0 | I107: =IF(ISNUMBER(H107/H$68*100),H107/H$68*100,0) -> 0 | J107: =[1]CUADRO3!H72 -> 0 | K107: =IF(ISNUMBER(J107/J$68*100),J107/J$68*100,0) -> 0 | L107: =[1]CUADRO3!J72 -> 0 | M107: =IF(ISNUMBER(L107/L$68*100),L107/L$68*100,0) -> 0 | N107: =[1]CUADRO3!L72 -> 0 | O107: =IF(ISNUMBER(N107/N$68*100),N107/N$68*100,0) -> 0 | P107: =[1]CUADRO3!N72 -> 0 | Q107: =IF(ISNUMBER(P107/P$68*100),P107/P$68*100,0) -> 0
A109: ='C01'!$A$32 -> Fuente: Instituto Nacional de Estadística (INE). LXXIII Encuesta Permanente de Hogares de Propósitos Múltiples, Otubre 2021
A110: 1/ Porcentaje por columnas
A111: 2/ Porcentaje por filas

Sheet C04
A1: Cuadro No. 4. Personas ocupadas y que declaran ingresos por categoría ocupacional, según dominio, nivel educativo, rango de edad,
A2: sexo, número de salarios mínimos devengados, rama de actividad y ocupación
A3: Ocupación Principal
A4: Categorías | B4: Total Pers. Ocupadas | D4: Pers. que declaran Ing. | F4: Asalariados | N4: Cuenta propia | R4: Contratista Dependiente
F5: Total | H5: Público | J5: Privado | L5: Doméstico
B6: No. | C6: % 1/ | D6: No. | E6: % 1/ | F6: No. | G6: % 1/ | H6: No. | I6: % 1/ | J6: No. | K6: % 1/ | L6: No. | M6: % 1/ | N6: No. | O6: % 1/ | R6: No. | S6: % 1/
A8: Total Nacional 2/ | B8: ='C03'!B8 -> 3722369.5 | C8: =+C11+C15 -> 100 | D8: =+D11+D15 -> 2619556.1 | E8: =IF(ISNUMBER(D8/$B$8*100),D8/$B$8*100,0) -> 70.37335 | F8: =H8+J8+L8 -> 1676292.9 | G8: =IF(ISNUMBER(F8/$B$8*100),F8/$B$8*100,0) -> 45.032951 | H8: =+H11+H15 -> 164484.47 | I8: =IF(ISNUMBER(H8/$B$8*100),H8/$B$8*100,0) -> 4.4188108 | J8: =+J11+J15 -> 1396894 | K8: =IF(ISNUMBER(J8/$B$8*100),J8/$B$8*100,0) -> 37.527011 | L8: =+L11+L15 -> 114914.38 | M8: =IF(ISNUMBER(L8/$B$8*100),L8/$B$8*100,0) -> 3.0871299 | N8: =+N11+N15 -> 791430.76 | O8: =IF(ISNUMBER(N8/$B$8*100),N8/$B$8*100,0) -> 21.261478 | P8: =+P11+P15 -> 0 | Q8: =IF(ISNUMBER(P8/$B$8*100),P8/$B$8*100,0) -> 0 | R8: =+R11+R15 -> 151832.5 | S8: =IF(ISNUMBER(R8/$B$8*100),R8/$B$8*100,0) -> 4.0789206
A10: Dominio
A11: Urbano | B11: ='C03'!B11 -> 2263567.6 | C11: =IF(ISNUMBER(B11/B$8*100),B11/B$8*100,0) -> 60.809856 | D11: =SUM(D12:D14) -> 1557076.1 | E11: =IF(ISNUMBER(D11/D$8*100),D11/D$8*100,0) -> 59.440455 | F11: =SUM(F12:F14) -> 1048080.5 | G11: =IF(ISNUMBER(F11/F$8*100),F11/F$8*100,0) -> 62.523708 | H11: =SUM(H12:H14) -> 122744.18 | I11: =IF(ISNUMBER(H11/H$8*100),H11/H$8*100,0) -> 74.623569 | J11: =SUM(J12:J14) -> 841200.08 | K11: =IF(ISNUMBER(J11/J$8*100),J11/J$8*100,0) -> 60.21932 | L11: =SUM(L12:L14) -> 84136.189 | M11: =IF(ISNUMBER(L11/L$8*100),L11/L$8*100,0) -> 73.216414 | N11: =SUM(N12:N14) -> 443173.41 | O11: =IF(ISNUMBER(N11/N$8*100),N11/N$8*100,0) -> 55.996485 | P11: =SUM(P12:P14) -> 0 | Q11: =IF(ISNUMBER(P11/P$8*100),P11/P$8*100,0) -> 0 | R11: =SUM(R12:R14) -> 65822.209 | S11: =IF(ISNUMBER(R11/R$8*100),R11/R$8*100,0) -> 43.351858
A12: Distrito Central | B12: ='C03'!B12 -> 491951.86 | C12: =IF(ISNUMBER(B12/B$8*100),B12/B$8*100,0) -> 13.216094 | D12: =[1]CUADRO4!B6 -> 345936.36 | E12: =IF(ISNUMBER(D12/D$8*100),D12/D$8*100,0) -> 13.205915 | F12: =H12+J12+L12 -> 237602.28 | G12: =IF(ISNUMBER(F12/F$8*100),F12/F$8*100,0) -> 14.17427 | H12: =[1]CUADRO4!D6 -> 40298.184 | I12: =IF(ISNUMBER(H12/H$8*100),H12/H$8*100,0) -> 24.499689 | J12: =[1]CUADRO4!F6 -> 176631.65 | K12: =IF(ISNUMBER(J12/J$8*100),J12/J$8*100,0) -> 12.644599 | L12: =[1]CUADRO4!H6 -> 20672.445 | M12: =IF(ISNUMBER(L12/L$8*100),L12/L$8*100,0) -> 17.989432 | N12: =[1]CUADRO4!J6 -> 96820.312 | O12: =IF(ISNUMBER(N12/N$8*100),N12/N$8*100,0) -> 12.23358 | P12: =[1]CUADRO4!L6 -> 0 | Q12: =IF(ISNUMBER(P12/P$8*100),P12/P$8*100,0) -> 0 | R12: =[1]CUADRO4!N6 -> 11513.767 | S12: =IF(ISNUMBER(R12/R$8*100),R12/R$8*100,0) -> 7.5832031
A13: San Pedro Sula | B13: ='C03'!B13 -> 290057.43 | C13: =IF(ISNUMBER(B13/B$8*100),B13/B$8*100,0) -> 7.7922791 | D13: =[1]CUADRO4!B7 -> 195074.89 | E13: =IF(ISNUMBER(D13/D$8*100),D13/D$8*100,0) -> 7.4468681 | F13: =H13+J13+L13 -> 133757.05 | G13: =IF(ISNUMBER(F13/F$8*100),F13/F$8*100,0) -> 7.9793366 | H13: =[1]CUADRO4!D7 -> 5109.8199 | I13: =IF(ISNUMBER(H13/H$8*100),H13/H$8*100,0) -> 3.1065668 | J13: =[1]CUADRO4!F7 -> 119629.9 | K13: =IF(ISNUMBER(J13/J$8*100),J13/J$8*100,0) -> 8.5639927 | L13: =[1]CUADRO4!H7 -> 9017.3293 | M13: =IF(ISNUMBER(L13/L$8*100),L13/L$8*100,0) -> 7.8469981 | N13: =[1]CUADRO4!J7 -> 55005.709 | O13: =IF(ISNUMBER(N13/N$8*100),N13/N$8*100,0) -> 6.9501605 | P13: =[1]CUADRO4!L7 -> 0 | Q13: =IF(ISNUMBER(P13/P$8*100),P13/P$8*100,0) -> 0 | R13: =[1]CUADRO4!N7 -> 6312.1305 | S13: =IF(ISNUMBER(R13/R$8*100),R13/R$8*100,0) -> 4.1572987
A14: Resto urbano | B14: ='C03'!B14 -> 1481558.3 | C14: =IF(ISNUMBER(B14/B$8*100),B14/B$8*100,0) -> 39.801483 | D14: =[1]CUADRO4!B8 -> 1016064.8 | E14: =IF(ISNUMBER(D14/D$8*100),D14/D$8*100,0) -> 38.787671 | F14: =H14+J14+L14 -> 676721.12 | G14: =IF(ISNUMBER(F14/F$8*100),F14/F$8*100,0) -> 40.370101 | H14: =[1]CUADRO4!D8 -> 77336.176 | I14: =IF(ISNUMBER(H14/H$8*100),H14/H$8*100,0) -> 47.017312 | J14: =[1]CUADRO4!F8 -> 544938.53 | K14: =IF(ISNUMBER(J14/J$8*100),J14/J$8*100,0) -> 39.010728 | L14: =[1]CUADRO4!H8 -> 54446.415 | M14: =IF(ISNUMBER(L14/L$8*100),L14/L$8*100,0) -> 47.379983 | N14: =[1]CUADRO4!J8 -> 291347.39 | O14: =IF(ISNUMBER(N14/N$8*100),N14/N$8*100,0) -> 36.812745 | P14: =[1]CUADRO4!L8 -> 0 | Q14: =IF(ISNUMBER(P14/P$8*100),P14/P$8*100,0) -> 0 | R14: =[1]CUADRO4!N8 -> 47996.312 | S14: =IF(ISNUMBER(R14/R$8*100),R14/R$8*100,0) -> 31.611356
A15: Rural | B15: ='C03'!B15 -> 1458802 | C15: =IF(ISNUMBER(B15/B$8*100),B15/B$8*100,0) -> 39.190144 | D15: =[1]CUADRO4!B9 -> 1062480.1 | E15: =IF(ISNUMBER(D15/D$8*100),D15/D$8*100,0) -> 40.559545 | F15: =H15+J15+L15 -> 628212.42 | G15: =IF(ISNUMBER(F15/F$8*100),F15/F$8*100,0) -> 37.476292 | H15: =[1]CUADRO4!D9 -> 41740.288 | I15: =IF(ISNUMBER(H15/H$8*100),H15/H$8*100,0) -> 25.376431 | J15: =[1]CUADRO4!F9 -> 555693.94 | K15: =IF(ISNUMBER(J15/J$8*100),J15/J$8*100,0) -> 39.78068 | L15: =[1]CUADRO4!H9 -> 30778.192 | M15: =IF(ISNUMBER(L15/L$8*100),L15/L$8*100,0) -> 26.783586 | N15: =[1]CUADRO4!J9 -> 348257.35 | O15: =IF(ISNUMBER(N15/N$8*100),N15/N$8*100,0) -> 44.003515 | P15: =[1]CUADRO4!L9 -> 0 | Q15: =IF(ISNUMBER(P15/P$8*100),P15/P$8*100,0) -> 0 | R15: =[1]CUADRO4!N9 -> 86010.291 | S15: =IF(ISNUMBER(R15/R$8*100),R15/R$8*100,0) -> 56.648142
A17: Nivel Educativo
A18: Sin Nivel | B18: ='C03'!B18 -> 230226.14 | C18: =IF(ISNUMBER(B18/B$8*100),B18/B$8*100,0) -> 6.1849351 | D18: =[1]CUADRO4!B10 -> 169890.89 | E18: =IF(ISNUMBER(D18/D$8*100),D18/D$8*100,0) -> 6.4854838 | F18: =H18+J18+L18 -> 86724.083 | G18: =IF(ISNUMBER(F18/F$8*100),F18/F$8*100,0) -> 5.1735639 | H18: =[1]CUADRO4!D10 -> 2815.6089 | I18: =IF(ISNUMBER(H18/H$8*100),H18/H$8*100,0) -> 1.711778 | J18: =[1]CUADRO4!F10 -> 72654.04 | K18: =IF(ISNUMBER(J18/J$8*100),J18/J$8*100,0) -> 5.2011132 | L18: =[1]CUADRO4!H10 -> 11254.434 | M18: =IF(ISNUMBER(L18/L$8*100),L18/L$8*100,0) -> 9.7937562 | N18: =[1]CUADRO4!J10 -> 67039.412 | O18: =IF(ISNUMBER(N18/N$8*100),N18/N$8*100,0) -> 8.4706604 | P18: =[1]CUADRO4!L10 -> 0 | Q18: =IF(ISNUMBER(P18/P$8*100),P18/P$8*100,0) -> 0 | R18: =[1]CUADRO4!N10 -> 16127.393 | S18: =IF(ISNUMBER(R18/R$8*100),R18/R$8*100,0) -> 10.621832
A19: Primaria | B19: ='C03'!B19 -> 1846723 | C19: =IF(ISNUMBER(B19/B$8*100),B19/B$8*100,0) -> 49.611491 | D19: =[1]CUADRO4!B11 -> 1355149.8 | E19: =IF(ISNUMBER(D19/D$8*100),D19/D$8*100,0) -> 51.732039 | F19: =H19+J19+L19 -> 792568.62 | G19: =IF(ISNUMBER(F19/F$8*100),F19/F$8*100,0) -> 47.281035 | H19: =[1]CUADRO4!D11 -> 24013.504 | I19: =IF(ISNUMBER(H19/H$8*100),H19/H$8*100,0) -> 14.599253 | J19: =[1]CUADRO4!F11 -> 706290.01 | K19: =IF(ISNUMBER(J19/J$8*100),J19/J$8*100,0) -> 50.56146 | L19: =[1]CUADRO4!H11 -> 62265.106 | M19: =IF(ISNUMBER(L19/L$8*100),L19/L$8*100,0) -> 54.183911 | N19: =[1]CUADRO4!J11 -> 465990.35 | O19: =IF(ISNUMBER(N19/N$8*100),N19/N$8*100,0) -> 58.879484 | P19: =[1]CUADRO4!L11 -> 0 | Q19: =IF(ISNUMBER(P19/P$8*100),P19/P$8*100,0) -> 0 | R19: =[1]CUADRO4!N11 -> 96590.838 | S19: =IF(ISNUMBER(R19/R$8*100),R19/R$8*100,0) -> 63.616708
A20: Secundaria | B20: ='C03'!B20 -> 1110936.2 | C20: =IF(ISNUMBER(B20/B$8*100),B20/B$8*100,0) -> 29.844866 | D20: =[1]CUADRO4!B12 -> 774517.63 | E20: =IF(ISNUMBER(D20/D$8*100),D20/D$8*100,0) -> 29.566751 | F20: =H20+J20+L20 -> 548948.44 | G20: =IF(ISNUMBER(F20/F$8*100),F20/F$8*100,0) -> 32.747765 | H20: =[1]CUADRO4!D12 -> 58504.113 | I20: =IF(ISNUMBER(H20/H$8*100),H20/H$8*100,0) -> 35.568168 | J20: =[1]CUADRO4!F12 -> 455479.36 | K20: =IF(ISNUMBER(J20/J$8*100),J20/J$8*100,0) -> 32.60658 | L20: =[1]CUADRO4!H12 -> 34964.968 | M20: =IF(ISNUMBER(L20/L$8*100),L20/L$8*100,0) -> 30.426973 | N20: =[1]CUADRO4!J12 -> 192542.72 | O20: =IF(ISNUMBER(N20/N$8*100),N20/N$8*100,0) -> 24.328435 | P20: =[1]CUADRO4!L12 -> 0 | Q20: =IF(ISNUMBER(P20/P$8*100),P20/P$8*100,0) -> 0 | R20: =[1]CUADRO4!N12 -> 33026.471 | S20: =IF(ISNUMBER(R20/R$8*100),R20/R$8*100,0) -> 21.751912
A21: Superior | B21: ='C03'!B21 -> 447031.35 | C21: =IF(ISNUMBER(B21/B$8*100),B21/B$8*100,0) -> 12.009322 | D21: =[1]CUADRO4!B13 -> 272051.73 | E21: =IF(ISNUMBER(D21/D$8*100),D21/D$8*100,0) -> 10.385413 | F21: =H21+J21+L21 -> 211078.12 | G21: =IF(ISNUMBER(F21/F$8*100),F21/F$8*100,0) -> 12.59196 | H21: =[1]CUADRO4!D13 -> 76469.457 | I21: =IF(ISNUMBER(H21/H$8*100),H21/H$8*100,0) -> 46.490381 | J21: =[1]CUADRO4!F13 -> 132699.13 | K21: =IF(ISNUMBER(J21/J$8*100),J21/J$8*100,0) -> 9.4995847 | L21: =[1]CUADRO4!H13 -> 1909.5379 | M21: =IF(ISNUMBER(L21/L$8*100),L21/L$8*100,0) -> 1.6617049 | N21: =[1]CUADRO4!J13 -> 57405.054 | O21: =IF(ISNUMBER(N21/N$8*100),N21/N$8*100,0) -> 7.2533261 | P21: =[1]CUADRO4!L13 -> 0 | Q21: =IF(ISNUMBER(P21/P$8*100),P21/P$8*100,0) -> 0 | R21: =[1]CUADRO4!N13 -> 3568.55 | S21: =IF(ISNUMBER(R21/R$8*100),R21/R$8*100,0) -> 2.3503203
A22: No sabe, no responde | B22: ='C03'!B22 -> 87452.85 | C22: =IF(ISNUMBER(B22/B$8*100),B22/B$8*100,0) -> 2.3493866 | D22: =[1]CUADRO4!B14 -> 47946.08 | E22: =IF(ISNUMBER(D22/D$8*100),D22/D$8*100,0) -> 1.8303131 | F22: =H22+J22+L22 -> 36973.6 | G22: =IF(ISNUMBER(F22/F$8*100),F22/F$8*100,0) -> 2.2056767 | H22: =[1]CUADRO4!D14 -> 2681.7865 | I22: =IF(ISNUMBER(H22/H$8*100),H22/H$8*100,0) -> 1.6304193 | J22: =[1]CUADRO4!F14 -> 29771.479 | K22: =IF(ISNUMBER(J22/J$8*100),J22/J$8*100,0) -> 2.1312625 | L22: =[1]CUADRO4!H14 -> 4520.3349 | M22: =IF(ISNUMBER(L22/L$8*100),L22/L$8*100,0) -> 3.9336546 | N22: =[1]CUADRO4!J14 -> 8453.2319 | O22: =IF(ISNUMBER(N22/N$8*100),N22/N$8*100,0) -> 1.0680949 | P22: =[1]CUADRO4!L14 -> 0 | Q22: =IF(ISNUMBER(P22/P$8*100),P22/P$8*100,0) -> 0 | R22: =[1]CUADRO4!N14 -> 2519.248 | S22: =IF(ISNUMBER(R22/R$8*100),R22/R$8*100,0) -> 1.6592284
F23: =H23+J23+L23 -> 0
A24: Rango de Edad
A25: De 15 a 18 años | B25: ='C03'!B25 -> 305528.25 | C25: =IF(ISNUMBER(B25/B$8*100),B25/B$8*100,0) -> 8.2078967 | D25: =[1]CUADRO4!B15 -> 186669.9 | E25: =IF(ISNUMBER(D25/D$8*100),D25/D$8*100,0) -> 7.1260126 | F25: =H25+J25+L25 -> 155139.62 | G25: =IF(ISNUMBER(F25/F$8*100),F25/F$8*100,0) -> 9.2549231 | H25: =[1]CUADRO4!D15 -> 421.61907 | I25: =IF(ISNUMBER(H25/H$8*100),H25/H$8*100,0) -> 0.25632759 | J25: =[1]CUADRO4!F15 -> 137184.79 | K25: =IF(ISNUMBER(J25/J$8*100),J25/J$8*100,0) -> 9.8207015 | L25: =[1]CUADRO4!H15 -> 17533.206 | M25: =IF(ISNUMBER(L25/L$8*100),L25/L$8*100,0) -> 15.257625 | N25: =[1]CUADRO4!J15 -> 19191.902 | O25: =IF(ISNUMBER(N25/N$8*100),N25/N$8*100,0) -> 2.4249629 | P25: =[1]CUADRO4!L15 -> 0 | Q25: =IF(ISNUMBER(P25/P$8*100),P25/P$8*100,0) -> 0 | R25: =[1]CUADRO4!N15 -> 12338.382 | S25: =IF(ISNUMBER(R25/R$8*100),R25/R$8*100,0) -> 8.1263115
A26: De 19 a 24 años | B26: ='C03'!B26 -> 640834.64 | C26: =IF(ISNUMBER(B26/B$8*100),B26/B$8*100,0) -> 17.215772 | D26: =[1]CUADRO4!B16 -> 466613.3 | E26: =IF(ISNUMBER(D26/D$8*100),D26/D$8*100,0) -> 17.812686 | F26: =H26+J26+L26 -> 381984.18 | G26: =IF(ISNUMBER(F26/F$8*100),F26/F$8*100,0) -> 22.787437 | H26: =[1]CUADRO4!D16 -> 14899.937 | I26: =IF(ISNUMBER(H26/H$8*100),H26/H$8*100,0) -> 9.058568 | J26: =[1]CUADRO4!F16 -> 347464.56 | K26: =IF(ISNUMBER(J26/J$8*100),J26/J$8*100,0) -> 24.874082 | L26: =[1]CUADRO4!H16 -> 19619.684 | M26: =IF(ISNUMBER(L26/L$8*100),L26/L$8*100,0) -> 17.073306 | N26: =[1]CUADRO4!J16 -> 52480.491 | O26: =IF(ISNUMBER(N26/N$8*100),N26/N$8*100,0) -> 6.6310907 | P26: =[1]CUADRO4!L16 -> 0 | Q26: =IF(ISNUMBER(P26/P$8*100),P26/P$8*100,0) -> 0 | R26: =[1]CUADRO4!N16 -> 32148.631 | S26: =IF(ISNUMBER(R26/R$8*100),R26/R$8*100,0) -> 21.173748
A27: De 25 a 29 años | B27: ='C03'!B27 -> 428155.6 | C27: =IF(ISNUMBER(B27/B$8*100),B27/B$8*100,0) -> 11.502232 | D27: =[1]CUADRO4!B17 -> 294417.18 | E27: =IF(ISNUMBER(D27/D$8*100),D27/D$8*100,0) -> 11.239201 | F27: =H27+J27+L27 -> 223347.48 | G27: =IF(ISNUMBER(F27/F$8*100),F27/F$8*100,0) -> 13.323894 | H27: =[1]CUADRO4!D17 -> 18326.673 | I27: =IF(ISNUMBER(H27/H$8*100),H27/H$8*100,0) -> 11.141887 | J27: =[1]CUADRO4!F17 -> 196912.73 | K27: =IF(ISNUMBER(J27/J$8*100),J27/J$8*100,0) -> 14.096469 | L27: =[1]CUADRO4!H17 -> 8108.0757 | M27: =IF(ISNUMBER(L27/L$8*100),L27/L$8*100,0) -> 7.0557537 | N27: =[1]CUADRO4!J17 -> 56650.692 | O27: =IF(ISNUMBER(N27/N$8*100),N27/N$8*100,0) -> 7.1580098 | P27: =[1]CUADRO4!L17 -> 0 | Q27: =IF(ISNUMBER(P27/P$8*100),P27/P$8*100,0) -> 0 | R27: =[1]CUADRO4!N17 -> 14419.013 | S27: =IF(ISNUMBER(R27/R$8*100),R27/R$8*100,0) -> 9.496658
A28: De 30 a 35 años | B28: ='C03'!B28 -> 501089.42 | C28: =IF(ISNUMBER(B28/B$8*100),B28/B$8*100,0) -> 13.461571 | D28: =[1]CUADRO4!B18 -> 350920.47 | E28: =IF(ISNUMBER(D28/D$8*100),D28/D$8*100,0) -> 13.39618 | F28: =H28+J28+L28 -> 234059.66 | G28: =IF(ISNUMBER(F28/F$8*100),F28/F$8*100,0) -> 13.962934 | H28: =[1]CUADRO4!D18 -> 17110.499 | I28: =IF(ISNUMBER(H28/H$8*100),H28/H$8*100,0) -> 10.402501 | J28: =[1]CUADRO4!F18 -> 202866.75 | K28: =IF(ISNUMBER(J28/J$8*100),J28/J$8*100,0) -> 14.522702 | L28: =[1]CUADRO4!H18 -> 14082.417 | M28: =IF(ISNUMBER(L28/L$8*100),L28/L$8*100,0) -> 12.254703 | N28: =[1]CUADRO4!J18 -> 92230.242 | O28: =IF(ISNUMBER(N28/N$8*100),N28/N$8*100,0) -> 11.653608 | P28: =[1]CUADRO4!L18 -> 0 | Q28: =IF(ISNUMBER(P28/P$8*100),P28/P$8*100,0) -> 0 | R28: =[1]CUADRO4!N18 -> 24630.56 | S28: =IF(ISNUMBER(R28/R$8*100),R28/R$8*100,0) -> 16.222192
A29: De 36 a 44 años | B29: ='C03'!B29 -> 707711.9 | C29: =IF(ISNUMBER(B29/B$8*100),B29/B$8*100,0) -> 19.012403 | D29: =[1]CUADRO4!B19 -> 536953.87 | E29: =IF(ISNUMBER(D29/D$8*100),D29/D$8*100,0) -> 20.497895 | F29: =H29+J29+L29 -> 316342.84 | G29: =IF(ISNUMBER(F29/F$8*100),F29/F$8*100,0) -> 18.871573 | H29: =[1]CUADRO4!D19 -> 38969.825 | I29: =IF(ISNUMBER(H29/H$8*100),H29/H$8*100,0) -> 23.6921 | J29: =[1]CUADRO4!F19 -> 256014.61 | K29: =IF(ISNUMBER(J29/J$8*100),J29/J$8*100,0) -> 18.327418 | L29: =[1]CUADRO4!H19 -> 21358.405 | M29: =IF(ISNUMBER(L29/L$8*100),L29/L$8*100,0) -> 18.586364 | N29: =[1]CUADRO4!J19 -> 192680.13 | O29: =IF(ISNUMBER(N29/N$8*100),N29/N$8*100,0) -> 24.345797 | P29: =[1]CUADRO4!L19 -> 0 | Q29: =IF(ISNUMBER(P29/P$8*100),P29/P$8*100,0) -> 0 | R29: =[1]CUADRO4!N19 -> 27930.902 | S29: =IF(ISNUMBER(R29/R$8*100),R29/R$8*100,0) -> 18.395865
A30: De 45 a 59 años | B30: ='C03'!B30 -> 761062.22 | C30: =IF(ISNUMBER(B30/B$8*100),B30/B$8*100,0) -> 20.445639 | D30: =[1]CUADRO4!B20 -> 518303.73 | E30: =IF(ISNUMBER(D30/D$8*100),D30/D$8*100,0) -> 19.785937 | F30: =H30+J30+L30 -> 266075.48 | G30: =IF(ISNUMBER(F30/F$8*100),F30/F$8*100,0) -> 15.872852 | H30: =[1]CUADRO4!D20 -> 58009.359 | I30: =IF(ISNUMBER(H30/H$8*100),H30/H$8*100,0) -> 35.267378 | J30: =[1]CUADRO4!F20 -> 180222.59 | K30: =IF(ISNUMBER(J30/J$8*100),J30/J$8*100,0) -> 12.901665 | L30: =[1]CUADRO4!H20 -> 27843.526 | M30: =IF(ISNUMBER(L30/L$8*100),L30/L$8*100,0) -> 24.229801 | N30: =[1]CUADRO4!J20 -> 223749.66 | O30: =IF(ISNUMBER(N30/N$8*100),N30/N$8*100,0) -> 28.271539 | P30: =[1]CUADRO4!L20 -> 0 | Q30: =IF(ISNUMBER(P30/P$8*100),P30/P$8*100,0) -> 0 | R30: =[1]CUADRO4!N20 -> 28478.59 | S30: =IF(ISNUMBER(R30/R$8*100),R30/R$8*100,0) -> 18.756584
A31: De 60 años y más | B31: ='C03'!B31 -> 377987.51 | C31: =IF(ISNUMBER(B31/B$8*100),B31/B$8*100,0) -> 10.154487 | D31: =[1]CUADRO4!B21 -> 265677.68 | E31: =IF(ISNUMBER(D31/D$8*100),D31/D$8*100,0) -> 10.142088 | F31: =H31+J31+L31 -> 99343.609 | G31: =IF(ISNUMBER(F31/F$8*100),F31/F$8*100,0) -> 5.9263874 | H31: =[1]CUADRO4!D21 -> 16746.555 | I31: =IF(ISNUMBER(H31/H$8*100),H31/H$8*100,0) -> 10.181238 | J31: =[1]CUADRO4!F21 -> 76227.985 | K31: =IF(ISNUMBER(J31/J$8*100),J31/J$8*100,0) -> 5.4569627 | L31: =[1]CUADRO4!H21 -> 6369.0682 | M31: =IF(ISNUMBER(L31/L$8*100),L31/L$8*100,0) -> 5.5424466 | N31: =[1]CUADRO4!J21 -> 154447.65 | O31: =IF(ISNUMBER(N31/N$8*100),N31/N$8*100,0) -> 19.514992 | P31: =[1]CUADRO4!L21 -> 0 | Q31: =IF(ISNUMBER(P31/P$8*100),P31/P$8*100,0) -> 0 | R31: =[1]CUADRO4!N21 -> 11886.421 | S31: =IF(ISNUMBER(R31/R$8*100),R31/R$8*100,0) -> 7.828641
A33: Sexo
A34: Hombre | B34: ='C03'!B34 -> 2173399.2 | C34: =IF(ISNUMBER(B34/B$8*100),B34/B$8*100,0) -> 58.387519 | D34: =[1]CUADRO4!B23 -> 1528717.9 | E34: =IF(ISNUMBER(D34/D$8*100),D34/D$8*100,0) -> 58.357899 | F34: =H34+J34+L34 -> 1064025 | G34: =IF(ISNUMBER(F34/F$8*100),F34/F$8*100,0) -> 63.474885 | H34: =[1]CUADRO4!D23 -> 65053.372 | I34: =IF(ISNUMBER(H34/H$8*100),H34/H$8*100,0) -> 39.549857 | J34: =[1]CUADRO4!F23 -> 992039.99 | K34: =IF(ISNUMBER(J34/J$8*100),J34/J$8*100,0) -> 71.017556 | L34: =[1]CUADRO4!H23 -> 6931.6039 | M34: =IF(ISNUMBER(L34/L$8*100),L34/L$8*100,0) -> 6.0319725 | N34: =[1]CUADRO4!J23 -> 352059.15 | O34: =IF(ISNUMBER(N34/N$8*100),N34/N$8*100,0) -> 44.483885 | P34: =[1]CUADRO4!L23 -> 0 | Q34: =IF(ISNUMBER(P34/P$8*100),P34/P$8*100,0) -> 0 | R34: =[1]CUADRO4!N23 -> 112633.81 | S34: =IF(ISNUMBER(R34/R$8*100),R34/R$8*100,0) -> 74.182942
A35: Mujer | B35: ='C03'!B35 -> 1548970.3 | C35: =IF(ISNUMBER(B35/B$8*100),B35/B$8*100,0) -> 41.612481 | D35: =[1]CUADRO4!B24 -> 1090838.2 | E35: =IF(ISNUMBER(D35/D$8*100),D35/D$8*100,0) -> 41.642101 | F35: =H35+J35+L35 -> 612267.91 | G35: =IF(ISNUMBER(F35/F$8*100),F35/F$8*100,0) -> 36.525115 | H35: =[1]CUADRO4!D24 -> 99431.096 | I35: =IF(ISNUMBER(H35/H$8*100),H35/H$8*100,0) -> 60.450143 | J35: =[1]CUADRO4!F24 -> 404854.03 | K35: =IF(ISNUMBER(J35/J$8*100),J35/J$8*100,0) -> 28.982444 | L35: =[1]CUADRO4!H24 -> 107982.78 | M35: =IF(ISNUMBER(L35/L$8*100),L35/L$8*100,0) -> 93.968028 | N35: =[1]CUADRO4!J24 -> 439371.61 | O35: =IF(ISNUMBER(N35/N$8*100),N35/N$8*100,0) -> 55.516115 | P35: =[1]CUADRO4!L24 -> 0 | Q35: =IF(ISNUMBER(P35/P$8*100),P35/P$8*100,0) -> 0 | R35: =[1]CUADRO4!N24 -> 39198.685 | S35: =IF(ISNUMBER(R35/R$8*100),R35/R$8*100,0) -> 25.817058
A37: No. de Salarios Mínimos 3/ | B37: ='C03'!B37 -> 3722369.5 | C37: =IF(ISNUMBER(B37/B$8*100),B37/B$8*100,0) -> 100 | D37: =+D38+D42+D43+D44+D45 -> 2619556.1 | E37: =IF(ISNUMBER(D37/D$8*100),D37/D$8*100,0) -> 100 | F37: =+F38+F42+F43+F44+F45 -> 1676292.9 | G37: =IF(ISNUMBER(F37/F$8*100),F37/F$8*100,0) -> 100 | H37: =+H38+H42+H43+H44+H45 -> 164484.47 | I37: =IF(ISNUMBER(H37/H$8*100),H37/H$8*100,0) -> 100 | J37: =+J38+J42+J43+J44+J45 -> 1396894 | K37: =IF(ISNUMBER(J37/J$8*100),J37/J$8*100,0) -> 100 | L37: =+L38+L42+L43+L44+L45 -> 114914.38 | M37: =IF(ISNUMBER(L37/L$8*100),L37/L$8*100,0) -> 100 | N37: =+N38+N42+N43+N44+N45 -> 791430.76 | O37: =IF(ISNUMBER(N37/N$8*100),N37/N$8*100,0) -> 100 | P37: =+P38+P42+P43+P44+P45 -> 0 | Q37: =IF(ISNUMBER(P37/P$8*100),P37/P$8*100,0) -> 0 | R37: =+R38+R42+R43+R44+R45 -> 151832.5 | S37: =IF(ISNUMBER(R37/R$8*100),R37/R$8*100,0) -> 100
A38: Menos de un salario | B38: ='C03'!B38 -> 2142934.9 | C38: =IF(ISNUMBER(B38/B$8*100),B38/B$8*100,0) -> 57.569107 | D38: =SUM(D39:D41) -> 2142934.9 | E38: =IF(ISNUMBER(D38/D$8*100),D38/D$8*100,0) -> 81.805268 | F38: =H38+J38+L38 -> 1331286.6 | G38: =IF(ISNUMBER(F38/F$8*100),F38/F$8*100,0) -> 79.418497 | H38: =SUM(H39:H41) -> 80390.179 | I38: =IF(ISNUMBER(H38/H$8*100),H38/H$8*100,0) -> 48.874025 | J38: =SUM(J39:J41) -> 1139987.6 | K38: =IF(ISNUMBER(J38/J$8*100),J38/J$8*100,0) -> 81.608738 | L38: =SUM(L39:L41) -> 110908.84 | M38: =IF(ISNUMBER(L38/L$8*100),L38/L$8*100,0) -> 96.514325 | N38: =SUM(N39:N41) -> 671163.14 | O38: =IF(ISNUMBER(N38/N$8*100),N38/N$8*100,0) -> 84.803772 | P38: =SUM(P39:P41) -> 0 | Q38: =IF(ISNUMBER(P38/P$8*100),P38/P$8*100,0) -> 0 | R38: =SUM(R39:R41) -> 140485.17 | S38: =IF(ISNUMBER(R38/R$8*100),R38/R$8*100,0) -> 92.526417
A39: Menos de 1 salario y trabaja menos de una jornada laboral | B39: ='C03'!B39 -> 1041032.5 | C39: =IF(ISNUMBER(B39/B$8*100),B39/B$8*100,0) -> 27.96693 | D39: =[1]CUADRO4!B25 -> 1041032.5 | E39: =IF(ISNUMBER(D39/D$8*100),D39/D$8*100,0) -> 39.740796 | F39: =H39+J39+L39 -> 542485.68 | G39: =IF(ISNUMBER(F39/F$8*100),F39/F$8*100,0) -> 32.362226 | H39: =[1]CUADRO4!D25 -> 35810.079 | I39: =IF(ISNUMBER(H39/H$8*100),H39/H$8*100,0) -> 21.7711 | J39: =[1]CUADRO4!F25 -> 457993.37 | K39: =IF(ISNUMBER(J39/J$8*100),J39/J$8*100,0) -> 32.786551 | L39: =[1]CUADRO4!H25 -> 48682.232 | M39: =IF(ISNUMBER(L39/L$8*100),L39/L$8*100,0) -> 42.363916 | N39: =[1]CUADRO4!J25 -> 416885.9 | O39: =IF(ISNUMBER(N39/N$8*100),N39/N$8*100,0) -> 52.674968 | P39: =[1]CUADRO4!L25 -> 0 | Q39: =IF(ISNUMBER(P39/P$8*100),P39/P$8*100,0) -> 0 | R39: =[1]CUADRO4!N25 -> 81660.889 | S39: =IF(ISNUMBER(R39/R$8*100),R39/R$8*100,0) -> 53.783537
A40: Menos de 1 salario y trabaja mas de una jornada laboral | B40: ='C03'!B40 -> 1101480.8 | C40: =IF(ISNUMBER(B40/B$8*100),B40/B$8*100,0) -> 29.590851 | D40: =[1]CUADRO4!B26 -> 1101480.8 | E40: =IF(ISNUMBER(D40/D$8*100),D40/D$8*100,0) -> 42.048376 | F40: =H40+J40+L40 -> 788379.29 | G40: =IF(ISNUMBER(F40/F$8*100),F40/F$8*100,0) -> 47.031119 | H40: =[1]CUADRO4!D26 -> 44158.481 | I40: =IF(ISNUMBER(H40/H$8*100),H40/H$8*100,0) -> 26.846596 | J40: =[1]CUADRO4!F26 -> 681994.2 | K40: =IF(ISNUMBER(J40/J$8*100),J40/J$8*100,0) -> 48.822187 | L40: =[1]CUADRO4!H26 -> 62226.608 | M40: =IF(ISNUMBER(L40/L$8*100),L40/L$8*100,0) -> 54.150409 | N40: =[1]CUADRO4!J26 -> 254277.24 | O40: =IF(ISNUMBER(N40/N$8*100),N40/N$8*100,0) -> 32.128804 | P40: =[1]CUADRO4!L26 -> 0 | Q40: =IF(ISNUMBER(P40/P$8*100),P40/P$8*100,0) -> 0 | R40: =[1]CUADRO4!N26 -> 58824.284 | S40: =IF(ISNUMBER(R40/R$8*100),R40/R$8*100,0) -> 38.742881
A41: Menos de 1 salario y no declaran horas | B41: ='C03'!B41 -> 421.61907 | C41: =IF(ISNUMBER(B41/B$8*100),B41/B$8*100,0) -> 0.011326631 | D41: =[1]CUADRO4!B27 -> 421.61907 | E41: =IF(ISNUMBER(D41/D$8*100),D41/D$8*100,0) -> 0.016095058 | F41: =H41+J41+L41 -> 421.61907 | G41: =IF(ISNUMBER(F41/F$8*100),F41/F$8*100,0) -> 0.025151874 | H41: =[1]CUADRO4!D27 -> 421.61907 | I41: =IF(ISNUMBER(H41/H$8*100),H41/H$8*100,0) -> 0.25632759 | J41: =[1]CUADRO4!F27 -> 0 | K41: =IF(ISNUMBER(J41/J$8*100),J41/J$8*100,0) -> 0 | L41: =[1]CUADRO4!H27 -> 0 | M41: =IF(ISNUMBER(L41/L$8*100),L41/L$8*100,0) -> 0 | N41: =[1]CUADRO4!J27 -> 0 | O41: =IF(ISNUMBER(N41/N$8*100),N41/N$8*100,0) -> 0 | P41: =[1]CUADRO4!L27 -> 0 | Q41: =IF(ISNUMBER(P41/P$8*100),P41/P$8*100,0) -> 0 | R41: =[1]CUADRO4!N27 -> 0 | S41: =IF(ISNUMBER(R41/R$8*100),R41/R$8*100,0) -> 0
A42: De 1 a 2 salarios | B42: ='C03'!B42 -> 379805.14 | C42: =IF(ISNUMBER(B42/B$8*100),B42/B$8*100,0) -> 10.203316 | D42: =[1]CUADRO4!B28 -> 379805.14 | E42: =IF(ISNUMBER(D42/D$8*100),D42/D$8*100,0) -> 14.498836 | F42: =H42+J42+L42 -> 292399.26 | G42: =IF(ISNUMBER(F42/F$8*100),F42/F$8*100,0) -> 17.443208 | H42: =[1]CUADRO4!D28 -> 70381.897 | I42: =IF(ISNUMBER(H42/H$8*100),H42/H$8*100,0) -> 42.789388 | J42: =[1]CUADRO4!F28 -> 218011.82 | K42: =IF(ISNUMBER(J42/J$8*100),J42/J$8*100,0) -> 15.606898 | L42: =[1]CUADRO4!H28 -> 4005.5414 | M42: =IF(ISNUMBER(L42/L$8*100),L42/L$8*100,0) -> 3.4856746 | N42: =[1]CUADRO4!J28 -> 78247.448 | O42: =IF(ISNUMBER(N42/N$8*100),N42/N$8*100,0) -> 9.8868343 | P42: =[1]CUADRO4!L28 -> 0 | Q42: =IF(ISNUMBER(P42/P$8*100),P42/P$8*100,0) -> 0 | R42: =[1]CUADRO4!N28 -> 9158.4309 | S42: =IF(ISNUMBER(R42/R$8*100),R42/R$8*100,0) -> 6.0319305
A43: De 2 a 3 salarios | B43: ='C03'!B43 -> 57753.088 | C43: =IF(ISNUMBER(B43/B$8*100),B43/B$8*100,0) -> 1.5515141 | D43: =[1]CUADRO4!B29 -> 57753.088 | E43: =IF(ISNUMBER(D43/D$8*100),D43/D$8*100,0) -> 2.2046898 | F43: =H43+J43+L43 -> 34976.007 | G43: =IF(ISNUMBER(F43/F$8*100),F43/F$8*100,0) -> 2.0865093 | H43: =[1]CUADRO4!D29 -> 9994.3662 | I43: =IF(ISNUMBER(H43/H$8*100),H43/H$8*100,0) -> 6.0761762 | J43: =[1]CUADRO4!F29 -> 24981.641 | K43: =IF(ISNUMBER(J43/J$8*100),J43/J$8*100,0) -> 1.7883705 | L43: =[1]CUADRO4!H29 -> 0 | M43: =IF(ISNUMBER(L43/L$8*100),L43/L$8*100,0) -> 0 | N43: =[1]CUADRO4!J29 -> 21682.633 | O43: =IF(ISNUMBER(N43/N$8*100),N43/N$8*100,0) -> 2.7396753 | P43: =[1]CUADRO4!L29 -> 0 | Q43: =IF(ISNUMBER(P43/P$8*100),P43/P$8*100,0) -> 0 | R43: =[1]CUADRO4!N29 -> 1094.4482 | S43: =IF(ISNUMBER(R43/R$8*100),R43/R$8*100,0) -> 0.72082606
A44: De 3 a 4 salarios | B44: ='C03'!B44 -> 17109.563 | C44: =IF(ISNUMBER(B44/B$8*100),B44/B$8*100,0) -> 0.45964171 | D44: =[1]CUADRO4!B30 -> 17109.563 | E44: =IF(ISNUMBER(D44/D$8*100),D44/D$8*100,0) -> 0.65314741 | F44: =H44+J44+L44 -> 10037.324 | G44: =IF(ISNUMBER(F44/F$8*100),F44/F$8*100,0) -> 0.59878104 | H44: =[1]CUADRO4!D30 -> 2623.5779 | I44: =IF(ISNUMBER(H44/H$8*100),H44/H$8*100,0) -> 1.5950308 | J44: =[1]CUADRO4!F30 -> 7413.746 | K44: =IF(ISNUMBER(J44/J$8*100),J44/J$8*100,0) -> 0.53073074 | L44: =[1]CUADRO4!H30 -> 0 | M44: =IF(ISNUMBER(L44/L$8*100),L44/L$8*100,0) -> 0 | N44: =[1]CUADRO4!J30 -> 6239.4673 | O44: =IF(ISNUMBER(N44/N$8*100),N44/N$8*100,0) -> 0.78837815 | P44: =[1]CUADRO4!L30 -> 0 | Q44: =IF(ISNUMBER(P44/P$8*100),P44/P$8*100,0) -> 0 | R44: =[1]CUADRO4!N30 -> 832.7717 | S44: =IF(ISNUMBER(R44/R$8*100),R44/R$8*100,0) -> 0.54848053
A45: De 4 salarios y más | B45: ='C03'!B45 -> 21953.437 | C45: =IF(ISNUMBER(B45/B$8*100),B45/B$8*100,0) -> 0.58977048 | D45: =[1]CUADRO4!B31 -> 21953.437 | E45: =IF(ISNUMBER(D45/D$8*100),D45/D$8*100,0) -> 0.83805941 | F45: =H45+J45+L45 -> 7593.6851 | G45: =IF(ISNUMBER(F45/F$8*100),F45/F$8*100,0) -> 0.45300468 | H45: =[1]CUADRO4!D31 -> 1094.4482 | I45: =IF(ISNUMBER(H45/H$8*100),H45/H$8*100,0) -> 0.66538089 | J45: =[1]CUADRO4!F31 -> 6499.2369 | K45: =IF(ISNUMBER(J45/J$8*100),J45/J$8*100,0) -> 0.46526342 | L45: =[1]CUADRO4!H31 -> 0 | M45: =IF(ISNUMBER(L45/L$8*100),L45/L$8*100,0) -> 0 | N45: =[1]CUADRO4!J31 -> 14098.075 | O45: =IF(ISNUMBER(N45/N$8*100),N45/N$8*100,0) -> 1.7813403 | P45: =[1]CUADRO4!L31 -> 0 | Q45: =IF(ISNUMBER(P45/P$8*100),P45/P$8*100,0) -> 0 | R45: =[1]CUADRO4!N31 -> 261.67652 | S45: =IF(ISNUMBER(R45/R$8*100),R45/R$8*100,0) -> 0.17234553
A46: No delcaran ingresos | B46: ='C03'!B46 -> 1102813.4 | C46: =IF(ISNUMBER(B46/B$8*100),B46/B$8*100,0) -> 29.62665 | D46: =[1]CUADRO4!B32 -> 0 | E46: =IF(ISNUMBER(D46/D$8*100),D46/D$8*100,0) -> 0 | F46: =H46+J46+L46 -> 0 | G46: =IF(ISNUMBER(F46/F$8*100),F46/F$8*100,0) -> 0 | H46: =[1]CUADRO4!D32 -> 0 | I46: =IF(ISNUMBER(H46/H$8*100),H46/H$8*100,0) -> 0 | J46: =[1]CUADRO4!F32 -> 0 | K46: =IF(ISNUMBER(J46/J$8*100),J46/J$8*100,0) -> 0 | L46: =[1]CUADRO4!H32 -> 0 | M46: =IF(ISNUMBER(L46/L$8*100),L46/L$8*100,0) -> 0 | N46: =[1]CUADRO4!J32 -> 0 | O46: =IF(ISNUMBER(N46/N$8*100),N46/N$8*100,0) -> 0 | P46: =[1]CUADRO4!L32 -> 0 | Q46: =IF(ISNUMBER(P46/P$8*100),P46/P$8*100,0) -> 0 | R46: =[1]CUADRO4!N32 -> 0 | S46: =IF(ISNUMBER(R46/R$8*100),R46/R$8*100,0) -> 0
A48: Rama de Actividad
A49: Primaria | B49: ='C03'!B49 -> 839906.81 | C49: =IF(ISNUMBER(B49/B$8*100),B49/B$8*100,0) -> 22.563768 | D49: =[1]CUADRO4!B33 -> 590560.74 | E49: =IF(ISNUMBER(D49/D$8*100),D49/D$8*100,0) -> 22.544306 | F49: =H49+J49+L49 -> 393992.2 | G49: =IF(ISNUMBER(F49/F$8*100),F49/F$8*100,0) -> 23.503781 | H49: =[1]CUADRO4!D33 -> 0 | I49: =IF(ISNUMBER(H49/H$8*100),H49/H$8*100,0) -> 0 | J49: =[1]CUADRO4!F33 -> 393992.2 | K49: =IF(ISNUMBER(J49/J$8*100),J49/J$8*100,0) -> 28.204874 | L49: =[1]CUADRO4!H33 -> 0 | M49: =IF(ISNUMBER(L49/L$8*100),L49/L$8*100,0) -> 0 | N49: =[1]CUADRO4!J33 -> 144170.87 | O49: =IF(ISNUMBER(N49/N$8*100),N49/N$8*100,0) -> 18.216486 | P49: =[1]CUADRO4!L33 -> 0 | Q49: =IF(ISNUMBER(P49/P$8*100),P49/P$8*100,0) -> 0 | R49: =[1]CUADRO4!N33 -> 52397.667 | S49: =IF(ISNUMBER(R49/R$8*100),R49/R$8*100,0) -> 34.510179
A50: Secundaria | B50: ='C03'!B50 -> 567507.08 | C50: =IF(ISNUMBER(B50/B$8*100),B50/B$8*100,0) -> 15.245855 | D50: =[1]CUADRO4!B34 -> 421187.82 | E50: =IF(ISNUMBER(D50/D$8*100),D50/D$8*100,0) -> 16.078595 | F50: =H50+J50+L50 -> 259289.28 | G50: =IF(ISNUMBER(F50/F$8*100),F50/F$8*100,0) -> 15.468018 | H50: =[1]CUADRO4!D34 -> 0 | I50: =IF(ISNUMBER(H50/H$8*100),H50/H$8*100,0) -> 0 | J50: =[1]CUADRO4!F34 -> 259289.28 | K50: =IF(ISNUMBER(J50/J$8*100),J50/J$8*100,0) -> 18.561843 | L50: =[1]CUADRO4!H34 -> 0 | M50: =IF(ISNUMBER(L50/L$8*100),L50/L$8*100,0) -> 0 | N50: =[1]CUADRO4!J34 -> 153792.38 | O50: =IF(ISNUMBER(N50/N$8*100),N50/N$8*100,0) -> 19.432196 | P50: =[1]CUADRO4!L34 -> 0 | Q50: =IF(ISNUMBER(P50/P$8*100),P50/P$8*100,0) -> 0 | R50: =[1]CUADRO4!N34 -> 8106.1641 | S50: =IF(ISNUMBER(R50/R$8*100),R50/R$8*100,0) -> 5.338886
A51: Terciaria | B51: ='C03'!B51 -> 2221636.9 | C51: =IF(ISNUMBER(B51/B$8*100),B51/B$8*100,0) -> 59.683406 | D51: =[1]CUADRO4!B35 -> 1558817.8 | E51: =IF(ISNUMBER(D51/D$8*100),D51/D$8*100,0) -> 59.506943 | F51: =H51+J51+L51 -> 988475.3 | G51: =IF(ISNUMBER(F51/F$8*100),F51/F$8*100,0) -> 58.967935 | H51: =[1]CUADRO4!D35 -> 161921.7 | I51: =IF(ISNUMBER(H51/H$8*100),H51/H$8*100,0) -> 98.441936 | J51: =[1]CUADRO4!F35 -> 711639.22 | K51: =IF(ISNUMBER(J51/J$8*100),J51/J$8*100,0) -> 50.944396 | L51: =[1]CUADRO4!H35 -> 114914.38 | M51: =IF(ISNUMBER(L51/L$8*100),L51/L$8*100,0) -> 100 | N51: =[1]CUADRO4!J35 -> 480702.89 | O51: =IF(ISNUMBER(N51/N$8*100),N51/N$8*100,0) -> 60.738463 | P51: =[1]CUADRO4!L35 -> 0 | Q51: =IF(ISNUMBER(P51/P$8*100),P51/P$8*100,0) -> 0 | R51: =[1]CUADRO4!N35 -> 89639.596 | S51: =IF(ISNUMBER(R51/R$8*100),R51/R$8*100,0) -> 59.038478
A52: No sabe, no responde | B52: ='C03'!B52 -> 93318.736 | C52: =IF(ISNUMBER(B52/B$8*100),B52/B$8*100,0) -> 2.5069713 | D52: =[1]CUADRO4!B36 -> 48989.792 | E52: =IF(ISNUMBER(D52/D$8*100),D52/D$8*100,0) -> 1.8701562 | F52: =H52+J52+L52 -> 34536.095 | G52: =IF(ISNUMBER(F52/F$8*100),F52/F$8*100,0) -> 2.0602662 | H52: =[1]CUADRO4!D36 -> 2562.7734 | I52: =IF(ISNUMBER(H52/H$8*100),H52/H$8*100,0) -> 1.5580641 | J52: =[1]CUADRO4!F36 -> 31973.321 | K52: =IF(ISNUMBER(J52/J$8*100),J52/J$8*100,0) -> 2.2888867 | L52: =[1]CUADRO4!H36 -> 0 | M52: =IF(ISNUMBER(L52/L$8*100),L52/L$8*100,0) -> 0 | N52: =[1]CUADRO4!J36 -> 12764.625 | O52: =IF(ISNUMBER(N52/N$8*100),N52/N$8*100,0) -> 1.6128543 | P52: =[1]CUADRO4!L36 -> 0 | Q52: =IF(ISNUMBER(P52/P$8*100),P52/P$8*100,0) -> 0 | R52: =[1]CUADRO4!N36 -> 1689.0723 | S52: =IF(ISNUMBER(R52/R$8*100),R52/R$8*100,0) -> 1.1124577
A54: ='C01'!$A$32 -> Fuente: Instituto Nacional de Estadística (INE). LXXIII Encuesta Permanente de Hogares de Propósitos Múltiples, Otubre 2021
A55: 1/ Porcentaje por columnas
A56: 2/ Porcentaje por filas
A57: 3/ No. de salarios mínimos (personas que declaran ingresos) y trabajan 40 Hrs.en ele sector Publico y 44 Hrs.en el sector Privado
A60: Cuadro No. 4. Personas ocupadas y que declaran ingresos por categoría ocupacional, según dominio, nivel educativo, rango de edad,
A61: sexo, número de salarios mínimos devengados, rama de actividad y ocupación
A62: Ocupación Principal
A63: ....... Continuación
A64: Categorías | B64: Total Pers. Ocupadas | D64: Pers. que declaran Ing. | F64: Asalariados | N64: Cuenta propia | R64: =R4 -> Contratista Dependiente
F65: Total | H65: Público | J65: Privado | L65: Doméstico
B66: No. | C66: % 1/ | D66: No. | E66: % 1/ | F66: No. | G66: % 1/ | H66: No. | I66: % 1/ | J66: No. | K66: % 1/ | L66: No. | M66: % 1/ | N66: No. | O66: % 1/ | R66: No. | S66: % 1/
A68: Total Nacional 2/ | B68: =B8 -> 3722369.5 | C68: =C8 -> 100 | D68: =D8 -> 2619556.1 | E68: =E8 -> 70.37335 | F68: =F8 -> 1676292.9 | G68: =G8 -> 45.032951 | H68: =H8 -> 164484.47 | I68: =I8 -> 4.4188108 | ... O68: =O8 -> 21.261478 | R68: =R8 -> 151832.5 | S68: =S8 -> 4.0789206
A70: Rama de Actividad (1 Dig.)
A71: Agricultura, ganaderia, silvicultura y pesca | B71: ='C03'!B71 -> 826951.34 | C71: =IF(ISNUMBER(B71/B$68*100),B71/B$68*100,0) -> 22.215724 | D71: =[1]CUADRO4!B38 -> 582044.8 | E71: =IF(ISNUMBER(D71/D$68*100),D71/D$68*100,0) -> 22.219215 | F71: =H71+J71+L71 -> 389230.19 | G71: =IF(ISNUMBER(F71/F$68*100),F71/F$68*100,0) -> 23.219701 | H71: =[1]CUADRO4!D38 -> 0 | I71: =IF(ISNUMBER(H71/H$68*100),H71/H$68*100,0) -> 0 | J71: =[1]CUADRO4!F38 -> 389230.19 | K71: =IF(ISNUMBER(J71/J$68*100),J71/J$68*100,0) -> 27.863974 | L71: =[1]CUADRO4!H38 -> 0 | M71: =IF(ISNUMBER(L71/L$68*100),L71/L$68*100,0) -> 0 | N71: =[1]CUADRO4!J38 -> 141560.76 | O71: =IF(ISNUMBER(N71/N$68*100),N71/N$68*100,0) -> 17.886689 | P71: =[1]CUADRO4!L38 -> 0 | Q71: =IF(ISNUMBER(P71/P$68*100),P71/P$68*100,0) -> 0 | R71: =[1]CUADRO4!N38 -> 51253.851 | S71: =IF(ISNUMBER(R71/R$68*100),R71/R$68*100,0) -> 33.756838
A72: Explotacion de minas y canteras | B72: ='C03'!B72 -> 12955.477 | C72: =IF(ISNUMBER(B72/B$68*100),B72/B$68*100,0) -> 0.34804382 | D72: =[1]CUADRO4!B39 -> 8515.9433 | E72: =IF(ISNUMBER(D72/D$68*100),D72/D$68*100,0) -> 0.32509108 | F72: =H72+J72+L72 -> 4762.0149 | G72: =IF(ISNUMBER(F72/F$68*100),F72/F$68*100,0) -> 0.28408013 | H72: =[1]CUADRO4!D39 -> 0 | I72: =IF(ISNUMBER(H72/H$68*100),H72/H$68*100,0) -> 0 | J72: =[1]CUADRO4!F39 -> 4762.0149 | K72: =IF(ISNUMBER(J72/J$68*100),J72/J$68*100,0) -> 0.34090023 | L72: =[1]CUADRO4!H39 -> 0 | M72: =IF(ISNUMBER(L72/L$68*100),L72/L$68*100,0) -> 0 | N72: =[1]CUADRO4!J39 -> 2610.1127 | O72: =IF(ISNUMBER(N72/N$68*100),N72/N$68*100,0) -> 0.32979671 | P72: =[1]CUADRO4!L39 -> 0 | Q72: =IF(ISNUMBER(P72/P$68*100),P72/P$68*100,0) -> 0 | R72: =[1]CUADRO4!N39 -> 1143.8158 | S72: =IF(ISNUMBER(R72/R$68*100),R72/R$68*100,0) -> 0.75334055
A73: Industria manufacturera | B73: ='C03'!B73 -> 567245.4 | C73: =IF(ISNUMBER(B73/B$68*100),B73/B$68*100,0) -> 15.238826 | D73: =[1]CUADRO4!B40 -> 420926.14 | E73: =IF(ISNUMBER(D73/D$68*100),D73/D$68*100,0) -> 16.068606 | F73: =H73+J73+L73 -> 259027.6 | G73: =IF(ISNUMBER(F73/F$68*100),F73/F$68*100,0) -> 15.452407 | H73: =[1]CUADRO4!D40 -> 0 | I73: =IF(ISNUMBER(H73/H$68*100),H73/H$68*100,0) -> 0 | J73: =[1]CUADRO4!F40 -> 259027.6 | K73: =IF(ISNUMBER(J73/J$68*100),J73/J$68*100,0) -> 18.54311 | L73: =[1]CUADRO4!H40 -> 0 | M73: =IF(ISNUMBER(L73/L$68*100),L73/L$68*100,0) -> 0 | N73: =[1]CUADRO4!J40 -> 153792.38 | O73: =IF(ISNUMBER(N73/N$68*100),N73/N$68*100,0) -> 19.432196 | P73: =[1]CUADRO4!L40 -> 0 | Q73: =IF(ISNUMBER(P73/P$68*100),P73/P$68*100,0) -> 0 | R73: =[1]CUADRO4!N40 -> 8106.1641 | S73: =IF(ISNUMBER(R73/R$68*100),R73/R$68*100,0) -> 5.338886
A74: Suministro de electricidad, gas, vapor y aire acondicionado | B74: ='C03'!B74 -> 6631.0262 | C74: =IF(ISNUMBER(B74/B$68*100),B74/B$68*100,0) -> 0.17813992 | D74: =[1]CUADRO4!B41 -> 5101.8965 | E74: =IF(ISNUMBER(D74/D$68*100),D74/D$68*100,0) -> 0.19476187 | F74: =H74+J74+L74 -> 3436.3531 | G74: =IF(ISNUMBER(F74/F$68*100),F74/F$68*100,0) -> 0.20499718 | H74: =[1]CUADRO4!D41 -> 744.10015 | I74: =IF(ISNUMBER(H74/H$68*100),H74/H$68*100,0) -> 0.45238323 | J74: =[1]CUADRO4!F41 -> 2692.253 | K74: =IF(ISNUMBER(J74/J$68*100),J74/J$68*100,0) -> 0.19273137 | L74: =[1]CUADRO4!H41 -> 0 | M74: =IF(ISNUMBER(L74/L$68*100),L74/L$68*100,0) -> 0 | N74: =[1]CUADRO4!J41 -> 1665.5434 | O74: =IF(ISNUMBER(N74/N$68*100),N74/N$68*100,0) -> 0.21044714 | P74: =[1]CUADRO4!L41 -> 0 | Q74: =IF(ISNUMBER(P74/P$68*100),P74/P$68*100,0) -> 0 | R74: =[1]CUADRO4!N41 -> 0 | S74: =IF(ISNUMBER(R74/R$68*100),R74/R$68*100,0) -> 0
A75: Suministro de agua, evacuacion de aguas residuales, gestion de desechos y descontaminacion | B75: ='C03'!B75 -> 21268.797 | C75: =IF(ISNUMBER(B75/B$68*100),B75/B$68*100,0) -> 0.57137791 | D75: =[1]CUADRO4!B42 -> 15137.192 | E75: =IF(ISNUMBER(D75/D$68*100),D75/D$68*100,0) -> 0.57785332 | F75: =H75+J75+L75 -> 10054.603 | G75: =IF(ISNUMBER(F75/F$68*100),F75/F$68*100,0) -> 0.59981184 | H75: =[1]CUADRO4!D42 -> 3293.8111 | I75: =IF(ISNUMBER(H75/H$68*100),H75/H$68*100,0) -> 2.0025059 | J75: =[1]CUADRO4!F42 -> 6760.792 | K75: =IF(ISNUMBER(J75/J$68*100),J75/J$68*100,0) -> 0.48398747 | L75: =[1]CUADRO4!H42 -> 0 | M75: =IF(ISNUMBER(L75/L$68*100),L75/L$68*100,0) -> 0 | N75: =[1]CUADRO4!J42 -> 3354.6157 | O75: =IF(ISNUMBER(N75/N$68*100),N75/N$68*100,0) -> 0.42386723 | P75: =[1]CUADRO4!L42 -> 0 | Q75: =IF(ISNUMBER(P75/P$68*100),P75/P$68*100,0) -> 0 | R75: =[1]CUADRO4!N42 -> 1727.9734 | S75: =IF(ISNUMBER(R75/R$68*100),R75/R$68*100,0) -> 1.1380787
A76: Construccion | B76: ='C03'!B76 -> 293881.96 | C76: =IF(ISNUMBER(B76/B$68*100),B76/B$68*100,0) -> 7.8950238 | D76: =[1]CUADRO4!B43 -> 229545.07 | E76: =IF(ISNUMBER(D76/D$68*100),D76/D$68*100,0) -> 8.7627466 | F76: =H76+J76+L76 -> 176151.08 | G76: =IF(ISNUMBER(F76/F$68*100),F76/F$68*100,0) -> 10.508371 | H76: =[1]CUADRO4!D43 -> 1046.7061 | I76: =IF(ISNUMBER(H76/H$68*100),H76/H$68*100,0) -> 0.63635557 | J76: =[1]CUADRO4!F43 -> 175104.37 | K76: =IF(ISNUMBER(J76/J$68*100),J76/J$68*100,0) -> 12.535265 | L76: =[1]CUADRO4!H43 -> 0 | M76: =IF(ISNUMBER(L76/L$68*100),L76/L$68*100,0) -> 0 | N76: =[1]CUADRO4!J43 -> 30451.528 | O76: =IF(ISNUMBER(N76/N$68*100),N76/N$68*100,0) -> 3.8476554 | P76: =[1]CUADRO4!L43 -> 0 | Q76: =IF(ISNUMBER(P76/P$68*100),P76/P$68*100,0) -> 0 | R76: =[1]CUADRO4!N43 -> 22942.458 | S76: =IF(ISNUMBER(R76/R$68*100),R76/R$68*100,0) -> 15.110374
A77: Comercio al por mayor y al por menor, reparacion de vehiculos automotores y motocicletas | B77: ='C03'!B77 -> 747381.08 | C77: =IF(ISNUMBER(B77/B$68*100),B77/B$68*100,0) -> 20.0781 | D77: =[1]CUADRO4!B44 -> 491720.4 | E77: =IF(ISNUMBER(D77/D$68*100),D77/D$68*100,0) -> 18.771134 | F77: =H77+J77+L77 -> 227486.36 | G77: =IF(ISNUMBER(F77/F$68*100),F77/F$68*100,0) -> 13.5708 | H77: =[1]CUADRO4!D44 -> 0 | I77: =IF(ISNUMBER(H77/H$68*100),H77/H$68*100,0) -> 0 | J77: =[1]CUADRO4!F44 -> 227486.36 | K77: =IF(ISNUMBER(J77/J$68*100),J77/J$68*100,0) -> 16.285155 | L77: =[1]CUADRO4!H44 -> 0 | M77: =IF(ISNUMBER(L77/L$68*100),L77/L$68*100,0) -> 0 | N77: =[1]CUADRO4!J44 -> 239210.95 | O77: =IF(ISNUMBER(N77/N$68*100),N77/N$68*100,0) -> 30.225127 | P77: =[1]CUADRO4!L44 -> 0 | Q77: =IF(ISNUMBER(P77/P$68*100),P77/P$68*100,0) -> 0 | R77: =[1]CUADRO4!N44 -> 25023.094 | S77: =IF(ISNUMBER(R77/R$68*100),R77/R$68*100,0) -> 16.480723
A78: Transporte y almacenamiento | B78: ='C03'!B78 -> 129333.56 | C78: =IF(ISNUMBER(B78/B$68*100),B78/B$68*100,0) -> 3.4744954 | D78: =[1]CUADRO4!B45 -> 84677.637 | E78: =IF(ISNUMBER(D78/D$68*100),D78/D$68*100,0) -> 3.2325185 | F78: =H78+J78+L78 -> 36757.963 | G78: =IF(ISNUMBER(F78/F$68*100),F78/F$68*100,0) -> 2.1928127 | H78: =[1]CUADRO4!D45 -> 1254.3908 | I78: =IF(ISNUMBER(H78/H$68*100),H78/H$68*100,0) -> 0.76261959 | J78: =[1]CUADRO4!F45 -> 35503.572 | K78: =IF(ISNUMBER(J78/J$68*100),J78/J$68*100,0) -> 2.5416081 | L78: =[1]CUADRO4!H45 -> 0 | M78: =IF(ISNUMBER(L78/L$68*100),L78/L$68*100,0) -> 0 | N78: =[1]CUADRO4!J45 -> 31837.509 | O78: =IF(ISNUMBER(N78/N$68*100),N78/N$68*100,0) -> 4.0227789 | P78: =[1]CUADRO4!L45 -> 0 | Q78: =IF(ISNUMBER(P78/P$68*100),P78/P$68*100,0) -> 0 | R78: =[1]CUADRO4!N45 -> 16082.164 | S78: =IF(ISNUMBER(R78/R$68*100),R78/R$68*100,0) -> 10.592043
A79: Actividades de alojamiento y de servicios de comida | B79: ='C03'!B79 -> 201229.63 | C79: =IF(ISNUMBER(B79/B$68*100),B79/B$68*100,0) -> 5.4059551 | D79: =[1]CUADRO4!B46 -> 141326.5 | E79: =IF(ISNUMBER(D79/D$68*100),D79/D$68*100,0) -> 5.3950554 | F79: =H79+J79+L79 -> 75412.735 | G79: =IF(ISNUMBER(F79/F$68*100),F79/F$68*100,0) -> 4.4987804 | H79: =[1]CUADRO4!D46 -> 0 | I79: =IF(ISNUMBER(H79/H$68*100),H79/H$68*100,0) -> 0 | J79: =[1]CUADRO4!F46 -> 75412.735 | K79: =IF(ISNUMBER(J79/J$68*100),J79/J$68*100,0) -> 5.3986011 | L79: =[1]CUADRO4!H46 -> 0 | M79: =IF(ISNUMBER(L79/L$68*100),L79/L$68*100,0) -> 0 | N79: =[1]CUADRO4!J46 -> 62749.558 | O79: =IF(ISNUMBER(N79/N$68*100),N79/N$68*100,0) -> 7.9286226 | P79: =[1]CUADRO4!L46 -> 0 | Q79: =IF(ISNUMBER(P79/P$68*100),P79/P$68*100,0) -> 0 | R79: =[1]CUADRO4!N46 -> 3164.2102 | S79: =IF(ISNUMBER(R79/R$68*100),R79/R$68*100,0) -> 2.0840137
A80: Informacion y comunicaciones | B80: ='C03'!B80 -> 18310.908 | C80: =IF(ISNUMBER(B80/B$68*100),B80/B$68*100,0) -> 0.49191536 | D80: =[1]CUADRO4!B47 -> 11410.33 | E80: =IF(ISNUMBER(D80/D$68*100),D80/D$68*100,0) -> 0.43558256 | F80: =H80+J80+L80 -> 10387.555 | G80: =IF(ISNUMBER(F80/F$68*100),F80/F$68*100,0) -> 0.61967426 | H80: =[1]CUADRO4!D47 -> 0 | I80: =IF(ISNUMBER(H80/H$68*100),H80/H$68*100,0) -> 0 | J80: =[1]CUADRO4!F47 -> 10387.555 | K80: =IF(ISNUMBER(J80/J$68*100),J80/J$68*100,0) -> 0.743618 | L80: =[1]CUADRO4!H47 -> 0 | M80: =IF(ISNUMBER(L80/L$68*100),L80/L$68*100,0) -> 0 | N80: =[1]CUADRO4!J47 -> 1022.7744 | O80: =IF(ISNUMBER(N80/N$68*100),N80/N$68*100,0) -> 0.12923106 | P80: =[1]CUADRO4!L47 -> 0 | Q80: =IF(ISNUMBER(P80/P$68*100),P80/P$68*100,0) -> 0 | R80: =[1]CUADRO4!N47 -> 0 | S80: =IF(ISNUMBER(R80/R$68*100),R80/R$68*100,0) -> 0
A81: Actividades finacieras y de seguros | B81: ='C03'!B81 -> 33113.367 | C81: =IF(ISNUMBER(B81/B$68*100),B81/B$68*100,0) -> 0.88957763 | D81: =[1]CUADRO4!B48 -> 18871.371 | E81: =IF(ISNUMBER(D81/D$68*100),D81/D$68*100,0) -> 0.7204034 | F81: =H81+J81+L81 -> 18871.371 | G81: =IF(ISNUMBER(F81/F$68*100),F81/F$68*100,0) -> 1.1257801 | H81: =[1]CUADRO4!D48 -> 261.67652 | I81: =IF(ISNUMBER(H81/H$68*100),H81/H$68*100,0) -> 0.15908889 | J81: =[1]CUADRO4!F48 -> 18609.695 | K81: =IF(ISNUMBER(J81/J$68*100),J81/J$68*100,0) -> 1.3322195 | L81: =[1]CUADRO4!H48 -> 0 | M81: =IF(ISNUMBER(L81/L$68*100),L81/L$68*100,0) -> 0 | N81: =[1]CUADRO4!J48 -> 0 | O81: =IF(ISNUMBER(N81/N$68*100),N81/N$68*100,0) -> 0 | P81: =[1]CUADRO4!L48 -> 0 | Q81: =IF(ISNUMBER(P81/P$68*100),P81/P$68*100,0) -> 0 | R81: =[1]CUADRO4!N48 -> 0 | S81: =IF(ISNUMBER(R81/R$68*100),R81/R$68*100,0) -> 0
A82: Actividades inmobiliarias | B82: ='C03'!B82 -> 7362.3502 | C82: =IF(ISNUMBER(B82/B$68*100),B82/B$68*100,0) -> 0.19778665 | D82: =[1]CUADRO4!B49 -> 4952.7066 | E82: =IF(ISNUMBER(D82/D$68*100),D82/D$68*100,0) -> 0.18906663 | F82: =H82+J82+L82 -> 2169.1861 | G82: =IF(ISNUMBER(F82/F$68*100),F82/F$68*100,0) -> 0.12940377 | H82: =[1]CUADRO4!D49 -> 0 | I82: =IF(ISNUMBER(H82/H$68*100),H82/H$68*100,0) -> 0 | J82: =[1]CUADRO4!F49 -> 2169.1861 | K82: =IF(ISNUMBER(J82/J$68*100),J82/J$68*100,0) -> 0.15528638 | L82: =[1]CUADRO4!H49 -> 0 | M82: =IF(ISNUMBER(L82/L$68*100),L82/L$68*100,0) -> 0 | N82: =[1]CUADRO4!J49 -> 1427.3957 | O82: =IF(ISNUMBER(N82/N$68*100),N82/N$68*100,0) -> 0.18035636 | P82: =[1]CUADRO4!L49 -> 0 | Q82: =IF(ISNUMBER(P82/P$68*100),P82/P$68*100,0) -> 0 | R82: =[1]CUADRO4!N49 -> 1356.1247 | S82: =IF(ISNUMBER(R82/R$68*100),R82/R$68*100,0) -> 0.89317158
... A92: Rama de actividad NO especificada | B92: ='C03'!B92 -> 0 | C92: =IF(ISNUMBER(B92/B$68*100),B92/B$68*100,0) -> 0 | D92: =[1]CUADRO4!B59 -> 0 | E92: =IF(ISNUMBER(D92/D$68*100),D92/D$68*100,0) -> 0 | F92: =H92+J92+L92 -> 0 | G92: =IF(ISNUMBER(F92/F$68*100),F92/F$68*100,0) -> 0 | H92: =[1]CUADRO4!D59 -> 0 | I92: =IF(ISNUMBER(H92/H$68*100),H92/H$68*100,0) -> 0 | J92: =[1]CUADRO4!F59 -> 0 | K92: =IF(ISNUMBER(J92/J$68*100),J92/J$68*100,0) -> 0 | L92: =[1]CUADRO4!H59 -> 0 | M92: =IF(ISNUMBER(L92/L$68*100),L92/L$68*100,0) -> 0 | N92: =[1]CUADRO4!J59 -> 0 | O92: =IF(ISNUMBER(N92/N$68*100),N92/N$68*100,0) -> 0 | P92: =[1]CUADRO4!L59 -> 0 | Q92: =IF(ISNUMBER(P92/P$68*100),P92/P$68*100,0) -> 0 | R92: =[1]CUADRO4!N59 -> 0 | S92: =IF(ISNUMBER(R92/R$68*100),R92/R$68*100,0) -> 0
A93: NS/NR | B93: ='C03'!B93 -> 93318.736 | C93: =IF(ISNUMBER(B93/B$68*100),B93/B$68*100,0) -> 2.5069713 | D93: =[1]CUADRO4!B61 -> 48989.792 | E93: =IF(ISNUMBER(D93/D$68*100),D93/D$68*100,0) -> 1.8701562 | F93: =H93+J93+L93 -> 34536.095 | G93: =IF(ISNUMBER(F93/F$68*100),F93/F$68*100,0) -> 2.0602662 | H93: =[1]CUADRO4!D61 -> 2562.7734 | I93: =IF(ISNUMBER(H93/H$68*100),H93/H$68*100,0) -> 1.5580641 | J93: =[1]CUADRO4!F61 -> 31973.321 | K93: =IF(ISNUMBER(J93/J$68*100),J93/J$68*100,0) -> 2.2888867 | L93: =[1]CUADRO4!H61 -> 0 | M93: =IF(ISNUMBER(L93/L$68*100),L93/L$68*100,0) -> 0 | N93: =[1]CUADRO4!J61 -> 12764.625 | O93: =IF(ISNUMBER(N93/N$68*100),N93/N$68*100,0) -> 1.6128543 | P93: =[1]CUADRO4!L61 -> 0 | Q93: =IF(ISNUMBER(P93/P$68*100),P93/P$68*100,0) -> 0 | R93: =[1]CUADRO4!N61 -> 1689.0723 | S93: =IF(ISNUMBER(R93/R$68*100),R93/R$68*100,0) -> 1.1124577
A95: Ocupación (1 Dig.)
A96: Directores y gerentes | B96: ='C03'!B96 -> 86507.062 | C96: =IF(ISNUMBER(B96/B$68*100),B96/B$68*100,0) -> 2.3239784 | D96: =[1]CUADRO4!B62 -> 56661.226 | E96: =IF(ISNUMBER(D96/D$68*100),D96/D$68*100,0) -> 2.1630087 | F96: =H96+J96+L96 -> 31313.026 | G96: =IF(ISNUMBER(F96/F$68*100),F96/F$68*100,0) -> 1.8679925 | H96: =[1]CUADRO4!D62 -> 8780.051 | I96: =IF(ISNUMBER(H96/H$68*100),H96/H$68*100,0) -> 5.337921 | J96: =[1]CUADRO4!F62 -> 22532.975 | K96: =IF(ISNUMBER(J96/J$68*100),J96/J$68*100,0) -> 1.6130769 | L96: =[1]CUADRO4!H62 -> 0 | M96: =IF(ISNUMBER(L96/L$68*100),L96/L$68*100,0) -> 0 | N96: =[1]CUADRO4!J62 -> 25086.524 | O96: =IF(ISNUMBER(N96/N$68*100),N96/N$68*100,0) -> 3.1697687 | P96: =[1]CUADRO4!L62 -> 0 | Q96: =IF(ISNUMBER(P96/P$68*100),P96/P$68*100,0) -> 0 | R96: =[1]CUADRO4!N62 -> 261.67652 | S96: =IF(ISNUMBER(R96/R$68*100),R96/R$68*100,0) -> 0.17234553
A97: Profesionales cientificos e intelectuales | B97: ='C03'!B97 -> 169706.55 | C97: =IF(ISNUMBER(B97/B$68*100),B97/B$68*100,0) -> 4.5590999 | D97: =[1]CUADRO4!B63 -> 105638.86 | E97: =IF(ISNUMBER(D97/D$68*100),D97/D$68*100,0) -> 4.0327009 | F97: =H97+J97+L97 -> 93972.985 | G97: =IF(ISNUMBER(F97/F$68*100),F97/F$68*100,0) -> 5.6060004 | H97: =[1]CUADRO4!D63 -> 54097.439 | I97: =IF(ISNUMBER(H97/H$68*100),H97/H$68*100,0) -> 32.889086 | J97: =[1]CUADRO4!F63 -> 39875.546 | K97: =IF(ISNUMBER(J97/J$68*100),J97/J$68*100,0) -> 2.8545864 | L97: =[1]CUADRO4!H63 -> 0 | M97: =IF(ISNUMBER(L97/L$68*100),L97/L$68*100,0) -> 0 | N97: =[1]CUADRO4!J63 -> 10571.43 | O97: =IF(ISNUMBER(N97/N$68*100),N97/N$68*100,0) -> 1.3357365 | P97: =[1]CUADRO4!L63 -> 0 | Q97: =IF(ISNUMBER(P97/P$68*100),P97/P$68*100,0) -> 0 | R97: =[1]CUADRO4!N63 -> 1094.4482 | S97: =IF(ISNUMBER(R97/R$68*100),R97/R$68*100,0) -> 0.72082606
A98: Tecnicos y profesionales de nivel medio | B98: ='C03'!B98 -> 188112.1 | C98: =IF(ISNUMBER(B98/B$68*100),B98/B$68*100,0) -> 5.053558 | D98: =[1]CUADRO4!B64 -> 128717.16 | E98: =IF(ISNUMBER(D98/D$68*100),D98/D$68*100,0) -> 4.9137012 | F98: =H98+J98+L98 -> 107505.35 | G98: =IF(ISNUMBER(F98/F$68*100),F98/F$68*100,0) -> 6.4132798 | H98: =[1]CUADRO4!D64 -> 42778.143 | I98: =IF(ISNUMBER(H98/H$68*100),H98/H$68*100,0) -> 26.007406 | J98: =[1]CUADRO4!F64 -> 64727.208 | K98: =IF(ISNUMBER(J98/J$68*100),J98/J$68*100,0) -> 4.633652 | L98: =[1]CUADRO4!H64 -> 0 | M98: =IF(ISNUMBER(L98/L$68*100),L98/L$68*100,0) -> 0 | N98: =[1]CUADRO4!J64 -> 13858.588 | O98: =IF(ISNUMBER(N98/N$68*100),N98/N$68*100,0) -> 1.7510803 | P98: =[1]CUADRO4!L64 -> 0 | Q98: =IF(ISNUMBER(P98/P$68*100),P98/P$68*100,0) -> 0 | R98: =[1]CUADRO4!N64 -> 7353.2229 | S98: =IF(ISNUMBER(R98/R$68*100),R98/R$68*100,0) -> 4.8429835
A99: Personal de apoyo administrativo | B99: ='C03'!B99 -> 110985.08 | C99: =IF(ISNUMBER(B99/B$68*100),B99/B$68*100,0) -> 2.9815707 | D99: =[1]CUADRO4!B65 -> 79539.405 | E99: =IF(ISNUMBER(D99/D$68*100),D99/D$68*100,0) -> 3.0363696 | F99: =H99+J99+L99 -> 74798.605 | G99: =IF(ISNUMBER(F99/F$68*100),F99/F$68*100,0) -> 4.4621442 | H99: =[1]CUADRO4!D65 -> 13395.593 | I99: =IF(ISNUMBER(H99/H$68*100),H99/H$68*100,0) -> 8.1439868 | J99: =[1]CUADRO4!F65 -> 61403.012 | K99: =IF(ISNUMBER(J99/J$68*100),J99/J$68*100,0) -> 4.3956815 | L99: =[1]CUADRO4!H65 -> 0 | M99: =IF(ISNUMBER(L99/L$68*100),L99/L$68*100,0) -> 0 | N99: =[1]CUADRO4!J65 -> 4178.5464 | O99: =IF(ISNUMBER(N99/N$68*100),N99/N$68*100,0) -> 0.52797371 | P99: =[1]CUADRO4!L65 -> 0 | Q99: =IF(ISNUMBER(P99/P$68*100),P99/P$68*100,0) -> 0 | R99: =[1]CUADRO4!N65 -> 562.25416 | S99: =IF(ISNUMBER(R99/R$68*100),R99/R$68*100,0) -> 0.37031213
A100: Trabajadores de los servicios y vendedores de comercios y mercados | B100: ='C03'!B100 -> 880167.54 | C100: =IF(ISNUMBER(B100/B$68*100),B100/B$68*100,0) -> 23.645356 | D100: =[1]CUADRO4!B66 -> 609028.13 | E100: =IF(ISNUMBER(D100/D$68*100),D100/D$68*100,0) -> 23.249287 | F100: =H100+J100+L100 -> 281980.11 | G100: =IF(ISNUMBER(F100/F$68*100),F100/F$68*100,0) -> 16.821649 | H100: =[1]CUADRO4!D66 -> 11414.663 | I100: =IF(ISNUMBER(H100/H$68*100),H100/H$68*100,0) -> 6.9396601 | J100: =[1]CUADRO4!F66 -> 236069.39 | K100: =IF(ISNUMBER(J100/J$68*100),J100/J$68*100,0) -> 16.899592 | L100: =[1]CUADRO4!H66 -> 34496.053 | M100: =IF(ISNUMBER(L100/L$68*100),L100/L$68*100,0) -> 30.018917 | N100: =[1]CUADRO4!J66 -> 302374.88 | O100: =IF(ISNUMBER(N100/N$68*100),N100/N$68*100,0) -> 38.206107 | P100: =[1]CUADRO4!L66 -> 0 | Q100: =IF(ISNUMBER(P100/P$68*100),P100/P$68*100,0) -> 0 | R100: =[1]CUADRO4!N66 -> 24673.149 | S100: =IF(ISNUMBER(R100/R$68*100),R100/R$68*100,0) -> 16.250242
A101: Agricultores y trabajadores calificados agropecuarios forestales y pesqueros | B101: ='C03'!B101 -> 259505.46 | C101: =IF(ISNUMBER(B101/B$68*100),B101/B$68*100,0) -> 6.9715125 | D101: =[1]CUADRO4!B67 -> 169646.5 | E101: =IF(ISNUMBER(D101/D$68*100),D101/D$68*100,0) -> 6.4761542 | F101: =H101+J101+L101 -> 36377.113 | G101: =IF(ISNUMBER(F101/F$68*100),F101/F$68*100,0) -> 2.1700929 | H101: =[1]CUADRO4!D67 -> 0 | I101: =IF(ISNUMBER(H101/H$68*100),H101/H$68*100,0) -> 0 | J101: =[1]CUADRO4!F67 -> 36377.113 | K101: =IF(ISNUMBER(J101/J$68*100),J101/J$68*100,0) -> 2.6041427 | L101: =[1]CUADRO4!H67 -> 0 | M101: =IF(ISNUMBER(L101/L$68*100),L101/L$68*100,0) -> 0 | N101: =[1]CUADRO4!J67 -> 129053.19 | O101: =IF(ISNUMBER(N101/N$68*100),N101/N$68*100,0) -> 16.306315 | P101: =[1]CUADRO4!L67 -> 0 | Q101: =IF(ISNUMBER(P101/P$68*100),P101/P$68*100,0) -> 0 | R101: =[1]CUADRO4!N67 -> 4216.1907 | S101: =IF(ISNUMBER(R101/R$68*100),R101/R$68*100,0) -> 2.7768697
A102: Oficiales, operarios y artesanos de artes mecanicas y de otros oficios | B102: ='C03'!B102 -> 607193.07 | C102: =IF(ISNUMBER(B102/B$68*100),B102/B$68*100,0) -> 16.312004 | D102: =[1]CUADRO4!B68 -> 442381.97 | E102: =IF(ISNUMBER(D102/D$68*100),D102/D$68*100,0) -> 16.887669 | F102: =H102+J102+L102 -> 233924.67 | G102: =IF(ISNUMBER(F102/F$68*100),F102/F$68*100,0) -> 13.954881 | H102: =[1]CUADRO4!D68 -> 6722.2938 | I102: =IF(ISNUMBER(H102/H$68*100),H102/H$68*100,0) -> 4.0868866 | J102: =[1]CUADRO4!F68 -> 227202.38 | K102: =IF(ISNUMBER(J102/J$68*100),J102/J$68*100,0) -> 16.264826 | L102: =[1]CUADRO4!H68 -> 0 | M102: =IF(ISNUMBER(L102/L$68*100),L102/L$68*100,0) -> 0 | N102: =[1]CUADRO4!J68 -> 191110.97 | O102: =IF(ISNUMBER(N102/N$68*100),N102/N$68*100,0) -> 24.147529 | P102: =[1]CUADRO4!L68 -> 0 | Q102: =IF(ISNUMBER(P102/P$68*100),P102/P$68*100,0) -> 0 | R102: =[1]CUADRO4!N68 -> 17346.332 | S102: =IF(ISNUMBER(R102/R$68*100),R102/R$68*100,0) -> 11.42465
A103: Operadores de instalaciones y maquinas y ensambladores | B103: ='C03'!B103 -> 268805.89 | C103: =IF(ISNUMBER(B103/B$68*100),B103/B$68*100,0) -> 7.2213651 | D103: =[1]CUADRO4!B69 -> 193406.18 | E103: =IF(ISNUMBER(D103/D$68*100),D103/D$68*100,0) -> 7.3831662 | F103: =H103+J103+L103 -> 142801.88 | G103: =IF(ISNUMBER(F103/F$68*100),F103/F$68*100,0) -> 8.5189099 | H103: =[1]CUADRO4!D69 -> 4411.7882 | I103: =IF(ISNUMBER(H103/H$68*100),H103/H$68*100,0) -> 2.6821914 | J103: =[1]CUADRO4!F69 -> 138390.09 | K103: =IF(ISNUMBER(J103/J$68*100),J103/J$68*100,0) -> 9.9069857 | L103: =[1]CUADRO4!H69 -> 0 | M103: =IF(ISNUMBER(L103/L$68*100),L103/L$68*100,0) -> 0 | N103: =[1]CUADRO4!J69 -> 34329.259 | O103: =IF(ISNUMBER(N103/N$68*100),N103/N$68*100,0) -> 4.33762 | P103: =[1]CUADRO4!L69 -> 0 | Q103: =IF(ISNUMBER(P103/P$68*100),P103/P$68*100,0) -> 0 | R103: =[1]CUADRO4!N69 -> 16275.044 | S103: =IF(ISNUMBER(R103/R$68*100),R103/R$68*100,0) -> 10.719078
A104: Ocupaciones elementales | B104: ='C03'!B104 -> 1148344.2 | C104: =IF(ISNUMBER(B104/B$68*100),B104/B$68*100,0) -> 30.849817 | D104: =[1]CUADRO4!B70 -> 832337.33 | E104: =IF(ISNUMBER(D104/D$68*100),D104/D$68*100,0) -> 31.773983 | F104: =H104+J104+L104 -> 671419.77 | G104: =IF(ISNUMBER(F104/F$68*100),F104/F$68*100,0) -> 40.053846 | H104: =[1]CUADRO4!D70 -> 20685.134 | I104: =IF(ISNUMBER(H104/H$68*100),H104/H$68*100,0) -> 12.575737 | J104: =[1]CUADRO4!F70 -> 570316.31 | K104: =IF(ISNUMBER(J104/J$68*100),J104/J$68*100,0) -> 40.827457 | L104: =[1]CUADRO4!H70 -> 80418.328 | M104: =IF(ISNUMBER(L104/L$68*100),L104/L$68*100,0) -> 69.981083 | N104: =[1]CUADRO4!J70 -> 80867.372 | O104: =IF(ISNUMBER(N104/N$68*100),N104/N$68*100,0) -> 10.217871 | P104: =[1]CUADRO4!L70 -> 0 | Q104: =IF(ISNUMBER(P104/P$68*100),P104/P$68*100,0) -> 0 | R104: =[1]CUADRO4!N70 -> 80050.181 | S104: =IF(ISNUMBER(R104/R$68*100),R104/R$68*100,0) -> 52.722692
A105: Ocupaciones militares | B105: ='C03'!B105 -> 3042.601 | C105: =IF(ISNUMBER(B105/B$68*100),B105/B$68*100,0) -> 0.081738285 | D105: =[1]CUADRO4!B71 -> 2199.3629 | E105: =IF(ISNUMBER(D105/D$68*100),D105/D$68*100,0) -> 0.083959372 | F105: =H105+J105+L105 -> 2199.3629 | G105: =IF(ISNUMBER(F105/F$68*100),F105/F$68*100,0) -> 0.13120398 | H105: =[1]CUADRO4!D71 -> 2199.3629 | I105: =IF(ISNUMBER(H105/H$68*100),H105/H$68*100,0) -> 1.337125 | J105: =[1]CUADRO4!F71 -> 0 | K105: =IF(ISNUMBER(J105/J$68*100),J105/J$68*100,0) -> 0 | L105: =[1]CUADRO4!H71 -> 0 | M105: =IF(ISNUMBER(L105/L$68*100),L105/L$68*100,0) -> 0 | N105: =[1]CUADRO4!J71 -> 0 | O105: =IF(ISNUMBER(N105/N$68*100),N105/N$68*100,0) -> 0 | P105: =[1]CUADRO4!L71 -> 0 | Q105: =IF(ISNUMBER(P105/P$68*100),P105/P$68*100,0) -> 0 | R105: =[1]CUADRO4!N71 -> 0 | S105: =IF(ISNUMBER(R105/R$68*100),R105/R$68*100,0) -> 0
A106: Ocupaciones NO especificadas | B106: ='C03'!B106 -> 0 | C106: =IF(ISNUMBER(B106/B$68*100),B106/B$68*100,0) -> 0 | D106: =[1]CUADRO4!B72 -> 0 | E106: =IF(ISNUMBER(D106/D$68*100),D106/D$68*100,0) -> 0 | F106: =H106+J106+L106 -> 0 | G106: =IF(ISNUMBER(F106/F$68*100),F106/F$68*100,0) -> 0 | H106: =[1]CUADRO4!D72 -> 0 | I106: =IF(ISNUMBER(H106/H$68*100),H106/H$68*100,0) -> 0 | J106: =[1]CUADRO4!F72 -> 0 | K106: =IF(ISNUMBER(J106/J$68*100),J106/J$68*100,0) -> 0 | L106: =[1]CUADRO4!H72 -> 0 | M106: =IF(ISNUMBER(L106/L$68*100),L106/L$68*100,0) -> 0 | N106: =[1]CUADRO4!J72 -> 0 | O106: =IF(ISNUMBER(N106/N$68*100),N106/N$68*100,0) -> 0 | P106: =[1]CUADRO4!L72 -> 0 | Q106: =IF(ISNUMBER(P106/P$68*100),P106/P$68*100,0) -> 0 | R106: =[1]CUADRO4!N72 -> 0 | S106: =IF(ISNUMBER(R106/R$68*100),R106/R$68*100,0) -> 0
A107: NS/NR | B107: ='C03'!B107 -> 0 | C107: =IF(ISNUMBER(B107/B$68*100),B107/B$68*100,0) -> 0 | D107: =[1]CUADRO4!B73 -> 0 | E107: =IF(ISNUMBER(D107/D$68*100),D107/D$68*100,0) -> 0 | F107: =H107+J107+L107 -> 0 | G107: =IF(ISNUMBER(F107/F$68*100),F107/F$68*100,0) -> 0 | H107: =[1]CUADRO4!D73 -> 0 | I107: =IF(ISNUMBER(H107/H$68*100),H107/H$68*100,0) -> 0 | J107: =[1]CUADRO4!F73 -> 0 | K107: =IF(ISNUMBER(J107/J$68*100),J107/J$68*100,0) -> 0 | L107: =[1]CUADRO4!H73 -> 0 | M107: =IF(ISNUMBER(L107/L$68*100),L107/L$68*100,0) -> 0 | N107: =[1]CUADRO4!J73 -> 0 | O107: =IF(ISNUMBER(N107/N$68*100),N107/N$68*100,0) -> 0 | P107: =[1]CUADRO4!L73 -> 0 | Q107: =IF(ISNUMBER(P107/P$68*100),P107/P$68*100,0) -> 0 | R107: =[1]CUADRO4!N73 -> 0 | S107: =IF(ISNUMBER(R107/R$68*100),R107/R$68*100,0) -> 0
A109: ='C01'!$A$32 -> Fuente: Instituto Nacional de Estadística (INE). LXXIII Encuesta Permanente de Hogares de Propósitos Múltiples, Otubre 2021
A110: 1/ Porcentaje por columnas
A111: 2/ Porcentaje por filas

Sheet C05
A1: Cuadro No. 5. Ingreso promedio de las personas ocupadas que declaran Ingreso por categoría ocupacional, según dominio,
A2: nivel educativo, rango de edad, sexo, número de salarios mínimos, rama de actividad y ocupación
A3: Ocupación Principal, Lps/Mes/Persona
A4: Categorías | B4: Ingreso Promedio
B5: Ingreso Promedio | C5: Asalariados | G5: Cuenta propia | H5: Contratista Dependiente
C6: Total | D6: Público | E6: Privado | F6: Doméstico
A8: Total Nacional | B8: =[1]CUADRO5!C8 -> 6054.1017 | C8: =[1]CUADRO5!J8 -> 7126.7816 | D8: =[1]CUADRO5!D8 -> 13445.24 | E8: =[1]CUADRO5!E8 -> 6384.9227 | F8: =[1]CUADRO5!F8 -> 3371.8971 | G8: =[1]CUADRO5!G8 -> 4882.8691 | H8: =[1]CUADRO5!I8 -> 3359.4127
A10: Dominio
A11: Urbano | B11: =[1]CUADRO5!C9 -> 7721.4196 | C11: =[1]CUADRO5!J9 -> 8796.2793 | D11: =[1]CUADRO5!D9 -> 14434.805 | E11: =[1]CUADRO5!E9 -> 8314.9848 | F11: =[1]CUADRO5!F9 -> 3530.9594 | G11: =[1]CUADRO5!G9 -> 5966.3006 | H11: =[1]CUADRO5!I9 -> 5047.2121
A12: Distrito Central | B12: =[1]CUADRO5!C12 -> 8975.0129 | C12: =[1]CUADRO5!J12 -> 10111.736 | D12: =[1]CUADRO5!D12 -> 13827.006 | E12: =[1]CUADRO5!E12 -> 9836.7394 | F12: =[1]CUADRO5!F12 -> 3474.9375 | G12: =[1]CUADRO5!G12 -> 6917.9928 | H12: =[1]CUADRO5!I12 -> 6043.0444
A13: San Pedro Sula | B13: =[1]CUADRO5!C13 -> 8276.5325 | C13: =[1]CUADRO5!J13 -> 9343.774 | D13: =[1]CUADRO5!D13 -> 10794.718 | E13: =[1]CUADRO5!E13 -> 9626.9611 | F13: =[1]CUADRO5!F13 -> 2991.6129 | G13: =[1]CUADRO5!G13 -> 6491.7366 | H13: =[1]CUADRO5!I13 -> 3803.7619
A14: Resto urbano | B14: =[1]CUADRO5!C14 -> 7194.1287 | C14: =[1]CUADRO5!J14 -> 8229.0597 | D14: =[1]CUADRO5!D14 -> 14992.026 | E14: =[1]CUADRO5!E14 -> 7543.1477 | F14: =[1]CUADRO5!F14 -> 3639.9777 | G14: =[1]CUADRO5!G14 -> 5554.2606 | H14: =[1]CUADRO5!I14 -> 4968.9934
A15: Rural | B15: =[1]CUADRO5!C15 -> 3727.8322 | C15: =[1]CUADRO5!J15 -> 4344.8159 | D15: =[1]CUADRO5!D15 -> 10535.263 | E15: =[1]CUADRO5!E15 -> 3672.0199 | F15: =[1]CUADRO5!F15 -> 2955.9114 | G15: =[1]CUADRO5!G15 -> 3516.8779 | H15: =[1]CUADRO5!I15 -> 2144.8146
A17: Nivel Educativo
A18: Sin Nivel | B18: =[1]CUADRO5!C16 -> 2721.1255 | C18: =[1]CUADRO5!J16 -> 3333.9867 | D18: =[1]CUADRO5!D16 -> 7722.3768 | E18: =[1]CUADRO5!E16 -> 3216.8466 | F18: =[1]CUADRO5!F16 -> 2226.5558 | G18: =[1]CUADRO5!G16 -> 2163.9044 | H18: =[1]CUADRO5!I16 -> 2211.5336
A19: Primaria | B19: =[1]CUADRO5!C17 -> 4275.3262 | C19: =[1]CUADRO5!J17 -> 4962.9776 | D19: =[1]CUADRO5!D17 -> 11340.785 | E19: =[1]CUADRO5!E17 -> 4551.7236 | F19: =[1]CUADRO5!F17 -> 3061.6156 | G19: =[1]CUADRO5!G17 -> 3954.4739 | H19: =[1]CUADRO5!I17 -> 2873.1222
A20: Secundaria | B20: =[1]CUADRO5!C18 -> 7417.1273 | C20: =[1]CUADRO5!J18 -> 8033.017 | D20: =[1]CUADRO5!D18 -> 11411.862 | E20: =[1]CUADRO5!E18 -> 7867.3165 | F20: =[1]CUADRO5!F18 -> 4014.3934 | G20: =[1]CUADRO5!G18 -> 6204.733 | H20: =[1]CUADRO5!I18 -> 4766.7978
A21: Superior | B21: =[1]CUADRO5!C19 -> 13758.161 | C21: =[1]CUADRO5!J19 -> 14533.315 | D21: =[1]CUADRO5!D19 -> 16077.853 | E21: =[1]CUADRO5!E19 -> 13800.681 | F21: =[1]CUADRO5!F19 -> 2424.0731 | G21: =[1]CUADRO5!G19 -> 11180.655 | H21: =[1]CUADRO5!I19 -> 9996.6252
A22: No sabe, no responde | B22: =[1]CUADRO5!C20 -> 6504.9975 | C22: =[1]CUADRO5!J20 -> 6674.6098 | D22: =[1]CUADRO5!D20 -> 7589.1424 | E22: =[1]CUADRO5!E20 -> 6648.236 | F22: =[1]CUADRO5!F20 -> 6305.7444 | G22: =[1]CUADRO5!G20 -> 6654.9355 | H22: =[1]CUADRO5!I20 -> 3512.5813
A24: Rango de Edad
A25: De 15 a 18 años | B25: =[1]CUADRO5!C21 -> 3156.0798 | C25: =[1]CUADRO5!J21 -> 3310.6073 | D25: =[1]CUADRO5!D21 -> 833 | E25: =[1]CUADRO5!E21 -> 3344.4376 | F25: =[1]CUADRO5!F21 -> 3046.0362 | G25: =[1]CUADRO5!G21 -> 2197.047 | H25: =[1]CUADRO5!I21 -> 2789.3146
A26: De 19 a 24 años | B26: =[1]CUADRO5!C22 -> 5977.0472 | C26: =[1]CUADRO5!J22 -> 6451.4376 | D26: =[1]CUADRO5!D22 -> 7998.4276 | E26: =[1]CUADRO5!E22 -> 6573.2324 | F26: =[1]CUADRO5!F22 -> 3127.574 | G26: =[1]CUADRO5!G22 -> 4028.2617 | H26: =[1]CUADRO5!I22 -> 3516.8282
A27: De 25 a 29 años | B27: =[1]CUADRO5!C23 -> 6864.7668 | C27: =[1]CUADRO5!J23 -> 7326.295 | D27: =[1]CUADRO5!D23 -> 10621.503 | E27: =[1]CUADRO5!E23 -> 7095.529 | F27: =[1]CUADRO5!F23 -> 5439.7192 | G27: =[1]CUADRO5!G23 -> 5979.8531 | H27: =[1]CUADRO5!I23 -> 3216.5873
A28: De 30 a 35 años | B28: =[1]CUADRO5!C24 -> 6673.6729 | C28: =[1]CUADRO5!J24 -> 7546.4233 | D28: =[1]CUADRO5!D24 -> 11194.208 | E28: =[1]CUADRO5!E24 -> 7467.8788 | F28: =[1]CUADRO5!F24 -> 4141.8322 | G28: =[1]CUADRO5!G24 -> 5323.8672 | H28: =[1]CUADRO5!I24 -> 3493.9141
A29: De 36 a 44 años | B29: =[1]CUADRO5!C25 -> 6989.57 | C29: =[1]CUADRO5!J25 -> 8372.2071 | D29: =[1]CUADRO5!D25 -> 13554.8 | E29: =[1]CUADRO5!E25 -> 7972.8441 | F29: =[1]CUADRO5!F25 -> 3703.2259 | G29: =[1]CUADRO5!G25 -> 5004.3469 | H29: =[1]CUADRO5!I25 -> 5024.9252
A30: De 45 a 59 años | B30: =[1]CUADRO5!C26 -> 7092.6748 | C30: =[1]CUADRO5!J26 -> 8624.1132 | D30: =[1]CUADRO5!D26 -> 16248.235 | E30: =[1]CUADRO5!E26 -> 7037.1358 | F30: =[1]CUADRO5!F26 -> 3011.9926 | G30: =[1]CUADRO5!G26 -> 5752.7856 | H30: =[1]CUADRO5!I26 -> 3311.642
A31: De 60 años y más | B31: =[1]CUADRO5!C27 -> 4614.676 | C31: =[1]CUADRO5!J27 -> 6184.2858 | D31: =[1]CUADRO5!D27 -> 14034.687 | E31: =[1]CUADRO5!E27 -> 4742.8858 | F31: =[1]CUADRO5!F27 -> 2794.125 | G31: =[1]CUADRO5!G27 -> 3842.139 | H31: =[1]CUADRO5!I27 -> 1534.34
A33: Sexo
A34: Hombre | B34: =[1]CUADRO5!C29 -> 6334.5045 | C34: =[1]CUADRO5!J29 -> 6828.0814 | D34: =[1]CUADRO5!D29 -> 13528.289 | E34: =[1]CUADRO5!E29 -> 6124.0512 | F34: =[1]CUADRO5!F29 -> 4319.8459 | G34: =[1]CUADRO5!G29 -> 6544.722 | H34: =[1]CUADRO5!I29 -> 3779.9299
A35: Mujer | B35: =[1]CUADRO5!C30 -> 5656.6473 | C35: =[1]CUADRO5!J30 -> 7644.8623 | D35: =[1]CUADRO5!D30 -> 13390.905 | E35: =[1]CUADRO5!E30 -> 7024.3226 | F35: =[1]CUADRO5!F30 -> 3313.9966 | G35: =[1]CUADRO5!G30 -> 3549.562 | H35: =[1]CUADRO5!I30 -> 2112.9376
A37: No. de Salarios Mínimos 1/
A38: Menos de un salario
A39: Menos de 1 salario y trabaja menos de una jornada laboral | B39: =[1]CUADRO5!C31 -> 2605.7283 | C39: =[1]CUADRO5!J31 -> 3196.1283 | D39: =[1]CUADRO5!D31 -> 6542.2829 | E39: =[1]CUADRO5!E31 -> 3023.7202 | F39: =[1]CUADRO5!F31 -> 2309.7143 | G39: =[1]CUADRO5!G31 -> 2001.8236 | H39: =[1]CUADRO5!I31 -> 1794.6188
A40: Menos de 1 salario y trabaja mas de una jornada laboral | B40: =[1]CUADRO5!C32 -> 4908.3068 | C40: =[1]CUADRO5!J32 -> 5545.8452 | D40: =[1]CUADRO5!D32 -> 8549.2243 | E40: =[1]CUADRO5!E32 -> 5518.677 | F40: =[1]CUADRO5!F32 -> 3709.8584 | G40: =[1]CUADRO5!G32 -> 3173.415 | H40: =[1]CUADRO5!I32 -> 3865.7529
A41: Menos de 1 salario y no declaran horas | B41: =[1]CUADRO5!C33 -> 11000 | C41: =[1]CUADRO5!J33 -> 11000 | D41: =[1]CUADRO5!D33 -> 11000 | E41: =[1]CUADRO5!E33 -> 0 | F41: =[1]CUADRO5!F33 -> 0 | G41: =[1]CUADRO5!G33 -> 0 | H41: =[1]CUADRO5!I33 -> 0
A42: De 1 a 2 salarios | B42: =[1]CUADRO5!C34 -> 13543.036 | C42: =[1]CUADRO5!J34 -> 13924.196 | D42: =[1]CUADRO5!D34 -> 16323.229 | E42: =[1]CUADRO5!E34 -> 13154.799 | F42: =[1]CUADRO5!F34 -> 13646.836 | G42: =[1]CUADRO5!G34 -> 12406.54 | H42: =[1]CUADRO5!I34 -> 11083.782
A43: De 2 a 3 salarios | B43: =[1]CUADRO5!C35 -> 23482.864 | C43: =[1]CUADRO5!J35 -> 24961.083 | D43: =[1]CUADRO5!D35 -> 27101.186 | E43: =[1]CUADRO5!E35 -> 24104.896 | F43: =[1]CUADRO5!F35 -> 0 | G43: =[1]CUADRO5!G35 -> 21254.855 | H43: =[1]CUADRO5!I35 -> 20382.551
A44: De 3 a 4 salarios | B44: =[1]CUADRO5!C36 -> 31751.821 | C44: =[1]CUADRO5!J36 -> 32424.618 | D44: =[1]CUADRO5!D36 -> 32493.508 | E44: =[1]CUADRO5!E36 -> 32400.239 | F44: =[1]CUADRO5!F36 -> 0 | G44: =[1]CUADRO5!G36 -> 31303.723 | H44: =[1]CUADRO5!I36 -> 27000
A45: De 4 salarios y más | B45: =[1]CUADRO5!C37 -> 56006.165 | C45: =[1]CUADRO5!J37 -> 73376.765 | D45: =[1]CUADRO5!D37 -> 82348.977 | E45: =[1]CUADRO5!E37 -> 71865.876 | F45: =[1]CUADRO5!F37 -> 0 | G45: =[1]CUADRO5!G37 -> 46798.395 | H45: =[1]CUADRO5!I37 -> 48000
A47: Rama de Actividad
A48: Primaria | B48: =[1]CUADRO5!C39 -> 3230.6082 | C48: =[1]CUADRO5!J39 -> 3255.5395 | D48: =[1]CUADRO5!D39 -> 0 | E48: =[1]CUADRO5!E39 -> 3255.5395 | F48: =[1]CUADRO5!F39 -> 0 | G48: =[1]CUADRO5!G39 -> 3307.5215 | H48: =[1]CUADRO5!I39 -> 2831.5188
A49: Secundaria | B49: =[1]CUADRO5!C40 -> 6828.7497 | C49: =[1]CUADRO5!J40 -> 8928.1275 | D49: =[1]CUADRO5!D40 -> 0 | E49: =[1]CUADRO5!E40 -> 8890.8969 | F49: =[1]CUADRO5!F40 -> 0 | G49: =[1]CUADRO5!G40 -> 3408.4512 | H49: =[1]CUADRO5!I40 -> 5758.3574
A50: Terciaria | B50: =[1]CUADRO5!C41 -> 7255.3302 | C50: =[1]CUADRO5!J41 -> 8224.8593 | D50: =[1]CUADRO5!D41 -> 13459.893 | E50: =[1]CUADRO5!E41 -> 7793.3375 | F50: =[1]CUADRO5!F41 -> 3463.0732 | G50: =[1]CUADRO5!G41 -> 5940.1398 | H50: =[1]CUADRO5!I41 -> 3690.8372
A51: No sabe, no responde | B51: =[1]CUADRO5!C42 -> 6176.9418 | C51: =[1]CUADRO5!J42 -> 6485.3922 | D51: =[1]CUADRO5!D42 -> 12519.452 | E51: =[1]CUADRO5!E42 -> 6001.7412 | F51: =[1]CUADRO5!F42 -> 0 | G51: =[1]CUADRO5!G42 -> 5617.242 | H51: =[1]CUADRO5!I42 -> 4099.8773
A55: ='C01'!$A$32 -> Fuente: Instituto Nacional de Estadística (INE). LXXIII Encuesta Permanente de Hogares de Propósitos Múltiples, Otubre 2021
A56: 1/ No. de salarios mínimos (personas que declaran ingresos) y trabajan 40 Hrs.en ele sector Publico y 44 Hrs.en el sector Privado
A59: Cuadro No. 5. Ingreso promedio de las personas ocupadas por categoría ocupacional, según dominio,
A60: nivel educativo, rango de edad, sexo, número de salarios mínimos, rama de actividad y ocupación
A61: Ocupación Principal, Lps/Mes/Persona
A62: ....... Continuación
A63: Categorías | B63: Ingreso Promedio
B64: Ingreso Promedio | C64: Asalariados | G64: Cuenta propia | H64: Contratista Dependiente
C65: Total | D65: Público | E65: Privado | F65: Doméstico
A67: Total Nacional | B67: =B8 -> 6054.1017 | C67: =C8 -> 7126.7816 | D67: =D8 -> 13445.24 | E67: =E8 -> 6384.9227 | F67: =F8 -> 3371.8971 | G67: =G8 -> 4882.8691
A69: Rama de Actividad (1 Dig.)
A70: Agricultura, ganaderia, silvicultura y pesca | B70: =[1]CUADRO5!C44 -> 3014.8487 | C70: =[1]CUADRO5!J44 -> 3213.1556 | D70: =[1]CUADRO5!D44 -> 0 | E70: =[1]CUADRO5!E44 -> 2965.5196 | F70: =[1]CUADRO5!F44 -> 0 | G70: =[1]CUADRO5!G44 -> 3255.8139 | H70: =[1]CUADRO5!I44 -> 2782.1106
A71: Explotacion de minas y canteras | B71: =[1]CUADRO5!C45 -> 4863.1564 | C71: =[1]CUADRO5!J45 -> 6719.8464 | D71: =[1]CUADRO5!D45 -> 0 | E71: =[1]CUADRO5!E45 -> 6234.2795 | F71: =[1]CUADRO5!F45 -> 0 | G71: =[1]CUADRO5!G45 -> 3989.2789 | H71: =[1]CUADRO5!I45 -> 643.52442
A72: Industria manufacturera | B72: =[1]CUADRO5!C46 -> 6705.8533 | C72: =[1]CUADRO5!J46 -> 8928.1275 | D72: =[1]CUADRO5!D46 -> 0 | E72: =[1]CUADRO5!E46 -> 8758.9539 | F72: =[1]CUADRO5!F46 -> 0 | G72: =[1]CUADRO5!G46 -> 3320.1931 | H72: =[1]CUADRO5!I46 -> 5758.3574
A73: Suministro de electricidad, gas, vapor y aire acondicionado | B73: =[1]CUADRO5!C47 -> 5649.7985 | C73: =[1]CUADRO5!J47 -> 8290.0138 | D73: =[1]CUADRO5!D47 -> 7000 | E73: =[1]CUADRO5!E47 -> 8646.5551 | F73: =[1]CUADRO5!F47 -> 0 | G73: =[1]CUADRO5!G47 -> 202.5 | H73: =[1]CUADRO5!I47 -> 0
A74: Suministro de agua, evacuacion de aguas residuales, gestion de desechos y descontaminacion | B74: =[1]CUADRO5!C48 -> 5382.2777 | C74: =[1]CUADRO5!J48 -> 8867.3635 | D74: =[1]CUADRO5!D48 -> 12976.864 | E74: =[1]CUADRO5!E48 -> 6145.2455 | F74: =[1]CUADRO5!F48 -> 0 | G74: =[1]CUADRO5!G48 -> 478.13014 | H74: =[1]CUADRO5!I48 -> 1062.4744
A75: Construccion | B75: =[1]CUADRO5!C49 -> 5909.7895 | C75: =[1]CUADRO5!J49 -> 5842.3193 | D75: =[1]CUADRO5!D49 -> 6030 | E75: =[1]CUADRO5!E49 -> 5693.6735 | F75: =[1]CUADRO5!F49 -> 0 | G75: =[1]CUADRO5!G49 -> 8650.5294 | H75: =[1]CUADRO5!I49 -> 4044.7384
A76: Comercio al por mayor y al por menor, reparacion de vehiculos automotores y motocicletas | B76: =[1]CUADRO5!C50 -> 6269.7536 | C76: =[1]CUADRO5!J50 -> 7910.11 | D76: =[1]CUADRO5!D50 -> 0 | E76: =[1]CUADRO5!E50 -> 7706.9495 | F76: =[1]CUADRO5!F50 -> 0 | G76: =[1]CUADRO5!G50 -> 5282.3029 | H76: =[1]CUADRO5!I50 -> 2441.4351
A77: Transporte y almacenamiento | B77: =[1]CUADRO5!C51 -> 8806.3203 | C77: =[1]CUADRO5!J51 -> 9180.3705 | D77: =[1]CUADRO5!D51 -> 12588.083 | E77: =[1]CUADRO5!E51 -> 8462.1588 | F77: =[1]CUADRO5!F51 -> 0 | G77: =[1]CUADRO5!G51 -> 10930.058 | H77: =[1]CUADRO5!I51 -> 5090.1713
A78: Actividades de alojamiento y de servicios de comida | B78: =[1]CUADRO5!C52 -> 6187.7199 | C78: =[1]CUADRO5!J52 -> 6594.9495 | D78: =[1]CUADRO5!D52 -> 0 | E78: =[1]CUADRO5!E52 -> 6485.3373 | F78: =[1]CUADRO5!F52 -> 0 | G78: =[1]CUADRO5!G52 -> 5819.2045 | H78: =[1]CUADRO5!I52 -> 6324.5726
A79: Informacion y comunicaciones | B79: =[1]CUADRO5!C53 -> 13216.383 | C79: =[1]CUADRO5!J53 -> 13139.617 | D79: =[1]CUADRO5!D53 -> 0 | E79: =[1]CUADRO5!E53 -> 13139.617 | F79: =[1]CUADRO5!F53 -> 0 | G79: =[1]CUADRO5!G53 -> 13996.038 | H79: =[1]CUADRO5!I53 -> 0
A80: Actividades finacieras y de seguros | B80: =[1]CUADRO5!C54 -> 17309.793 | C80: =[1]CUADRO5!J54 -> 17309.793 | D80: =[1]CUADRO5!D54 -> 25000 | E80: =[1]CUADRO5!E54 -> 17201.658 | F80: =[1]CUADRO5!F54 -> 0 | G80: =[1]CUADRO5!G54 -> 0 | H80: =[1]CUADRO5!I54 -> 0
A81: Actividades inmobiliarias | B81: =[1]CUADRO5!C55 -> 10132.722 | C81: =[1]CUADRO5!J55 -> 10257.796 | D81: =[1]CUADRO5!D55 -> 0 | E81: =[1]CUADRO5!E55 -> 10257.796 | F81: =[1]CUADRO5!F55 -> 0 | G81: =[1]CUADRO5!G55 -> 16386.029 | H81: =[1]CUADRO5!I55 -> 3350.7132
... A91: Rama de actividad NO especificada | B91: =[1]CUADRO5!C65 -> 0 | C91: =[1]CUADRO5!J65 -> 0 | D91: =[1]CUADRO5!D65 -> 0 | E91: =[1]CUADRO5!E65 -> 0 | F91: =[1]CUADRO5!F65 -> 0 | G91: =[1]CUADRO5!G65 -> 0 | H91: =[1]CUADRO5!I65 -> 0
A92: NS/NR | B92: =[1]CUADRO5!C67 -> 5851.6269 | C92: =[1]CUADRO5!J67 -> 6485.3922 | D92: =[1]CUADRO5!D67 -> 12519.452 | E92: =[1]CUADRO5!E67 -> 5712.8396 | F92: =[1]CUADRO5!F67 -> 0 | G92: =[1]CUADRO5!G67 -> 5327.6577 | H92: =[1]CUADRO5!I67 -> 3360.812
A94: Ocupación (1 Dig.)
A95: Directores y gerentes | B95: =[1]CUADRO5!C68 -> 14313.675 | C95: =[1]CUADRO5!J68 -> 15300.593 | D95: =[1]CUADRO5!D68 -> 16097.977 | E95: =[1]CUADRO5!E68 -> 14989.889 | F95: =[1]CUADRO5!F68 -> 0 | G95: =[1]CUADRO5!G68 -> 13168.523 | H95: =[1]CUADRO5!I68 -> 6000
A96: Profesionales cientificos e intelectuales | B96: =[1]CUADRO5!C69 -> 15890.491 | C96: =[1]CUADRO5!J69 -> 15726.563 | D96: =[1]CUADRO5!D69 -> 16959.785 | E96: =[1]CUADRO5!E69 -> 13989.675 | F96: =[1]CUADRO5!F69 -> 0 | G96: =[1]CUADRO5!G69 -> 17311.533 | H96: =[1]CUADRO5!I69 -> 18565.433
A97: Tecnicos y profesionales de nivel medio | B97: =[1]CUADRO5!C70 -> 10491.847 | C97: =[1]CUADRO5!J70 -> 11221.702 | D97: =[1]CUADRO5!D70 -> 11287.519 | E97: =[1]CUADRO5!E70 -> 11178.204 | F97: =[1]CUADRO5!F70 -> 0 | G97: =[1]CUADRO5!G70 -> 8478.9701 | H97: =[1]CUADRO5!I70 -> 3614.9117
A98: Personal de apoyo administrativo | B98: =[1]CUADRO5!C71 -> 11559.92 | C98: =[1]CUADRO5!J71 -> 11858.581 | D98: =[1]CUADRO5!D71 -> 12468.064 | E98: =[1]CUADRO5!E71 -> 11662.02 | F98: =[1]CUADRO5!F71 -> 0 | G98: =[1]CUADRO5!G71 -> 7421.2024 | H98: =[1]CUADRO5!I71 -> 9454.7709
A99: Trabajadores de los servicios y vendedores de comercios y mercados | B99: =[1]CUADRO5!C72 -> 5564.0124 | C99: =[1]CUADRO5!J72 -> 6783.3574 | D99: =[1]CUADRO5!D72 -> 10805.224 | E99: =[1]CUADRO5!E72 -> 6998.5329 | F99: =[1]CUADRO5!F72 -> 2881.5217 | G99: =[1]CUADRO5!G72 -> 4803.0938 | H99: =[1]CUADRO5!I72 -> 2597.83
A100: Agricultores y trabajadores calificados agropecuarios forestales y pesqueros | B100: =[1]CUADRO5!C73 -> 3813.8155 | C100: =[1]CUADRO5!J73 -> 4784.5099 | D100: =[1]CUADRO5!D73 -> 0 | E100: =[1]CUADRO5!E73 -> 4600.5488 | F100: =[1]CUADRO5!F73 -> 0 | G100: =[1]CUADRO5!G73 -> 3593.2058 | H100: =[1]CUADRO5!I73 -> 3386
A101: Oficiales, operarios y artesanos de artes mecanicas y de otros oficios | B101: =[1]CUADRO5!C74 -> 5636.6411 | C101: =[1]CUADRO5!J74 -> 6931.8028 | D101: =[1]CUADRO5!D74 -> 10419.663 | E101: =[1]CUADRO5!E74 -> 6681.3394 | F101: =[1]CUADRO5!F74 -> 0 | G101: =[1]CUADRO5!G74 -> 4280.5388 | H101: =[1]CUADRO5!I74 -> 5077.6444
A102: Operadores de instalaciones y maquinas y ensambladores | B102: =[1]CUADRO5!C75 -> 9472.8802 | C102: =[1]CUADRO5!J75 -> 10218.995 | D102: =[1]CUADRO5!D75 -> 12294.994 | E102: =[1]CUADRO5!E75 -> 10076.559 | F102: =[1]CUADRO5!F75 -> 0 | G102: =[1]CUADRO5!G75 -> 8489.7425 | H102: =[1]CUADRO5!I75 -> 5705.0398
A103: Ocupaciones elementales | B103: =[1]CUADRO5!C76 -> 3517.3519 | C103: =[1]CUADRO5!J76 -> 4027.746 | D103: =[1]CUADRO5!D76 -> 11053.639 | E103: =[1]CUADRO5!E76 -> 3548.6084 | F103: =[1]CUADRO5!F76 -> 3583.6231 | G103: =[1]CUADRO5!G76 -> 2409.8676 | H103: =[1]CUADRO5!I76 -> 2543.6485
A104: Ocupaciones militares | B104: =[1]CUADRO5!C77 -> 12078.062 | C104: =[1]CUADRO5!J77 -> 13273.418 | D104: =[1]CUADRO5!D77 -> 12078.062 | E104: =[1]CUADRO5!E77 -> 0 | F104: =[1]CUADRO5!F77 -> 0 | G104: =[1]CUADRO5!G77 -> 0 | H104: =[1]CUADRO5!I77 -> 0
A105: Ocupaciones NO especificadas
A106: NS/NR
A107: ='C01'!$A$32 -> Fuente: Instituto Nacional de Estadística (INE). LXXIII Encuesta Permanente de Hogares de Propósitos Múltiples, Otubre 2021

Sheet C06
A1: Cuadro No. 6. Años de estudio promedio de las personas ocupadas por categoría ocupacional, según dominio, nivel educativo,rangos de edad, sexo, número de salarios mínimos devengados, rama de actividad y ocupación
A2: Ocupación Principal
A3: Categorías | B3: Declaran Ingresos | C3: Asalariados | G3: Cuenta Propia | H3: Aprendiz | I3: Trabajador Familiar | J3: Contratista Dependiente
C4: Total | D4: Público | E4: Privado | F4: Doméstico
A6: Total Nacional | B6: =[1]CUADRO6!C5 -> 7.7148286 | C6: =[1]CUADRO6!L5 -> 8.8447292 | D6: =[1]CUADRO6!D5 -> 13.087744 | E6: =[1]CUADRO6!E5 -> 8.1821991 | F6: =[1]CUADRO6!F5 -> 6.945526 | G6: =[1]CUADRO6!G5 -> 7.1723676 | H6: =[1]CUADRO6!I5 -> 6.6279633 | I6: =[1]CUADRO6!I5 -> 6.6279633 | J6: =[1]CUADRO6!J5 -> 6.3980304
A8: Dominios
A9: Urbano | B9: =[1]CUADRO6!C7 -> 8.8457674 | C9: =[1]CUADRO6!L7 -> 9.902411 | D9: =[1]CUADRO6!D7 -> 13.477883 | E9: =[1]CUADRO6!E7 -> 9.3882864 | F9: =[1]CUADRO6!F7 -> 7.2169102 | G9: =[1]CUADRO6!G7 -> 8.1696373 | H9: =[1]CUADRO6!I7 -> 7.6628398 | I9: =[1]CUADRO6!I7 -> 7.6628398 | J9: =[1]CUADRO6!J7 -> 7.4238916
A10: Distrito Central | B10: =[1]CUADRO6!C9 -> 9.6865546 | C10: =[1]CUADRO6!L9 -> 10.816425 | D10: =[1]CUADRO6!D9 -> 13.229592 | E10: =[1]CUADRO6!E9 -> 10.401022 | F10: =[1]CUADRO6!F9 -> 7.6533333 | G10: =[1]CUADRO6!G9 -> 8.9095128 | H10: =[1]CUADRO6!I9 -> 8.1263158 | I10: =[1]CUADRO6!I9 -> 8.1263158 | J10: =[1]CUADRO6!J9 -> 8.2747253
A11: San Pedro Sula | B11: =[1]CUADRO6!C10 -> 8.7372014 | C11: =[1]CUADRO6!L10 -> 9.6959064 | D11: =[1]CUADRO6!D10 -> 14.043478 | E11: =[1]CUADRO6!E10 -> 9.6382979 | F11: =[1]CUADRO6!F10 -> 6.1724138 | G11: =[1]CUADRO6!G10 -> 8.6807692 | H11: =[1]CUADRO6!I10 -> 8.0634921 | I11: =[1]CUADRO6!I10 -> 8.0634921 | J11: =[1]CUADRO6!J10 -> 7.3170732
A12: Resto urbano | B12: =[1]CUADRO6!C11 -> 8.589711 | C12: =[1]CUADRO6!L11 -> 9.6253239 | D12: =[1]CUADRO6!D11 -> 13.558515 | E12: =[1]CUADRO6!E11 -> 9.0106305 | F12: =[1]CUADRO6!F11 -> 7.227781 | G12: =[1]CUADRO6!G11 -> 7.8577845 | H12: =[1]CUADRO6!I11 -> 7.4904717 | I12: =[1]CUADRO6!I11 -> 7.4904717 | J12: =[1]CUADRO6!J11 -> 7.2218431
A13: Rural | B13: =[1]CUADRO6!C12 -> 6.0854846 | C13: =[1]CUADRO6!L12 -> 6.7125706 | D13: =[1]CUADRO6!D12 -> 11.596154 | E13: =[1]CUADRO6!E12 -> 6.1406926 | F13: =[1]CUADRO6!F12 -> 6.2285714 | G13: =[1]CUADRO6!G12 -> 5.7778894 | H13: =[1]CUADRO6!I12 -> 5.713253 | I13: =[1]CUADRO6!I12 -> 5.713253 | J13: =[1]CUADRO6!J12 -> 5.5596817
A15: Nivel Educativo
A16: Sin Nivel
A17: Primaria | B17: =[1]CUADRO6!C14 -> 5.0179939 | C17: =[1]CUADRO6!L14 -> 5.2572772 | D17: =[1]CUADRO6!D14 -> 5.1385559 | E17: =[1]CUADRO6!E14 -> 5.1971904 | F17: =[1]CUADRO6!F14 -> 5.2351573 | G17: =[1]CUADRO6!G14 -> 4.816511 | H17: =[1]CUADRO6!I14 -> 5.0938225 | I17: =[1]CUADRO6!I14 -> 5.0938225 | J17: =[1]CUADRO6!J14 -> 4.9376262
A18: Secundaria | B18: =[1]CUADRO6!C15 -> 10.671207 | C18: =[1]CUADRO6!L15 -> 10.817888 | D18: =[1]CUADRO6!D15 -> 11.272637 | E18: =[1]CUADRO6!E15 -> 10.779948 | F18: =[1]CUADRO6!F15 -> 10.140318 | G18: =[1]CUADRO6!G15 -> 10.494659 | H18: =[1]CUADRO6!I15 -> 10.020769 | I18: =[1]CUADRO6!I15 -> 10.020769 | J18: =[1]CUADRO6!J15 -> 10.445084
A19: Superior | B19: =[1]CUADRO6!C16 -> 16.068496 | C19: =[1]CUADRO6!L16 -> 16.332128 | D19: =[1]CUADRO6!D16 -> 16.726119 | E19: =[1]CUADRO6!E16 -> 16.033047 | F19: =[1]CUADRO6!F16 -> 0 | G19: =[1]CUADRO6!G16 -> 15.978995 | H19: =[1]CUADRO6!I16 -> 16.171371 | I19: =[1]CUADRO6!I16 -> 16.171371 | J19: =[1]CUADRO6!J16 -> 15.418271
A20: No sabe, no responde | B20: =[1]CUADRO6!C17 -> 0 | C20: =[1]CUADRO6!L17 -> 0 | D20: =[1]CUADRO6!D17 -> 0 | E20: =[1]CUADRO6!E17 -> 0 | F20: =[1]CUADRO6!F17 -> 0 | G20: =[1]CUADRO6!G17 -> 0 | H20: =[1]CUADRO6!I17 -> 0 | I20: =[1]CUADRO6!I17 -> 0 | J20: =[1]CUADRO6!J17 -> 0
A22: Rango de Edad
A23: De 15 a 18 años | B23: =[1]CUADRO6!C18 -> 7.4435716 | C23: =[1]CUADRO6!L18 -> 7.4872295 | D23: =[1]CUADRO6!D18 -> 10 | E23: =[1]CUADRO6!E18 -> 7.4578032 | F23: =[1]CUADRO6!F18 -> 7.6651229 | G23: =[1]CUADRO6!G18 -> 8.3396402 | H23: =[1]CUADRO6!I18 -> 7.7224028 | I23: =[1]CUADRO6!I18 -> 7.7224028 | J23: =[1]CUADRO6!J18 -> 6.9058504
A24: De 19 a 24 años | B24: =[1]CUADRO6!C19 -> 8.7566078 | C24: =[1]CUADRO6!L19 -> 9.0242205 | D24: =[1]CUADRO6!D19 -> 10.930735 | E24: =[1]CUADRO6!E19 -> 8.9828797 | F24: =[1]CUADRO6!F19 -> 8.6187718 | G24: =[1]CUADRO6!G19 -> 8.7238096 | H24: =[1]CUADRO6!I19 -> 8.388121 | I24: =[1]CUADRO6!I19 -> 8.388121 | J24: =[1]CUADRO6!J19 -> 7.4928628
A25: De 25 a 29 años | B25: =[1]CUADRO6!C20 -> 9.2994982 | C25: =[1]CUADRO6!L20 -> 10.074336 | D25: =[1]CUADRO6!D20 -> 13.620385 | E25: =[1]CUADRO6!E20 -> 9.6927507 | F25: =[1]CUADRO6!F20 -> 8.1773737 | G25: =[1]CUADRO6!G20 -> 9.4543362 | H25: =[1]CUADRO6!I20 -> 9.2898451 | I25: =[1]CUADRO6!I20 -> 9.2898451 | J25: =[1]CUADRO6!J20 -> 7.7430432
A26: De 30 a 35 años | B26: =[1]CUADRO6!C21 -> 8.2879961 | C26: =[1]CUADRO6!L21 -> 9.2766909 | D26: =[1]CUADRO6!D21 -> 13.676275 | E26: =[1]CUADRO6!E21 -> 8.9273331 | F26: =[1]CUADRO6!F21 -> 6.925878 | G26: =[1]CUADRO6!G21 -> 8.3146204 | H26: =[1]CUADRO6!I21 -> 7.6772911 | I26: =[1]CUADRO6!I21 -> 7.6772911 | J26: =[1]CUADRO6!J21 -> 6.4368041
A27: De 36 a 44 años | B27: =[1]CUADRO6!C22 -> 7.7667636 | C27: =[1]CUADRO6!L22 -> 8.7333603 | D27: =[1]CUADRO6!D22 -> 13.869101 | E27: =[1]CUADRO6!E22 -> 8.0241135 | F27: =[1]CUADRO6!F22 -> 6.4997165 | G27: =[1]CUADRO6!G22 -> 7.4308533 | H27: =[1]CUADRO6!I22 -> 6.8747581 | I27: =[1]CUADRO6!I22 -> 6.8747581 | J27: =[1]CUADRO6!J22 -> 6.5035891
A28: De 45 a 59 años | B28: =[1]CUADRO6!C23 -> 7.1546929 | C28: =[1]CUADRO6!L23 -> 8.6288054 | D28: =[1]CUADRO6!D23 -> 13.226529 | E28: =[1]CUADRO6!E23 -> 7.2233045 | F28: =[1]CUADRO6!F23 -> 5.7413249 | G28: =[1]CUADRO6!G23 -> 6.5493384 | H28: =[1]CUADRO6!I23 -> 6.3616433 | I28: =[1]CUADRO6!I23 -> 6.3616433 | J28: =[1]CUADRO6!J23 -> 5.3934854
A29: De 60 años y más | B29: =[1]CUADRO6!C24 -> 5.6280622 | C29: =[1]CUADRO6!L24 -> 6.6829308 | D29: =[1]CUADRO6!D24 -> 10.521951 | E29: =[1]CUADRO6!E24 -> 5.5764759 | F29: =[1]CUADRO6!F24 -> 5.4542966 | G29: =[1]CUADRO6!G24 -> 5.520048 | H29: =[1]CUADRO6!I24 -> 6.2281093 | I29: =[1]CUADRO6!I24 -> 6.2281093 | J29: =[1]CUADRO6!J24 -> 4.395094
A31: Sexo
A32: Hombre | B32: =[1]CUADRO6!C25 -> 7.3507661 | C32: =[1]CUADRO6!L25 -> 8.1245463 | D32: =[1]CUADRO6!D25 -> 12.001914 | E32: =[1]CUADRO6!E25 -> 7.6636785 | F32: =[1]CUADRO6!F25 -> 6.4309289 | G32: =[1]CUADRO6!G25 -> 7.3367936 | H32: =[1]CUADRO6!I25 -> 6.1258467 | I32: =[1]CUADRO6!I25 -> 6.1258467 | J32: =[1]CUADRO6!J25 -> 6.3051169
A33: Mujer | B33: =[1]CUADRO6!C26 -> 8.2284435 | C33: =[1]CUADRO6!L26 -> 10.087183 | D33: =[1]CUADRO6!D26 -> 13.783033 | E33: =[1]CUADRO6!E26 -> 9.431961 | F33: =[1]CUADRO6!F26 -> 6.9706004 | G33: =[1]CUADRO6!G26 -> 7.0143084 | H33: =[1]CUADRO6!I26 -> 7.0927773 | I33: =[1]CUADRO6!I26 -> 7.0927773 | J33: =[1]CUADRO6!J26 -> 6.6523687
A35: No. de Salarios Mínimos 1/
A36: Menos de un salario
A37: Menos de 1 salario y trabaja menos de una jornada laboral | B37: =[1]CUADRO6!C27 -> 6.9084727 | C37: =[1]CUADRO6!L27 -> 7.2170093 | D37: =[1]CUADRO6!D27 -> 11.423931 | E37: =[1]CUADRO6!E27 -> 6.8790769 | F37: =[1]CUADRO6!F27 -> 7.2207027 | G37: =[1]CUADRO6!G27 -> 6.6443329 | H37: =[1]CUADRO6!I27 -> 0 | I37: =[1]CUADRO6!I27 -> 0 | J37: =[1]CUADRO6!J27 -> 6.2180747
A38: Menos de 1 salario y trabaja mas de una jornada laboral | B38: =[1]CUADRO6!C28 -> 7.5070582 | C38: =[1]CUADRO6!L28 -> 7.8151226 | D38: =[1]CUADRO6!D28 -> 10.460029 | E38: =[1]CUADRO6!E28 -> 7.7510403 | F38: =[1]CUADRO6!F28 -> 6.7298311 | G38: =[1]CUADRO6!G28 -> 6.7102695 | H38: =[1]CUADRO6!I28 -> 0 | I38: =[1]CUADRO6!I28 -> 0 | J38: =[1]CUADRO6!J28 -> 6.6179926
A39: Menos de 1 salario y no declaran horas | B39: =[1]CUADRO6!C29 -> 11 | C39: =[1]CUADRO6!L29 -> 11 | D39: =[1]CUADRO6!D29 -> 11 | E39: =[1]CUADRO6!E29 -> 0 | F39: =[1]CUADRO6!F29 -> 0 | G39: =[1]CUADRO6!G29 -> 0 | H39: =[1]CUADRO6!I29 -> 0 | I39: =[1]CUADRO6!I29 -> 0 | J39: =[1]CUADRO6!J29 -> 0
A40: De 1 a 2 salarios | B40: =[1]CUADRO6!C30 -> 10.321261 | C40: =[1]CUADRO6!L30 -> 10.92111 | D40: =[1]CUADRO6!D30 -> 13.909588 | E40: =[1]CUADRO6!E30 -> 9.9753492 | F40: =[1]CUADRO6!F30 -> 8.5945617 | G40: =[1]CUADRO6!G30 -> 8.430354 | H40: =[1]CUADRO6!I30 -> 0 | I40: =[1]CUADRO6!I30 -> 0 | J40: =[1]CUADRO6!J30 -> 7.928595
A41: De 2 a 3 salarios | B41: =[1]CUADRO6!C31 -> 12.229329 | C41: =[1]CUADRO6!L31 -> 13.439936 | D41: =[1]CUADRO6!D31 -> 16.46497 | E41: =[1]CUADRO6!E31 -> 12.081867 | F41: =[1]CUADRO6!F31 -> 0 | G41: =[1]CUADRO6!G31 -> 10.3703 | H41: =[1]CUADRO6!I31 -> 0 | I41: =[1]CUADRO6!I31 -> 0 | J41: =[1]CUADRO6!J31 -> 12.84815
A42: De 3 a 4 salarios | B42: =[1]CUADRO6!C32 -> 11.90235 | C42: =[1]CUADRO6!L32 -> 13.401796 | D42: =[1]CUADRO6!D32 -> 15.083197 | E42: =[1]CUADRO6!E32 -> 12.715734 | F42: =[1]CUADRO6!F32 -> 0 | G42: =[1]CUADRO6!G32 -> 10.514435 | H42: =[1]CUADRO6!I32 -> 0 | I42: =[1]CUADRO6!I32 -> 0 | J42: =[1]CUADRO6!J32 -> 6
A43: De 4 salarios y más | B43: =[1]CUADRO6!C33 -> 11.29746 | C43: =[1]CUADRO6!L33 -> 14.465213 | D43: =[1]CUADRO6!D33 -> 8.6300392 | E43: =[1]CUADRO6!E33 -> 15.540893 | F43: =[1]CUADRO6!F33 -> 0 | G43: =[1]CUADRO6!G33 -> 9.6863494 | H43: =[1]CUADRO6!I33 -> 0 | I43: =[1]CUADRO6!I33 -> 0 | J43: =[1]CUADRO6!J33 -> 6
A44: No declran ingresos | B44: =[1]CUADRO6!C34 -> 0 | C44: =[1]CUADRO6!L34 -> 11.193813 | D44: =[1]CUADRO6!D34 -> 14.190056 | E44: =[1]CUADRO6!E34 -> 10.510198 | F44: =[1]CUADRO6!F34 -> 7.6760814 | G44: =[1]CUADRO6!G34 -> 7.6049059 | H44: =[1]CUADRO6!I34 -> 7.6772377 | I44: =[1]CUADRO6!I34 -> 7.6772377 | J44: =[1]CUADRO6!J34 -> 6.6200236
A46: Rama de Actividad
A47: Primaria | B47: =[1]CUADRO6!C35 -> 5.4947405 | C47: =[1]CUADRO6!L35 -> 5.576323 | D47: =[1]CUADRO6!D35 -> 0 | E47: =[1]CUADRO6!E35 -> 5.576323 | F47: =[1]CUADRO6!F35 -> 0 | G47: =[1]CUADRO6!G35 -> 5.7878727 | H47: =[1]CUADRO6!I35 -> 6.1763938 | I47: =[1]CUADRO6!I35 -> 6.1763938 | J47: =[1]CUADRO6!J35 -> 5.3726273
A48: Secundaria | B48: =[1]CUADRO6!C36 -> 8.0168605 | C48: =[1]CUADRO6!L36 -> 9.0760902 | D48: =[1]CUADRO6!D36 -> 0 | E48: =[1]CUADRO6!E36 -> 9.0687169 | F48: =[1]CUADRO6!F36 -> 0 | G48: =[1]CUADRO6!G36 -> 6.7496103 | H48: =[1]CUADRO6!I36 -> 8.2624279 | I48: =[1]CUADRO6!I36 -> 8.2624279 | J48: =[1]CUADRO6!J36 -> 6.4015263
A49: Terciaria | B49: =[1]CUADRO6!C37 -> 8.6504049 | C49: =[1]CUADRO6!L37 -> 9.8222568 | D49: =[1]CUADRO6!D37 -> 13.021474 | E49: =[1]CUADRO6!E37 -> 9.3678678 | F49: =[1]CUADRO6!F37 -> 7.0245023 | G49: =[1]CUADRO6!G37 -> 7.8017803 | H49: =[1]CUADRO6!I37 -> 8.3735848 | I49: =[1]CUADRO6!I37 -> 8.3735848 | J49: =[1]CUADRO6!J37 -> 7.2198943
A50: No sabe, no responde | B50: =[1]CUADRO6!C38 -> 7.9165451 | C50: =[1]CUADRO6!L38 -> 9.9665401 | D50: =[1]CUADRO6!D38 -> 14.777159 | E50: =[1]CUADRO6!E38 -> 9.1505226 | F50: =[1]CUADRO6!F38 -> 0 | G50: =[1]CUADRO6!G38 -> 6.9489184 | H50: =[1]CUADRO6!I38 -> 8.6193809 | I50: =[1]CUADRO6!I38 -> 8.6193809 | J50: =[1]CUADRO6!J38 -> 6.4820027
A53: ='C01'!$A$32 -> Fuente: Instituto Nacional de Estadística (INE). LXXIII Encuesta Permanente de Hogares de Propósitos Múltiples, Otubre 2021
A54: ='C05'!A56 -> 1/ No. de salarios mínimos (personas que declaran ingresos) y trabajan 40 Hrs.en ele sector Publico y 44 Hrs.en el sector Privado
A57: Cuadro No. 6. Años de estudio promedio de las personas ocupadas por categoría ocupacional, según dominio, nivel educativo,
A58: rangos de edad, sexo, número de salarios mínimos devengados, rama de actividad y ocupación
A59: Ocupación Principal
A60: ....... Continuación
A61: Categorías | B61: Declaran Ingresos | C61: Asalariados | G61: Cuenta Propia | H61: Aprendiz | I61: Trabajador Familiar | J61: Contratista Dependiente
C62: Total | D62: Público | E62: Privado | F62: Doméstico
A64: Total Nacional | B64: =B6 -> 7.7148286 | C64: =C6 -> 8.8447292 | D64: =D6 -> 13.087744 | E64: =E6 -> 8.1821991 | F64: =F6 -> 6.945526 | G64: =G6 -> 7.1723676 | H64: =H6 -> 6.6279633 | I64: =I6 -> 6.6279633 | J64: =J6 -> 6.3980304
A66: Rama de Actividad (1 Dig.)
A67: Agricultura, ganaderia, silvicultura y pesca | B67: =[1]CUADRO6!C39 -> 5.3772911 | C67: =[1]CUADRO6!L39 -> 5.5765465 | D67: =[1]CUADRO6!D39 -> 0 | E67: =[1]CUADRO6!E39 -> 5.427077 | F67: =[1]CUADRO6!F39 -> 0 | G67: =[1]CUADRO6!G39 -> 5.7541207 | H67: =[1]CUADRO6!I39 -> 5.4654136 | I67: =[1]CUADRO6!I39 -> 5.4654136 | J67: =[1]CUADRO6!J39 -> 5.209386
A68: Explotacion de minas y canteras | B68: =[1]CUADRO6!C40 -> 5.9338493 | C68: =[1]CUADRO6!L40 -> 5.5635366 | D68: =[1]CUADRO6!D40 -> 0 | E68: =[1]CUADRO6!E40 -> 5.5279245 | F68: =[1]CUADRO6!F40 -> 0 | G68: =[1]CUADRO6!G40 -> 7.5465855 | H68: =[1]CUADRO6!I40 -> 0 | I68: =[1]CUADRO6!I40 -> 0 | J68: =[1]CUADRO6!J40 -> 6.7244533
A69: Industria manufacturera | B69: =[1]CUADRO6!C41 -> 7.9368446 | C69: =[1]CUADRO6!L41 -> 9.0760902 | D69: =[1]CUADRO6!D41 -> 0 | E69: =[1]CUADRO6!E41 -> 9.0002581 | F69: =[1]CUADRO6!F41 -> 0 | G69: =[1]CUADRO6!G41 -> 6.6877404 | H69: =[1]CUADRO6!I41 -> 7.0734112 | I69: =[1]CUADRO6!I41 -> 7.0734112 | J69: =[1]CUADRO6!J41 -> 6.4015263
A70: Suministro de electricidad, gas, vapor y aire acondicionado | B70: =[1]CUADRO6!C42 -> 10.068903 | C70: =[1]CUADRO6!L42 -> 13.278936 | D70: =[1]CUADRO6!D42 -> 13.266234 | E70: =[1]CUADRO6!E42 -> 13.28966 | F70: =[1]CUADRO6!F42 -> 0 | G70: =[1]CUADRO6!G42 -> 4 | H70: =[1]CUADRO6!I42 -> 0 | I70: =[1]CUADRO6!I42 -> 0 | J70: =[1]CUADRO6!J42 -> 0
A71: Suministro de agua, evacuacion de aguas residuales, gestion de desechos y descontaminacion | B71: =[1]CUADRO6!C43 -> 5.6778924 | C71: =[1]CUADRO6!L43 -> 7.9542396 | D71: =[1]CUADRO6!D43 -> 8.5997112 | E71: =[1]CUADRO6!E43 -> 7.3157328 | F71: =[1]CUADRO6!F43 -> 0 | G71: =[1]CUADRO6!G43 -> 3.4198089 | H71: =[1]CUADRO6!I43 -> 5.329593 | I71: =[1]CUADRO6!I43 -> 5.329593 | J71: =[1]CUADRO6!J43 -> 3.7064862
A72: Construccion | B72: =[1]CUADRO6!C44 -> 7.0587996 | C72: =[1]CUADRO6!L44 -> 7.1695126 | D72: =[1]CUADRO6!D44 -> 8 | E72: =[1]CUADRO6!E44 -> 7.0872931 | F72: =[1]CUADRO6!F44 -> 0 | G72: =[1]CUADRO6!G44 -> 7.0317898 | H72: =[1]CUADRO6!I44 -> 7.4455306 | I72: =[1]CUADRO6!I44 -> 7.4455306 | J72: =[1]CUADRO6!J44 -> 6.4667236
A73: Comercio al por mayor y al por menor, reparacion de vehiculos automotores y motocicletas | B73: =[1]CUADRO6!C45 -> 8.1309474 | C73: =[1]CUADRO6!L45 -> 9.5722411 | D73: =[1]CUADRO6!D45 -> 0 | E73: =[1]CUADRO6!E45 -> 9.4194353 | F73: =[1]CUADRO6!F45 -> 0 | G73: =[1]CUADRO6!G45 -> 7.3550246 | H73: =[1]CUADRO6!I45 -> 7.0780805 | I73: =[1]CUADRO6!I45 -> 7.0780805 | J73: =[1]CUADRO6!J45 -> 7.9387674
A74: Transporte y almacenamiento | B74: =[1]CUADRO6!C46 -> 7.7645966 | C74: =[1]CUADRO6!L46 -> 8.5227466 | D74: =[1]CUADRO6!D46 -> 13.666801 | E74: =[1]CUADRO6!E46 -> 8.0603373 | F74: =[1]CUADRO6!F46 -> 0 | G74: =[1]CUADRO6!G46 -> 7.8502645 | H74: =[1]CUADRO6!I46 -> 10.913499 | I74: =[1]CUADRO6!I46 -> 10.913499 | J74: =[1]CUADRO6!J46 -> 7.1316038
A75: Actividades de alojamiento y de servicios de comida | B75: =[1]CUADRO6!C47 -> 8.4135059 | C75: =[1]CUADRO6!L47 -> 9.3595337 | D75: =[1]CUADRO6!D47 -> 0 | E75: =[1]CUADRO6!E47 -> 9.2420678 | F75: =[1]CUADRO6!F47 -> 0 | G75: =[1]CUADRO6!G47 -> 7.8781391 | H75: =[1]CUADRO6!I47 -> 7.5317215 | I75: =[1]CUADRO6!I47 -> 7.5317215 | J75: =[1]CUADRO6!J47 -> 6.5134244
A76: Informacion y comunicaciones | B76: =[1]CUADRO6!C48 -> 12.45977 | C76: =[1]CUADRO6!L48 -> 12.312744 | D76: =[1]CUADRO6!D48 -> 0 | E76: =[1]CUADRO6!E48 -> 12.312744 | F76: =[1]CUADRO6!F48 -> 0 | G76: =[1]CUADRO6!G48 -> 14.351077 | H76: =[1]CUADRO6!I48 -> 0 | I76: =[1]CUADRO6!I48 -> 0 | J76: =[1]CUADRO6!J48 -> 0
A77: Actividades finacieras y de seguros | B77: =[1]CUADRO6!C49 -> 13.931026 | C77: =[1]CUADRO6!L49 -> 13.840173 | D77: =[1]CUADRO6!D49 -> 13.195472 | E77: =[1]CUADRO6!E49 -> 13.870706 | F77: =[1]CUADRO6!F49 -> 0 | G77: =[1]CUADRO6!G49 -> 16 | H77: =[1]CUADRO6!I49 -> 0 | I77: =[1]CUADRO6!I49 -> 0 | J77: =[1]CUADRO6!J49 -> 0
A78: Actividades inmobiliarias | B78: =[1]CUADRO6!C50 -> 8.5794391 | C78: =[1]CUADRO6!L50 -> 11.548559 | D78: =[1]CUADRO6!D50 -> 0 | E78: =[1]CUADRO6!E50 -> 11.548559 | F78: =[1]CUADRO6!F50 -> 0 | G78: =[1]CUADRO6!G50 -> 17.260174 | H78: =[1]CUADRO6!I50 -> 9 | I78: =[1]CUADRO6!I50 -> 9 | J78: =[1]CUADRO6!J50 -> 4.0873445
... A87: Actividades de organizaciones y organos extraterritoriales | B87: =[1]CUADRO6!C59 -> 12.563166 | C87: =[1]CUADRO6!L59 -> 12.64107 | D87: =[1]CUADRO6!D59 -> 0 | E87: =[1]CUADRO6!E59 -> 12.64107 | F87: =[1]CUADRO6!F59 -> 0 | G87: =[1]CUADRO6!G59 -> 0 | H87: =[1]CUADRO6!I59 -> 0 | I87: =[1]CUADRO6!I59 -> 0 | J87: =[1]CUADRO6!J59 -> 0
A88: Rama de actividad NO especificada
A89: NS/NR | B89: =[1]CUADRO6!C62 -> 7.6941535 | C89: =[1]CUADRO6!L62 -> 9.9665401 | D89: =[1]CUADRO6!D62 -> 14.777159 | E89: =[1]CUADRO6!E62 -> 8.9733874 | F89: =[1]CUADRO6!F62 -> 0 | G89: =[1]CUADRO6!G62 -> 6.8192618 | H89: =[1]CUADRO6!I62 -> 6.7834659 | I89: =[1]CUADRO6!I62 -> 6.7834659 | J89: =[1]CUADRO6!J62 -> 6.3220158
A91: Ocupación (1 Dig.)
A92: Directores y gerentes | B92: =[1]CUADRO6!C63 -> 12.295311 | C92: =[1]CUADRO6!L63 -> 14.235271 | D92: =[1]CUADRO6!D63 -> 15.124749 | E92: =[1]CUADRO6!E63 -> 13.986272 | F92: =[1]CUADRO6!F63 -> 0 | G92: =[1]CUADRO6!G63 -> 10.404079 | H92: =[1]CUADRO6!I63 -> 0 | I92: =[1]CUADRO6!I63 -> 0 | J92: =[1]CUADRO6!J63 -> 11.271044
A93: Profesionales cientificos e intelectuales | B93: =[1]CUADRO6!C64 -> 15.75029 | C93: =[1]CUADRO6!L64 -> 15.81451 | D93: =[1]CUADRO6!D64 -> 16.300334 | E93: =[1]CUADRO6!E64 -> 15.158826 | F93: =[1]CUADRO6!F64 -> 0 | G93: =[1]CUADRO6!G64 -> 16.295792 | H93: =[1]CUADRO6!I64 -> 0 | I93: =[1]CUADRO6!I64 -> 0 | J93: =[1]CUADRO6!J64 -> 15.168279
A94: Tecnicos y profesionales de nivel medio | B94: =[1]CUADRO6!C65 -> 11.339114 | C94: =[1]CUADRO6!L65 -> 12.345319 | D94: =[1]CUADRO6!D65 -> 12.63668 | E94: =[1]CUADRO6!E65 -> 12.154236 | F94: =[1]CUADRO6!F65 -> 0 | G94: =[1]CUADRO6!G65 -> 9.3706509 | H94: =[1]CUADRO6!I65 -> 7.4002327 | I94: =[1]CUADRO6!I65 -> 7.4002327 | J94: =[1]CUADRO6!J65 -> 8.1142737
A95: Personal de apoyo administrativo | B95: =[1]CUADRO6!C66 -> 11.606534 | C95: =[1]CUADRO6!L66 -> 11.741802 | D95: =[1]CUADRO6!D66 -> 12.826576 | E95: =[1]CUADRO6!E66 -> 11.470535 | F95: =[1]CUADRO6!F66 -> 0 | G95: =[1]CUADRO6!G66 -> 11.757303 | H95: =[1]CUADRO6!I66 -> 11.103335 | I95: =[1]CUADRO6!I66 -> 11.103335 | J95: =[1]CUADRO6!J66 -> 9
A96: Trabajadores de los servicios y vendedores de comercios y mercados | B96: =[1]CUADRO6!C67 -> 7.871419 | C96: =[1]CUADRO6!L67 -> 8.904784 | D96: =[1]CUADRO6!D67 -> 9.1447173 | E96: =[1]CUADRO6!E67 -> 8.9222738 | F96: =[1]CUADRO6!F67 -> 7.5361619 | G96: =[1]CUADRO6!G67 -> 7.4383385 | H96: =[1]CUADRO6!I67 -> 6.9269247 | I96: =[1]CUADRO6!I67 -> 6.9269247 | J96: =[1]CUADRO6!J67 -> 7.6373937
A97: Agricultores y trabajadores calificados agropecuarios forestales y pesqueros | B97: =[1]CUADRO6!C68 -> 5.5909981 | C97: =[1]CUADRO6!L68 -> 6.3123754 | D97: =[1]CUADRO6!D68 -> 0 | E97: =[1]CUADRO6!E68 -> 6.1856499 | F97: =[1]CUADRO6!F68 -> 0 | G97: =[1]CUADRO6!G68 -> 5.7396426 | H97: =[1]CUADRO6!I68 -> 5.7071857 | I97: =[1]CUADRO6!I68 -> 5.7071857 | J97: =[1]CUADRO6!J68 -> 4.8235294
A98: Oficiales, operarios y artesanos de artes mecanicas y de otros oficios | B98: =[1]CUADRO6!C69 -> 7.3906568 | C98: =[1]CUADRO6!L69 -> 7.9984999 | D98: =[1]CUADRO6!D69 -> 7.0817577 | E98: =[1]CUADRO6!E69 -> 7.9616562 | F98: =[1]CUADRO6!F69 -> 0 | G98: =[1]CUADRO6!G69 -> 6.9280847 | H98: =[1]CUADRO6!I69 -> 7.3027919 | I98: =[1]CUADRO6!I69 -> 7.3027919 | J98: =[1]CUADRO6!J69 -> 6.8434683
A99: Operadores de instalaciones y maquinas y ensambladores | B99: =[1]CUADRO6!C70 -> 8.0009284 | C99: =[1]CUADRO6!L70 -> 8.3862347 | D99: =[1]CUADRO6!D70 -> 7.772664 | E99: =[1]CUADRO6!E70 -> 8.3751506 | F99: =[1]CUADRO6!F70 -> 0 | G99: =[1]CUADRO6!G70 -> 7.4163839 | H99: =[1]CUADRO6!I70 -> 6.5386606 | I99: =[1]CUADRO6!I70 -> 6.5386606 | J99: =[1]CUADRO6!J70 -> 7.3093596
A100: Ocupaciones elementales | B100: =[1]CUADRO6!C71 -> 6.0416063 | C100: =[1]CUADRO6!L71 -> 6.5716478 | D100: =[1]CUADRO6!D71 -> 9.3508018 | E100: =[1]CUADRO6!E71 -> 6.2042498 | F100: =[1]CUADRO6!F71 -> 6.7213286 | G100: =[1]CUADRO6!G71 -> 5.9245719 | H100: =[1]CUADRO6!I71 -> 6.1561583 | I100: =[1]CUADRO6!I71 -> 6.1561583 | J100: =[1]CUADRO6!J71 -> 5.5419327
A101: Ocupaciones militares | B101: =[1]CUADRO6!C72 -> 11.337145 | C101: =[1]CUADRO6!L72 -> 9.8284863 | D101: =[1]CUADRO6!D72 -> 9.8579881 | E101: =[1]CUADRO6!E72 -> 0 | F101: =[1]CUADRO6!F72 -> 0 | G101: =[1]CUADRO6!G72 -> 0 | H101: =[1]CUADRO6!I72 -> 0 | I101: =[1]CUADRO6!I72 -> 0 | J101: =[1]CUADRO6!J72 -> 0
A102: Ocupaciones NO especificadas | B102: =[1]CUADRO6!C73 -> 0 | C102: =[1]CUADRO6!L73 -> 0 | D102: =[1]CUADRO6!D73 -> 0 | E102: =[1]CUADRO6!E73 -> 0 | F102: =[1]CUADRO6!F73 -> 0 | G102: =[1]CUADRO6!G73 -> 0 | H102: =[1]CUADRO6!I73 -> 0 | I102: =[1]CUADRO6!I73 -> 0 | J102: =[1]CUADRO6!J73 -> 0
A103: NS/NR | B103: =[1]CUADRO6!C74 -> 0 | C103: =[1]CUADRO6!L74 -> 0 | D103: =[1]CUADRO6!D74 -> 0 | E103: =[1]CUADRO6!E74 -> 0 | F103: =[1]CUADRO6!F74 -> 0 | G103: =[1]CUADRO6!G74 -> 0 | H103: =[1]CUADRO6!I74 -> 0 | I103: =[1]CUADRO6!I74 -> 0 | J103: =[1]CUADRO6!J74 -> 0
A105: ='C01'!$A$32 -> Fuente: Instituto Nacional de Estadística (INE). LXXIII Encuesta Permanente de Hogares de Propósitos Múltiples, Otubre 2021
