Workbook

Sheet Portada

Sheet C01
A1: Cuadro No. 1. Población en Edad de Trabajar (PET), Fuerza de trabajo y Tasa de Participación (TP)
A2: según dominio, nivel educativo y rango de edad
A4: Categorías | B4: Población en Edad de Trabajar (PET)/3 | H4: Fuerza de trabajo | N4: Tasa de Participación (TP)
B5: Total | C5: % 1/ | D5: Hombre | E5: % 1/ | F5: Mujer | G5: % 1/ | H5: Total | I5: % 1/ | J5: Hombre | K5: % 1/ | L5: Mujer | M5: % 1/ | N5: Total | O5: Hombre | P5: Mujer
A7: Total Nacional 2/ | B7: =B10+B14 -> 6704669.6 | C7: =SUM(E7,G7) -> 100 | D7: =D10+D14 -> 3144545.8 | E7: =IF(ISNUMBER(D7/$B$7*100),D7/$B$7*100,0) -> 46.900831 | F7: =F10+F14 -> 3560123.8 | G7: =IF(ISNUMBER(F7/$B$7*100),F7/$B$7*100,0) -> 53.099169 | H7: =H10+H14 -> 4071227.2 | I7: =SUM(K7,M7) -> 100 | J7: =J10+J14 -> 2337252.7 | K7: =IF(ISNUMBER(J7/$H$7*100),J7/$H$7*100,0) -> 57.409046 | L7: =L10+L14 -> 1733974.5 | M7: =IF(ISNUMBER(L7/$H$7*100),L7/$H$7*100,0) -> 42.590954 | N7: =IF(ISNUMBER(H7/B7*100),H7/B7*100,0) -> 60.722265 | O7: =IF(ISNUMBER(J7/D7*100),J7/D7*100,0) -> 74.327197 | P7: =IF(ISNUMBER(L7/F7*100),L7/F7*100,0) -> 48.705455
A9: Dominio
A10: Urbano | B10: =SUM(B11:B13) -> 3843562.6 | C10: =IF(ISNUMBER(B10/B$7*100),B10/B$7*100,0) -> 57.326652 | D10: =SUM(D11:D13) -> 1763743.3 | E10: =IF(ISNUMBER(D10/D$7*100),D10/D$7*100,0) -> 56.088969 | F10: =SUM(F11:F13) -> 2079819.3 | G10: =IF(ISNUMBER(F10/F$7*100),F10/F$7*100,0) -> 58.419858 | H10: =SUM(H11:H13) -> 2509128.6 | I10: =IF(ISNUMBER(H10/H$7*100),H10/H$7*100,0) -> 61.630767 | J10: =SUM(J11:J13) -> 1330004.8 | K10: =IF(ISNUMBER(J10/J$7*100),J10/J$7*100,0) -> 56.904619 | L10: =SUM(L11:L13) -> 1179123.8 | M10: =IF(ISNUMBER(L10/L$7*100),L10/L$7*100,0) -> 68.00122 | N10: =IF(ISNUMBER(H10/B10*100),H10/B10*100,0) -> 65.281325 | O10: =IF(ISNUMBER(J10/D10*100),J10/D10*100,0) -> 75.408068 | P10: =IF(ISNUMBER(L10/F10*100),L10/F10*100,0) -> 56.693571
A11: Distrito Central | B11: =[1]CUADRO1!B6 -> 849925.34 | C11: =IF(ISNUMBER(B11/B$7*100),B11/B$7*100,0) -> 12.676618 | D11: =[1]CUADRO1!D6 -> 395916.57 | E11: =IF(ISNUMBER(D11/D$7*100),D11/D$7*100,0) -> 12.590581 | F11: =[1]CUADRO1!F6 -> 454008.76 | G11: =IF(ISNUMBER(F11/F$7*100),F11/F$7*100,0) -> 12.752611 | H11: =[1]CUADRO1!H6 -> 547165.6 | I11: =IF(ISNUMBER(H11/H$7*100),H11/H$7*100,0) -> 13.43982 | J11: =[1]CUADRO1!J6 -> 286012.44 | K11: =IF(ISNUMBER(J11/J$7*100),J11/J$7*100,0) -> 12.237121 | L11: =[1]CUADRO1!L6 -> 261153.17 | M11: =IF(ISNUMBER(L11/L$7*100),L11/L$7*100,0) -> 15.060957 | N11: =IF(ISNUMBER(H11/B11*100),H11/B11*100,0) -> 64.378079 | O11: =IF(ISNUMBER(J11/D11*100),J11/D11*100,0) -> 72.240582 | P11: =IF(ISNUMBER(L11/F11*100),L11/F11*100,0) -> 57.521614
A12: San Pedro Sula | B12: =[1]CUADRO1!B7 -> 473710.36 | C12: =IF(ISNUMBER(B12/B$7*100),B12/B$7*100,0) -> 7.0653797 | D12: =[1]CUADRO1!D7 -> 206496.84 | E12: =IF(ISNUMBER(D12/D$7*100),D12/D$7*100,0) -> 6.5668257 | F12: =[1]CUADRO1!F7 -> 267213.52 | G12: =IF(ISNUMBER(F12/F$7*100),F12/F$7*100,0) -> 7.5057368 | H12: =[1]CUADRO1!H7 -> 320415.77 | I12: =IF(ISNUMBER(H12/H$7*100),H12/H$7*100,0) -> 7.8702501 | J12: =[1]CUADRO1!J7 -> 161109.62 | K12: =IF(ISNUMBER(J12/J$7*100),J12/J$7*100,0) -> 6.8931192 | L12: =[1]CUADRO1!L7 -> 159306.15 | M12: =IF(ISNUMBER(L12/L$7*100),L12/L$7*100,0) -> 9.1873409 | N12: =IF(ISNUMBER(H12/B12*100),H12/B12*100,0) -> 67.639594 | O12: =IF(ISNUMBER(J12/D12*100),J12/D12*100,0) -> 78.020378 | P12: =IF(ISNUMBER(L12/F12*100),L12/F12*100,0) -> 59.617548
A13: Resto urbano | B13: =[1]CUADRO1!B8 -> 2519926.9 | C13: =IF(ISNUMBER(B13/B$7*100),B13/B$7*100,0) -> 37.584654 | D13: =[1]CUADRO1!D8 -> 1161329.9 | E13: =IF(ISNUMBER(D13/D$7*100),D13/D$7*100,0) -> 36.931563 | F13: =[1]CUADRO1!F8 -> 1358597 | G13: =IF(ISNUMBER(F13/F$7*100),F13/F$7*100,0) -> 38.161509 | H13: =[1]CUADRO1!H8 -> 1641547.2 | I13: =IF(ISNUMBER(H13/H$7*100),H13/H$7*100,0) -> 40.320697 | J13: =[1]CUADRO1!J8 -> 882882.7 | K13: =IF(ISNUMBER(J13/J$7*100),J13/J$7*100,0) -> 37.774379 | L13: =[1]CUADRO1!L8 -> 758664.51 | M13: =IF(ISNUMBER(L13/L$7*100),L13/L$7*100,0) -> 43.752921 | N13: =IF(ISNUMBER(H13/B13*100),H13/B13*100,0) -> 65.142653 | O13: =IF(ISNUMBER(J13/D13*100),J13/D13*100,0) -> 76.02342 | P13: =IF(ISNUMBER(L13/F13*100),L13/F13*100,0) -> 55.841763
A14: Rural | B14: =[1]CUADRO1!B9 -> 2861107 | C14: =IF(ISNUMBER(B14/B$7*100),B14/B$7*100,0) -> 42.673348 | D14: =[1]CUADRO1!D9 -> 1380802.5 | E14: =IF(ISNUMBER(D14/D$7*100),D14/D$7*100,0) -> 43.911031 | F14: =[1]CUADRO1!F9 -> 1480304.6 | G14: =IF(ISNUMBER(F14/F$7*100),F14/F$7*100,0) -> 41.580142 | H14: =[1]CUADRO1!H9 -> 1562098.7 | I14: =IF(ISNUMBER(H14/H$7*100),H14/H$7*100,0) -> 38.369233 | J14: =[1]CUADRO1!J9 -> 1007248 | K14: =IF(ISNUMBER(J14/J$7*100),J14/J$7*100,0) -> 43.095381 | L14: =[1]CUADRO1!L9 -> 554850.7 | M14: =IF(ISNUMBER(L14/L$7*100),L14/L$7*100,0) -> 31.99878 | N14: =IF(ISNUMBER(H14/B14*100),H14/B14*100,0) -> 54.597701 | O14: =IF(ISNUMBER(J14/D14*100),J14/D14*100,0) -> 72.946565 | P14: =IF(ISNUMBER(L14/F14*100),L14/F14*100,0) -> 37.482199
A16: Nivel Educativo
A17: Sin Nivel | B17: =[1]CUADRO1!B10 -> 691145.26 | C17: =IF(ISNUMBER(B17/B$7*100),B17/B$7*100,0) -> 10.308416 | D17: =[1]CUADRO1!D10 -> 308149.24 | E17: =IF(ISNUMBER(D17/D$7*100),D17/D$7*100,0) -> 9.7994835 | F17: =[1]CUADRO1!F10 -> 382996.02 | G17: =IF(ISNUMBER(F17/F$7*100),F17/F$7*100,0) -> 10.757941 | H17: =[1]CUADRO1!H10 -> 244908.45 | I17: =IF(ISNUMBER(H17/H$7*100),H17/H$7*100,0) -> 6.0155928 | J17: =[1]CUADRO1!J10 -> 157723.53 | K17: =IF(ISNUMBER(J17/J$7*100),J17/J$7*100,0) -> 6.7482446 | L17: =[1]CUADRO1!L10 -> 87184.924 | M17: =IF(ISNUMBER(L17/L$7*100),L17/L$7*100,0) -> 5.0280395 | N17: =IF(ISNUMBER(H17/B17*100),H17/B17*100,0) -> 35.435164 | O17: =IF(ISNUMBER(J17/D17*100),J17/D17*100,0) -> 51.184137 | P17: =IF(ISNUMBER(L17/F17*100),L17/F17*100,0) -> 22.763924
A18: Primaria | B18: =[1]CUADRO1!B11 -> 3393222.6 | C18: =IF(ISNUMBER(B18/B$7*100),B18/B$7*100,0) -> 50.60984 | D18: =[1]CUADRO1!D11 -> 1639377.1 | E18: =IF(ISNUMBER(D18/D$7*100),D18/D$7*100,0) -> 52.133988 | F18: =[1]CUADRO1!F11 -> 1753845.5 | G18: =IF(ISNUMBER(F18/F$7*100),F18/F$7*100,0) -> 49.263608 | H18: =[1]CUADRO1!H11 -> 2001242.4 | I18: =IF(ISNUMBER(H18/H$7*100),H18/H$7*100,0) -> 49.155753 | J18: =[1]CUADRO1!J11 -> 1242760 | K18: =IF(ISNUMBER(J18/J$7*100),J18/J$7*100,0) -> 53.17183 | L18: =[1]CUADRO1!L11 -> 758482.37 | M18: =IF(ISNUMBER(L18/L$7*100),L18/L$7*100,0) -> 43.742417 | N18: =IF(ISNUMBER(H18/B18*100),H18/B18*100,0) -> 58.977635 | O18: =IF(ISNUMBER(J18/D18*100),J18/D18*100,0) -> 75.806843 | P18: =IF(ISNUMBER(L18/F18*100),L18/F18*100,0) -> 43.246819
A19: Secundaria | B19: =[1]CUADRO1!B12 -> 1824216.3 | C19: =IF(ISNUMBER(B19/B$7*100),B19/B$7*100,0) -> 27.208145 | D19: =[1]CUADRO1!D12 -> 818072.22 | E19: =IF(ISNUMBER(D19/D$7*100),D19/D$7*100,0) -> 26.015593 | F19: =[1]CUADRO1!F12 -> 1006144 | G19: =IF(ISNUMBER(F19/F$7*100),F19/F$7*100,0) -> 28.26149 | H19: =[1]CUADRO1!H12 -> 1239810.5 | I19: =IF(ISNUMBER(H19/H$7*100),H19/H$7*100,0) -> 30.452993 | J19: =[1]CUADRO1!J12 -> 643971.95 | K19: =IF(ISNUMBER(J19/J$7*100),J19/J$7*100,0) -> 27.552517 | L19: =[1]CUADRO1!L12 -> 595838.58 | M19: =IF(ISNUMBER(L19/L$7*100),L19/L$7*100,0) -> 34.362591 | N19: =IF(ISNUMBER(H19/B19*100),H19/B19*100,0) -> 67.964011 | O19: =IF(ISNUMBER(J19/D19*100),J19/D19*100,0) -> 78.718228 | P19: =IF(ISNUMBER(L19/F19*100),L19/F19*100,0) -> 59.220008
A20: Superior | B20: =[1]CUADRO1!B13 -> 659431.06 | C20: =IF(ISNUMBER(B20/B$7*100),B20/B$7*100,0) -> 9.8353998 | D20: =[1]CUADRO1!D13 -> 294308.03 | E20: =IF(ISNUMBER(D20/D$7*100),D20/D$7*100,0) -> 9.3593179 | F20: =[1]CUADRO1!F13 -> 365123.02 | G20: =IF(ISNUMBER(F20/F$7*100),F20/F$7*100,0) -> 10.255908 | H20: =[1]CUADRO1!H13 -> 493124.16 | I20: =IF(ISNUMBER(H20/H$7*100),H20/H$7*100,0) -> 12.11242 | J20: =[1]CUADRO1!J13 -> 225994.68 | K20: =IF(ISNUMBER(J20/J$7*100),J20/J$7*100,0) -> 9.6692444 | L20: =[1]CUADRO1!L13 -> 267129.49 | M20: =IF(ISNUMBER(L20/L$7*100),L20/L$7*100,0) -> 15.405618 | N20: =IF(ISNUMBER(H20/B20*100),H20/B20*100,0) -> 74.780245 | O20: =IF(ISNUMBER(J20/D20*100),J20/D20*100,0) -> 76.788484 | P20: =IF(ISNUMBER(L20/F20*100),L20/F20*100,0) -> 73.161501
A21: No sabe, no responde | B21: =[1]CUADRO1!B14 -> 136654.47 | C21: =IF(ISNUMBER(B21/B$7*100),B21/B$7*100,0) -> 2.0381984 | D21: =[1]CUADRO1!D14 -> 84639.152 | E21: =IF(ISNUMBER(D21/D$7*100),D21/D$7*100,0) -> 2.6916178 | F21: =[1]CUADRO1!F14 -> 52015.313 | G21: =IF(ISNUMBER(F21/F$7*100),F21/F$7*100,0) -> 1.4610535 | H21: =[1]CUADRO1!H14 -> 92141.687 | I21: =IF(ISNUMBER(H21/H$7*100),H21/H$7*100,0) -> 2.2632411 | J21: =[1]CUADRO1!J14 -> 66802.521 | K21: =IF(ISNUMBER(J21/J$7*100),J21/J$7*100,0) -> 2.8581642 | L21: =[1]CUADRO1!L14 -> 25339.165 | M21: =IF(ISNUMBER(L21/L$7*100),L21/L$7*100,0) -> 1.4613344 | N21: =IF(ISNUMBER(H21/B21*100),H21/B21*100,0) -> 67.426766 | O21: =IF(ISNUMBER(J21/D21*100),J21/D21*100,0) -> 78.926264 | P21: =IF(ISNUMBER(L21/F21*100),L21/F21*100,0) -> 48.714819
A23: Rango de edad
A24: De 15 a 18 años | B24: =[1]CUADRO1!B16 -> 806497.65 | C24: =IF(ISNUMBER(B24/B$7*100),B24/B$7*100,0) -> 12.028895 | D24: =[1]CUADRO1!D16 -> 414768.75 | E24: =IF(ISNUMBER(D24/D$7*100),D24/D$7*100,0) -> 13.190101 | F24: =[1]CUADRO1!F16 -> 391728.9 | G24: =IF(ISNUMBER(F24/F$7*100),F24/F$7*100,0) -> 11.003238 | H24: =[1]CUADRO1!H16 -> 353274.88 | I24: =IF(ISNUMBER(H24/H$7*100),H24/H$7*100,0) -> 8.6773559 | J24: =[1]CUADRO1!J16 -> 229854.16 | K24: =IF(ISNUMBER(J24/J$7*100),J24/J$7*100,0) -> 9.8343736 | L24: =[1]CUADRO1!L16 -> 123420.71 | M24: =IF(ISNUMBER(L24/L$7*100),L24/L$7*100,0) -> 7.1177927 | N24: =IF(ISNUMBER(H24/B24*100),H24/B24*100,0) -> 43.803584 | O24: =IF(ISNUMBER(J24/D24*100),J24/D24*100,0) -> 55.417426 | P24: =IF(ISNUMBER(L24/F24*100),L24/F24*100,0) -> 31.506665
A25: De 19 a 24 años | B25: =[1]CUADRO1!B17 -> 1152096.3 | C25: =IF(ISNUMBER(B25/B$7*100),B25/B$7*100,0) -> 17.183492 | D25: =[1]CUADRO1!D17 -> 546434.01 | E25: =IF(ISNUMBER(D25/D$7*100),D25/D$7*100,0) -> 17.3772 | F25: =[1]CUADRO1!F17 -> 605662.32 | G25: =IF(ISNUMBER(F25/F$7*100),F25/F$7*100,0) -> 17.012395 | H25: =[1]CUADRO1!H17 -> 752378.71 | I25: =IF(ISNUMBER(H25/H$7*100),H25/H$7*100,0) -> 18.480391 | J25: =[1]CUADRO1!J17 -> 425007.29 | K25: =IF(ISNUMBER(J25/J$7*100),J25/J$7*100,0) -> 18.184054 | L25: =[1]CUADRO1!L17 -> 327371.41 | M25: =IF(ISNUMBER(L25/L$7*100),L25/L$7*100,0) -> 18.879828 | N25: =IF(ISNUMBER(H25/B25*100),H25/B25*100,0) -> 65.305191 | O25: =IF(ISNUMBER(J25/D25*100),J25/D25*100,0) -> 77.778338 | P25: =IF(ISNUMBER(L25/F25*100),L25/F25*100,0) -> 54.051805
A26: De 25 a 29 años | B26: =[1]CUADRO1!B18 -> 677033.38 | C26: =IF(ISNUMBER(B26/B$7*100),B26/B$7*100,0) -> 10.097938 | D26: =[1]CUADRO1!D18 -> 330397.33 | E26: =IF(ISNUMBER(D26/D$7*100),D26/D$7*100,0) -> 10.506997 | F26: =[1]CUADRO1!F18 -> 346636.06 | G26: =IF(ISNUMBER(F26/F$7*100),F26/F$7*100,0) -> 9.7366292 | H26: =[1]CUADRO1!H18 -> 477495.82 | I26: =IF(ISNUMBER(H26/H$7*100),H26/H$7*100,0) -> 11.728547 | J26: =[1]CUADRO1!J18 -> 282492.17 | K26: =IF(ISNUMBER(J26/J$7*100),J26/J$7*100,0) -> 12.086505 | L26: =[1]CUADRO1!L18 -> 195003.65 | M26: =IF(ISNUMBER(L26/L$7*100),L26/L$7*100,0) -> 11.24605 | N26: =IF(ISNUMBER(H26/B26*100),H26/B26*100,0) -> 70.527662 | O26: =IF(ISNUMBER(J26/D26*100),J26/D26*100,0) -> 85.500744 | P26: =IF(ISNUMBER(L26/F26*100),L26/F26*100,0) -> 56.256019
A27: De 30 a 35 años | B27: =[1]CUADRO1!B19 -> 728507.53 | C27: =IF(ISNUMBER(B27/B$7*100),B27/B$7*100,0) -> 10.865674 | D27: =[1]CUADRO1!D19 -> 355201.75 | E27: =IF(ISNUMBER(D27/D$7*100),D27/D$7*100,0) -> 11.295805 | F27: =[1]CUADRO1!F19 -> 373305.78 | G27: =IF(ISNUMBER(F27/F$7*100),F27/F$7*100,0) -> 10.485753 | H27: =[1]CUADRO1!H19 -> 535237.83 | I27: =IF(ISNUMBER(H27/H$7*100),H27/H$7*100,0) -> 13.146843 | J27: =[1]CUADRO1!J19 -> 311077.5 | K27: =IF(ISNUMBER(J27/J$7*100),J27/J$7*100,0) -> 13.309536 | L27: =[1]CUADRO1!L19 -> 224160.34 | M27: =IF(ISNUMBER(L27/L$7*100),L27/L$7*100,0) -> 12.927545 | N27: =IF(ISNUMBER(H27/B27*100),H27/B27*100,0) -> 73.470461 | O27: =IF(ISNUMBER(J27/D27*100),J27/D27*100,0) -> 87.577694 | P27: =IF(ISNUMBER(L27/F27*100),L27/F27*100,0) -> 60.047379
A28: De 36 a 44 años | B28: =[1]CUADRO1!B20 -> 1024994.3 | C28: =IF(ISNUMBER(B28/B$7*100),B28/B$7*100,0) -> 15.287767 | D28: =[1]CUADRO1!D20 -> 453139.11 | E28: =IF(ISNUMBER(D28/D$7*100),D28/D$7*100,0) -> 14.41032 | F28: =[1]CUADRO1!F20 -> 571855.17 | G28: =IF(ISNUMBER(F28/F$7*100),F28/F$7*100,0) -> 16.062789 | H28: =[1]CUADRO1!H20 -> 753872.54 | I28: =IF(ISNUMBER(H28/H$7*100),H28/H$7*100,0) -> 18.517083 | J28: =[1]CUADRO1!J20 -> 397683.91 | K28: =IF(ISNUMBER(J28/J$7*100),J28/J$7*100,0) -> 17.015015 | L28: =[1]CUADRO1!L20 -> 356188.63 | M28: =IF(ISNUMBER(L28/L$7*100),L28/L$7*100,0) -> 20.541745 | N28: =IF(ISNUMBER(H28/B28*100),H28/B28*100,0) -> 73.548952 | O28: =IF(ISNUMBER(J28/D28*100),J28/D28*100,0) -> 87.761993 | P28: =IF(ISNUMBER(L28/F28*100),L28/F28*100,0) -> 62.286511
A29: De 45 a 59 años | B29: =[1]CUADRO1!B21 -> 1208617.1 | C29: =IF(ISNUMBER(B29/B$7*100),B29/B$7*100,0) -> 18.026498 | D29: =[1]CUADRO1!D21 -> 540589.71 | E29: =IF(ISNUMBER(D29/D$7*100),D29/D$7*100,0) -> 17.191345 | F29: =[1]CUADRO1!F21 -> 668027.41 | G29: =IF(ISNUMBER(F29/F$7*100),F29/F$7*100,0) -> 18.764162 | H29: =[1]CUADRO1!H21 -> 793664.85 | I29: =IF(ISNUMBER(H29/H$7*100),H29/H$7*100,0) -> 19.494487 | J29: =[1]CUADRO1!J21 -> 440723.68 | K29: =IF(ISNUMBER(J29/J$7*100),J29/J$7*100,0) -> 18.856484 | L29: =[1]CUADRO1!L21 -> 352941.17 | M29: =IF(ISNUMBER(L29/L$7*100),L29/L$7*100,0) -> 20.354461 | N29: =IF(ISNUMBER(H29/B29*100),H29/B29*100,0) -> 65.667186 | O29: =IF(ISNUMBER(J29/D29*100),J29/D29*100,0) -> 81.526464 | P29: =IF(ISNUMBER(L29/F29*100),L29/F29*100,0) -> 52.833337
A30: De 60 años y más | B30: =[1]CUADRO1!B22 -> 1106923.3 | C30: =IF(ISNUMBER(B30/B$7*100),B30/B$7*100,0) -> 16.509737 | D30: =[1]CUADRO1!D22 -> 504015.11 | E30: =IF(ISNUMBER(D30/D$7*100),D30/D$7*100,0) -> 16.028233 | F30: =[1]CUADRO1!F22 -> 602908.21 | G30: =IF(ISNUMBER(F30/F$7*100),F30/F$7*100,0) -> 16.935035 | H30: =[1]CUADRO1!H22 -> 405302.61 | I30: =IF(ISNUMBER(H30/H$7*100),H30/H$7*100,0) -> 9.9552933 | J30: =[1]CUADRO1!J22 -> 250414 | K30: =IF(ISNUMBER(J30/J$7*100),J30/J$7*100,0) -> 10.714032 | L30: =[1]CUADRO1!L22 -> 154888.61 | M30: =IF(ISNUMBER(L30/L$7*100),L30/L$7*100,0) -> 8.9325773 | N30: =IF(ISNUMBER(H30/B30*100),H30/B30*100,0) -> 36.615238 | O30: =IF(ISNUMBER(J30/D30*100),J30/D30*100,0) -> 49.683828 | P30: =IF(ISNUMBER(L30/F30*100),L30/F30*100,0) -> 25.690248
A32: =[2]Resumen!A44 -> Fuente: Instituto Nacional de Estadística (INE). LXXIII Encuesta Permanente de Hogares de Propósitos Múltiples, Otubre 2021
A33: 1/ Porcentaje por columnas
A34: 2/ Porcentaje por filas
A35: /3PET: Comprende la población de 15 años y más

Sheet C02
A1: Cuadro No. 2. Tasa de Desocupación (TD), Población en Edad de Trabajar (PET) y Fuerza de trabajo,
A2: según dominio, nivel educativo, rango de edad, sexo, rama de actividad y ocupación
A3: Categorías | B3: Población Total | E3: Población en Edad de Trabajar (PET)/3 | H3: Fuerza de trabajo | Q3: TD | R3: MBT
H4: Total | K4: Ocupados | N4: Desocupados
B5: No. | C5: % 1/ | D5: AEP | E5: No. | F5: % 1/ | G5: AEP | H5: No. | I5: % 1/ | J5: AEP | K5: No. | L5: % 1/ | M5: AEP | N5: No. | O5: % 1/ | P5: AEP
A7: Total Nacional | B7: =[1]CUADRO2!C5 -> 9500257 | C7: =SUM(C10,C14) -> 100 | D7: =[1]CUADRO2!E5 -> 6.7161317 | E7: =[1]CUADRO2!F5 -> 6704669.6 | F7: =SUM(F10,F14) -> 100 | G7: =[1]CUADRO2!H5 -> 7.6312043 | H7: =[1]CUADRO2!I5 -> 4071227.2 | I7: =SUM(I10,I14) -> 100 | J7: =[1]CUADRO2!K5 -> 8.1267214 | K7: =[1]CUADRO2!L5 -> 3722369.5 | L7: =SUM(L10,L14) -> 100 | M7: =[1]CUADRO2!N5 -> 8.0945061 | N7: =[1]CUADRO2!O5 -> 348857.7 | O7: =SUM(O10,O14) -> 100 | P7: =[1]CUADRO2!Q5 -> 8.4732624 | Q7: =IF(ISNUMBER(N7/H7*100),N7/H7*100,0) -> 8.5688585 | R7: 3.4913691
A9: Dominio
A10: Urbano | B10: =[1]CUADRO2!C6 -> 5251180 | C10: =IF(ISNUMBER(B10/B$7*100),B10/B$7*100,0) -> 55.274084 | D10: =[1]CUADRO2!E6 -> 7.7565304 | E10: =[1]CUADRO2!F6 -> 3843562.6 | F10: =IF(ISNUMBER(E10/E$7*100),E10/E$7*100,0) -> 57.326652 | G10: =[1]CUADRO2!H6 -> 8.7634268 | H10: =[1]CUADRO2!I6 -> 2509128.6 | I10: =IF(ISNUMBER(H10/H$7*100),H10/H$7*100,0) -> 61.630767 | J10: =[1]CUADRO2!K6 -> 9.2077007 | K10: =[1]CUADRO2!L6 -> 2263567.6 | L10: =IF(ISNUMBER(K10/K$7*100),K10/K$7*100,0) -> 60.809856 | M10: =[1]CUADRO2!N6 -> 9.2119771 | N10: =[1]CUADRO2!O6 -> 245561.03 | O10: =IF(ISNUMBER(N10/N$7*100),N10/N$7*100,0) -> 70.390027 | P10: =[1]CUADRO2!Q6 -> 9.1675686 | Q10: =IF(ISNUMBER(N10/H10*100),N10/H10*100,0) -> 9.7867056 | R10: 3.5789428
A11: Distrito Central | B11: =[1]CUADRO2!C8 -> 1097733 | C11: =IF(ISNUMBER(B11/B$7*100),B11/B$7*100,0) -> 11.554772 | D11: =[1]CUADRO2!E8 -> 8.5728751 | E11: =[1]CUADRO2!F8 -> 849925.34 | F11: =IF(ISNUMBER(E11/E$7*100),E11/E$7*100,0) -> 12.676618 | G11: =[1]CUADRO2!H8 -> 9.6751212 | H11: =[1]CUADRO2!I8 -> 547165.6 | I11: =IF(ISNUMBER(H11/H$7*100),H11/H$7*100,0) -> 13.43982 | J11: =[1]CUADRO2!K8 -> 10.13521 | K11: =[1]CUADRO2!L8 -> 491951.86 | L11: =IF(ISNUMBER(K11/K$7*100),K11/K$7*100,0) -> 13.216094 | M11: =[1]CUADRO2!N8 -> 10.100367 | N11: =[1]CUADRO2!O8 -> 55213.746 | O11: =IF(ISNUMBER(N11/N$7*100),N11/N$7*100,0) -> 15.827011 | P11: =[1]CUADRO2!Q8 -> 10.455056 | Q11: =IF(ISNUMBER(N11/H11*100),N11/H11*100,0) -> 10.090866 | R11: 3.2867265
A12: San Pedro Sula | B12: =[1]CUADRO2!C9 -> 642635 | C12: =IF(ISNUMBER(B12/B$7*100),B12/B$7*100,0) -> 6.764396 | D12: =[1]CUADRO2!E9 -> 7.886972 | E12: =[1]CUADRO2!F9 -> 473710.36 | F12: =IF(ISNUMBER(E12/E$7*100),E12/E$7*100,0) -> 7.0653797 | G12: =[1]CUADRO2!H9 -> 8.8212454 | H12: =[1]CUADRO2!I9 -> 320415.77 | I12: =IF(ISNUMBER(H12/H$7*100),H12/H$7*100,0) -> 7.8702501 | J12: =[1]CUADRO2!K9 -> 9.2650475 | K12: =[1]CUADRO2!L9 -> 290057.43 | L12: =IF(ISNUMBER(K12/K$7*100),K12/K$7*100,0) -> 7.7922791 | M12: =[1]CUADRO2!N9 -> 9.2751756 | N12: =[1]CUADRO2!O9 -> 30358.342 | O12: =IF(ISNUMBER(N12/N$7*100),N12/N$7*100,0) -> 8.7022135 | P12: =[1]CUADRO2!Q9 -> 9.172043 | Q12: =IF(ISNUMBER(N12/H12*100),N12/H12*100,0) -> 9.4746717 | R12: 3.106746
A13: Resto urbano | B13: =[1]CUADRO2!C10 -> 3510812 | C13: =IF(ISNUMBER(B13/B$7*100),B13/B$7*100,0) -> 36.954916 | D13: =[1]CUADRO2!E10 -> 7.4776807 | E13: =[1]CUADRO2!F10 -> 2519926.9 | F13: =IF(ISNUMBER(E13/E$7*100),E13/E$7*100,0) -> 37.584654 | G13: =[1]CUADRO2!H10 -> 8.4577749 | H13: =[1]CUADRO2!I10 -> 1641547.2 | I13: =IF(ISNUMBER(H13/H$7*100),H13/H$7*100,0) -> 40.320697 | J13: =[1]CUADRO2!K10 -> 8.8999125 | K13: =[1]CUADRO2!L10 -> 1481558.3 | L13: =IF(ISNUMBER(K13/K$7*100),K13/K$7*100,0) -> 39.801483 | M13: =[1]CUADRO2!N10 -> 8.9165384 | N13: =[1]CUADRO2!O10 -> 159988.94 | O13: =IF(ISNUMBER(N13/N$7*100),N13/N$7*100,0) -> 45.860803 | P13: =[1]CUADRO2!Q10 -> 8.7421043 | Q13: =IF(ISNUMBER(N13/H13*100),N13/H13*100,0) -> 9.7462284 | R13: 4.088392
A14: Rural | B14: =[1]CUADRO2!C11 -> 4249077 | C14: =IF(ISNUMBER(B14/B$7*100),B14/B$7*100,0) -> 44.725916 | D14: =[1]CUADRO2!E11 -> 5.3623441 | E14: =[1]CUADRO2!F11 -> 2861107 | F14: =IF(ISNUMBER(E14/E$7*100),E14/E$7*100,0) -> 42.673348 | G14: =[1]CUADRO2!H11 -> 6.0474394 | H14: =[1]CUADRO2!I11 -> 1562098.7 | I14: =IF(ISNUMBER(H14/H$7*100),H14/H$7*100,0) -> 38.369233 | J14: =[1]CUADRO2!K11 -> 6.3286385 | K14: =[1]CUADRO2!L11 -> 1458802 | L14: =IF(ISNUMBER(K14/K$7*100),K14/K$7*100,0) -> 39.190144 | M14: =[1]CUADRO2!N11 -> 6.2953403 | N14: =[1]CUADRO2!O11 -> 103296.67 | O14: =IF(ISNUMBER(N14/N$7*100),N14/N$7*100,0) -> 29.609973 | P14: =[1]CUADRO2!Q11 -> 6.7971698 | Q14: =IF(ISNUMBER(N14/H14*100),N14/H14*100,0) -> 6.6126856 | R14: 3.6420334
A16: Nivel educativo 2/
A17: Sin Nivel | B17: =[1]CUADRO2!C12 -> 1872667 | C17: =IF(ISNUMBER(B17/B$7*100),B17/B$7*100,0) -> 19.711751 | D17: =[1]CUADRO2!E12 -> 0 | E17: =[1]CUADRO2!F12 -> 691145.26 | F17: =IF(ISNUMBER(E17/E$7*100),E17/E$7*100,0) -> 10.308416 | G17: =[1]CUADRO2!H12 -> 0 | H17: =[1]CUADRO2!I12 -> 244908.45 | I17: =IF(ISNUMBER(H17/H$7*100),H17/H$7*100,0) -> 6.0155928 | J17: =[1]CUADRO2!K12 -> 0 | K17: =[1]CUADRO2!L12 -> 230226.14 | L17: =IF(ISNUMBER(K17/K$7*100),K17/K$7*100,0) -> 6.1849351 | M17: =[1]CUADRO2!N12 -> 0 | N17: =[1]CUADRO2!O12 -> 14682.315 | O17: =IF(ISNUMBER(N17/N$7*100),N17/N$7*100,0) -> 4.2086831 | P17: =[1]CUADRO2!Q12 -> 0 | Q17: =IF(ISNUMBER(N17/H17*100),N17/H17*100,0) -> 5.9950217 | R17: 3.4222528
A18: Primaria | B18: =[1]CUADRO2!C13 -> 4963396.6 | C18: =IF(ISNUMBER(B18/B$7*100),B18/B$7*100,0) -> 52.244866 | D18: =[1]CUADRO2!E13 -> 4.5064017 | E18: =[1]CUADRO2!F13 -> 3393222.6 | F18: =IF(ISNUMBER(E18/E$7*100),E18/E$7*100,0) -> 50.60984 | G18: =[1]CUADRO2!H13 -> 5.0048828 | H18: =[1]CUADRO2!I13 -> 2001242.4 | I18: =IF(ISNUMBER(H18/H$7*100),H18/H$7*100,0) -> 49.155753 | J18: =[1]CUADRO2!K13 -> 5.1316262 | K18: =[1]CUADRO2!L13 -> 1846723 | L18: =IF(ISNUMBER(K18/K$7*100),K18/K$7*100,0) -> 49.611491 | M18: =[1]CUADRO2!N13 -> 5.1076108 | N18: =[1]CUADRO2!O13 -> 154519.39 | O18: =IF(ISNUMBER(N18/N$7*100),N18/N$7*100,0) -> 44.292957 | P18: =[1]CUADRO2!Q13 -> 5.418644 | Q18: =IF(ISNUMBER(N18/H18*100),N18/H18*100,0) -> 7.7211731 | R18: 2.9294541
A19: Secundaria | B19: =[1]CUADRO2!C14 -> 1860754.8 | C19: =IF(ISNUMBER(B19/B$7*100),B19/B$7*100,0) -> 19.586363 | D19: =[1]CUADRO2!E14 -> 10.513276 | E19: =[1]CUADRO2!F14 -> 1824216.3 | F19: =IF(ISNUMBER(E19/E$7*100),E19/E$7*100,0) -> 27.208145 | G19: =[1]CUADRO2!H14 -> 10.583565 | H19: =[1]CUADRO2!I14 -> 1239810.5 | I19: =IF(ISNUMBER(H19/H$7*100),H19/H$7*100,0) -> 30.452993 | J19: =[1]CUADRO2!K14 -> 10.69401 | K19: =[1]CUADRO2!L14 -> 1110936.2 | L19: =IF(ISNUMBER(K19/K$7*100),K19/K$7*100,0) -> 29.844866 | M19: =[1]CUADRO2!N14 -> 10.67157 | N19: =[1]CUADRO2!O14 -> 128874.35 | O19: =IF(ISNUMBER(N19/N$7*100),N19/N$7*100,0) -> 36.94181 | P19: =[1]CUADRO2!Q14 -> 10.887135 | Q19: =IF(ISNUMBER(N19/H19*100),N19/H19*100,0) -> 10.394681 | R19: 4.0352926
A20: Superior | B20: =[1]CUADRO2!C15 -> 659431.06 | C20: =IF(ISNUMBER(B20/B$7*100),B20/B$7*100,0) -> 6.9411918 | D20: =[1]CUADRO2!E15 -> 16.164495 | E20: =[1]CUADRO2!F15 -> 659431.06 | F20: =IF(ISNUMBER(E20/E$7*100),E20/E$7*100,0) -> 9.8353998 | G20: =[1]CUADRO2!H15 -> 16.164495 | H20: =[1]CUADRO2!I15 -> 493124.16 | I20: =IF(ISNUMBER(H20/H$7*100),H20/H$7*100,0) -> 12.11242 | J20: =[1]CUADRO2!K15 -> 16.205168 | K20: =[1]CUADRO2!L15 -> 447031.35 | L20: =IF(ISNUMBER(K20/K$7*100),K20/K$7*100,0) -> 12.009322 | M20: =[1]CUADRO2!N15 -> 16.227744 | N20: =[1]CUADRO2!O15 -> 46092.81 | O20: =IF(ISNUMBER(N20/N$7*100),N20/N$7*100,0) -> 13.212496 | P20: =[1]CUADRO2!Q15 -> 15.866233 | Q20: =IF(ISNUMBER(N20/H20*100),N20/H20*100,0) -> 9.3471002 | R20: 3.7686257
A21: No sabe, no responde | B21: =[1]CUADRO2!C16 -> 144007.57 | C21: =IF(ISNUMBER(B21/B$7*100),B21/B$7*100,0) -> 1.5158282 | D21: =[1]CUADRO2!E16 -> 0 | E21: =[1]CUADRO2!F16 -> 136654.47 | F21: =IF(ISNUMBER(E21/E$7*100),E21/E$7*100,0) -> 2.0381984 | G21: =[1]CUADRO2!H16 -> 0 | H21: =[1]CUADRO2!I16 -> 92141.687 | I21: =IF(ISNUMBER(H21/H$7*100),H21/H$7*100,0) -> 2.2632411 | J21: =[1]CUADRO2!K16 -> 0 | K21: =[1]CUADRO2!L16 -> 87452.85 | L21: =IF(ISNUMBER(K21/K$7*100),K21/K$7*100,0) -> 2.3493866 | M21: =[1]CUADRO2!N16 -> 0 | N21: =[1]CUADRO2!O16 -> 4688.837 | O21: =IF(ISNUMBER(N21/N$7*100),N21/N$7*100,0) -> 1.3440543 | P21: =[1]CUADRO2!Q16 -> 0 | Q21: =IF(ISNUMBER(N21/H21*100),N21/H21*100,0) -> 5.0887249 | R21: 4.0256416
A23: Rango de Edad
A24: Menores de 15 | B24: =[1]CUADRO2!C17 -> 2795587.4 | C24: =IF(ISNUMBER(B24/B$7*100),B24/B$7*100,0) -> 29.42644 | D24: =[1]CUADRO2!E17 -> 3.5106098 | E24: =[1]CUADRO2!F17 -> 0 | F24: =IF(ISNUMBER(E24/E$7*100),E24/E$7*100,0) -> 0 | G24: =[1]CUADRO2!H17 -> 0 | H24: =[1]CUADRO2!I17 -> 0 | I24: =IF(ISNUMBER(H24/H$7*100),H24/H$7*100,0) -> 0 | J24: =[1]CUADRO2!K17 -> 0 | K24: =[1]CUADRO2!L17 -> 0 | L24: =IF(ISNUMBER(K24/K$7*100),K24/K$7*100,0) -> 0 | M24: =[1]CUADRO2!N17 -> 0 | N24: =[1]CUADRO2!O17 -> 0 | O24: =IF(ISNUMBER(N24/N$7*100),N24/N$7*100,0) -> 0 | P24: =[1]CUADRO2!Q17 -> 0 | Q24: =IF(ISNUMBER(N24/H24*100),N24/H24*100,0) -> 0 | R24: 2.4932962
A25: De 15 a 18 años | B25: =[1]CUADRO2!C18 -> 806497.65 | C25: =IF(ISNUMBER(B25/B$7*100),B25/B$7*100,0) -> 8.4892193 | D25: =[1]CUADRO2!E18 -> 7.9180156 | E25: =[1]CUADRO2!F18 -> 806497.65 | F25: =IF(ISNUMBER(E25/E$7*100),E25/E$7*100,0) -> 12.028895 | G25: =[1]CUADRO2!H18 -> 7.9180156 | H25: =[1]CUADRO2!I18 -> 353274.88 | I25: =IF(ISNUMBER(H25/H$7*100),H25/H$7*100,0) -> 8.6773559 | J25: =[1]CUADRO2!K18 -> 7.6109436 | K25: =[1]CUADRO2!L18 -> 305528.25 | L25: =IF(ISNUMBER(K25/K$7*100),K25/K$7*100,0) -> 8.2078967 | M25: =[1]CUADRO2!N18 -> 7.5727992 | N25: =[1]CUADRO2!O18 -> 47746.63 | O25: =IF(ISNUMBER(N25/N$7*100),N25/N$7*100,0) -> 13.686563 | P25: =[1]CUADRO2!Q18 -> 7.8593156 | Q25: =IF(ISNUMBER(N25/H25*100),N25/H25*100,0) -> 13.515433 | R25: 2.4932962
A26: De 19 a 24 años | B26: =[1]CUADRO2!C19 -> 1152096.3 | C26: =IF(ISNUMBER(B26/B$7*100),B26/B$7*100,0) -> 12.127002 | D26: =[1]CUADRO2!E19 -> 8.6615991 | E26: =[1]CUADRO2!F19 -> 1152096.3 | F26: =IF(ISNUMBER(E26/E$7*100),E26/E$7*100,0) -> 17.183492 | G26: =[1]CUADRO2!H19 -> 8.6615991 | H26: =[1]CUADRO2!I19 -> 752378.71 | I26: =IF(ISNUMBER(H26/H$7*100),H26/H$7*100,0) -> 18.480391 | J26: =[1]CUADRO2!K19 -> 8.8741175 | K26: =[1]CUADRO2!L19 -> 640834.64 | L26: =IF(ISNUMBER(K26/K$7*100),K26/K$7*100,0) -> 17.215772 | M26: =[1]CUADRO2!N19 -> 8.7716365 | N26: =[1]CUADRO2!O19 -> 111544.06 | O26: =IF(ISNUMBER(N26/N$7*100),N26/N$7*100,0) -> 31.974087 | P26: =[1]CUADRO2!Q19 -> 9.4956266 | Q26: =IF(ISNUMBER(N26/H26*100),N26/H26*100,0) -> 14.825521 | R26: 3.7505162
A27: De 25 a 29 años | B27: =[1]CUADRO2!C20 -> 677033.38 | C27: =IF(ISNUMBER(B27/B$7*100),B27/B$7*100,0) -> 7.1264744 | D27: =[1]CUADRO2!E20 -> 9.1921251 | E27: =[1]CUADRO2!F20 -> 677033.38 | F27: =IF(ISNUMBER(E27/E$7*100),E27/E$7*100,0) -> 10.097938 | G27: =[1]CUADRO2!H20 -> 9.1921251 | H27: =[1]CUADRO2!I20 -> 477495.82 | I27: =IF(ISNUMBER(H27/H$7*100),H27/H$7*100,0) -> 11.728547 | J27: =[1]CUADRO2!K20 -> 9.7248575 | K27: =[1]CUADRO2!L20 -> 428155.6 | L27: =IF(ISNUMBER(K27/K$7*100),K27/K$7*100,0) -> 11.502232 | M27: =[1]CUADRO2!N20 -> 9.7556735 | N27: =[1]CUADRO2!O20 -> 49340.223 | O27: =IF(ISNUMBER(N27/N$7*100),N27/N$7*100,0) -> 14.143366 | P27: =[1]CUADRO2!Q20 -> 9.4544447 | Q27: =IF(ISNUMBER(N27/H27*100),N27/H27*100,0) -> 10.333121 | R27: 4.198523
A28: De 30 a 35 años | B28: =[1]CUADRO2!C21 -> 728507.53 | C28: =IF(ISNUMBER(B28/B$7*100),B28/B$7*100,0) -> 7.6682928 | D28: =[1]CUADRO2!E21 -> 8.33924 | E28: =[1]CUADRO2!F21 -> 728507.53 | F28: =IF(ISNUMBER(E28/E$7*100),E28/E$7*100,0) -> 10.865674 | G28: =[1]CUADRO2!H21 -> 8.33924 | H28: =[1]CUADRO2!I21 -> 535237.83 | I28: =IF(ISNUMBER(H28/H$7*100),H28/H$7*100,0) -> 13.146843 | J28: =[1]CUADRO2!K21 -> 8.7197405 | K28: =[1]CUADRO2!L21 -> 501089.42 | L28: =IF(ISNUMBER(K28/K$7*100),K28/K$7*100,0) -> 13.461571 | M28: =[1]CUADRO2!N21 -> 8.6679514 | N28: =[1]CUADRO2!O21 -> 34148.418 | O28: =IF(ISNUMBER(N28/N$7*100),N28/N$7*100,0) -> 9.7886381 | P28: =[1]CUADRO2!Q21 -> 9.4586902 | Q28: =IF(ISNUMBER(N28/H28*100),N28/H28*100,0) -> 6.3800456 | R28: 3.8001218
A29: De 36 a 44 años | B29: =[1]CUADRO2!C22 -> 1024994.3 | C29: =IF(ISNUMBER(B29/B$7*100),B29/B$7*100,0) -> 10.789122 | D29: =[1]CUADRO2!E22 -> 7.4687969 | E29: =[1]CUADRO2!F22 -> 1024994.3 | F29: =IF(ISNUMBER(E29/E$7*100),E29/E$7*100,0) -> 15.287767 | G29: =[1]CUADRO2!H22 -> 7.4687969 | H29: =[1]CUADRO2!I22 -> 753872.54 | I29: =IF(ISNUMBER(H29/H$7*100),H29/H$7*100,0) -> 18.517083 | J29: =[1]CUADRO2!K22 -> 7.9976784 | K29: =[1]CUADRO2!L22 -> 707711.9 | L29: =IF(ISNUMBER(K29/K$7*100),K29/K$7*100,0) -> 19.012403 | M29: =[1]CUADRO2!N22 -> 8.0521344 | N29: =[1]CUADRO2!O22 -> 46160.64 | O29: =IF(ISNUMBER(N29/N$7*100),N29/N$7*100,0) -> 13.23194 | P29: =[1]CUADRO2!Q22 -> 7.1549962 | Q29: =IF(ISNUMBER(N29/H29*100),N29/H29*100,0) -> 6.1231359 | R29: 3.0342242
A30: De 45 a 59 años | B30: =[1]CUADRO2!C23 -> 1208617.1 | C30: =IF(ISNUMBER(B30/B$7*100),B30/B$7*100,0) -> 12.721941 | D30: =[1]CUADRO2!E23 -> 6.8554778 | E30: =[1]CUADRO2!F23 -> 1208617.1 | F30: =IF(ISNUMBER(E30/E$7*100),E30/E$7*100,0) -> 18.026498 | G30: =[1]CUADRO2!H23 -> 6.8554778 | H30: =[1]CUADRO2!I23 -> 793664.85 | I30: =IF(ISNUMBER(H30/H$7*100),H30/H$7*100,0) -> 19.494487 | J30: =[1]CUADRO2!K23 -> 7.4131357 | K30: =[1]CUADRO2!L23 -> 761062.22 | L30: =IF(ISNUMBER(K30/K$7*100),K30/K$7*100,0) -> 20.445639 | M30: =[1]CUADRO2!N23 -> 7.4275943 | N30: =[1]CUADRO2!O23 -> 32602.63 | O30: =IF(ISNUMBER(N30/N$7*100),N30/N$7*100,0) -> 9.3455382 | P30: =[1]CUADRO2!Q23 -> 7.0725316 | Q30: =IF(ISNUMBER(N30/H30*100),N30/H30*100,0) -> 4.1078586 | R30: 3.2093509
A31: De 60 años y más | B31: =[1]CUADRO2!C24 -> 1106923.3 | C31: =IF(ISNUMBER(B31/B$7*100),B31/B$7*100,0) -> 11.651509 | D31: =[1]CUADRO2!E24 -> 5.5758921 | E31: =[1]CUADRO2!F24 -> 1106923.3 | F31: =IF(ISNUMBER(E31/E$7*100),E31/E$7*100,0) -> 16.509737 | G31: =[1]CUADRO2!H24 -> 5.5758921 | H31: =[1]CUADRO2!I24 -> 405302.61 | I31: =IF(ISNUMBER(H31/H$7*100),H31/H$7*100,0) -> 9.9552933 | J31: =[1]CUADRO2!K24 -> 5.889228 | K31: =[1]CUADRO2!L24 -> 377987.51 | L31: =IF(ISNUMBER(K31/K$7*100),K31/K$7*100,0) -> 10.154487 | M31: =[1]CUADRO2!N24 -> 5.843686 | N31: =[1]CUADRO2!O24 -> 27315.098 | O31: =IF(ISNUMBER(N31/N$7*100),N31/N$7*100,0) -> 7.8298682 | P31: =[1]CUADRO2!Q24 -> 6.4601907 | Q31: =IF(ISNUMBER(N31/H31*100),N31/H31*100,0) -> 6.739433 | R31: 3.652841
A33: Sexo
A34: Hombre | B34: =[1]CUADRO2!C25 -> 4559924.6 | C34: =IF(ISNUMBER(B34/B$7*100),B34/B$7*100,0) -> 47.997908 | D34: =[1]CUADRO2!E25 -> 6.5812784 | E34: =[1]CUADRO2!F25 -> 3144545.8 | F34: =IF(ISNUMBER(E34/E$7*100),E34/E$7*100,0) -> 46.900831 | G34: =[1]CUADRO2!H25 -> 7.5234145 | H34: =[1]CUADRO2!I25 -> 2337252.7 | I34: =IF(ISNUMBER(H34/H$7*100),H34/H$7*100,0) -> 57.409046 | J34: =[1]CUADRO2!K25 -> 7.7549522 | K34: =[1]CUADRO2!L25 -> 2173399.2 | L34: =IF(ISNUMBER(K34/K$7*100),K34/K$7*100,0) -> 58.387519 | M34: =[1]CUADRO2!N25 -> 7.7327387 | N34: =[1]CUADRO2!O25 -> 163853.5 | O34: =IF(ISNUMBER(N34/N$7*100),N34/N$7*100,0) -> 46.968578 | P34: =[1]CUADRO2!Q25 -> 8.0521202 | Q34: =IF(ISNUMBER(N34/H34*100),N34/H34*100,0) -> 7.0105171 | R34: 3.4
A35: Mujer | B35: =[1]CUADRO2!C26 -> 4940332.4 | C35: =IF(ISNUMBER(B35/B$7*100),B35/B$7*100,0) -> 52.002092 | D35: =[1]CUADRO2!E26 -> 6.8395187 | E35: =[1]CUADRO2!F26 -> 3560123.8 | F35: =IF(ISNUMBER(E35/E$7*100),E35/E$7*100,0) -> 53.099169 | G35: =[1]CUADRO2!H26 -> 7.7268122 | H35: =[1]CUADRO2!I26 -> 1733974.5 | I35: =IF(ISNUMBER(H35/H$7*100),H35/H$7*100,0) -> 42.590954 | J35: =[1]CUADRO2!K26 -> 8.6247352 | K35: =[1]CUADRO2!L26 -> 1548970.3 | L35: =IF(ISNUMBER(K35/K$7*100),K35/K$7*100,0) -> 41.612481 | M35: =[1]CUADRO2!N26 -> 8.5987804 | N35: =[1]CUADRO2!O26 -> 185004.2 | O35: =IF(ISNUMBER(N35/N$7*100),N35/N$7*100,0) -> 53.031422 | P35: =[1]CUADRO2!Q26 -> 8.8440445 | Q35: =IF(ISNUMBER(N35/H35*100),N35/H35*100,0) -> 10.669372 | R35: 3.6
A37: Rama de Actividad
A38: Primaria | B38: =[1]CUADRO2!C27 -> 839906.81 | C38: =IF(ISNUMBER(B38/B$7*100),B38/B$7*100,0) -> 8.8408852 | D38: =[1]CUADRO2!E27 -> 5.6672634 | E38: =[1]CUADRO2!F27 -> 839906.81 | F38: =IF(ISNUMBER(E38/E$7*100),E38/E$7*100,0) -> 12.527192 | G38: =[1]CUADRO2!H27 -> 5.6672634 | H38: =[1]CUADRO2!I27 -> 839906.81 | I38: =IF(ISNUMBER(H38/H$7*100),H38/H$7*100,0) -> 20.63031 | J38: =[1]CUADRO2!K27 -> 5.6672634 | K38: =[1]CUADRO2!L27 -> 839906.81 | L38: =IF(ISNUMBER(K38/K$7*100),K38/K$7*100,0) -> 22.563768 | M38: =[1]CUADRO2!N27 -> 5.6672634 | N38: =[1]CUADRO2!O27 -> 0 | O38: =IF(ISNUMBER(N38/N$7*100),N38/N$7*100,0) -> 0 | P38: =[1]CUADRO2!Q27 -> 0 | Q38: =IF(ISNUMBER(N38/H38*100),N38/H38*100,0) -> 0
A39: Secundaria | B39: =[1]CUADRO2!C28 -> 567507.08 | C39: =IF(ISNUMBER(B39/B$7*100),B39/B$7*100,0) -> 5.9735971 | D39: =[1]CUADRO2!E28 -> 8.1556694 | E39: =[1]CUADRO2!F28 -> 567507.08 | F39: =IF(ISNUMBER(E39/E$7*100),E39/E$7*100,0) -> 8.4643556 | G39: =[1]CUADRO2!H28 -> 8.1556694 | H39: =[1]CUADRO2!I28 -> 567507.08 | I39: =IF(ISNUMBER(H39/H$7*100),H39/H$7*100,0) -> 13.93946 | J39: =[1]CUADRO2!K28 -> 8.1556694 | K39: =[1]CUADRO2!L28 -> 567507.08 | L39: =IF(ISNUMBER(K39/K$7*100),K39/K$7*100,0) -> 15.245855 | M39: =[1]CUADRO2!N28 -> 8.1556694 | N39: =[1]CUADRO2!O28 -> 0 | O39: =IF(ISNUMBER(N39/N$7*100),N39/N$7*100,0) -> 0 | P39: =[1]CUADRO2!Q28 -> 0 | Q39: =IF(ISNUMBER(N39/H39*100),N39/H39*100,0) -> 0
A40: Terciaria | H40: =[1]CUADRO2!I29 -> 2221636.9 | I40: =IF(ISNUMBER(H40/H$7*100),H40/H$7*100,0) -> 54.569219 | J40: =[1]CUADRO2!K29 -> 8.9082933 | K40: =[1]CUADRO2!L29 -> 2221636.9 | L40: =IF(ISNUMBER(K40/K$7*100),K40/K$7*100,0) -> 59.683406 | M40: =[1]CUADRO2!N29 -> 8.9082933 | N40: =[1]CUADRO2!O29 -> 0 | O40: =IF(ISNUMBER(N40/N$7*100),N40/N$7*100,0) -> 0 | P40: =[1]CUADRO2!Q29 -> 0 | Q40: =IF(ISNUMBER(N40/H40*100),N40/H40*100,0) -> 0
A41: No sabe, no responde | H41: =[1]CUADRO2!I30 -> 93318.736 | I41: =IF(ISNUMBER(H41/H$7*100),H41/H$7*100,0) -> 2.2921525 | J41: =[1]CUADRO2!K30 -> 9.0215844 | K41: =[1]CUADRO2!L30 -> 93318.736 | L41: =IF(ISNUMBER(K41/K$7*100),K41/K$7*100,0) -> 2.5069713 | M41: =[1]CUADRO2!N30 -> 9.0215844 | N41: =[1]CUADRO2!O30 -> 0 | O41: =IF(ISNUMBER(N41/N$7*100),N41/N$7*100,0) -> 0 | P41: =[1]CUADRO2!Q30 -> 0 | Q41: =IF(ISNUMBER(N41/H41*100),N41/H41*100,0) -> 0
A42: Busca trabajo por primera vez | H42: =[1]CUADRO2!I31 -> 88511.357 | I42: =IF(ISNUMBER(H42/H$7*100),H42/H$7*100,0) -> 2.1740706 | J42: =[1]CUADRO2!K31 -> 9.2596718 | K42: =[1]CUADRO2!L31 -> 0 | L42: =IF(ISNUMBER(K42/K$7*100),K42/K$7*100,0) -> 0 | M42: =[1]CUADRO2!N31 -> 0 | N42: =[1]CUADRO2!O31 -> 88511.357 | O42: =IF(ISNUMBER(N42/N$7*100),N42/N$7*100,0) -> 25.371765 | P42: =[1]CUADRO2!Q31 -> 9.2596718 | Q42: =IF(ISNUMBER(N42/H42*100),N42/H42*100,0) -> 100 | R42: 3.7
A44: ='C01'!A32 -> Fuente: Instituto Nacional de Estadística (INE). LXXIII Encuesta Permanente de Hogares de Propósitos Múltiples, Otubre 2021
A45: AEP= Años de Estudio Promedio
A46: TD= Tasa De Desocupación antes llamada Tasa de Desempleo Abierto
A47: MBT= Meses promedio en Busca de Trabajo
...

Sheet C03
A1: Cuadro No. 3. Personas ocupadas por categoría ocupacional, según dominio, nivel educativo, rango de edad, sexo.
A2: número de salarios mínimos, rama de actividad y ocupación
A3: Ocupación Principal
A4: Categorías | B4: Total Ocupados | D4: Asalariados | L4: Cuenta propia | N4: Trabajador Familiar | P4: Contratista Dependiente
D5: Total Asalariados | F5: Público | H5: Privado | J5: Doméstico
B6: No. | C6: % 1/ | D6: No. | E6: % 1/ | F6: No. | G6: % 1/ | H6: No. | I6: % 1/ | J6: No. | K6: % 1/ | L6: No. | M6: % 1/ | N6: No. | O6: % 1/ | P6: No. | Q6: % 1/
A8: Total Nacional 2/ | B8: =+B11+B15 -> 3722369.5 | C8: =SUM(E8,M8,O8)+Q8 -> 100 | D8: =+D11+D15 -> 2045688.1 | E8: =IF(ISNUMBER(D8/$B$8*100),D8/$B$8*100,0) -> 54.956609 | F8: =+F11+F15 -> 237126.29 | G8: =IF(ISNUMBER(F8/$B$8*100),F8/$B$8*100,0) -> 6.3703048 | H8: =+H11+H15 -> 1688152 | I8: =IF(ISNUMBER(H8/$B$8*100),H8/$B$8*100,0) -> 45.351543 | J8: =+J11+J15 -> 120409.75 | K8: =IF(ISNUMBER(J8/$B$8*100),J8/$B$8*100,0) -> 3.2347607 | L8: =+L11+L15 -> 1117397.7 | M8: =IF(ISNUMBER(L8/$B$8*100),L8/$B$8*100,0) -> 30.018452 | N8: =+N11+N15 -> 249821.73 | O8: =IF(ISNUMBER(N8/$B$8*100),N8/$B$8*100,0) -> 6.7113628 | P8: =+P11+P15 -> 309462.04 | Q8: =IF(ISNUMBER(P8/$B$8*100),P8/$B$8*100,0) -> 8.3135764
A10: Dominio
A11: Urbano | B11: =SUM(B12:B14) -> 2263567.6 | C11: =IF(ISNUMBER(B11/B$8*100),B11/B$8*100,0) -> 60.809856 | D11: =SUM(D12:D14) -> 1354232.8 | E11: =IF(ISNUMBER(D11/D$8*100),D11/D$8*100,0) -> 66.199379 | F11: =SUM(F12:F14) -> 186110.38 | G11: =IF(ISNUMBER(F11/F$8*100),F11/F$8*100,0) -> 78.485764 | H11: =SUM(H12:H14) -> 1079755.7 | I11: =IF(ISNUMBER(H11/H$8*100),H11/H$8*100,0) -> 63.96081 | J11: =SUM(J12:J14) -> 88366.699 | K11: =IF(ISNUMBER(J11/J$8*100),J11/J$8*100,0) -> 73.388326 | L11: =SUM(L12:L14) -> 638438.46 | M11: =IF(ISNUMBER(L11/L$8*100),L11/L$8*100,0) -> 57.136187 | N11: =SUM(N12:N14) -> 131768.39 | O11: =IF(ISNUMBER(N11/N$8*100),N11/N$8*100,0) -> 52.744967 | P11: =SUM(P12:P14) -> 139127.93 | Q11: =IF(ISNUMBER(P11/P$8*100),P11/P$8*100,0) -> 44.957997
A12: Distrito Central | B12: =[1]CUADRO3!B5 -> 491951.86 | C12: =IF(ISNUMBER(B12/B$8*100),B12/B$8*100,0) -> 13.216094 | D12: =F12+H12+J12 -> 313750.15 | E12: =IF(ISNUMBER(D12/D$8*100),D12/D$8*100,0) -> 15.337145 | F12: =[1]CUADRO3!D5 -> 60970.629 | G12: =IF(ISNUMBER(F12/F$8*100),F12/F$8*100,0) -> 25.712303 | H12: =[1]CUADRO3!F5 -> 230798.69 | I12: =IF(ISNUMBER(H12/H$8*100),H12/H$8*100,0) -> 13.671677 | J12: =[1]CUADRO3!H5 -> 21980.828 | K12: =IF(ISNUMBER(J12/J$8*100),J12/J$8*100,0) -> 18.255023 | L12: =[1]CUADRO3!J5 -> 124819.7 | M12: =IF(ISNUMBER(L12/L$8*100),L12/L$8*100,0) -> 11.17057 | N12: =[1]CUADRO3!L5 -> 26167.652 | O12: =IF(ISNUMBER(N12/N$8*100),N12/N$8*100,0) -> 10.47453 | P12: =[1]CUADRO3!N5 -> 27214.358 | Q12: =IF(ISNUMBER(P12/P$8*100),P12/P$8*100,0) -> 8.7940861
A13: San Pedro Sula | B13: =[1]CUADRO3!B6 -> 290057.43 | C13: =IF(ISNUMBER(B13/B$8*100),B13/B$8*100,0) -> 7.7922791 | D13: =F13+H13+J13 -> 179444.85 | E13: =IF(ISNUMBER(D13/D$8*100),D13/D$8*100,0) -> 8.771858 | F13: =[1]CUADRO3!D6 -> 7815.0187 | G13: =IF(ISNUMBER(F13/F$8*100),F13/F$8*100,0) -> 3.2957201 | H13: =[1]CUADRO3!F6 -> 162011.35 | I13: =IF(ISNUMBER(H13/H$8*100),H13/H$8*100,0) -> 9.5969644 | J13: =[1]CUADRO3!H6 -> 9618.4846 | K13: =IF(ISNUMBER(J13/J$8*100),J13/J$8*100,0) -> 7.9881278 | L13: =[1]CUADRO3!J6 -> 83560.585 | M13: =IF(ISNUMBER(L13/L$8*100),L13/L$8*100,0) -> 7.4781417 | N13: =[1]CUADRO3!L6 -> 15028.882 | O13: =IF(ISNUMBER(N13/N$8*100),N13/N$8*100,0) -> 6.0158427 | P13: =[1]CUADRO3!N6 -> 12023.106 | Q13: =IF(ISNUMBER(P13/P$8*100),P13/P$8*100,0) -> 3.8851634
A14: Resto urbano | B14: =[1]CUADRO3!B7 -> 1481558.3 | C14: =IF(ISNUMBER(B14/B$8*100),B14/B$8*100,0) -> 39.801483 | D14: =F14+H14+J14 -> 861037.78 | E14: =IF(ISNUMBER(D14/D$8*100),D14/D$8*100,0) -> 42.090375 | F14: =[1]CUADRO3!D7 -> 117324.73 | G14: =IF(ISNUMBER(F14/F$8*100),F14/F$8*100,0) -> 49.477741 | H14: =[1]CUADRO3!F7 -> 686945.67 | I14: =IF(ISNUMBER(H14/H$8*100),H14/H$8*100,0) -> 40.692169 | J14: =[1]CUADRO3!H7 -> 56767.387 | K14: =IF(ISNUMBER(J14/J$8*100),J14/J$8*100,0) -> 47.145175 | L14: =[1]CUADRO3!J7 -> 430058.17 | M14: =IF(ISNUMBER(L14/L$8*100),L14/L$8*100,0) -> 38.487475 | N14: =[1]CUADRO3!L7 -> 90571.852 | O14: =IF(ISNUMBER(N14/N$8*100),N14/N$8*100,0) -> 36.254594 | P14: =[1]CUADRO3!N7 -> 99890.468 | Q14: =IF(ISNUMBER(P14/P$8*100),P14/P$8*100,0) -> 32.278747
A15: Rural | B15: =[1]CUADRO3!B8 -> 1458802 | C15: =IF(ISNUMBER(B15/B$8*100),B15/B$8*100,0) -> 39.190144 | D15: =F15+H15+J15 -> 691455.28 | E15: =IF(ISNUMBER(D15/D$8*100),D15/D$8*100,0) -> 33.800621 | F15: =[1]CUADRO3!D8 -> 51015.908 | G15: =IF(ISNUMBER(F15/F$8*100),F15/F$8*100,0) -> 21.514236 | H15: =[1]CUADRO3!F8 -> 608396.32 | I15: =IF(ISNUMBER(H15/H$8*100),H15/H$8*100,0) -> 36.03919 | J15: =[1]CUADRO3!H8 -> 32043.049 | K15: =IF(ISNUMBER(J15/J$8*100),J15/J$8*100,0) -> 26.611674 | L15: =[1]CUADRO3!J8 -> 478959.26 | M15: =IF(ISNUMBER(L15/L$8*100),L15/L$8*100,0) -> 42.863813 | N15: =[1]CUADRO3!L8 -> 118053.34 | O15: =IF(ISNUMBER(N15/N$8*100),N15/N$8*100,0) -> 47.255033 | P15: =[1]CUADRO3!N8 -> 170334.1 | Q15: =IF(ISNUMBER(P15/P$8*100),P15/P$8*100,0) -> 55.042003
D16: =F16+H16+J16 -> 0
A17: Nivel Educativo
A18: Sin Nivel | B18: =[1]CUADRO3!B9 -> 230226.14 | C18: =IF(ISNUMBER(B18/B$8*100),B18/B$8*100,0) -> 6.1849351 | D18: =F18+H18+J18 -> 91764.204 | E18: =IF(ISNUMBER(D18/D$8*100),D18/D$8*100,0) -> 4.4857379 | F18: =[1]CUADRO3!D9 -> 3498.9045 | G18: =IF(ISNUMBER(F18/F$8*100),F18/F$8*100,0) -> 1.4755448 | H18: =[1]CUADRO3!F9 -> 77010.866 | I18: =IF(ISNUMBER(H18/H$8*100),H18/H$8*100,0) -> 4.5618442 | J18: =[1]CUADRO3!H9 -> 11254.434 | K18: =IF(ISNUMBER(J18/J$8*100),J18/J$8*100,0) -> 9.3467801 | L18: =[1]CUADRO3!J9 -> 92477.677 | M18: =IF(ISNUMBER(L18/L$8*100),L18/L$8*100,0) -> 8.2761648 | N18: =[1]CUADRO3!L9 -> 11988.437 | O18: =IF(ISNUMBER(N18/N$8*100),N18/N$8*100,0) -> 4.7987967 | P18: =[1]CUADRO3!N9 -> 33995.822 | Q18: =IF(ISNUMBER(P18/P$8*100),P18/P$8*100,0) -> 10.985458
A19: Primaria | B19: =[1]CUADRO3!B10 -> 1846723 | C19: =IF(ISNUMBER(B19/B$8*100),B19/B$8*100,0) -> 49.611491 | D19: =F19+H19+J19 -> 879377.35 | E19: =IF(ISNUMBER(D19/D$8*100),D19/D$8*100,0) -> 42.986874 | F19: =[1]CUADRO3!D10 -> 28394.829 | G19: =IF(ISNUMBER(F19/F$8*100),F19/F$8*100,0) -> 11.97456 | H19: =[1]CUADRO3!F10 -> 786479.15 | I19: =IF(ISNUMBER(H19/H$8*100),H19/H$8*100,0) -> 46.588171 | J19: =[1]CUADRO3!H10 -> 64503.37 | K19: =IF(ISNUMBER(J19/J$8*100),J19/J$8*100,0) -> 53.56989 | L19: =[1]CUADRO3!J10 -> 639751.86 | M19: =IF(ISNUMBER(L19/L$8*100),L19/L$8*100,0) -> 57.253729 | N19: =[1]CUADRO3!L10 -> 129669.56 | O19: =IF(ISNUMBER(N19/N$8*100),N19/N$8*100,0) -> 51.904837 | P19: =[1]CUADRO3!N10 -> 197924.25 | Q19: =IF(ISNUMBER(P19/P$8*100),P19/P$8*100,0) -> 63.957523
A20: Secundaria | B20: =[1]CUADRO3!B11 -> 1110936.2 | C20: =IF(ISNUMBER(B20/B$8*100),B20/B$8*100,0) -> 29.844866 | D20: =F20+H20+J20 -> 686260.12 | E20: =IF(ISNUMBER(D20/D$8*100),D20/D$8*100,0) -> 33.546665 | F20: =[1]CUADRO3!D11 -> 80765.91 | G20: =IF(ISNUMBER(F20/F$8*100),F20/F$8*100,0) -> 34.060294 | H20: =[1]CUADRO3!F11 -> 568016.24 | I20: =IF(ISNUMBER(H20/H$8*100),H20/H$8*100,0) -> 33.647221 | J20: =[1]CUADRO3!H11 -> 37477.971 | K20: =IF(ISNUMBER(J20/J$8*100),J20/J$8*100,0) -> 31.125363 | L20: =[1]CUADRO3!J11 -> 279717.25 | M20: =IF(ISNUMBER(L20/L$8*100),L20/L$8*100,0) -> 25.032918 | N20: =[1]CUADRO3!L11 -> 83132.727 | O20: =IF(ISNUMBER(N20/N$8*100),N20/N$8*100,0) -> 33.27682 | P20: =[1]CUADRO3!N11 -> 61826.086 | Q20: =IF(ISNUMBER(P20/P$8*100),P20/P$8*100,0) -> 19.978569
A21: Superior | B21: =[1]CUADRO3!B12 -> 447031.35 | C21: =IF(ISNUMBER(B21/B$8*100),B21/B$8*100,0) -> 12.009322 | D21: =F21+H21+J21 -> 326491.62 | E21: =IF(ISNUMBER(D21/D$8*100),D21/D$8*100,0) -> 15.959991 | F21: =[1]CUADRO3!D12 -> 118691.92 | G21: =IF(ISNUMBER(F21/F$8*100),F21/F$8*100,0) -> 50.054306 | H21: =[1]CUADRO3!F12 -> 205890.17 | I21: =IF(ISNUMBER(H21/H$8*100),H21/H$8*100,0) -> 12.196186 | J21: =[1]CUADRO3!H12 -> 1909.5379 | K21: =IF(ISNUMBER(J21/J$8*100),J21/J$8*100,0) -> 1.5858665 | L21: =[1]CUADRO3!J12 -> 88498.633 | M21: =IF(ISNUMBER(L21/L$8*100),L21/L$8*100,0) -> 7.9200657 | N21: =[1]CUADRO3!L12 -> 23887.188 | O21: =IF(ISNUMBER(N21/N$8*100),N21/N$8*100,0) -> 9.5616935 | P21: =[1]CUADRO3!N12 -> 8153.9109 | Q21: =IF(ISNUMBER(P21/P$8*100),P21/P$8*100,0) -> 2.6348663
A22: No sabe, no responde | B22: =[1]CUADRO3!B13 -> 87452.85 | C22: =IF(ISNUMBER(B22/B$8*100),B22/B$8*100,0) -> 2.3493866 | D22: =F22+H22+J22 -> 61794.77 | E22: =IF(ISNUMBER(D22/D$8*100),D22/D$8*100,0) -> 3.0207328 | F22: =[1]CUADRO3!D13 -> 5774.7257 | G22: =IF(ISNUMBER(F22/F$8*100),F22/F$8*100,0) -> 2.4352955 | H22: =[1]CUADRO3!F13 -> 50755.609 | I22: =IF(ISNUMBER(H22/H$8*100),H22/H$8*100,0) -> 3.0065781 | J22: =[1]CUADRO3!H13 -> 5264.435 | K22: =IF(ISNUMBER(J22/J$8*100),J22/J$8*100,0) -> 4.3721004 | L22: =[1]CUADRO3!J13 -> 16952.299 | M22: =IF(ISNUMBER(L22/L$8*100),L22/L$8*100,0) -> 1.5171231 | N22: =[1]CUADRO3!L13 -> 1143.8158 | O22: =IF(ISNUMBER(N22/N$8*100),N22/N$8*100,0) -> 0.45785281 | P22: =[1]CUADRO3!N13 -> 7561.9654 | Q22: =IF(ISNUMBER(P22/P$8*100),P22/P$8*100,0) -> 2.4435842
A24: Rango de Edad
A25: De 15 a 18 años | B25: =[1]CUADRO3!B14 -> 305528.25 | C25: =IF(ISNUMBER(B25/B$8*100),B25/B$8*100,0) -> 8.2078967 | D25: =F25+H25+J25 -> 167429.89 | E25: =IF(ISNUMBER(D25/D$8*100),D25/D$8*100,0) -> 8.1845268 | F25: =[1]CUADRO3!D14 -> 421.61907 | G25: =IF(ISNUMBER(F25/F$8*100),F25/F$8*100,0) -> 0.1778036 | H25: =[1]CUADRO3!F14 -> 149475.06 | I25: =IF(ISNUMBER(H25/H$8*100),H25/H$8*100,0) -> 8.8543603 | J25: =[1]CUADRO3!H14 -> 17533.206 | K25: =IF(ISNUMBER(J25/J$8*100),J25/J$8*100,0) -> 14.561284 | L25: =[1]CUADRO3!J14 -> 25499.477 | M25: =IF(ISNUMBER(L25/L$8*100),L25/L$8*100,0) -> 2.2820412 | N25: =[1]CUADRO3!L14 -> 85459.741 | O25: =IF(ISNUMBER(N25/N$8*100),N25/N$8*100,0) -> 34.20829 | P25: =[1]CUADRO3!N14 -> 27139.143 | Q25: =IF(ISNUMBER(P25/P$8*100),P25/P$8*100,0) -> 8.7697809
A26: De 19 a 24 años | B26: =[1]CUADRO3!B15 -> 640834.64 | C26: =IF(ISNUMBER(B26/B$8*100),B26/B$8*100,0) -> 17.215772 | D26: =F26+H26+J26 -> 445197.42 | E26: =IF(ISNUMBER(D26/D$8*100),D26/D$8*100,0) -> 21.762723 | F26: =[1]CUADRO3!D15 -> 18766.469 | G26: =IF(ISNUMBER(F26/F$8*100),F26/F$8*100,0) -> 7.9141244 | H26: =[1]CUADRO3!F15 -> 404661.68 | I26: =IF(ISNUMBER(H26/H$8*100),H26/H$8*100,0) -> 23.970689 | J26: =[1]CUADRO3!H15 -> 21769.276 | K26: =IF(ISNUMBER(J26/J$8*100),J26/J$8*100,0) -> 18.07933 | L26: =[1]CUADRO3!J15 -> 70310.873 | M26: =IF(ISNUMBER(L26/L$8*100),L26/L$8*100,0) -> 6.2923766 | N26: =[1]CUADRO3!L15 -> 58225.768 | O26: =IF(ISNUMBER(N26/N$8*100),N26/N$8*100,0) -> 23.306927 | P26: =[1]CUADRO3!N15 -> 67100.58 | Q26: =IF(ISNUMBER(P26/P$8*100),P26/P$8*100,0) -> 21.682976
A27: De 25 a 29 años | B27: =[1]CUADRO3!B16 -> 428155.6 | C27: =IF(ISNUMBER(B27/B$8*100),B27/B$8*100,0) -> 11.502232 | D27: =F27+H27+J27 -> 289025.33 | E27: =IF(ISNUMBER(D27/D$8*100),D27/D$8*100,0) -> 14.128514 | F27: =[1]CUADRO3!D16 -> 31047.036 | G27: =IF(ISNUMBER(F27/F$8*100),F27/F$8*100,0) -> 13.093038 | H27: =[1]CUADRO3!F16 -> 249870.22 | I27: =IF(ISNUMBER(H27/H$8*100),H27/H$8*100,0) -> 14.801405 | J27: =[1]CUADRO3!H16 -> 8108.0757 | K27: =IF(ISNUMBER(J27/J$8*100),J27/J$8*100,0) -> 6.733737 | L27: =[1]CUADRO3!J16 -> 84705.266 | M27: =IF(ISNUMBER(L27/L$8*100),L27/L$8*100,0) -> 7.5805834 | N27: =[1]CUADRO3!L16 -> 23090.401 | O27: =IF(ISNUMBER(N27/N$8*100),N27/N$8*100,0) -> 9.2427513 | P27: =[1]CUADRO3!N16 -> 31334.599 | Q27: =IF(ISNUMBER(P27/P$8*100),P27/P$8*100,0) -> 10.125507
A28: De 30 a 35 años | B28: =[1]CUADRO3!B17 -> 501089.42 | C28: =IF(ISNUMBER(B28/B$8*100),B28/B$8*100,0) -> 13.461571 | D28: =F28+H28+J28 -> 295927.86 | E28: =IF(ISNUMBER(D28/D$8*100),D28/D$8*100,0) -> 14.465933 | F28: =[1]CUADRO3!D17 -> 27472.333 | G28: =IF(ISNUMBER(F28/F$8*100),F28/F$8*100,0) -> 11.585528 | H28: =[1]CUADRO3!F17 -> 253207.4 | I28: =IF(ISNUMBER(H28/H$8*100),H28/H$8*100,0) -> 14.999087 | J28: =[1]CUADRO3!H17 -> 15248.136 | K28: =IF(ISNUMBER(J28/J$8*100),J28/J$8*100,0) -> 12.663539 | L28: =[1]CUADRO3!J17 -> 138324.96 | M28: =IF(ISNUMBER(L28/L$8*100),L28/L$8*100,0) -> 12.379205 | N28: =[1]CUADRO3!L17 -> 17628.374 | O28: =IF(ISNUMBER(N28/N$8*100),N28/N$8*100,0) -> 7.0563815 | P28: =[1]CUADRO3!N17 -> 49208.22 | Q28: =IF(ISNUMBER(P28/P$8*100),P28/P$8*100,0) -> 15.901214
A29: De 36 a 44 años | B29: =[1]CUADRO3!B18 -> 707711.9 | C29: =IF(ISNUMBER(B29/B$8*100),B29/B$8*100,0) -> 19.012403 | D29: =F29+H29+J29 -> 381702.72 | E29: =IF(ISNUMBER(D29/D$8*100),D29/D$8*100,0) -> 18.658892 | F29: =[1]CUADRO3!D18 -> 51963.674 | G29: =IF(ISNUMBER(F29/F$8*100),F29/F$8*100,0) -> 21.913924 | H29: =[1]CUADRO3!F18 -> 307286.19 | I29: =IF(ISNUMBER(H29/H$8*100),H29/H$8*100,0) -> 18.202519 | J29: =[1]CUADRO3!H18 -> 22452.853 | K29: =IF(ISNUMBER(J29/J$8*100),J29/J$8*100,0) -> 18.647039 | L29: =[1]CUADRO3!J18 -> 249626.65 | M29: =IF(ISNUMBER(L29/L$8*100),L29/L$8*100,0) -> 22.34 | N29: =[1]CUADRO3!L18 -> 22884.25 | O29: =IF(ISNUMBER(N29/N$8*100),N29/N$8*100,0) -> 9.160232 | P29: =[1]CUADRO3!N18 -> 53498.282 | Q29: =IF(ISNUMBER(P29/P$8*100),P29/P$8*100,0) -> 17.287511
A30: De 45 a 59 años | B30: =[1]CUADRO3!B19 -> 761062.22 | C30: =IF(ISNUMBER(B30/B$8*100),B30/B$8*100,0) -> 20.445639 | D30: =F30+H30+J30 -> 347049.41 | E30: =IF(ISNUMBER(D30/D$8*100),D30/D$8*100,0) -> 16.964923 | F30: =[1]CUADRO3!D19 -> 84105.319 | G30: =IF(ISNUMBER(F30/F$8*100),F30/F$8*100,0) -> 35.468577 | H30: =[1]CUADRO3!F19 -> 234014.96 | I30: =IF(ISNUMBER(H30/H$8*100),H30/H$8*100,0) -> 13.862197 | J30: =[1]CUADRO3!H19 -> 28929.134 | K30: =IF(ISNUMBER(J30/J$8*100),J30/J$8*100,0) -> 24.025574 | L30: =[1]CUADRO3!J19 -> 331724.2 | M30: =IF(ISNUMBER(L30/L$8*100),L30/L$8*100,0) -> 29.68721 | N30: =[1]CUADRO3!L19 -> 25028.941 | O30: =IF(ISNUMBER(N30/N$8*100),N30/N$8*100,0) -> 10.018721 | P30: =[1]CUADRO3!N19 -> 57259.665 | Q30: =IF(ISNUMBER(P30/P$8*100),P30/P$8*100,0) -> 18.502969
A31: De 60 años y más | B31: =[1]CUADRO3!B20 -> 377987.51 | C31: =IF(ISNUMBER(B31/B$8*100),B31/B$8*100,0) -> 10.154487 | D31: =F31+H31+J31 -> 119355.42 | E31: =IF(ISNUMBER(D31/D$8*100),D31/D$8*100,0) -> 5.834488 | F31: =[1]CUADRO3!D20 -> 23349.836 | G31: =IF(ISNUMBER(F31/F$8*100),F31/F$8*100,0) -> 9.8470045 | H31: =[1]CUADRO3!F20 -> 89636.52 | I31: =IF(ISNUMBER(H31/H$8*100),H31/H$8*100,0) -> 5.3097422 | J31: =[1]CUADRO3!H20 -> 6369.0682 | K31: =IF(ISNUMBER(J31/J$8*100),J31/J$8*100,0) -> 5.2894955 | L31: =[1]CUADRO3!J20 -> 217206.29 | M31: =IF(ISNUMBER(L31/L$8*100),L31/L$8*100,0) -> 19.438584 | N31: =[1]CUADRO3!L20 -> 17504.251 | O31: =IF(ISNUMBER(N31/N$8*100),N31/N$8*100,0) -> 7.006697 | P31: =[1]CUADRO3!N20 -> 23921.547 | Q31: =IF(ISNUMBER(P31/P$8*100),P31/P$8*100,0) -> 7.7300425
A33: Sexo
A34: Hombre | B34: =[1]CUADRO3!B22 -> 2173399.2 | C34: =IF(ISNUMBER(B34/B$8*100),B34/B$8*100,0) -> 58.387519 | D34: =F34+H34+J34 -> 1290847.7 | E34: =IF(ISNUMBER(D34/D$8*100),D34/D$8*100,0) -> 63.100907 | F34: =[1]CUADRO3!D22 -> 95515.809 | G34: =IF(ISNUMBER(F34/F$8*100),F34/F$8*100,0) -> 40.280565 | H34: =[1]CUADRO3!F22 -> 1187394.5 | I34: =IF(ISNUMBER(H34/H$8*100),H34/H$8*100,0) -> 70.336943 | J34: =[1]CUADRO3!H22 -> 7937.3805 | K34: =IF(ISNUMBER(J34/J$8*100),J34/J$8*100,0) -> 6.591975 | L34: =[1]CUADRO3!J22 -> 552812.2 | M34: =IF(ISNUMBER(L34/L$8*100),L34/L$8*100,0) -> 49.473181 | N34: =[1]CUADRO3!L22 -> 102349.7 | O34: =IF(ISNUMBER(N34/N$8*100),N34/N$8*100,0) -> 40.969093 | P34: =[1]CUADRO3!N22 -> 227389.6 | Q34: =IF(ISNUMBER(P34/P$8*100),P34/P$8*100,0) -> 73.478996
A35: Mujer | B35: =[1]CUADRO3!B23 -> 1548970.3 | C35: =IF(ISNUMBER(B35/B$8*100),B35/B$8*100,0) -> 41.612481 | D35: =F35+H35+J35 -> 754840.34 | E35: =IF(ISNUMBER(D35/D$8*100),D35/D$8*100,0) -> 36.899093 | F35: =[1]CUADRO3!D23 -> 141610.48 | G35: =IF(ISNUMBER(F35/F$8*100),F35/F$8*100,0) -> 59.719435 | H35: =[1]CUADRO3!F23 -> 500757.49 | I35: =IF(ISNUMBER(H35/H$8*100),H35/H$8*100,0) -> 29.663057 | J35: =[1]CUADRO3!H23 -> 112472.37 | K35: =IF(ISNUMBER(J35/J$8*100),J35/J$8*100,0) -> 93.408025 | L35: =[1]CUADRO3!J23 -> 564585.52 | M35: =IF(ISNUMBER(L35/L$8*100),L35/L$8*100,0) -> 50.526819 | N35: =[1]CUADRO3!L23 -> 147472.03 | O35: =IF(ISNUMBER(N35/N$8*100),N35/N$8*100,0) -> 59.030907 | P35: =[1]CUADRO3!N23 -> 82072.439 | Q35: =IF(ISNUMBER(P35/P$8*100),P35/P$8*100,0) -> 26.521004
A37: No. de Salarios Mínimos 3/ | B37: =SUM(B39:B46) -> 3722369.5 | C37: =IF(ISNUMBER(B37/B$8*100),B37/B$8*100,0) -> 100 | D37: =F37+H37+J37 -> 2045688.1 | E37: =IF(ISNUMBER(D37/D$8*100),D37/D$8*100,0) -> 100 | F37: =SUM(F39:F46) -> 237126.29 | G37: =IF(ISNUMBER(F37/F$8*100),F37/F$8*100,0) -> 100 | H37: =SUM(H39:H46) -> 1688152 | I37: =IF(ISNUMBER(H37/H$8*100),H37/H$8*100,0) -> 100 | J37: =SUM(J39:J46) -> 120409.75 | K37: =IF(ISNUMBER(J37/J$8*100),J37/J$8*100,0) -> 100 | L37: =SUM(L39:L46) -> 1117397.7 | M37: =IF(ISNUMBER(L37/L$8*100),L37/L$8*100,0) -> 100 | N37: =SUM(N39:N46) -> 249821.73 | O37: =IF(ISNUMBER(N37/N$8*100),N37/N$8*100,0) -> 100 | P37: =SUM(P39:P46) -> 309462.04 | Q37: =IF(ISNUMBER(P37/P$8*100),P37/P$8*100,0) -> 100
A38: Menos de un salario | B38: =SUM(B39:B41) -> 2142934.9 | C38: =IF(ISNUMBER(B38/B$8*100),B38/B$8*100,0) -> 57.569107 | D38: =F38+H38+J38 -> 1331286.6 | E38: =IF(ISNUMBER(D38/D$8*100),D38/D$8*100,0) -> 65.077693 | F38: =SUM(F39:F41) -> 80390.179 | G38: =IF(ISNUMBER(F38/F$8*100),F38/F$8*100,0) -> 33.901842 | H38: =SUM(H39:H41) -> 1139987.6 | I38: =IF(ISNUMBER(H38/H$8*100),H38/H$8*100,0) -> 67.528727 | J38: =SUM(J39:J41) -> 110908.84 | K38: =IF(ISNUMBER(J38/J$8*100),J38/J$8*100,0) -> 92.109519 | L38: =SUM(L39:L41) -> 671163.14 | M38: =IF(ISNUMBER(L38/L$8*100),L38/L$8*100,0) -> 60.064839 | N38: =SUM(N39:N41) -> 0 | O38: =IF(ISNUMBER(N38/N$8*100),N38/N$8*100,0) -> 0 | P38: =SUM(P39:P41) -> 140485.17 | Q38: =IF(ISNUMBER(P38/P$8*100),P38/P$8*100,0) -> 45.396577
A39: Menos de 1 salario y trabaja menos de una jornada laboral | B39: =[1]CUADRO3!B24 -> 1041032.5 | C39: =IF(ISNUMBER(B39/B$8*100),B39/B$8*100,0) -> 27.96693 | D39: =F39+H39+J39 -> 542485.68 | E39: =IF(ISNUMBER(D39/D$8*100),D39/D$8*100,0) -> 26.518495 | F39: =[1]CUADRO3!D24 -> 35810.079 | G39: =IF(ISNUMBER(F39/F$8*100),F39/F$8*100,0) -> 15.101691 | H39: =[1]CUADRO3!F24 -> 457993.37 | I39: =IF(ISNUMBER(H39/H$8*100),H39/H$8*100,0) -> 27.129865 | J39: =[1]CUADRO3!H24 -> 48682.232 | K39: =IF(ISNUMBER(J39/J$8*100),J39/J$8*100,0) -> 40.430474 | L39: =[1]CUADRO3!J24 -> 416885.9 | M39: =IF(ISNUMBER(L39/L$8*100),L39/L$8*100,0) -> 37.308641 | N39: =[1]CUADRO3!L24 -> 0 | O39: =IF(ISNUMBER(N39/N$8*100),N39/N$8*100,0) -> 0 | P39: =[1]CUADRO3!N24 -> 81660.889 | Q39: =IF(ISNUMBER(P39/P$8*100),P39/P$8*100,0) -> 26.388015
A40: Menos de 1 salario y trabaja mas de una jornada laboral | B40: =[1]CUADRO3!B25 -> 1101480.8 | C40: =IF(ISNUMBER(B40/B$8*100),B40/B$8*100,0) -> 29.590851 | D40: =F40+H40+J40 -> 788379.29 | E40: =IF(ISNUMBER(D40/D$8*100),D40/D$8*100,0) -> 38.538588 | F40: =[1]CUADRO3!D25 -> 44158.481 | G40: =IF(ISNUMBER(F40/F$8*100),F40/F$8*100,0) -> 18.622348 | H40: =[1]CUADRO3!F25 -> 681994.2 | I40: =IF(ISNUMBER(H40/H$8*100),H40/H$8*100,0) -> 40.398862 | J40: =[1]CUADRO3!H25 -> 62226.608 | K40: =IF(ISNUMBER(J40/J$8*100),J40/J$8*100,0) -> 51.679045 | L40: =[1]CUADRO3!J25 -> 254277.24 | M40: =IF(ISNUMBER(L40/L$8*100),L40/L$8*100,0) -> 22.756198 | N40: =[1]CUADRO3!L25 -> 0 | O40: =IF(ISNUMBER(N40/N$8*100),N40/N$8*100,0) -> 0 | P40: =[1]CUADRO3!N25 -> 58824.284 | Q40: =IF(ISNUMBER(P40/P$8*100),P40/P$8*100,0) -> 19.008562
A41: Menos de 1 salario y no declaran horas | B41: =[1]CUADRO3!B26 -> 421.61907 | C41: =IF(ISNUMBER(B41/B$8*100),B41/B$8*100,0) -> 0.011326631 | D41: =F41+H41+J41 -> 421.61907 | E41: =IF(ISNUMBER(D41/D$8*100),D41/D$8*100,0) -> 0.020610135 | F41: =[1]CUADRO3!D26 -> 421.61907 | G41: =IF(ISNUMBER(F41/F$8*100),F41/F$8*100,0) -> 0.1778036 | H41: =[1]CUADRO3!F26 -> 0 | I41: =IF(ISNUMBER(H41/H$8*100),H41/H$8*100,0) -> 0 | J41: =[1]CUADRO3!H26 -> 0 | K41: =IF(ISNUMBER(J41/J$8*100),J41/J$8*100,0) -> 0 | L41: =[1]CUADRO3!J26 -> 0 | M41: =IF(ISNUMBER(L41/L$8*100),L41/L$8*100,0) -> 0 | N41: =[1]CUADRO3!L26 -> 0 | O41: =IF(ISNUMBER(N41/N$8*100),N41/N$8*100,0) -> 0 | P41: =[1]CUADRO3!N26 -> 0 | Q41: =IF(ISNUMBER(P41/P$8*100),P41/P$8*100,0) -> 0
A42: De 1 a 2 salarios | B42: =[1]CUADRO3!B27 -> 379805.14 | C42: =IF(ISNUMBER(B42/B$8*100),B42/B$8*100,0) -> 10.203316 | D42: =F42+H42+J42 -> 292399.26 | E42: =IF(ISNUMBER(D42/D$8*100),D42/D$8*100,0) -> 14.293443 | F42: =[1]CUADRO3!D27 -> 70381.897 | G42: =IF(ISNUMBER(F42/F$8*100),F42/F$8*100,0) -> 29.681187 | H42: =[1]CUADRO3!F27 -> 218011.82 | I42: =IF(ISNUMBER(H42/H$8*100),H42/H$8*100,0) -> 12.914229 | J42: =[1]CUADRO3!H27 -> 4005.5414 | K42: =IF(ISNUMBER(J42/J$8*100),J42/J$8*100,0) -> 3.3265923 | L42: =[1]CUADRO3!J27 -> 78247.448 | M42: =IF(ISNUMBER(L42/L$8*100),L42/L$8*100,0) -> 7.0026497 | N42: =[1]CUADRO3!L27 -> 0 | O42: =IF(ISNUMBER(N42/N$8*100),N42/N$8*100,0) -> 0 | P42: =[1]CUADRO3!N27 -> 9158.4309 | Q42: =IF(ISNUMBER(P42/P$8*100),P42/P$8*100,0) -> 2.9594683
A43: De 2 a 3 salarios | B43: =[1]CUADRO3!B28 -> 57753.088 | C43: =IF(ISNUMBER(B43/B$8*100),B43/B$8*100,0) -> 1.5515141 | D43: =F43+H43+J43 -> 34976.007 | E43: =IF(ISNUMBER(D43/D$8*100),D43/D$8*100,0) -> 1.7097429 | F43: =[1]CUADRO3!D28 -> 9994.3662 | G43: =IF(ISNUMBER(F43/F$8*100),F43/F$8*100,0) -> 4.2147863 | H43: =[1]CUADRO3!F28 -> 24981.641 | I43: =IF(ISNUMBER(H43/H$8*100),H43/H$8*100,0) -> 1.4798217 | J43: =[1]CUADRO3!H28 -> 0 | K43: =IF(ISNUMBER(J43/J$8*100),J43/J$8*100,0) -> 0 | L43: =[1]CUADRO3!J28 -> 21682.633 | M43: =IF(ISNUMBER(L43/L$8*100),L43/L$8*100,0) -> 1.940458 | N43: =[1]CUADRO3!L28 -> 0 | O43: =IF(ISNUMBER(N43/N$8*100),N43/N$8*100,0) -> 0 | P43: =[1]CUADRO3!N28 -> 1094.4482 | Q43: =IF(ISNUMBER(P43/P$8*100),P43/P$8*100,0) -> 0.35366155
A44: De 3 a 4 salarios | B44: =[1]CUADRO3!B29 -> 17109.563 | C44: =IF(ISNUMBER(B44/B$8*100),B44/B$8*100,0) -> 0.45964171 | D44: =F44+H44+J44 -> 10037.324 | E44: =IF(ISNUMBER(D44/D$8*100),D44/D$8*100,0) -> 0.4906576 | F44: =[1]CUADRO3!D29 -> 2623.5779 | G44: =IF(ISNUMBER(F44/F$8*100),F44/F$8*100,0) -> 1.1064054 | H44: =[1]CUADRO3!F29 -> 7413.746 | I44: =IF(ISNUMBER(H44/H$8*100),H44/H$8*100,0) -> 0.43916341 | J44: =[1]CUADRO3!H29 -> 0 | K44: =IF(ISNUMBER(J44/J$8*100),J44/J$8*100,0) -> 0 | L44: =[1]CUADRO3!J29 -> 6239.4673 | M44: =IF(ISNUMBER(L44/L$8*100),L44/L$8*100,0) -> 0.5583927 | N44: =[1]CUADRO3!L29 -> 0 | O44: =IF(ISNUMBER(N44/N$8*100),N44/N$8*100,0) -> 0 | P44: =[1]CUADRO3!N29 -> 832.7717 | Q44: =IF(ISNUMBER(P44/P$8*100),P44/P$8*100,0) -> 0.26910303
A45: De 4 salarios y más | B45: =[1]CUADRO3!B30 -> 21953.437 | C45: =IF(ISNUMBER(B45/B$8*100),B45/B$8*100,0) -> 0.58977048 | D45: =F45+H45+J45 -> 7593.6851 | E45: =IF(ISNUMBER(D45/D$8*100),D45/D$8*100,0) -> 0.37120445 | F45: =[1]CUADRO3!D30 -> 1094.4482 | G45: =IF(ISNUMBER(F45/F$8*100),F45/F$8*100,0) -> 0.46154656 | H45: =[1]CUADRO3!F30 -> 6499.2369 | I45: =IF(ISNUMBER(H45/H$8*100),H45/H$8*100,0) -> 0.38499121 | J45: =[1]CUADRO3!H30 -> 0 | K45: =IF(ISNUMBER(J45/J$8*100),J45/J$8*100,0) -> 0 | L45: =[1]CUADRO3!J30 -> 14098.075 | M45: =IF(ISNUMBER(L45/L$8*100),L45/L$8*100,0) -> 1.2616882 | N45: =[1]CUADRO3!L30 -> 0 | O45: =IF(ISNUMBER(N45/N$8*100),N45/N$8*100,0) -> 0 | P45: =[1]CUADRO3!N30 -> 261.67652 | Q45: =IF(ISNUMBER(P45/P$8*100),P45/P$8*100,0) -> 0.084558521
...

Sheet C04
A1: Cuadro No. 4. Personas ocupadas y que declaran ingresos por categoría ocupacional, según dominio, nivel educativo, rango de edad,
A2: sexo, número de salarios mínimos devengados, rama de actividad y ocupación
A3: Ocupación Principal
A4: Categorías | B4: Total Pers. Ocupadas | D4: Pers. que declaran Ing. | F4: Asalariados | N4: Cuenta propia | R4: Contratista Dependiente
F5: Total | H5: Público | J5: Privado | L5: Doméstico
B6: No. | C6: % 1/ | D6: No. | E6: % 1/ | F6: No. | G6: % 1/ | H6: No. | I6: % 1/ | J6: No. | K6: % 1/ | L6: No. | M6: % 1/ | N6: No. | O6: % 1/ | R6: No. | S6: % 1/
A8: Total Nacional 2/ | B8: ='C03'!B8 -> 3722369.5 | C8: =+C11+C15 -> 100 | D8: =+D11+D15 -> 2619556.1 | E8: =IF(ISNUMBER(D8/$B$8*100),D8/$B$8*100,0) -> 70.37335 | F8: =H8+J8+L8 -> 1676292.9 | G8: =IF(ISNUMBER(F8/$B$8*100),F8/$B$8*100,0) -> 45.032951 | H8: =+H11+H15 -> 164484.47 | I8: =IF(ISNUMBER(H8/$B$8*100),H8/$B$8*100,0) -> 4.4188108 | J8: =+J11+J15 -> 1396894 | K8: =IF(ISNUMBER(J8/$B$8*100),J8/$B$8*100,0) -> 37.527011 | L8: =+L11+L15 -> 114914.38 | M8: =IF(ISNUMBER(L8/$B$8*100),L8/$B$8*100,0) -> 3.0871299 | N8: =+N11+N15 -> 791430.76 | O8: =IF(ISNUMBER(N8/$B$8*100),N8/$B$8*100,0) -> 21.261478 | P8: =+P11+P15 -> 0 | Q8: =IF(ISNUMBER(P8/$B$8*100),P8/$B$8*100,0) -> 0 | R8: =+R11+R15 -> 151832.5 | S8: =IF(ISNUMBER(R8/$B$8*100),R8/$B$8*100,0) -> 4.0789206
A10: Dominio
A11: Urbano | B11: ='C03'!B11 -> 2263567.6 | C11: =IF(ISNUMBER(B11/B$8*100),B11/B$8*100,0) -> 60.809856 | D11: =SUM(D12:D14) -> 1557076.1 | E11: =IF(ISNUMBER(D11/D$8*100),D11/D$8*100,0) -> 59.440455 | F11: =SUM(F12:F14) -> 1048080.5 | G11: =IF(ISNUMBER(F11/F$8*100),F11/F$8*100,0) -> 62.523708 | H11: =SUM(H12:H14) -> 122744.18 | I11: =IF(ISNUMBER(H11/H$8*100),H11/H$8*100,0) -> 74.623569 | J11: =SUM(J12:J14) -> 841200.08 | K11: =IF(ISNUMBER(J11/J$8*100),J11/J$8*100,0) -> 60.21932 | L11: =SUM(L12:L14) -> 84136.189 | M11: =IF(ISNUMBER(L11/L$8*100),L11/L$8*100,0) -> 73.216414 | N11: =SUM(N12:N14) -> 443173.41 | O11: =IF(ISNUMBER(N11/N$8*100),N11/N$8*100,0) -> 55.996485 | P11: =SUM(P12:P14) -> 0 | Q11: =IF(ISNUMBER(P11/P$8*100),P11/P$8*100,0) -> 0 | R11: =SUM(R12:R14) -> 65822.209 | S11: =IF(ISNUMBER(R11/R$8*100),R11/R$8*100,0) -> 43.351858
