Workbook

Sheet Portada

Sheet C01
A2: Cuadro No. 1. Población Económicamente Activa (Fuerza de Trabajo) en condición de empleo, según dominio, Nivel educativo, Rangos de edad, rama de actividad y ocupación
A4: Categorías | B4: Fuerza de Trabajo | D4: Ocupados | F4: Desocupados | I4: Subocupados por Insuficiencia de Tiempo de Trabajo. | L4: Subocupados Por Insuficiencia De Ingresos
B5: No. | C5: AEP | D5: No. | E5: AEP | F5: No. | G5: AEP | H5: TD | I5: No. | J5: AEP | K5: TST | L5: No. | M5: AEP | N5: TSI
A7: Total Nacional | B7: =[1]CUADRO123!C7 -> 4071227.2 | C7: =[1]CUADRO123!D7 -> 8.1267214 | D7: =[1]CUADRO123!E7 -> 3722369.5 | E7: =[1]CUADRO123!F7 -> 8.0945061 | F7: =[1]CUADRO123!G7 -> 348857.7 | G7: =[1]CUADRO123!H7 -> 8.4732624 | H7: =F7/B7*100 -> 8.5688585 | I7: =[1]CUADRO123!K7 -> 1535290.4 | J7: =[1]CUADRO123!L7 -> 7.5176971 | K7: =IF(ISNUMBER(I7/D7*100),I7/D7*100,0) -> 41.244976 | L7: =[1]CUADRO123!M7 -> 1002122.6 | M7: =[1]CUADRO123!N7 -> 7.4453671 | N7: =IF(ISNUMBER(L7/D7*100),L7/D7*100,0) -> 26.921632
A9: Dominio
A10: Urbano | B10: =[1]CUADRO123!C8 -> 2509128.6 | C10: =[1]CUADRO123!D8 -> 9.2077007 | D10: =[1]CUADRO123!E8 -> 2263567.6 | E10: =[1]CUADRO123!F8 -> 9.2119771 | F10: =[1]CUADRO123!G8 -> 245561.03 | G10: =[1]CUADRO123!H8 -> 9.1675686 | H10: =F10/B10*100 -> 9.7867056 | I10: =[1]CUADRO123!K8 -> 808419.14 | J10: =[1]CUADRO123!L8 -> 8.6936848 | K10: =IF(ISNUMBER(I10/D10*100),I10/D10*100,0) -> 35.714381 | L10: =[1]CUADRO123!M8 -> 630254.61 | M10: =[1]CUADRO123!N8 -> 8.3088967 | N10: =IF(ISNUMBER(L10/D10*100),L10/D10*100,0) -> 27.843419
A11: Distrito Central | B11: =[1]CUADRO123!C10 -> 547165.6 | C11: =[1]CUADRO123!D10 -> 10.13521 | D11: =[1]CUADRO123!E10 -> 491951.86 | E11: =[1]CUADRO123!F10 -> 10.100367 | F11: =[1]CUADRO123!G10 -> 55213.746 | G11: =[1]CUADRO123!H10 -> 10.455056 | H11: =F11/B11*100 -> 10.090866 | I11: =[1]CUADRO123!K10 -> 167211.3 | J11: =[1]CUADRO123!L10 -> 9.411032 | K11: =IF(ISNUMBER(I11/D11*100),I11/D11*100,0) -> 33.989362 | L11: =[1]CUADRO123!M10 -> 127698.14 | M11: =[1]CUADRO123!N10 -> 8.6212471 | N11: =IF(ISNUMBER(L11/D11*100),L11/D11*100,0) -> 25.957447
A12: San Pedro Sula | B12: =[1]CUADRO123!C11 -> 320415.77 | C12: =[1]CUADRO123!D11 -> 9.2650475 | D12: =[1]CUADRO123!E11 -> 290057.43 | E12: =[1]CUADRO123!F11 -> 9.2751756 | F12: =[1]CUADRO123!G11 -> 30358.342 | G12: =[1]CUADRO123!H11 -> 9.172043 | H12: =F12/B12*100 -> 9.4746717 | I12: =[1]CUADRO123!K11 -> 97086.579 | J12: =[1]CUADRO123!L11 -> 8.8333333 | K12: =IF(ISNUMBER(I12/D12*100),I12/D12*100,0) -> 33.471503 | L12: =[1]CUADRO123!M11 -> 77849.609 | M12: =[1]CUADRO123!N11 -> 8.0897436 | N12: =IF(ISNUMBER(L12/D12*100),L12/D12*100,0) -> 26.839378
A13: Resto urbano | B13: =[1]CUADRO123!C12 -> 1641547.2 | C13: =[1]CUADRO123!D12 -> 8.8999125 | D13: =[1]CUADRO123!E12 -> 1481558.3 | E13: =[1]CUADRO123!F12 -> 8.9165384 | F13: =[1]CUADRO123!G12 -> 159988.94 | G13: =[1]CUADRO123!H12 -> 8.7421043 | H13: =F13/B13*100 -> 9.7462284 | I13: =[1]CUADRO123!K12 -> 544121.27 | J13: =[1]CUADRO123!L12 -> 8.4561235 | K13: =IF(ISNUMBER(I13/D13*100),I13/D13*100,0) -> 36.726282 | L13: =[1]CUADRO123!M12 -> 424706.85 | M13: =[1]CUADRO123!N12 -> 8.2573101 | N13: =IF(ISNUMBER(L13/D13*100),L13/D13*100,0) -> 28.666227
A14: Rural | B14: =[1]CUADRO123!C13 -> 1562098.7 | C14: =[1]CUADRO123!D13 -> 6.3286385 | D14: =[1]CUADRO123!E13 -> 1458802 | E14: =[1]CUADRO123!F13 -> 6.2953403 | F14: =[1]CUADRO123!G13 -> 103296.67 | G14: =[1]CUADRO123!H13 -> 6.7971698 | H14: =F14/B14*100 -> 6.6126856 | I14: =[1]CUADRO123!K13 -> 726871.28 | J14: =[1]CUADRO123!L13 -> 6.1585932 | K14: =IF(ISNUMBER(I14/D14*100),I14/D14*100,0) -> 49.82659 | L14: =[1]CUADRO123!M13 -> 371868.02 | M14: =[1]CUADRO123!N13 -> 5.9149215 | N14: =IF(ISNUMBER(L14/D14*100),L14/D14*100,0) -> 25.491329
A16: Nivel Educativo
A17: Sin Nivel | B17: =[1]CUADRO123!C14 -> 244908.45 | C17: =[1]CUADRO123!D14 -> 0 | D17: =[1]CUADRO123!E14 -> 230226.14 | E17: =[1]CUADRO123!F14 -> 0 | F17: =[1]CUADRO123!G14 -> 14682.315 | G17: =[1]CUADRO123!H14 -> 0 | H17: =F17/B17*100 -> 5.9950217 | I17: =[1]CUADRO123!K14 -> 108788.25 | J17: =[1]CUADRO123!L14 -> 0 | K17: =IF(ISNUMBER(I17/D17*100),I17/D17*100,0) -> 47.252782 | L17: =[1]CUADRO123!M14 -> 66571.473 | M17: =[1]CUADRO123!N14 -> 0 | N17: =IF(ISNUMBER(L17/D17*100),L17/D17*100,0) -> 28.915688
A18: Primaria | B18: =[1]CUADRO123!C15 -> 2001242.4 | C18: =[1]CUADRO123!D15 -> 5.1316262 | D18: =[1]CUADRO123!E15 -> 1846723 | E18: =[1]CUADRO123!F15 -> 5.1076108 | F18: =[1]CUADRO123!G15 -> 154519.39 | G18: =[1]CUADRO123!H15 -> 5.418644 | H18: =F18/B18*100 -> 7.7211731 | I18: =[1]CUADRO123!K15 -> 860379.67 | J18: =[1]CUADRO123!L15 -> 5.0925372 | K18: =IF(ISNUMBER(I18/D18*100),I18/D18*100,0) -> 46.589535 | L18: =[1]CUADRO123!M15 -> 541164.17 | M18: =[1]CUADRO123!N15 -> 5.070531 | N18: =IF(ISNUMBER(L18/D18*100),L18/D18*100,0) -> 29.304025
A19: Secundaria | B19: =[1]CUADRO123!C16 -> 1239810.5 | C19: =[1]CUADRO123!D16 -> 10.69401 | D19: =[1]CUADRO123!E16 -> 1110936.2 | E19: =[1]CUADRO123!F16 -> 10.67157 | F19: =[1]CUADRO123!G16 -> 128874.35 | G19: =[1]CUADRO123!H16 -> 10.887135 | H19: =F19/B19*100 -> 10.394681 | I19: =[1]CUADRO123!K16 -> 410679.73 | J19: =[1]CUADRO123!L16 -> 10.530742 | K19: =IF(ISNUMBER(I19/D19*100),I19/D19*100,0) -> 36.966995 | L19: =[1]CUADRO123!M16 -> 320937.45 | M19: =[1]CUADRO123!N16 -> 10.65713 | N19: =IF(ISNUMBER(L19/D19*100),L19/D19*100,0) -> 28.888919
A20: Superior | B20: =[1]CUADRO123!C17 -> 493124.16 | C20: =[1]CUADRO123!D17 -> 16.205168 | D20: =[1]CUADRO123!E17 -> 447031.35 | E20: =[1]CUADRO123!F17 -> 16.227744 | F20: =[1]CUADRO123!G17 -> 46092.81 | G20: =[1]CUADRO123!H17 -> 15.866233 | H20: =F20/B20*100 -> 9.3471002 | I20: =[1]CUADRO123!K17 -> 137053.86 | J20: =[1]CUADRO123!L17 -> 16.079791 | K20: =IF(ISNUMBER(I20/D20*100),I20/D20*100,0) -> 30.658669 | L20: =[1]CUADRO123!M17 -> 51821.584 | M20: =[1]CUADRO123!N17 -> 15.634201 | N20: =IF(ISNUMBER(L20/D20*100),L20/D20*100,0) -> 11.592382
A21: Ns / Nr | B21: =[1]CUADRO123!C18 -> 92141.687 | C21: =[1]CUADRO123!D18 -> 0 | D21: =[1]CUADRO123!E18 -> 87452.85 | E21: =[1]CUADRO123!F18 -> 0 | F21: =[1]CUADRO123!G18 -> 4688.837 | G21: =[1]CUADRO123!H18 -> 0 | H21: =F21/B21*100 -> 5.0887249 | I21: =[1]CUADRO123!K18 -> 18388.904 | J21: =[1]CUADRO123!L18 -> 0 | K21: =IF(ISNUMBER(I21/D21*100),I21/D21*100,0) -> 21.027221 | L21: =[1]CUADRO123!M18 -> 21627.952 | M21: =[1]CUADRO123!N18 -> 0 | N21: =IF(ISNUMBER(L21/D21*100),L21/D21*100,0) -> 24.730986
A23: Rango de Edad
A24: De 15 a 18 años | B24: =[1]CUADRO123!C19 -> 353274.88 | C24: =[1]CUADRO123!D19 -> 7.6109436 | D24: =[1]CUADRO123!E19 -> 305528.25 | E24: =[1]CUADRO123!F19 -> 7.5727992 | F24: =[1]CUADRO123!G19 -> 47746.63 | G24: =[1]CUADRO123!H19 -> 7.8593156 | H24: =F24/B24*100 -> 13.515433 | I24: =[1]CUADRO123!K19 -> 130860.18 | J24: =[1]CUADRO123!L19 -> 7.713234 | K24: =IF(ISNUMBER(I24/D24*100),I24/D24*100,0) -> 42.830796 | L24: =[1]CUADRO123!M19 -> 84166.579 | M24: =[1]CUADRO123!N19 -> 7.2403677 | N24: =IF(ISNUMBER(L24/D24*100),L24/D24*100,0) -> 27.547888
A25: De 19 a 24 años | B25: =[1]CUADRO123!C20 -> 752378.71 | C25: =[1]CUADRO123!D20 -> 8.8741175 | D25: =[1]CUADRO123!E20 -> 640834.64 | E25: =[1]CUADRO123!F20 -> 8.7716365 | F25: =[1]CUADRO123!G20 -> 111544.06 | G25: =[1]CUADRO123!H20 -> 9.4956266 | H25: =F25/B25*100 -> 14.825521 | I25: =[1]CUADRO123!K20 -> 239182.35 | J25: =[1]CUADRO123!L20 -> 8.2503138 | K25: =IF(ISNUMBER(I25/D25*100),I25/D25*100,0) -> 37.323567 | L25: =[1]CUADRO123!M20 -> 218949.97 | M25: =[1]CUADRO123!N20 -> 8.7219363 | N25: =IF(ISNUMBER(L25/D25*100),L25/D25*100,0) -> 34.166375
A26: De 25 a 29 años | B26: =[1]CUADRO123!C21 -> 477495.82 | C26: =[1]CUADRO123!D21 -> 9.7248575 | D26: =[1]CUADRO123!E21 -> 428155.6 | E26: =[1]CUADRO123!F21 -> 9.7556735 | F26: =[1]CUADRO123!G21 -> 49340.223 | G26: =[1]CUADRO123!H21 -> 9.4544447 | H26: =F26/B26*100 -> 10.333121 | I26: =[1]CUADRO123!K21 -> 149701.94 | J26: =[1]CUADRO123!L21 -> 9.0560121 | K26: =IF(ISNUMBER(I26/D26*100),I26/D26*100,0) -> 34.964378 | L26: =[1]CUADRO123!M21 -> 126211.05 | M26: =[1]CUADRO123!N21 -> 9.1889268 | N26: =IF(ISNUMBER(L26/D26*100),L26/D26*100,0) -> 29.477846
A27: De 30 a 35 años | B27: =[1]CUADRO123!C22 -> 535237.83 | C27: =[1]CUADRO123!D22 -> 8.7197405 | D27: =[1]CUADRO123!E22 -> 501089.42 | E27: =[1]CUADRO123!F22 -> 8.6679514 | F27: =[1]CUADRO123!G22 -> 34148.418 | G27: =[1]CUADRO123!H22 -> 9.4586902 | H27: =F27/B27*100 -> 6.3800456 | I27: =[1]CUADRO123!K22 -> 199674.58 | J27: =[1]CUADRO123!L22 -> 7.9661144 | K27: =IF(ISNUMBER(I27/D27*100),I27/D27*100,0) -> 39.848094 | L27: =[1]CUADRO123!M22 -> 145826.96 | M27: =[1]CUADRO123!N22 -> 7.9758903 | N27: =IF(ISNUMBER(L27/D27*100),L27/D27*100,0) -> 29.101984
A28: De 36 a 44 años | B28: =[1]CUADRO123!C23 -> 753872.54 | C28: =[1]CUADRO123!D23 -> 7.9976784 | D28: =[1]CUADRO123!E23 -> 707711.9 | E28: =[1]CUADRO123!F23 -> 8.0521344 | F28: =[1]CUADRO123!G23 -> 46160.64 | G28: =[1]CUADRO123!H23 -> 7.1549962 | H28: =F28/B28*100 -> 6.1231359 | I28: =[1]CUADRO123!K23 -> 305041.34 | J28: =[1]CUADRO123!L23 -> 7.4150665 | K28: =IF(ISNUMBER(I28/D28*100),I28/D28*100,0) -> 43.102474 | L28: =[1]CUADRO123!M23 -> 168740.72 | M28: =[1]CUADRO123!N23 -> 6.7384677 | N28: =IF(ISNUMBER(L28/D28*100),L28/D28*100,0) -> 23.843137
A29: De 45 a 59 años | B29: =[1]CUADRO123!C24 -> 793664.85 | C29: =[1]CUADRO123!D24 -> 7.4131357 | D29: =[1]CUADRO123!E24 -> 761062.22 | E29: =[1]CUADRO123!F24 -> 7.4275943 | F29: =[1]CUADRO123!G24 -> 32602.63 | G29: =[1]CUADRO123!H24 -> 7.0725316 | H29: =F29/B29*100 -> 4.1078586 | I29: =[1]CUADRO123!K24 -> 340769.78 | J29: =[1]CUADRO123!L24 -> 6.9889064 | K29: =IF(ISNUMBER(I29/D29*100),I29/D29*100,0) -> 44.775548 | L29: =[1]CUADRO123!M24 -> 159392.81 | M29: =[1]CUADRO123!N24 -> 5.8752205 | N29: =IF(ISNUMBER(L29/D29*100),L29/D29*100,0) -> 20.943466
A30: De 60 años y más | B30: =[1]CUADRO123!C25 -> 405302.61 | C30: =[1]CUADRO123!D25 -> 5.889228 | D30: =[1]CUADRO123!E25 -> 377987.51 | E30: =[1]CUADRO123!F25 -> 5.843686 | F30: =[1]CUADRO123!G25 -> 27315.098 | G30: =[1]CUADRO123!H25 -> 6.4601907 | H30: =F30/B30*100 -> 6.739433 | I30: =[1]CUADRO123!K25 -> 170060.25 | J30: =[1]CUADRO123!L25 -> 5.4190434 | K30: =IF(ISNUMBER(I30/D30*100),I30/D30*100,0) -> 44.99097 | L30: =[1]CUADRO123!M25 -> 98834.541 | M30: =[1]CUADRO123!N25 -> 4.817646 | N30: =IF(ISNUMBER(L30/D30*100),L30/D30*100,0) -> 26.147568
A32: Fuente: Instituto Nacional de Estadística (INE). Encuesta Permanente de Hogares de Propósitos Múltiples LXXIII, 2021.
A33: AEP: Años de Estudio Promedio
A34: TD: Tasa de Desocupación
A35: TST: Tasa de subocupación por Insuficiencia de Tiempo de Trabajo.
A36: TSI: Tasa de Subocupación Por Insuficiencia De Ingresos
A38: =A2 -> Cuadro No. 1. Población Económicamente Activa (Fuerza de Trabajo) en condición de empleo, según dominio, Nivel educativo, Rangos de edad, rama de actividad y ocupación
A39: ....... Continuación
A40: =A4 -> Categorías | B40: =B4 -> Fuerza de Trabajo | D40: =D4 -> Ocupados | F40: =F4 -> Desocupados | I40: Subocupados por Insuficiencia de Tiempo de Trabajo. | L40: Subocupados Por Insuficiencia De Ingresos
B41: =B5 -> No. | C41: =C5 -> AEP | D41: =D5 -> No. | E41: =E5 -> AEP | F41: =F5 -> No. | G41: =G5 -> AEP | H41: =H5 -> TD | I41: =I5 -> No. | ... N41: =N5 -> TSI
A43: =A7 -> Total Nacional | B43: =B7 -> 4071227.2 | C43: =C7 -> 8.1267214 | D43: =D7 -> 3722369.5 | E43: =E7 -> 8.0945061 | F43: =F7 -> 348857.7 | G43: =G7 -> 8.4732624 | H43: =H7 -> 8.5688585 | ... N43: =N7 -> 26.921632
A45: Rama de Actividad
A46: Agricultura, ganaderia, silvicultura y pesca | B46: =[1]CUADRO123!C26 -> 826951.34 | C46: =[1]CUADRO123!D26 -> 5.6563039 | D46: =[1]CUADRO123!E26 -> 826951.34 | E46: =[1]CUADRO123!F26 -> 5.6563039 | F46: =[1]CUADRO123!G26 -> 0 | G46: =[1]CUADRO123!H26 -> 0 | H46: =F46/B46*100 -> 0 | I46: =[1]CUADRO123!K26 -> 402266.22 | J46: =[1]CUADRO123!L26 -> 5.7174698 | K46: =IF(ISNUMBER(I46/D46*100),I46/D46*100,0) -> 48.644485 | L46: =[1]CUADRO123!M26 -> 192481.83 | M46: =[1]CUADRO123!N26 -> 5.1902994 | N46: =IF(ISNUMBER(L46/D46*100),L46/D46*100,0) -> 23.276077
A47: Explotacion de minas y canteras | B47: =[1]CUADRO123!C27 -> 12955.477 | C47: =[1]CUADRO123!D27 -> 6.3169903 | D47: =[1]CUADRO123!E27 -> 12955.477 | E47: =[1]CUADRO123!F27 -> 6.3169903 | F47: =[1]CUADRO123!G27 -> 0 | G47: =[1]CUADRO123!H27 -> 0 | H47: =F47/B47*100 -> 0 | I47: =[1]CUADRO123!K27 -> 4696.3046 | J47: =[1]CUADRO123!L27 -> 6.1570716 | K47: =IF(ISNUMBER(I47/D47*100),I47/D47*100,0) -> 36.249569 | L47: =[1]CUADRO123!M27 -> 3596.2957 | M47: =[1]CUADRO123!N27 -> 6.1793407 | N47: =IF(ISNUMBER(L47/D47*100),L47/D47*100,0) -> 27.758882
A48: Industria manufacturera | B48: =[1]CUADRO123!C28 -> 567245.4 | C48: =[1]CUADRO123!D28 -> 8.1562441 | D48: =[1]CUADRO123!E28 -> 567245.4 | E48: =[1]CUADRO123!F28 -> 8.1562441 | F48: =[1]CUADRO123!G28 -> 0 | G48: =[1]CUADRO123!H28 -> 0 | H48: =F48/B48*100 -> 0 | I48: =[1]CUADRO123!K28 -> 215047.08 | J48: =[1]CUADRO123!L28 -> 7.2345306 | K48: =IF(ISNUMBER(I48/D48*100),I48/D48*100,0) -> 37.910767 | L48: =[1]CUADRO123!M28 -> 191741.43 | M48: =[1]CUADRO123!N28 -> 8.2442636 | N48: =IF(ISNUMBER(L48/D48*100),L48/D48*100,0) -> 33.802201
A49: Suministro de electricidad, gas, vapor y aire acondicionado | B49: =[1]CUADRO123!C29 -> 6631.0262 | C49: =[1]CUADRO123!D29 -> 10.948305 | D49: =[1]CUADRO123!E29 -> 6631.0262 | E49: =[1]CUADRO123!F29 -> 10.948305 | F49: =[1]CUADRO123!G29 -> 0 | G49: =[1]CUADRO123!H29 -> 0 | H49: =F49/B49*100 -> 0 | I49: =[1]CUADRO123!K29 -> 1254.3908 | J49: =[1]CUADRO123!L29 -> 9.6972608 | K49: =IF(ISNUMBER(I49/D49*100),I49/D49*100,0) -> 18.916993 | L49: =[1]CUADRO123!M29 -> 3164.2102 | M49: =[1]CUADRO123!N29 -> 9.1329916 | N49: =IF(ISNUMBER(L49/D49*100),L49/D49*100,0) -> 47.718257
A50: Suministro de agua, evacuacion de aguas residuales, gestion de desechos y descontaminacion | B50: =[1]CUADRO123!C30 -> 21268.797 | C50: =[1]CUADRO123!D30 -> 6.5370112 | D50: =[1]CUADRO123!E30 -> 21268.797 | E50: =[1]CUADRO123!F30 -> 6.5370112 | F50: =[1]CUADRO123!G30 -> 0 | G50: =[1]CUADRO123!H30 -> 0 | H50: =F50/B50*100 -> 0 | I50: =[1]CUADRO123!K30 -> 8241.8935 | J50: =[1]CUADRO123!L30 -> 4.1677842 | K50: =IF(ISNUMBER(I50/D50*100),I50/D50*100,0) -> 38.751103 | L50: =[1]CUADRO123!M30 -> 4723.4 | M50: =[1]CUADRO123!N30 -> 6.5951795 | N50: =IF(ISNUMBER(L50/D50*100),L50/D50*100,0) -> 22.20812
...

Sheet C02
A1: Cuadro No. 2. Población Económicamente Activa (Fuerza de Trabajo) en condición de empleo, según dominio, nivel educativo, rango de edad, rama de actividad y ocupación
A2: HOMBRES
A3: Categorías | B3: Fuerza de Trabajo | D3: Ocupados | F3: Desocupados | I3: Subocupados por Insuficiencia de Tiempo de Trabajo. | L3: Subocupados Por Insuficiencia De Ingresos
B4: No. | C4: AEP | D4: No. | E4: AEP | F4: No. | G4: AEP | H4: TD | I4: No. | J4: AEP | K4: TST | L4: No. | M4: AEP | N4: TSI
A6: Total Nacional | B6: =[1]CUADRO123!C68 -> 2337252.7 | C6: =[1]CUADRO123!D68 -> 7.7549522 | D6: =[1]CUADRO123!E68 -> 2173399.2 | E6: =[1]CUADRO123!F68 -> 7.7327387 | F6: =[1]CUADRO123!G68 -> 163853.5 | G6: =[1]CUADRO123!H68 -> 8.0521202 | H6: =F6/B6*100 -> 7.0105171 | I6: =[1]CUADRO123!K68 -> 799598.68 | J6: =[1]CUADRO123!L68 -> 7.220867 | K6: =IF(ISNUMBER(I6/D6*100),I6/D6*100,0) -> 36.790235 | L6: =[1]CUADRO123!M68 -> 636418.1 | M6: =[1]CUADRO123!N68 -> 7.0839423 | N6: =IF(ISNUMBER(L6/D6*100),L6/D6*100,0) -> 29.282154
A8: Dominio
A9: Urbano | B9: =[1]CUADRO123!C69 -> 1330004.8 | C9: =[1]CUADRO123!D69 -> 8.9953083 | D9: =[1]CUADRO123!E69 -> 1221383.4 | E9: =[1]CUADRO123!F69 -> 8.9988268 | F9: =[1]CUADRO123!G69 -> 108621.4 | G9: =[1]CUADRO123!H69 -> 8.955567 | H9: =F9/B9*100 -> 8.1669935 | I9: =[1]CUADRO123!K69 -> 353525.7 | J9: =[1]CUADRO123!L69 -> 8.7241827 | K9: =IF(ISNUMBER(I9/D9*100),I9/D9*100,0) -> 28.944696 | L9: =[1]CUADRO123!M69 -> 370798.09 | M9: =[1]CUADRO123!N69 -> 8.0482794 | N9: =IF(ISNUMBER(L9/D9*100),L9/D9*100,0) -> 30.358862
A10: Distrito Central | B10: =[1]CUADRO123!C71 -> 286012.44 | C10: =[1]CUADRO123!D71 -> 9.9364583 | D10: =[1]CUADRO123!E71 -> 263246.58 | E10: =[1]CUADRO123!F71 -> 9.8795045 | F10: =[1]CUADRO123!G71 -> 22765.857 | G10: =[1]CUADRO123!H71 -> 10.638889 | H10: =F10/B10*100 -> 7.9597438 | I10: =[1]CUADRO123!K71 -> 72222.719 | J10: =[1]CUADRO123!L71 -> 9.5714286 | K10: =IF(ISNUMBER(I10/D10*100),I10/D10*100,0) -> 27.435388 | L10: =[1]CUADRO123!M71 -> 77717.926 | M10: =[1]CUADRO123!N71 -> 8.3111111 | N10: =IF(ISNUMBER(L10/D10*100),L10/D10*100,0) -> 29.522863
A11: San Pedro Sula | B11: =[1]CUADRO123!C72 -> 161109.62 | C11: =[1]CUADRO123!D72 -> 9.2247899 | D11: =[1]CUADRO123!E72 -> 150889.98 | E11: =[1]CUADRO123!F72 -> 9.247191 | F11: =[1]CUADRO123!G72 -> 10219.64 | G11: =[1]CUADRO123!H72 -> 8.9032258 | H11: =F11/B11*100 -> 6.3432836 | I11: =[1]CUADRO123!K72 -> 41780.292 | J11: =[1]CUADRO123!L72 -> 9.1068702 | K11: =IF(ISNUMBER(I11/D11*100),I11/D11*100,0) -> 27.689243 | L11: =[1]CUADRO123!M72 -> 44184.913 | M11: =[1]CUADRO123!N72 -> 8.1782946 | N11: =IF(ISNUMBER(L11/D11*100),L11/D11*100,0) -> 29.282869
A12: Resto urbano | B12: =[1]CUADRO123!C73 -> 882882.7 | C12: =[1]CUADRO123!D73 -> 8.6576128 | D12: =[1]CUADRO123!E73 -> 807246.8 | E12: =[1]CUADRO123!F73 -> 8.672353 | F12: =[1]CUADRO123!G73 -> 75635.905 | G12: =[1]CUADRO123!H73 -> 8.5014293 | H12: =F12/B12*100 -> 8.5669257 | I12: =[1]CUADRO123!K73 -> 239522.69 | J12: =[1]CUADRO123!L73 -> 8.4097757 | K12: =IF(ISNUMBER(I12/D12*100),I12/D12*100,0) -> 29.671557 | L12: =[1]CUADRO123!M73 -> 248895.25 | M12: =[1]CUADRO123!N73 -> 7.9441016 | N12: =IF(ISNUMBER(L12/D12*100),L12/D12*100,0) -> 30.832609
A13: Rural | B13: =[1]CUADRO123!C74 -> 1007248 | C13: =[1]CUADRO123!D74 -> 6.0415445 | D13: =[1]CUADRO123!E74 -> 952015.86 | E13: =[1]CUADRO123!F74 -> 6.0356221 | F13: =[1]CUADRO123!G74 -> 55232.098 | G13: =[1]CUADRO123!H74 -> 6.146789 | H13: =F13/B13*100 -> 5.4834659 | I13: =[1]CUADRO123!K74 -> 446072.98 | J13: =[1]CUADRO123!L74 -> 5.9562363 | K13: =IF(ISNUMBER(I13/D13*100),I13/D13*100,0) -> 46.855624 | L13: =[1]CUADRO123!M74 -> 265620.01 | M13: =[1]CUADRO123!N74 -> 5.6709559 | N13: =IF(ISNUMBER(L13/D13*100),L13/D13*100,0) -> 27.900797
A15: Nivel Educativo
A16: Sin Nivel | B16: =[1]CUADRO123!C75 -> 157723.53 | C16: =[1]CUADRO123!D75 -> 0 | D16: =[1]CUADRO123!E75 -> 147138.96 | E16: =[1]CUADRO123!F75 -> 0 | F16: =[1]CUADRO123!G75 -> 10584.57 | G16: =[1]CUADRO123!H75 -> 0 | H16: =F16/B16*100 -> 6.7108375 | I16: =[1]CUADRO123!K75 -> 62026.148 | J16: =[1]CUADRO123!L75 -> 0 | K16: =IF(ISNUMBER(I16/D16*100),I16/D16*100,0) -> 42.154809 | L16: =[1]CUADRO123!M75 -> 47731.544 | M16: =[1]CUADRO123!N75 -> 0 | N16: =IF(ISNUMBER(L16/D16*100),L16/D16*100,0) -> 32.439772
A17: Primaria | B17: =[1]CUADRO123!C76 -> 1242760 | C17: =[1]CUADRO123!D76 -> 5.1175671 | D17: =[1]CUADRO123!E76 -> 1160093.3 | E17: =[1]CUADRO123!F76 -> 5.1063118 | F17: =[1]CUADRO123!G76 -> 82666.772 | G17: =[1]CUADRO123!H76 -> 5.2755166 | H17: =F17/B17*100 -> 6.6518692 | I17: =[1]CUADRO123!K76 -> 475405.4 | J17: =[1]CUADRO123!L76 -> 5.0728828 | K17: =IF(ISNUMBER(I17/D17*100),I17/D17*100,0) -> 40.979929 | L17: =[1]CUADRO123!M76 -> 370001.16 | M17: =[1]CUADRO123!N76 -> 5.0700706 | N17: =IF(ISNUMBER(L17/D17*100),L17/D17*100,0) -> 31.894087
A18: Secundaria | B18: =[1]CUADRO123!C77 -> 643971.95 | C18: =[1]CUADRO123!D77 -> 10.640006 | D18: =[1]CUADRO123!E77 -> 596163.22 | E18: =[1]CUADRO123!F77 -> 10.622588 | F18: =[1]CUADRO123!G77 -> 47808.73 | G18: =[1]CUADRO123!H77 -> 10.856935 | H18: =F18/B18*100 -> 7.4240392 | I18: =[1]CUADRO123!K77 -> 189556.13 | J18: =[1]CUADRO123!L77 -> 10.512935 | K18: =IF(ISNUMBER(I18/D18*100),I18/D18*100,0) -> 31.796012 | L18: =[1]CUADRO123!M77 -> 179586.5 | M18: =[1]CUADRO123!N77 -> 10.459746 | N18: =IF(ISNUMBER(L18/D18*100),L18/D18*100,0) -> 30.123713
A19: Superior | B19: =[1]CUADRO123!C78 -> 225994.68 | C19: =[1]CUADRO123!D78 -> 16.205659 | D19: =[1]CUADRO123!E78 -> 205701.19 | E19: =[1]CUADRO123!F78 -> 16.242078 | F19: =[1]CUADRO123!G78 -> 20293.488 | G19: =[1]CUADRO123!H78 -> 15.747975 | H19: =F19/B19*100 -> 8.979631 | I19: =[1]CUADRO123!K78 -> 58843.198 | J19: =[1]CUADRO123!L78 -> 16.130433 | K19: =IF(ISNUMBER(I19/D19*100),I19/D19*100,0) -> 28.606154 | L19: =[1]CUADRO123!M78 -> 22391 | M19: =[1]CUADRO123!N78 -> 15.850901 | N19: =IF(ISNUMBER(L19/D19*100),L19/D19*100,0) -> 10.885207
A20: Ns / Nr | B20: =[1]CUADRO123!C79 -> 66802.521 | C20: =[1]CUADRO123!D79 -> 0 | D20: =[1]CUADRO123!E79 -> 64302.581 | E20: =[1]CUADRO123!F79 -> 0 | F20: =[1]CUADRO123!G79 -> 2499.9405 | G20: =[1]CUADRO123!H79 -> 0 | H20: =F20/B20*100 -> 3.7422847 | I20: =[1]CUADRO123!K79 -> 13767.806 | J20: =[1]CUADRO123!L79 -> 0 | K20: =IF(ISNUMBER(I20/D20*100),I20/D20*100,0) -> 21.41097 | L20: =[1]CUADRO123!M79 -> 16707.902 | M20: =[1]CUADRO123!N79 -> 0 | N20: =IF(ISNUMBER(L20/D20*100),L20/D20*100,0) -> 25.983252
A22: Rango de Edad
A23: De 15 a 18 años | B23: =[1]CUADRO123!C80 -> 229854.16 | C23: =[1]CUADRO123!D80 -> 7.407389 | D23: =[1]CUADRO123!E80 -> 204026.17 | E23: =[1]CUADRO123!F80 -> 7.3696817 | F23: =[1]CUADRO123!G80 -> 25827.999 | G23: =[1]CUADRO123!H80 -> 7.710248 | H23: =F23/B23*100 -> 11.23669 | I23: =[1]CUADRO123!K80 -> 82886.757 | J23: =[1]CUADRO123!L80 -> 7.4125415 | K23: =IF(ISNUMBER(I23/D23*100),I23/D23*100,0) -> 40.625553 | L23: =[1]CUADRO123!M80 -> 60792.685 | M23: =[1]CUADRO123!N80 -> 7.0890841 | N23: =IF(ISNUMBER(L23/D23*100),L23/D23*100,0) -> 29.796514
A24: De 19 a 24 años | B24: =[1]CUADRO123!C81 -> 425007.29 | C24: =[1]CUADRO123!D81 -> 8.3789864 | D24: =[1]CUADRO123!E81 -> 375365.62 | E24: =[1]CUADRO123!F81 -> 8.2529715 | F24: =[1]CUADRO123!G81 -> 49641.679 | G24: =[1]CUADRO123!H81 -> 9.3486637 | H24: =F24/B24*100 -> 11.680195 | I24: =[1]CUADRO123!K81 -> 126208.06 | J24: =[1]CUADRO123!L81 -> 7.5006906 | K24: =IF(ISNUMBER(I24/D24*100),I24/D24*100,0) -> 33.6227 | L24: =[1]CUADRO123!M81 -> 137403.33 | M24: =[1]CUADRO123!N81 -> 8.106862 | N24: =IF(ISNUMBER(L24/D24*100),L24/D24*100,0) -> 36.605198
A25: De 25 a 29 años | B25: =[1]CUADRO123!C82 -> 282492.17 | C25: =[1]CUADRO123!D82 -> 9.1079821 | D25: =[1]CUADRO123!E82 -> 261527.92 | E25: =[1]CUADRO123!F82 -> 9.1255803 | F25: =[1]CUADRO123!G82 -> 20964.25 | G25: =[1]CUADRO123!H82 -> 8.8634113 | H25: =F25/B25*100 -> 7.4211791 | I25: =[1]CUADRO123!K82 -> 85358.263 | J25: =[1]CUADRO123!L82 -> 8.4823401 | K25: =IF(ISNUMBER(I25/D25*100),I25/D25*100,0) -> 32.638298 | L25: =[1]CUADRO123!M82 -> 81968.352 | M25: =[1]CUADRO123!N82 -> 8.6339607 | N25: =IF(ISNUMBER(L25/D25*100),L25/D25*100,0) -> 31.342103
A26: De 30 a 35 años | B26: =[1]CUADRO123!C83 -> 311077.5 | C26: =[1]CUADRO123!D83 -> 8.2668442 | D26: =[1]CUADRO123!E83 -> 297211.69 | E26: =[1]CUADRO123!F83 -> 8.2453898 | F26: =[1]CUADRO123!G83 -> 13865.804 | G26: =[1]CUADRO123!H83 -> 8.6966894 | H26: =F26/B26*100 -> 4.4573471 | I26: =[1]CUADRO123!K83 -> 105211.96 | J26: =[1]CUADRO123!L83 -> 7.6205676 | K26: =IF(ISNUMBER(I26/D26*100),I26/D26*100,0) -> 35.399669 | L26: =[1]CUADRO123!M83 -> 87346.656 | M26: =[1]CUADRO123!N83 -> 7.4348519 | N26: =IF(ISNUMBER(L26/D26*100),L26/D26*100,0) -> 29.388701
A27: De 36 a 44 años | B27: =[1]CUADRO123!C84 -> 397683.91 | C27: =[1]CUADRO123!D84 -> 7.6556898 | D27: =[1]CUADRO123!E84 -> 378917.56 | E27: =[1]CUADRO123!F84 -> 7.7475991 | F27: =[1]CUADRO123!G84 -> 18766.348 | G27: =[1]CUADRO123!H84 -> 5.8417453 | H27: =F27/B27*100 -> 4.7189105 | I27: =[1]CUADRO123!K84 -> 134256.95 | J27: =[1]CUADRO123!L84 -> 7.2632828 | K27: =IF(ISNUMBER(I27/D27*100),I27/D27*100,0) -> 35.431704 | L27: =[1]CUADRO123!M84 -> 108069.89 | M27: =[1]CUADRO123!N84 -> 6.4449588 | N27: =IF(ISNUMBER(L27/D27*100),L27/D27*100,0) -> 28.520685
A28: De 45 a 59 años | B28: =[1]CUADRO123!C85 -> 440723.68 | C28: =[1]CUADRO123!D85 -> 7.0276996 | D28: =[1]CUADRO123!E85 -> 425407.15 | E28: =[1]CUADRO123!F85 -> 7.0294502 | F28: =[1]CUADRO123!G85 -> 15316.529 | G28: =[1]CUADRO123!H85 -> 6.9724887 | H28: =F28/B28*100 -> 3.4753135 | I28: =[1]CUADRO123!K85 -> 172377.32 | J28: =[1]CUADRO123!L85 -> 6.926334 | K28: =IF(ISNUMBER(I28/D28*100),I28/D28*100,0) -> 40.520551 | L28: =[1]CUADRO123!M85 -> 95159.953 | M28: =[1]CUADRO123!N85 -> 5.5838608 | N28: =IF(ISNUMBER(L28/D28*100),L28/D28*100,0) -> 22.369148
A29: De 60 años y más | B29: =[1]CUADRO123!C86 -> 250414 | C29: =[1]CUADRO123!D86 -> 5.9985576 | D29: =[1]CUADRO123!E86 -> 230943.11 | E29: =[1]CUADRO123!F86 -> 5.9273324 | F29: =[1]CUADRO123!G86 -> 19470.892 | G29: =[1]CUADRO123!H86 -> 6.7793697 | H29: =F29/B29*100 -> 7.7754807 | I29: =[1]CUADRO123!K86 -> 93299.38 | J29: =[1]CUADRO123!L86 -> 5.2861893 | K29: =IF(ISNUMBER(I29/D29*100),I29/D29*100,0) -> 40.399292 | L29: =[1]CUADRO123!M86 -> 65677.246 | M29: =[1]CUADRO123!N86 -> 4.9617887 | N29: =IF(ISNUMBER(L29/D29*100),L29/D29*100,0) -> 28.438713
A31: ='C01'!$A$32 -> Fuente: Instituto Nacional de Estadística (INE). Encuesta Permanente de Hogares de Propósitos Múltiples LXXIII, 2021.
A32: AEP: Años de Estudio Promedio
A33: TD: Tasa de Desocupación
A34: TST: Tasa de subocupación por Insuficiencia de Tiempo de Trabajo.
A35: TSI: Tasa de Subocupación Por Insuficiencia De Ingresos
A37: =A1 -> Cuadro No. 2. Población Económicamente Activa (Fuerza de Trabajo) en condición de empleo, según dominio, nivel educativo, rango de edad, rama de actividad y ocupación
A38: Hombres
A39: ....... Continuación
A40: =A3 -> Categorías | B40: Fuerza de Trabajo | D40: Ocupados | F40: Desocupados | I40: Subocupados por Insuficiencia de Tiempo de Trabajo. | L40: Subocupados Por Insuficiencia De Ingresos
B41: =B4 -> No. | C41: =C4 -> AEP | D41: =D4 -> No. | E41: =E4 -> AEP | F41: =F4 -> No. | G41: =G4 -> AEP | H41: TD | I41: =I4 -> No. | J41: =J4 -> AEP | K41: =K4 -> TST | L41: =L4 -> No. | M41: =M4 -> AEP | N41: =N4 -> TSI
A43: =A6 -> Total Nacional | B43: =B6 -> 2337252.7 | C43: =C6 -> 7.7549522 | D43: =D6 -> 2173399.2 | E43: =E6 -> 7.7327387 | F43: =F6 -> 163853.5 | G43: =G6 -> 8.0521202 | H43: =H6 -> 7.0105171 | ... N43: =N6 -> 29.282154
A45: Rama de Actividad
A46: ='C01'!A46 -> Agricultura, ganaderia, silvicultura y pesca | B46: =[1]CUADRO123!C87 -> 691324.27 | C46: =[1]CUADRO123!D87 -> 5.6218355 | D46: =[1]CUADRO123!E87 -> 691324.27 | E46: =[1]CUADRO123!F87 -> 5.6218355 | F46: =[1]CUADRO123!G87 -> 0 | G46: =[1]CUADRO123!H87 -> 0 | H46: =F46/B46*100 -> 0 | I46: =[1]CUADRO123!K87 -> 337130.34 | J46: =[1]CUADRO123!L87 -> 5.719898 | K46: =IF(ISNUMBER(I46/D46*100),I46/D46*100,0) -> 48.765876 | L46: =[1]CUADRO123!M87 -> 161547.43 | M46: =[1]CUADRO123!N87 -> 4.9944354 | N46: =IF(ISNUMBER(L46/D46*100),L46/D46*100,0) -> 23.367823
A47: ='C01'!A47 -> Explotacion de minas y canteras | B47: =[1]CUADRO123!C88 -> 12955.477 | C47: =[1]CUADRO123!D88 -> 6.3169903 | D47: =[1]CUADRO123!E88 -> 12955.477 | E47: =[1]CUADRO123!F88 -> 6.3169903 | F47: =[1]CUADRO123!G88 -> 0 | G47: =[1]CUADRO123!H88 -> 0 | H47: =F47/B47*100 -> 0 | I47: =[1]CUADRO123!K88 -> 4696.3046 | J47: =[1]CUADRO123!L88 -> 6.1570716 | K47: =IF(ISNUMBER(I47/D47*100),I47/D47*100,0) -> 36.249569 | L47: =[1]CUADRO123!M88 -> 3596.2957 | M47: =[1]CUADRO123!N88 -> 6.1793407 | N47: =IF(ISNUMBER(L47/D47*100),L47/D47*100,0) -> 27.758882
A48: ='C01'!A48 -> Industria manufacturera | B48: =[1]CUADRO123!C89 -> 275073.79 | C48: =[1]CUADRO123!D89 -> 8.5335436 | D48: =[1]CUADRO123!E89 -> 275073.79 | E48: =[1]CUADRO123!F89 -> 8.5335436 | F48: =[1]CUADRO123!G89 -> 0 | G48: =[1]CUADRO123!H89 -> 0 | H48: =F48/B48*100 -> 0 | I48: =[1]CUADRO123!K89 -> 68876.655 | J48: =[1]CUADRO123!L89 -> 7.7040483 | K48: =IF(ISNUMBER(I48/D48*100),I48/D48*100,0) -> 25.039338 | L48: =[1]CUADRO123!M89 -> 111247.22 | M48: =[1]CUADRO123!N89 -> 8.1249501 | N48: =IF(ISNUMBER(L48/D48*100),L48/D48*100,0) -> 40.442681
...

Sheet C03
A1: Cuadro No. 3. Población Económicamente Activa (Fuerza de Trabajo) en condición de empleo, según dominio, nivel educativo, Rangos de edad, rama de actividad y ocupación
A2: Mujeres
A3: Categorías | B3: Fuerza de Trabajo | D3: Ocupados | F3: Desocupados | I3: Subocupados por Insuficiencia de Tiempo de Trabajo. | L3: Subocupados Por Insuficiencia De Ingresos
B4: No. | C4: AEP | D4: No. | E4: AEP | F4: No. | G4: AEP | H4: TD | I4: No. | J4: AEP | K4: TST | L4: No. | M4: AEP | N4: TSI
A6: Total Nacional | B6: =[1]CUADRO123!C129 -> 1733974.5 | C6: =[1]CUADRO123!D129 -> 8.6247352 | D6: =[1]CUADRO123!E129 -> 1548970.3 | E6: =[1]CUADRO123!F129 -> 8.5987804 | F6: =[1]CUADRO123!G129 -> 185004.2 | G6: =[1]CUADRO123!H129 -> 8.8440445 | H6: =F6/B6*100 -> 10.669372 | I6: =[1]CUADRO123!K129 -> 735691.74 | J6: =[1]CUADRO123!L129 -> 7.8367272 | K6: =IF(ISNUMBER(I6/D6*100),I6/D6*100,0) -> 47.495535 | L6: =[1]CUADRO123!M129 -> 365704.52 | M6: =[1]CUADRO123!N129 -> 8.069216 | N6: =IF(ISNUMBER(L6/D6*100),L6/D6*100,0) -> 23.609524
A8: Dominio
A9: Urbano | B9: =[1]CUADRO123!C130 -> 1179123.8 | C9: =[1]CUADRO123!D130 -> 9.4489543 | D9: =[1]CUADRO123!E130 -> 1042184.2 | E9: =[1]CUADRO123!F130 -> 9.4628188 | F9: =[1]CUADRO123!G130 -> 136939.63 | G9: =[1]CUADRO123!H130 -> 9.3404443 | H9: =F9/B9*100 -> 11.613676 | I9: =[1]CUADRO123!K130 -> 454893.44 | J9: =[1]CUADRO123!L130 -> 8.6695792 | K9: =IF(ISNUMBER(I9/D9*100),I9/D9*100,0) -> 43.648084 | L9: =[1]CUADRO123!M130 -> 259456.52 | M9: =[1]CUADRO123!N130 -> 8.6818804 | N9: =IF(ISNUMBER(L9/D9*100),L9/D9*100,0) -> 24.895457
A10: Distrito Central | B10: =[1]CUADRO123!C132 -> 261153.17 | C10: =[1]CUADRO123!D132 -> 10.359155 | D10: =[1]CUADRO123!E132 -> 228705.28 | E10: =[1]CUADRO123!F132 -> 10.363271 | F10: =[1]CUADRO123!G132 -> 32447.888 | G10: =[1]CUADRO123!H132 -> 10.330189 | H10: =F10/B10*100 -> 12.42485 | I10: =[1]CUADRO123!K132 -> 94988.577 | J10: =[1]CUADRO123!L132 -> 9.2870662 | K10: =IF(ISNUMBER(I10/D10*100),I10/D10*100,0) -> 41.533181 | L10: =[1]CUADRO123!M132 -> 49980.215 | M10: =[1]CUADRO123!N132 -> 9.1349693 | N10: =IF(ISNUMBER(L10/D10*100),L10/D10*100,0) -> 21.853547
A11: San Pedro Sula | B11: =[1]CUADRO123!C133 -> 159306.15 | C11: =[1]CUADRO123!D133 -> 9.3057325 | D11: =[1]CUADRO123!E133 -> 139167.45 | E11: =[1]CUADRO123!F133 -> 9.3056235 | F11: =[1]CUADRO123!G133 -> 20138.702 | G11: =[1]CUADRO123!H133 -> 9.3064516 | H11: =F11/B11*100 -> 12.641509 | I11: =[1]CUADRO123!K133 -> 55306.286 | J11: =[1]CUADRO123!L133 -> 8.6213018 | K11: =IF(ISNUMBER(I11/D11*100),I11/D11*100,0) -> 39.740821 | L11: =[1]CUADRO123!M133 -> 33664.696 | M11: =[1]CUADRO123!N133 -> 7.9809524 | N11: =IF(ISNUMBER(L11/D11*100),L11/D11*100,0) -> 24.190065
A12: Resto urbano | B12: =[1]CUADRO123!C134 -> 758664.51 | C12: =[1]CUADRO123!D134 -> 9.182135 | D12: =[1]CUADRO123!E134 -> 674311.48 | E12: =[1]CUADRO123!F134 -> 9.2072059 | F12: =[1]CUADRO123!G134 -> 84353.036 | G12: =[1]CUADRO123!H134 -> 8.9704254 | H12: =F12/B12*100 -> 11.118622 | I12: =[1]CUADRO123!K134 -> 304598.58 | J12: =[1]CUADRO123!L134 -> 8.4931305 | K12: =IF(ISNUMBER(I12/D12*100),I12/D12*100,0) -> 45.171792 | L12: =[1]CUADRO123!M134 -> 175811.6 | M12: =[1]CUADRO123!N134 -> 8.6992892 | N12: =IF(ISNUMBER(L12/D12*100),L12/D12*100,0) -> 26.072759
A13: Rural | B13: =[1]CUADRO123!C135 -> 554850.7 | C13: =[1]CUADRO123!D135 -> 6.8398607 | D13: =[1]CUADRO123!E135 -> 506786.12 | E13: =[1]CUADRO123!F135 -> 6.7762906 | F13: =[1]CUADRO123!G135 -> 48064.574 | G13: =[1]CUADRO123!H135 -> 7.4854369 | H13: =F13/B13*100 -> 8.662614 | I13: =[1]CUADRO123!K135 -> 280798.3 | J13: =[1]CUADRO123!L135 -> 6.470489 | K13: =IF(ISNUMBER(I13/D13*100),I13/D13*100,0) -> 55.407654 | L13: =[1]CUADRO123!M135 -> 106248.01 | M13: =[1]CUADRO123!N135 -> 6.5181818 | N13: =IF(ISNUMBER(L13/D13*100),L13/D13*100,0) -> 20.965058
A15: Nivel Educativo
A16: Sin Nivel | B16: =[1]CUADRO123!C136 -> 87184.924 | C16: =[1]CUADRO123!D136 -> 0 | D16: =[1]CUADRO123!E136 -> 83087.178 | E16: =[1]CUADRO123!F136 -> 0 | F16: =[1]CUADRO123!G136 -> 4097.7453 | G16: =[1]CUADRO123!H136 -> 0 | H16: =F16/B16*100 -> 4.7000618 | I16: =[1]CUADRO123!K136 -> 46762.107 | J16: =[1]CUADRO123!L136 -> 0 | K16: =IF(ISNUMBER(I16/D16*100),I16/D16*100,0) -> 56.280773 | L16: =[1]CUADRO123!M136 -> 18839.929 | M16: =[1]CUADRO123!N136 -> 0 | N16: =IF(ISNUMBER(L16/D16*100),L16/D16*100,0) -> 22.674893
A17: Primaria | B17: =[1]CUADRO123!C137 -> 758482.37 | C17: =[1]CUADRO123!D137 -> 5.1546618 | D17: =[1]CUADRO123!E137 -> 686629.75 | E17: =[1]CUADRO123!F137 -> 5.1098055 | F17: =[1]CUADRO123!G137 -> 71852.619 | G17: =[1]CUADRO123!H137 -> 5.5833127 | H17: =F17/B17*100 -> 9.4732088 | I17: =[1]CUADRO123!K137 -> 384974.27 | J17: =[1]CUADRO123!L137 -> 5.1168086 | K17: =IF(ISNUMBER(I17/D17*100),I17/D17*100,0) -> 56.067229 | L17: =[1]CUADRO123!M137 -> 171163.01 | M17: =[1]CUADRO123!N137 -> 5.0715263 | N17: =IF(ISNUMBER(L17/D17*100),L17/D17*100,0) -> 24.927992
A18: Secundaria | B18: =[1]CUADRO123!C138 -> 595838.58 | C18: =[1]CUADRO123!D138 -> 10.752419 | D18: =[1]CUADRO123!E138 -> 514772.96 | E18: =[1]CUADRO123!F138 -> 10.728348 | F18: =[1]CUADRO123!G138 -> 81065.619 | G18: =[1]CUADRO123!H138 -> 10.904946 | H18: =F18/B18*100 -> 13.605299 | I18: =[1]CUADRO123!K138 -> 221123.6 | J18: =[1]CUADRO123!L138 -> 10.546065 | K18: =IF(ISNUMBER(I18/D18*100),I18/D18*100,0) -> 42.955558 | L18: =[1]CUADRO123!M138 -> 141350.95 | M18: =[1]CUADRO123!N138 -> 10.908372 | N18: =IF(ISNUMBER(L18/D18*100),L18/D18*100,0) -> 27.458892
A19: Superior | B19: =[1]CUADRO123!C139 -> 267129.49 | C19: =[1]CUADRO123!D139 -> 16.20471 | D19: =[1]CUADRO123!E139 -> 241330.16 | E19: =[1]CUADRO123!F139 -> 16.214674 | F19: =[1]CUADRO123!G139 -> 25799.322 | G19: =[1]CUADRO123!H139 -> 16.022846 | H19: =F19/B19*100 -> 9.6579835 | I19: =[1]CUADRO123!K139 -> 78210.667 | J19: =[1]CUADRO123!L139 -> 16.038672 | K19: =IF(ISNUMBER(I19/D19*100),I19/D19*100,0) -> 32.40816 | L19: =[1]CUADRO123!M139 -> 29430.583 | M19: =[1]CUADRO123!N139 -> 15.410226 | N19: =IF(ISNUMBER(L19/D19*100),L19/D19*100,0) -> 12.195153
A20: Ns / Nr | B20: =[1]CUADRO123!C140 -> 25339.165 | C20: =[1]CUADRO123!D140 -> 0 | D20: =[1]CUADRO123!E140 -> 23150.269 | E20: =[1]CUADRO123!F140 -> 0 | F20: =[1]CUADRO123!G140 -> 2188.8964 | G20: =[1]CUADRO123!H140 -> 0 | H20: =F20/B20*100 -> 8.638392 | I20: =[1]CUADRO123!K140 -> 4621.0983 | J20: =[1]CUADRO123!L140 -> 0 | K20: =IF(ISNUMBER(I20/D20*100),I20/D20*100,0) -> 19.961316 | L20: =[1]CUADRO123!M140 -> 4920.0505 | M20: =[1]CUADRO123!N140 -> 0 | N20: =IF(ISNUMBER(L20/D20*100),L20/D20*100,0) -> 21.252671
A22: Rango de Edad
A23: De 15 a 18 años | B23: =[1]CUADRO123!C141 -> 123420.71 | C23: =[1]CUADRO123!D141 -> 7.9876293 | D23: =[1]CUADRO123!E141 -> 101502.08 | E23: =[1]CUADRO123!F141 -> 7.9777698 | F23: =[1]CUADRO123!G141 -> 21918.631 | G23: =[1]CUADRO123!H141 -> 8.034237 | H23: =F23/B23*100 -> 17.759281 | I23: =[1]CUADRO123!K141 -> 47973.423 | J23: =[1]CUADRO123!L141 -> 8.2223099 | K23: =IF(ISNUMBER(I23/D23*100),I23/D23*100,0) -> 47.263487 | L23: =[1]CUADRO123!M141 -> 23373.894 | M23: =[1]CUADRO123!N141 -> 7.6476568 | N23: =IF(ISNUMBER(L23/D23*100),L23/D23*100,0) -> 23.027994
A24: De 19 a 24 años | B24: =[1]CUADRO123!C142 -> 327371.41 | C24: =[1]CUADRO123!D142 -> 9.5759761 | D24: =[1]CUADRO123!E142 -> 265469.03 | E24: =[1]CUADRO123!F142 -> 9.564326 | F24: =[1]CUADRO123!G142 -> 61902.385 | G24: =[1]CUADRO123!H142 -> 9.6293473 | H24: =F24/B24*100 -> 18.908916 | I24: =[1]CUADRO123!K142 -> 112974.29 | J24: =[1]CUADRO123!L142 -> 9.1369887 | K24: =IF(ISNUMBER(I24/D24*100),I24/D24*100,0) -> 42.556487 | L24: =[1]CUADRO123!M142 -> 81546.641 | M24: =[1]CUADRO123!N142 -> 9.8036976 | N24: =IF(ISNUMBER(L24/D24*100),L24/D24*100,0) -> 30.717949
A25: De 25 a 29 años | B25: =[1]CUADRO123!C143 -> 195003.65 | C25: =[1]CUADRO123!D143 -> 10.60381 | D25: =[1]CUADRO123!E143 -> 166627.67 | E25: =[1]CUADRO123!F143 -> 10.743808 | F25: =[1]CUADRO123!G143 -> 28375.972 | G25: =[1]CUADRO123!H143 -> 9.8253153 | H25: =F25/B25*100 -> 14.551509 | I25: =[1]CUADRO123!K143 -> 64343.68 | J25: =[1]CUADRO123!L143 -> 9.7811973 | K25: =IF(ISNUMBER(I25/D25*100),I25/D25*100,0) -> 38.615242 | L25: =[1]CUADRO123!M143 -> 44242.694 | M25: =[1]CUADRO123!N143 -> 10.246654 | N25: =IF(ISNUMBER(L25/D25*100),L25/D25*100,0) -> 26.551828
A26: De 30 a 35 años | B26: =[1]CUADRO123!C144 -> 224160.34 | C26: =[1]CUADRO123!D144 -> 9.3304362 | D26: =[1]CUADRO123!E144 -> 203877.72 | E26: =[1]CUADRO123!F144 -> 9.2641371 | F26: =[1]CUADRO123!G144 -> 20282.614 | G26: =[1]CUADRO123!H144 -> 10.003207 | H26: =F26/B26*100 -> 9.0482618 | I26: =[1]CUADRO123!K144 -> 94462.624 | J26: =[1]CUADRO123!L144 -> 8.3325778 | K26: =IF(ISNUMBER(I26/D26*100),I26/D26*100,0) -> 46.33298 | L26: =[1]CUADRO123!M144 -> 58480.307 | M26: =[1]CUADRO123!N144 -> 8.7963162 | N26: =IF(ISNUMBER(L26/D26*100),L26/D26*100,0) -> 28.684011
A27: De 36 a 44 años | B27: =[1]CUADRO123!C145 -> 356188.63 | C27: =[1]CUADRO123!D145 -> 8.3720821 | D27: =[1]CUADRO123!E145 -> 328794.34 | E27: =[1]CUADRO123!F145 -> 8.3949472 | F27: =[1]CUADRO123!G145 -> 27394.292 | G27: =[1]CUADRO123!H145 -> 8.0874429 | H27: =F27/B27*100 -> 7.6909508 | I27: =[1]CUADRO123!K145 -> 170784.39 | J27: =[1]CUADRO123!L145 -> 7.5324669 | K27: =IF(ISNUMBER(I27/D27*100),I27/D27*100,0) -> 51.942619 | L27: =[1]CUADRO123!M145 -> 60670.834 | M27: =[1]CUADRO123!N145 -> 7.250153 | N27: =IF(ISNUMBER(L27/D27*100),L27/D27*100,0) -> 18.452518
A28: De 45 a 59 años | B28: =[1]CUADRO123!C146 -> 352941.17 | C28: =[1]CUADRO123!D146 -> 7.8758651 | D28: =[1]CUADRO123!E146 -> 335655.07 | E28: =[1]CUADRO123!F146 -> 7.9166704 | F28: =[1]CUADRO123!G146 -> 17286.1 | G28: =[1]CUADRO123!H146 -> 7.1425564 | H28: =F28/B28*100 -> 4.8977285 | I28: =[1]CUADRO123!K146 -> 168392.46 | J28: =[1]CUADRO123!L146 -> 7.0523007 | K28: =IF(ISNUMBER(I28/D28*100),I28/D28*100,0) -> 50.168306 | L28: =[1]CUADRO123!M146 -> 64232.857 | M28: =[1]CUADRO123!N146 -> 6.2781667 | N28: =IF(ISNUMBER(L28/D28*100),L28/D28*100,0) -> 19.136567
A29: De 60 años y más | B29: =[1]CUADRO123!C147 -> 154888.61 | C29: =[1]CUADRO123!D147 -> 5.7201504 | D29: =[1]CUADRO123!E147 -> 147044.41 | E29: =[1]CUADRO123!F147 -> 5.7177303 | F29: =[1]CUADRO123!G147 -> 7844.2061 | G29: =[1]CUADRO123!H147 -> 5.758865 | H29: =F29/B29*100 -> 5.0644175 | I29: =[1]CUADRO123!K147 -> 76760.869 | J29: =[1]CUADRO123!L147 -> 5.5745253 | K29: =IF(ISNUMBER(I29/D29*100),I29/D29*100,0) -> 52.202508 | L29: =[1]CUADRO123!M147 -> 33157.295 | M29: =[1]CUADRO123!N147 -> 4.5746257 | N29: =IF(ISNUMBER(L29/D29*100),L29/D29*100,0) -> 22.549171
A31: ='C01'!$A$32 -> Fuente: Instituto Nacional de Estadística (INE). Encuesta Permanente de Hogares de Propósitos Múltiples LXXIII, 2021.
A32: AEP: Años de Estudio Promedio
A33: TD: Tasa de Desocupación
A34: TST: Tasa de subocupación por Insuficiencia de Tiempo de Trabajo.
A35: TSI: Tasa de Subocupación Por Insuficiencia De Ingresos
A37: =A1 -> Cuadro No. 3. Población Económicamente Activa (Fuerza de Trabajo) en condición de empleo, según dominio, nivel educativo, Rangos de edad, rama de actividad y ocupación
A38: =A2 -> Mujeres
A39: ....... Continuación
A40: =A3 -> Categorías | B40: Fuerza de Trabajo | D40: Ocupados | F40: Desocupados | I40: Subocupados por Insuficiencia de Tiempo de Trabajo. | L40: Subocupados Por Insuficiencia De Ingresos
B41: =B4 -> No. | C41: =C4 -> AEP | D41: =D4 -> No. | E41: =E4 -> AEP | F41: =F4 -> No. | G41: =G4 -> AEP | H41: =H4 -> TD | I41: =I4 -> No. | ... N41: =N4 -> TSI
A43: =A6 -> Total Nacional | B43: =B6 -> 1733974.5 | C43: =C6 -> 8.6247352 | D43: =D6 -> 1548970.3 | E43: =E6 -> 8.5987804 | F43: =F6 -> 185004.2 | G43: =G6 -> 8.8440445 | H43: =H6 -> 10.669372 | ... N43: =N6 -> 23.609524
A45: Rama de Actividad
A46: ='C02'!A46 -> Agricultura, ganaderia, silvicultura y pesca | B46: =[1]CUADRO123!C148 -> 135627.06 | C46: =[1]CUADRO123!D148 -> 5.8301264 | D46: =[1]CUADRO123!E148 -> 135627.06 | E46: =[1]CUADRO123!F148 -> 5.8301264 | F46: =[1]CUADRO123!G148 -> 0 | G46: =[1]CUADRO123!H148 -> 0 | H46: =F46/B46*100 -> 0 | I46: =[1]CUADRO123!K148 -> 65135.881 | J46: =[1]CUADRO123!L148 -> 5.7051887 | K46: =IF(ISNUMBER(I46/D46*100),I46/D46*100,0) -> 48.025726 | L46: =[1]CUADRO123!M148 -> 30934.399 | M46: =[1]CUADRO123!N148 -> 6.2117988 | N46: =IF(ISNUMBER(L46/D46*100),L46/D46*100,0) -> 22.808426
A47: ='C02'!A47 -> Explotacion de minas y canteras | B47: =[1]CUADRO123!C149 -> 0 | C47: =[1]CUADRO123!D149 -> 0 | D47: =[1]CUADRO123!E149 -> 0 | E47: =[1]CUADRO123!F149 -> 0 | F47: =[1]CUADRO123!G149 -> 0 | G47: =[1]CUADRO123!H149 -> 0 | H47: =F47/B47*100 -> #DIV/0! | I47: =[1]CUADRO123!K149 -> 0 | J47: =[1]CUADRO123!L149 -> 0 | K47: =IF(ISNUMBER(I47/D47*100),I47/D47*100,0) -> 0 | L47: =[1]CUADRO123!M149 -> 0 | M47: =[1]CUADRO123!N149 -> 0 | N47: =IF(ISNUMBER(L47/D47*100),L47/D47*100,0) -> 0
A48: ='C02'!A48 -> Industria manufacturera | B48: =[1]CUADRO123!C150 -> 292171.61 | C48: =[1]CUADRO123!D150 -> 7.801628 | D48: =[1]CUADRO123!E150 -> 292171.61 | E48: =[1]CUADRO123!F150 -> 7.801628 | F48: =[1]CUADRO123!G150 -> 0 | G48: =[1]CUADRO123!H150 -> 0 | H48: =F48/B48*100 -> 0 | I48: =[1]CUADRO123!K150 -> 146170.43 | J48: =[1]CUADRO123!L150 -> 7.0215156 | K48: =IF(ISNUMBER(I48/D48*100),I48/D48*100,0) -> 50.028963 | L48: =[1]CUADRO123!M150 -> 80494.214 | M48: =[1]CUADRO123!N150 -> 8.4092425 | N48: =IF(ISNUMBER(L48/D48*100),L48/D48*100,0) -> 27.55032
...

Sheet C04
A1: Cuadro No. 4. Población con problemas de empleo y Años de Estudio Promedio (AEP), según dominio, Rangos de edad, rama de actividad y ocupación
A3: Categorías | B3: Total | C3: Desocupados | F3: Subocupados por Insuficiencia de Tiempo de Trabajo. | I3: Subocupados Por Insuficiencia De Ingresos | L3: Buscador no disponible | O3: Disponible no buscador
C4: No. | D4: % 2/ | E4: AEP | F4: No. | G4: % 2/ | H4: AEP | I4: No. | J4: % 2/ | K4: AEP | L4: No. | M4: % 2/ | N4: AEP | O4: No. | P4: % 2/ | Q4: AEP
A6: Total Nacional | B6: =SUM(C6,F6,I6,L6,O6) -> 3378261.9 | C6: =[1]CUADRO456!F7 -> 348857.7 | D6: =IF(ISNUMBER(C6/$B6*100),C6/$B6*100,0) -> 10.326544 | E6: =[1]CUADRO456!H7 -> 8.4732624 | F6: =[1]CUADRO456!I7 -> 1535290.4 | G6: =IF(ISNUMBER(F6/$B6*100),F6/$B6*100,0) -> 45.446163 | H6: =[1]CUADRO456!K7 -> 7.5176971 | I6: =[1]CUADRO456!L7 -> 1002122.6 | J6: =IF(ISNUMBER(I6/$B6*100),I6/$B6*100,0) -> 29.663852 | K6: =[1]CUADRO456!N7 -> 7.4453671 | L6: =[1]CUADRO456!O7 -> 9859.6947 | M6: =IF(ISNUMBER(L6/$B6*100),L6/$B6*100,0) -> 0.29185702 | N6: =[1]CUADRO456!Q7 -> 8.7522641 | O6: =[1]CUADRO456!R7 -> 482131.49 | P6: =IF(ISNUMBER(O6/$B6*100),O6/$B6*100,0) -> 14.271584 | Q6: =[1]CUADRO456!T7 -> 6.6288748
A8: Dominio
A9: Urbano | B9: =SUM(C9,F9,I9,L9,O9) -> 1866757.6 | C9: =[1]CUADRO456!F8 -> 245561.03 | D9: =IF(ISNUMBER(C9/$B7*100),C9/$B7*100,0) -> 0 | E9: =[1]CUADRO456!H8 -> 9.1675686 | F9: =[1]CUADRO456!I8 -> 808419.14 | G9: =IF(ISNUMBER(F9/$B7*100),F9/$B7*100,0) -> 0 | H9: =[1]CUADRO456!K8 -> 8.6936848 | I9: =[1]CUADRO456!L8 -> 630254.61 | J9: =IF(ISNUMBER(I9/$B7*100),I9/$B7*100,0) -> 0 | K9: =[1]CUADRO456!N8 -> 8.3088967 | L9: =[1]CUADRO456!O8 -> 7329.9803 | M9: =IF(ISNUMBER(L9/$B7*100),L9/$B7*100,0) -> 0 | N9: =[1]CUADRO456!Q8 -> 10.093862 | O9: =[1]CUADRO456!R8 -> 175192.81 | P9: =IF(ISNUMBER(O9/$B7*100),O9/$B7*100,0) -> 0 | Q9: =[1]CUADRO456!T8 -> 7.8216655
A10: Distrito Central | B10: =SUM(C10,F10,I10,L10,O10) -> 398533.34 | C10: =[1]CUADRO456!F10 -> 55213.746 | D10: =IF(ISNUMBER(C10/$B9*100),C10/$B9*100,0) -> 2.9577352 | E10: =[1]CUADRO456!H10 -> 10.455056 | F10: =[1]CUADRO456!I10 -> 167211.3 | G10: =IF(ISNUMBER(F10/$B9*100),F10/$B9*100,0) -> 8.9573118 | H10: =[1]CUADRO456!K10 -> 9.411032 | I10: =[1]CUADRO456!L10 -> 127698.14 | J10: =IF(ISNUMBER(I10/$B9*100),I10/$B9*100,0) -> 6.8406387 | K10: =[1]CUADRO456!N10 -> 8.6212471 | L10: =[1]CUADRO456!O10 -> 1308.3826 | M10: =IF(ISNUMBER(L10/$B9*100),L10/$B9*100,0) -> 0.070088512 | N10: =[1]CUADRO456!Q10 -> 10.6 | O10: =[1]CUADRO456!R10 -> 47101.774 | P10: =IF(ISNUMBER(O10/$B9*100),O10/$B9*100,0) -> 2.5231864 | Q10: =[1]CUADRO456!T10 -> 8.3037975
A11: San Pedro Sula | B11: =SUM(C11,F11,I11,L11,O11) -> 226334.96 | C11: =[1]CUADRO456!F11 -> 30358.342 | D11: =IF(ISNUMBER(C11/$B10*100),C11/$B10*100,0) -> 7.6175163 | E11: =[1]CUADRO456!H11 -> 9.172043 | F11: =[1]CUADRO456!I11 -> 97086.579 | G11: =IF(ISNUMBER(F11/$B10*100),F11/$B10*100,0) -> 24.360968 | H11: =[1]CUADRO456!K11 -> 8.8333333 | I11: =[1]CUADRO456!L11 -> 77849.609 | J11: =IF(ISNUMBER(I11/$B10*100),I11/$B10*100,0) -> 19.534027 | K11: =[1]CUADRO456!N11 -> 8.0897436 | L11: =[1]CUADRO456!O11 -> 1202.3106 | M11: =IF(ISNUMBER(L11/$B10*100),L11/$B10*100,0) -> 0.30168381 | N11: =[1]CUADRO456!Q11 -> 11 | O11: =[1]CUADRO456!R11 -> 19838.124 | P11: =IF(ISNUMBER(O11/$B10*100),O11/$B10*100,0) -> 4.9777829 | Q11: =[1]CUADRO456!T11 -> 7.625
A12: Resto urbano | B12: =SUM(C12,F12,I12,L12,O12) -> 1241889.3 | C12: =[1]CUADRO456!F12 -> 159988.94 | D12: =IF(ISNUMBER(C12/$B11*100),C12/$B11*100,0) -> 70.686799 | E12: =[1]CUADRO456!H12 -> 8.7421043 | F12: =[1]CUADRO456!I12 -> 544121.27 | G12: =IF(ISNUMBER(F12/$B11*100),F12/$B11*100,0) -> 240.40531 | H12: =[1]CUADRO456!K12 -> 8.4561235 | I12: =[1]CUADRO456!L12 -> 424706.85 | J12: =IF(ISNUMBER(I12/$B11*100),I12/$B11*100,0) -> 187.64527 | K12: =[1]CUADRO456!N12 -> 8.2573101 | L12: =[1]CUADRO456!O12 -> 4819.2871 | M12: =IF(ISNUMBER(L12/$B11*100),L12/$B11*100,0) -> 2.129272 | N12: =[1]CUADRO456!Q12 -> 9.7911029 | O12: =[1]CUADRO456!R12 -> 108252.91 | P12: =IF(ISNUMBER(O12/$B11*100),O12/$B11*100,0) -> 47.82863 | Q12: =[1]CUADRO456!T12 -> 7.652275
A13: Rural | B13: =SUM(C13,F13,I13,L13,O13) -> 1511504.4 | C13: =[1]CUADRO456!F13 -> 103296.67 | D13: =IF(ISNUMBER(C13/$B12*100),C13/$B12*100,0) -> 8.317704 | E13: =[1]CUADRO456!H13 -> 6.7971698 | F13: =[1]CUADRO456!I13 -> 726871.28 | G13: =IF(ISNUMBER(F13/$B12*100),F13/$B12*100,0) -> 58.529476 | H13: =[1]CUADRO456!K13 -> 6.1585932 | I13: =[1]CUADRO456!L13 -> 371868.02 | J13: =IF(ISNUMBER(I13/$B12*100),I13/$B12*100,0) -> 29.943734 | K13: =[1]CUADRO456!N13 -> 5.9149215 | L13: =[1]CUADRO456!O13 -> 2529.7144 | M13: =IF(ISNUMBER(L13/$B12*100),L13/$B12*100,0) -> 0.20369887 | N13: =[1]CUADRO456!Q13 -> 5 | O13: =[1]CUADRO456!R13 -> 306938.68 | P13: =IF(ISNUMBER(O13/$B12*100),O13/$B12*100,0) -> 24.715463 | Q13: =[1]CUADRO456!T13 -> 5.9357367
A15: Rango de Edad
A16: De 15 a 18 años | B16: =SUM(C16,F16,I16,L16,O16) -> 322543.79 | C16: =[1]CUADRO456!F14 -> 47746.63 | D16: =IF(ISNUMBER(C16/$B13*100),C16/$B13*100,0) -> 3.1588814 | E16: =[1]CUADRO456!H14 -> 7.8593156 | F16: =[1]CUADRO456!I14 -> 130860.18 | G16: =IF(ISNUMBER(F16/$B13*100),F16/$B13*100,0) -> 8.6576118 | H16: =[1]CUADRO456!K14 -> 7.713234 | I16: =[1]CUADRO456!L14 -> 84166.579 | J16: =IF(ISNUMBER(I16/$B13*100),I16/$B13*100,0) -> 5.568398 | K16: =[1]CUADRO456!N14 -> 7.2403677 | L16: =[1]CUADRO456!O14 -> 2681.7865 | M16: =IF(ISNUMBER(L16/$B13*100),L16/$B13*100,0) -> 0.17742499 | N16: =[1]CUADRO456!Q14 -> 10.225776 | O16: =[1]CUADRO456!R14 -> 57088.615 | P16: =IF(ISNUMBER(O16/$B13*100),O16/$B13*100,0) -> 3.7769401 | Q16: =[1]CUADRO456!T14 -> 7.2216752
A17: De 19 a 24 años | B17: =SUM(C17,F17,I17,L17,O17) -> 650043.04 | C17: =[1]CUADRO456!F15 -> 111544.06 | D17: =IF(ISNUMBER(C17/$B14*100),C17/$B14*100,0) -> 0 | E17: =[1]CUADRO456!H15 -> 9.4956266 | F17: =[1]CUADRO456!I15 -> 239182.35 | G17: =IF(ISNUMBER(F17/$B14*100),F17/$B14*100,0) -> 0 | H17: =[1]CUADRO456!K15 -> 8.2503138 | I17: =[1]CUADRO456!L15 -> 218949.97 | J17: =IF(ISNUMBER(I17/$B14*100),I17/$B14*100,0) -> 0 | K17: =[1]CUADRO456!N15 -> 8.7219363 | L17: =[1]CUADRO456!O15 -> 2528.3752 | M17: =IF(ISNUMBER(L17/$B14*100),L17/$B14*100,0) -> 0 | N17: =[1]CUADRO456!Q15 -> 8.4182526 | O17: =[1]CUADRO456!R15 -> 77838.285 | P17: =IF(ISNUMBER(O17/$B14*100),O17/$B14*100,0) -> 0 | Q17: =[1]CUADRO456!T15 -> 8.3183903
A18: De 25 a 29 años | B18: =SUM(C18,F18,I18,L18,O18) -> 372731.23 | C18: =[1]CUADRO456!F16 -> 49340.223 | D18: =IF(ISNUMBER(C18/$B15*100),C18/$B15*100,0) -> 0 | E18: =[1]CUADRO456!H16 -> 9.4544447 | F18: =[1]CUADRO456!I16 -> 149701.94 | G18: =IF(ISNUMBER(F18/$B15*100),F18/$B15*100,0) -> 0 | H18: =[1]CUADRO456!K16 -> 9.0560121 | I18: =[1]CUADRO456!L16 -> 126211.05 | J18: =IF(ISNUMBER(I18/$B15*100),I18/$B15*100,0) -> 0 | K18: =[1]CUADRO456!N16 -> 9.1889268 | L18: =[1]CUADRO456!O16 -> 2139.126 | M18: =IF(ISNUMBER(L18/$B15*100),L18/$B15*100,0) -> 0 | N18: =[1]CUADRO456!Q16 -> 11.004133 | O18: =[1]CUADRO456!R16 -> 45338.898 | P18: =IF(ISNUMBER(O18/$B15*100),O18/$B15*100,0) -> 0 | Q18: =[1]CUADRO456!T16 -> 7.9394396
A19: De 30 a 35 años | B19: =SUM(C19,F19,I19,L19,O19) -> 421998.17 | C19: =[1]CUADRO456!F17 -> 34148.418 | D19: =IF(ISNUMBER(C19/$B16*100),C19/$B16*100,0) -> 10.587219 | E19: =[1]CUADRO456!H17 -> 9.4586902 | F19: =[1]CUADRO456!I17 -> 199674.58 | G19: =IF(ISNUMBER(F19/$B16*100),F19/$B16*100,0) -> 61.906192 | H19: =[1]CUADRO456!K17 -> 7.9661144 | I19: =[1]CUADRO456!L17 -> 145826.96 | J19: =IF(ISNUMBER(I19/$B16*100),I19/$B16*100,0) -> 45.211524 | K19: =[1]CUADRO456!N17 -> 7.9758903 | L19: =[1]CUADRO456!O17 -> 0 | M19: =IF(ISNUMBER(L19/$B16*100),L19/$B16*100,0) -> 0 | N19: =[1]CUADRO456!Q17 -> 0 | O19: =[1]CUADRO456!R17 -> 42348.212 | P19: =IF(ISNUMBER(O19/$B16*100),O19/$B16*100,0) -> 13.129446 | Q19: =[1]CUADRO456!T17 -> 7.0514328
A20: De 36 a 44 años | B20: =SUM(C20,F20,I20,L20,O20) -> 596388.63 | C20: =[1]CUADRO456!F18 -> 46160.64 | D20: =IF(ISNUMBER(C20/$B17*100),C20/$B17*100,0) -> 7.1011667 | E20: =[1]CUADRO456!H18 -> 7.1549962 | F20: =[1]CUADRO456!I18 -> 305041.34 | G20: =IF(ISNUMBER(F20/$B17*100),F20/$B17*100,0) -> 46.926329 | H20: =[1]CUADRO456!K18 -> 7.4150665 | I20: =[1]CUADRO456!L18 -> 168740.72 | J20: =IF(ISNUMBER(I20/$B17*100),I20/$B17*100,0) -> 25.958392 | K20: =[1]CUADRO456!N18 -> 6.7384677 | L20: =[1]CUADRO456!O18 -> 843.23814 | M20: =IF(ISNUMBER(L20/$B17*100),L20/$B17*100,0) -> 0.12972036 | N20: =[1]CUADRO456!Q18 -> 5 | O20: =[1]CUADRO456!R18 -> 75602.695 | P20: =IF(ISNUMBER(O20/$B17*100),O20/$B17*100,0) -> 11.630414 | Q20: =[1]CUADRO456!T18 -> 6.1616528
A21: De 45 a 59 años | B21: =SUM(C21,F21,I21,L21,O21) -> 635554.16 | C21: =[1]CUADRO456!F19 -> 32602.63 | D21: =IF(ISNUMBER(C21/$B18*100),C21/$B18*100,0) -> 8.746954 | E21: =[1]CUADRO456!H19 -> 7.0725316 | F21: =[1]CUADRO456!I19 -> 340769.78 | G21: =IF(ISNUMBER(F21/$B18*100),F21/$B18*100,0) -> 91.425068 | H21: =[1]CUADRO456!K19 -> 6.9889064 | I21: =[1]CUADRO456!L19 -> 159392.81 | J21: =IF(ISNUMBER(I21/$B18*100),I21/$B18*100,0) -> 42.76347 | K21: =[1]CUADRO456!N19 -> 5.8752205 | L21: =[1]CUADRO456!O19 -> 944.97211 | M21: =IF(ISNUMBER(L21/$B18*100),L21/$B18*100,0) -> 0.25352641 | N21: =[1]CUADRO456!Q19 -> 7.4306327 | O21: =[1]CUADRO456!R19 -> 101843.96 | P21: =IF(ISNUMBER(O21/$B18*100),O21/$B18*100,0) -> 27.323699 | Q21: =[1]CUADRO456!T19 -> 5.5606929
A22: De 60 años y más | B22: =SUM(C22,F22,I22,L22,O22) -> 379002.91 | C22: =[1]CUADRO456!F20 -> 27315.098 | D22: =IF(ISNUMBER(C22/$B19*100),C22/$B19*100,0) -> 6.4728001 | E22: =[1]CUADRO456!H20 -> 6.4601907 | F22: =[1]CUADRO456!I20 -> 170060.25 | G22: =IF(ISNUMBER(F22/$B19*100),F22/$B19*100,0) -> 40.298812 | H22: =[1]CUADRO456!K20 -> 5.4190434 | I22: =[1]CUADRO456!L20 -> 98834.541 | J22: =IF(ISNUMBER(I22/$B19*100),I22/$B19*100,0) -> 23.420609 | K22: =[1]CUADRO456!N20 -> 4.817646 | L22: =[1]CUADRO456!O20 -> 722.19671 | M22: =IF(ISNUMBER(L22/$B19*100),L22/$B19*100,0) -> 0.1711374 | N22: =[1]CUADRO456!Q20 -> 1 | O22: =[1]CUADRO456!R20 -> 82070.828 | P22: =IF(ISNUMBER(O22/$B19*100),O22/$B19*100,0) -> 19.448148 | Q22: =[1]CUADRO456!T20 -> 5.0303239
A24: ='C01'!$A$32 -> Fuente: Instituto Nacional de Estadística (INE). Encuesta Permanente de Hogares de Propósitos Múltiples LXXIII, 2021.
A25: AEP: Años de Estudio Promedio
A26: 2/ Porcentaje por filas
A28: =A1 -> Cuadro No. 4. Población con problemas de empleo y Años de Estudio Promedio (AEP), según dominio, Rangos de edad, rama de actividad y ocupación
A29: ....... Continuación
A30: =A3 -> Categorías | B30: Total | C30: Desocupados | F30: Subocupados por Insuficiencia de Tiempo de Trabajo. | I30: Subocupados Por Insuficiencia De Ingresos | L30: =L3 -> Buscador no disponible | O30: =O3 -> Disponible no buscador
C31: No. | D31: % 2/ | E31: AEP | F31: No. | G31: % 2/ | H31: AEP | I31: No. | J31: % 2/ | K31: AEP | L31: No. | M31: % 2/ | N31: AEP | O31: No. | P31: % 2/ | Q31: AEP
A33: =A6 -> Total Nacional
A35: Rama de Actividad
A36: Agricultura, ganaderia, silvicultura y pesca | B36: =SUM(C36,F36,I36,L36,O36) -> 594748.05 | C36: 0 | D36: =IF(ISNUMBER(C36/$B36*100),C36/$B36*100,0) -> 0 | E36: 0 | F36: =[1]CUADRO456!I21 -> 402266.22 | G36: =IF(ISNUMBER(F36/$B36*100),F36/$B36*100,0) -> 67.636409 | H36: =[1]CUADRO456!K21 -> 5.7174698 | I36: =[1]CUADRO456!L21 -> 192481.83 | J36: =IF(ISNUMBER(I36/$B36*100),I36/$B36*100,0) -> 32.363591 | K36: =[1]CUADRO456!N21 -> 5.1902994 | L36: 0 | M36: =IF(ISNUMBER(L36/$B36*100),L36/$B36*100,0) -> 0 | N36: 0 | O36: 0 | P36: =IF(ISNUMBER(O36/$B36*100),O36/$B36*100,0) -> 0 | Q36: 0
A37: Explotacion de minas y canteras | B37: =SUM(C37,F37,I37,L37,O37) -> 8292.6002 | C37: 0 | D37: =IF(ISNUMBER(C37/$B37*100),C37/$B37*100,0) -> 0 | E37: 0 | F37: =[1]CUADRO456!I22 -> 4696.3046 | G37: =IF(ISNUMBER(F37/$B37*100),F37/$B37*100,0) -> 56.632473 | H37: =[1]CUADRO456!K22 -> 6.1570716 | I37: =[1]CUADRO456!L22 -> 3596.2957 | J37: =IF(ISNUMBER(I37/$B37*100),I37/$B37*100,0) -> 43.367527 | K37: =[1]CUADRO456!N22 -> 6.1793407 | L37: 0 | M37: =IF(ISNUMBER(L37/$B37*100),L37/$B37*100,0) -> 0 | N37: 0 | O37: 0 | P37: =IF(ISNUMBER(O37/$B37*100),O37/$B37*100,0) -> 0 | Q37: 0
A38: Industria manufacturera | B38: =SUM(C38,F38,I38,L38,O38) -> 406788.51 | C38: 0 | D38: =IF(ISNUMBER(C38/$B38*100),C38/$B38*100,0) -> 0 | E38: 0 | F38: =[1]CUADRO456!I23 -> 215047.08 | G38: =IF(ISNUMBER(F38/$B38*100),F38/$B38*100,0) -> 52.86459 | H38: =[1]CUADRO456!K23 -> 7.2345306 | I38: =[1]CUADRO456!L23 -> 191741.43 | J38: =IF(ISNUMBER(I38/$B38*100),I38/$B38*100,0) -> 47.13541 | K38: =[1]CUADRO456!N23 -> 8.2442636 | L38: 0 | M38: =IF(ISNUMBER(L38/$B38*100),L38/$B38*100,0) -> 0 | N38: 0 | O38: 0 | P38: =IF(ISNUMBER(O38/$B38*100),O38/$B38*100,0) -> 0 | Q38: 0
A39: Suministro de electricidad, gas, vapor y aire acondicionado | B39: =SUM(C39,F39,I39,L39,O39) -> 4418.6009 | C39: 0 | D39: =IF(ISNUMBER(C39/$B39*100),C39/$B39*100,0) -> 0 | E39: 0 | F39: =[1]CUADRO456!I24 -> 1254.3908 | G39: =IF(ISNUMBER(F39/$B39*100),F39/$B39*100,0) -> 28.388868 | H39: =[1]CUADRO456!K24 -> 9.6972608 | I39: =[1]CUADRO456!L24 -> 3164.2102 | J39: =IF(ISNUMBER(I39/$B39*100),I39/$B39*100,0) -> 71.611132 | K39: =[1]CUADRO456!N24 -> 9.1329916 | L39: 0 | M39: =IF(ISNUMBER(L39/$B39*100),L39/$B39*100,0) -> 0 | N39: 0 | O39: 0 | P39: =IF(ISNUMBER(O39/$B39*100),O39/$B39*100,0) -> 0 | Q39: 0
A40: Suministro de agua, evacuacion de aguas residuales, gestion de desechos y descontaminacion | B40: =SUM(C40,F40,I40,L40,O40) -> 12965.293 | C40: 0 | D40: =IF(ISNUMBER(C40/$B40*100),C40/$B40*100,0) -> 0 | E40: 0 | F40: =[1]CUADRO456!I25 -> 8241.8935 | G40: =IF(ISNUMBER(F40/$B40*100),F40/$B40*100,0) -> 63.568893 | H40: =[1]CUADRO456!K25 -> 4.1677842 | I40: =[1]CUADRO456!L25 -> 4723.4 | J40: =IF(ISNUMBER(I40/$B40*100),I40/$B40*100,0) -> 36.431107 | K40: =[1]CUADRO456!N25 -> 6.5951795 | L40: 0 | M40: =IF(ISNUMBER(L40/$B40*100),L40/$B40*100,0) -> 0 | N40: 0 | O40: 0 | P40: =IF(ISNUMBER(O40/$B40*100),O40/$B40*100,0) -> 0 | Q40: 0
A41: Construccion | B41: =SUM(C41,F41,I41,L41,O41) -> 218971.45 | C41: 0 | D41: =IF(ISNUMBER(C41/$B41*100),C41/$B41*100,0) -> 0 | E41: 0 | F41: =[1]CUADRO456!I26 -> 88865.271 | G41: =IF(ISNUMBER(F41/$B41*100),F41/$B41*100,0) -> 40.58304 | H41: =[1]CUADRO456!K26 -> 7.1451819 | I41: =[1]CUADRO456!L26 -> 130106.18 | J41: =IF(ISNUMBER(I41/$B41*100),I41/$B41*100,0) -> 59.41696 | K41: =[1]CUADRO456!N26 -> 6.8600201 | L41: 0 | M41: =IF(ISNUMBER(L41/$B41*100),L41/$B41*100,0) -> 0 | N41: 0 | O41: 0 | P41: =IF(ISNUMBER(O41/$B41*100),O41/$B41*100,0) -> 0 | Q41: 0
A42: Comercio al por mayor y al por menor, reparacion de vehiculos automotores y motocicletas | B42: =SUM(C42,F42,I42,L42,O42) -> 508182.28 | C42: 0 | D42: =IF(ISNUMBER(C42/$B42*100),C42/$B42*100,0) -> 0 | E42: 0 | F42: =[1]CUADRO456!I27 -> 294251.39 | G42: =IF(ISNUMBER(F42/$B42*100),F42/$B42*100,0) -> 57.902726 | H42: =[1]CUADRO456!K27 -> 7.79168 | I42: =[1]CUADRO456!L27 -> 213930.89 | J42: =IF(ISNUMBER(I42/$B42*100),I42/$B42*100,0) -> 42.097274 | K42: =[1]CUADRO456!N27 -> 8.0419119 | L42: 0 | M42: =IF(ISNUMBER(L42/$B42*100),L42/$B42*100,0) -> 0 | N42: 0 | O42: 0 | P42: =IF(ISNUMBER(O42/$B42*100),O42/$B42*100,0) -> 0 | Q42: 0
A43: Transporte y almacenamiento | B43: =SUM(C43,F43,I43,L43,O43) -> 87200.868 | C43: 0 | D43: =IF(ISNUMBER(C43/$B43*100),C43/$B43*100,0) -> 0 | E43: 0 | F43: =[1]CUADRO456!I28 -> 61955.484 | G43: =IF(ISNUMBER(F43/$B43*100),F43/$B43*100,0) -> 71.049159 | H43: =[1]CUADRO456!K28 -> 8.2715583 | I43: =[1]CUADRO456!L28 -> 25245.384 | J43: =IF(ISNUMBER(I43/$B43*100),I43/$B43*100,0) -> 28.950841 | K43: =[1]CUADRO456!N28 -> 7.2618788 | L43: 0 | M43: =IF(ISNUMBER(L43/$B43*100),L43/$B43*100,0) -> 0 | N43: 0 | O43: 0 | P43: =IF(ISNUMBER(O43/$B43*100),O43/$B43*100,0) -> 0 | Q43: 0
A44: Actividades de alojamiento y de servicios de comida | B44: =SUM(C44,F44,I44,L44,O44) -> 143536.9 | C44: 0 | D44: =IF(ISNUMBER(C44/$B44*100),C44/$B44*100,0) -> 0 | E44: 0 | F44: =[1]CUADRO456!I29 -> 95948.661 | G44: =IF(ISNUMBER(F44/$B44*100),F44/$B44*100,0) -> 66.845991 | H44: =[1]CUADRO456!K29 -> 8.3133166 | I44: =[1]CUADRO456!L29 -> 47588.235 | J44: =IF(ISNUMBER(I44/$B44*100),I44/$B44*100,0) -> 33.154009 | K44: =[1]CUADRO456!N29 -> 8.3051299 | L44: 0 | M44: =IF(ISNUMBER(L44/$B44*100),L44/$B44*100,0) -> 0 | N44: 0 | O44: 0 | P44: =IF(ISNUMBER(O44/$B44*100),O44/$B44*100,0) -> 0 | Q44: 0
A45: Informacion y comunicaciones | B45: =SUM(C45,F45,I45,L45,O45) -> 5676.9316 | C45: 0 | D45: =IF(ISNUMBER(C45/$B45*100),C45/$B45*100,0) -> 0 | E45: 0 | F45: =[1]CUADRO456!I30 -> 2471.792 | G45: =IF(ISNUMBER(F45/$B45*100),F45/$B45*100,0) -> 43.540987 | H45: =[1]CUADRO456!K30 -> 12.534594 | I45: =[1]CUADRO456!L30 -> 3205.1396 | J45: =IF(ISNUMBER(I45/$B45*100),I45/$B45*100,0) -> 56.459013 | K45: =[1]CUADRO456!N30 -> 9.5099676 | L45: 0 | M45: =IF(ISNUMBER(L45/$B45*100),L45/$B45*100,0) -> 0 | N45: 0 | O45: 0 | P45: =IF(ISNUMBER(O45/$B45*100),O45/$B45*100,0) -> 0 | Q45: 0
A46: Actividades finacieras y de seguros | B46: =SUM(C46,F46,I46,L46,O46) -> 7467.7378 | C46: 0 | D46: =IF(ISNUMBER(C46/$B46*100),C46/$B46*100,0) -> 0 | E46: 0 | F46: =[1]CUADRO456!I31 -> 1617.8013 | G46: =IF(ISNUMBER(F46/$B46*100),F46/$B46*100,0) -> 21.663873 | H46: =[1]CUADRO456!K31 -> 16 | I46: =[1]CUADRO456!L31 -> 5849.9366 | J46: =IF(ISNUMBER(I46/$B46*100),I46/$B46*100,0) -> 78.336127 | K46: =[1]CUADRO456!N31 -> 12.381294 | L46: 0 | M46: =IF(ISNUMBER(L46/$B46*100),L46/$B46*100,0) -> 0 | N46: 0 | O46: 0 | P46: =IF(ISNUMBER(O46/$B46*100),O46/$B46*100,0) -> 0 | Q46: 0
A47: Actividades inmobiliarias | B47: =SUM(C47,F47,I47,L47,O47) -> 3685.2534 | C47: 0 | D47: =IF(ISNUMBER(C47/$B47*100),C47/$B47*100,0) -> 0 | E47: 0 | F47: =[1]CUADRO456!I32 -> 983.87323 | G47: =IF(ISNUMBER(F47/$B47*100),F47/$B47*100,0) -> 26.697573 | H47: =[1]CUADRO456!K32 -> 10.654061 | I47: =[1]CUADRO456!L32 -> 2701.3802 | J47: =IF(ISNUMBER(I47/$B47*100),I47/$B47*100,0) -> 73.302427 | K47: =[1]CUADRO456!N32 -> 4.5842867 | L47: 0 | M47: =IF(ISNUMBER(L47/$B47*100),L47/$B47*100,0) -> 0 | N47: 0 | O47: 0 | P47: =IF(ISNUMBER(O47/$B47*100),O47/$B47*100,0) -> 0 | Q47: 0
... A57: Rama de actividad NO especificadas | B57: =SUM(C57,F57,I57,L57,O57) -> 0 | C57: 0 | D57: =IF(ISNUMBER(C57/$B57*100),C57/$B57*100,0) -> 0 | E57: 0 | F57: =[1]CUADRO456!I42 -> 0 | G57: =IF(ISNUMBER(F57/$B57*100),F57/$B57*100,0) -> 0 | H57: =[1]CUADRO456!K42 -> 0 | I57: =[1]CUADRO456!L42 -> 0 | J57: =IF(ISNUMBER(I57/$B57*100),I57/$B57*100,0) -> 0 | K57: =[1]CUADRO456!N42 -> 0 | L57: 0 | M57: =IF(ISNUMBER(L57/$B57*100),L57/$B57*100,0) -> 0 | N57: 0 | O57: 0 | P57: =IF(ISNUMBER(O57/$B57*100),O57/$B57*100,0) -> 0 | Q57: 0
...

Sheet C05
A1: Cuadro No. 5 Población con problemas de empleo y Años de Estudio Promedio (AEP), según dominio, Rangos de edad, rama de actividad y ocupación
A2: Hombres
A3: Categorías | B3: Total | C3: Desocupados | F3: Subocupados por Insuficiencia de Tiempo de Trabajo. | I3: Subocupados Por Insuficiencia De Ingresos | L3: ='C04'!L3:N3 -> Buscador no disponible | O3: ='C04'!O3:Q3 -> Disponible no buscador
