Workbook

Sheet Portada

Sheet C01
A2: Cuadro No. 1. Población Económicamente Activa (Fuerza de Trabajo) en condición de empleo, según dominio, Nivel educativo, Rangos de edad, rama de actividad y ocupación
A4: Categorías | B4: Fuerza de Trabajo | D4: Ocupados | F4: Desocupados | I4: Subocupados por Insuficiencia de Tiempo de Trabajo. | L4: Subocupados Por Insuficiencia De Ingresos
B5: No. | C5: AEP | D5: No. | E5: AEP | F5: No. | G5: AEP | H5: TD | I5: No. | J5: AEP | K5: TST | L5: No. | M5: AEP | N5: TSI
A7: Total Nacional | B7: =[1]CUADRO123!C7 -> 4071227.2 | C7: =[1]CUADRO123!D7 -> 8.1267214 | D7: =[1]CUADRO123!E7 -> 3722369.5 | E7: =[1]CUADRO123!F7 -> 8.0945061 | F7: =[1]CUADRO123!G7 -> 348857.7 | G7: =[1]CUADRO123!H7 -> 8.4732624 | H7: =F7/B7*100 -> 8.5688585 | I7: =[1]CUADRO123!K7 -> 1535290.4 | J7: =[1]CUADRO123!L7 -> 7.5176971 | K7: =IF(ISNUMBER(I7/D7*100),I7/D7*100,0) -> 41.244976 | L7: =[1]CUADRO123!M7 -> 1002122.6 | M7: =[1]CUADRO123!N7 -> 7.4453671 | N7: =IF(ISNUMBER(L7/D7*100),L7/D7*100,0) -> 26.921632
A9: Dominio
A10: Urbano | B10: =[1]CUADRO123!C8 -> 2509128.6 | C10: =[1]CUADRO123!D8 -> 9.2077007 | D10: =[1]CUADRO123!E8 -> 2263567.6 | E10: =[1]CUADRO123!F8 -> 9.2119771 | F10: =[1]CUADRO123!G8 -> 245561.03 | G10: =[1]CUADRO123!H8 -> 9.1675686 | H10: =F10/B10*100 -> 9.7867056 | I10: =[1]CUADRO123!K8 -> 808419.14 | J10: =[1]CUADRO123!L8 -> 8.6936848 | K10: =IF(ISNUMBER(I10/D10*100),I10/D10*100,0) -> 35.714381 | L10: =[1]CUADRO123!M8 -> 630254.61 | M10: =[1]CUADRO123!N8 -> 8.3088967 | N10: =IF(ISNUMBER(L10/D10*100),L10/D10*100,0) -> 27.843419
A11: Distrito Central | B11: =[1]CUADRO123!C10 -> 547165.6 | C11: =[1]CUADRO123!D10 -> 10.13521 | D11: =[1]CUADRO123!E10 -> 491951.86 | E11: =[1]CUADRO123!F10 -> 10.100367 | F11: =[1]CUADRO123!G10 -> 55213.746 | G11: =[1]CUADRO123!H10 -> 10.455056 | H11: =F11/B11*100 -> 10.090866 | I11: =[1]CUADRO123!K10 -> 167211.3 | J11: =[1]CUADRO123!L10 -> 9.411032 | K11: =IF(ISNUMBER(I11/D11*100),I11/D11*100,0) -> 33.989362 | L11: =[1]CUADRO123!M10 -> 127698.14 | M11: =[1]CUADRO123!N10 -> 8.6212471 | N11: =IF(ISNUMBER(L11/D11*100),L11/D11*100,0) -> 25.957447
A12: San Pedro Sula | B12: =[1]CUADRO123!C11 -> 320415.77 | C12: =[1]CUADRO123!D11 -> 9.2650475 | D12: =[1]CUADRO123!E11 -> 290057.43 | E12: =[1]CUADRO123!F11 -> 9.2751756 | F12: =[1]CUADRO123!G11 -> 30358.342 | G12: =[1]CUADRO123!H11 -> 9.172043 | H12: =F12/B12*100 -> 9.4746717 | I12: =[1]CUADRO123!K11 -> 97086.579 | J12: =[1]CUADRO123!L11 -> 8.8333333 | K12: =IF(ISNUMBER(I12/D12*100),I12/D12*100,0) -> 33.471503 | L12: =[1]CUADRO123!M11 -> 77849.609 | M12: =[1]CUADRO123!N11 -> 8.0897436 | N12: =IF(ISNUMBER(L12/D12*100),L12/D12*100,0) -> 26.839378
A13: Resto urbano | B13: =[1]CUADRO123!C12 -> 1641547.2 | C13: =[1]CUADRO123!D12 -> 8.8999125 | D13: =[1]CUADRO123!E12 -> 1481558.3 | E13: =[1]CUADRO123!F12 -> 8.9165384 | F13: =[1]CUADRO123!G12 -> 159988.94 | G13: =[1]CUADRO123!H12 -> 8.7421043 | H13: =F13/B13*100 -> 9.7462284 | I13: =[1]CUADRO123!K12 -> 544121.27 | J13: =[1]CUADRO123!L12 -> 8.4561235 | K13: =IF(ISNUMBER(I13/D13*100),I13/D13*100,0) -> 36.726282 | L13: =[1]CUADRO123!M12 -> 424706.85 | M13: =[1]CUADRO123!N12 -> 8.2573101 | N13: =IF(ISNUMBER(L13/D13*100),L13/D13*100,0) -> 28.666227
A14: Rural | B14: =[1]CUADRO123!C13 -> 1562098.7 | C14: =[1]CUADRO123!D13 -> 6.3286385 | D14: =[1]CUADRO123!E13 -> 1458802 | E14: =[1]CUADRO123!F13 -> 6.2953403 | F14: =[1]CUADRO123!G13 -> 103296.67 | G14: =[1]CUADRO123!H13 -> 6.7971698 | H14: =F14/B14*100 -> 6.6126856 | I14: =[1]CUADRO123!K13 -> 726871.28 | J14: =[1]CUADRO123!L13 -> 6.1585932 | K14: =IF(ISNUMBER(I14/D14*100),I14/D14*100,0) -> 49.82659 | L14: =[1]CUADRO123!M13 -> 371868.02 | M14: =[1]CUADRO123!N13 -> 5.9149215 | N14: =IF(ISNUMBER(L14/D14*100),L14/D14*100,0) -> 25.491329
A16: Nivel Educativo
A17: Sin Nivel | B17: =[1]CUADRO123!C14 -> 244908.45 | C17: =[1]CUADRO123!D14 -> 0 | D17: =[1]CUADRO123!E14 -> 230226.14 | E17: =[1]CUADRO123!F14 -> 0 | F17: =[1]CUADRO123!G14 -> 14682.315 | G17: =[1]CUADRO123!H14 -> 0 | H17: =F17/B17*100 -> 5.9950217 | I17: =[1]CUADRO123!K14 -> 108788.25 | J17: =[1]CUADRO123!L14 -> 0 | K17: =IF(ISNUMBER(I17/D17*100),I17/D17*100,0) -> 47.252782 | L17: =[1]CUADRO123!M14 -> 66571.473 | M17: =[1]CUADRO123!N14 -> 0 | N17: =IF(ISNUMBER(L17/D17*100),L17/D17*100,0) -> 28.915688
A18: Primaria | B18: =[1]CUADRO123!C15 -> 2001242.4 | C18: =[1]CUADRO123!D15 -> 5.1316262 | D18: =[1]CUADRO123!E15 -> 1846723 | E18: =[1]CUADRO123!F15 -> 5.1076108 | F18: =[1]CUADRO123!G15 -> 154519.39 | G18: =[1]CUADRO123!H15 -> 5.418644 | H18: =F18/B18*100 -> 7.7211731 | I18: =[1]CUADRO123!K15 -> 860379.67 | J18: =[1]CUADRO123!L15 -> 5.0925372 | K18: =IF(ISNUMBER(I18/D18*100),I18/D18*100,0) -> 46.589535 | L18: =[1]CUADRO123!M15 -> 541164.17 | M18: =[1]CUADRO123!N15 -> 5.070531 | N18: =IF(ISNUMBER(L18/D18*100),L18/D18*100,0) -> 29.304025
A19: Secundaria | B19: =[1]CUADRO123!C16 -> 1239810.5 | C19: =[1]CUADRO123!D16 -> 10.69401 | D19: =[1]CUADRO123!E16 -> 1110936.2 | E19: =[1]CUADRO123!F16 -> 10.67157 | F19: =[1]CUADRO123!G16 -> 128874.35 | G19: =[1]CUADRO123!H16 -> 10.887135 | H19: =F19/B19*100 -> 10.394681 | I19: =[1]CUADRO123!K16 -> 410679.73 | J19: =[1]CUADRO123!L16 -> 10.530742 | K19: =IF(ISNUMBER(I19/D19*100),I19/D19*100,0) -> 36.966995 | L19: =[1]CUADRO123!M16 -> 320937.45 | M19: =[1]CUADRO123!N16 -> 10.65713 | N19: =IF(ISNUMBER(L19/D19*100),L19/D19*100,0) -> 28.888919
A20: Superior | B20: =[1]CUADRO123!C17 -> 493124.16 | C20: =[1]CUADRO123!D17 -> 16.205168 | D20: =[1]CUADRO123!E17 -> 447031.35 | E20: =[1]CUADRO123!F17 -> 16.227744 | F20: =[1]CUADRO123!G17 -> 46092.81 | G20: =[1]CUADRO123!H17 -> 15.866233 | H20: =F20/B20*100 -> 9.3471002 | I20: =[1]CUADRO123!K17 -> 137053.86 | J20: =[1]CUADRO123!L17 -> 16.079791 | K20: =IF(ISNUMBER(I20/D20*100),I20/D20*100,0) -> 30.658669 | L20: =[1]CUADRO123!M17 -> 51821.584 | M20: =[1]CUADRO123!N17 -> 15.634201 | N20: =IF(ISNUMBER(L20/D20*100),L20/D20*100,0) -> 11.592382
A21: Ns / Nr | B21: =[1]CUADRO123!C18 -> 92141.687 | C21: =[1]CUADRO123!D18 -> 0 | D21: =[1]CUADRO123!E18 -> 87452.85 | E21: =[1]CUADRO123!F18 -> 0 | F21: =[1]CUADRO123!G18 -> 4688.837 | G21: =[1]CUADRO123!H18 -> 0 | H21: =F21/B21*100 -> 5.0887249 | I21: =[1]CUADRO123!K18 -> 18388.904 | J21: =[1]CUADRO123!L18 -> 0 | K21: =IF(ISNUMBER(I21/D21*100),I21/D21*100,0) -> 21.027221 | L21: =[1]CUADRO123!M18 -> 21627.952 | M21: =[1]CUADRO123!N18 -> 0 | N21: =IF(ISNUMBER(L21/D21*100),L21/D21*100,0) -> 24.730986
A23: Rango de Edad
A24: De 15 a 18 años | B24: =[1]CUADRO123!C19 -> 353274.88 | C24: =[1]CUADRO123!D19 -> 7.6109436 | D24: =[1]CUADRO123!E19 -> 305528.25 | E24: =[1]CUADRO123!F19 -> 7.5727992 | F24: =[1]CUADRO123!G19 -> 47746.63 | G24: =[1]CUADRO123!H19 -> 7.8593156 | H24: =F24/B24*100 -> 13.515433 | I24: =[1]CUADRO123!K19 -> 130860.18 | J24: =[1]CUADRO123!L19 -> 7.713234 | K24: =IF(ISNUMBER(I24/D24*100),I24/D24*100,0) -> 42.830796 | L24: =[1]CUADRO123!M19 -> 84166.579 | M24: =[1]CUADRO123!N19 -> 7.2403677 | N24: =IF(ISNUMBER(L24/D24*100),L24/D24*100,0) -> 27.547888
A25: De 19 a 24 años | B25: =[1]CUADRO123!C20 -> 752378.71 | C25: =[1]CUADRO123!D20 -> 8.8741175 | D25: =[1]CUADRO123!E20 -> 640834.64 | E25: =[1]CUADRO123!F20 -> 8.7716365 | F25: =[1]CUADRO123!G20 -> 111544.06 | G25: =[1]CUADRO123!H20 -> 9.4956266 | H25: =F25/B25*100 -> 14.825521 | I25: =[1]CUADRO123!K20 -> 239182.35 | J25: =[1]CUADRO123!L20 -> 8.2503138 | K25: =IF(ISNUMBER(I25/D25*100),I25/D25*100,0) -> 37.323567 | L25: =[1]CUADRO123!M20 -> 218949.97 | M25: =[1]CUADRO123!N20 -> 8.7219363 | N25: =IF(ISNUMBER(L25/D25*100),L25/D25*100,0) -> 34.166375
A26: De 25 a 29 años | B26: =[1]CUADRO123!C21 -> 477495.82 | C26: =[1]CUADRO123!D21 -> 9.7248575 | D26: =[1]CUADRO123!E21 -> 428155.6 | E26: =[1]CUADRO123!F21 -> 9.7556735 | F26: =[1]CUADRO123!G21 -> 49340.223 | G26: =[1]CUADRO123!H21 -> 9.4544447 | H26: =F26/B26*100 -> 10.333121 | I26: =[1]CUADRO123!K21 -> 149701.94 | J26: =[1]CUADRO123!L21 -> 9.0560121 | K26: =IF(ISNUMBER(I26/D26*100),I26/D26*100,0) -> 34.964378 | L26: =[1]CUADRO123!M21 -> 126211.05 | M26: =[1]CUADRO123!N21 -> 9.1889268 | N26: =IF(ISNUMBER(L26/D26*100),L26/D26*100,0) -> 29.477846
A27: De 30 a 35 años | B27: =[1]CUADRO123!C22 -> 535237.83 | C27: =[1]CUADRO123!D22 -> 8.7197405 | D27: =[1]CUADRO123!E22 -> 501089.42 | E27: =[1]CUADRO123!F22 -> 8.6679514 | F27: =[1]CUADRO123!G22 -> 34148.418 | G27: =[1]CUADRO123!H22 -> 9.4586902 | H27: =F27/B27*100 -> 6.3800456 | I27: =[1]CUADRO123!K22 -> 199674.58 | J27: =[1]CUADRO123!L22 -> 7.9661144 | K27: =IF(ISNUMBER(I27/D27*100),I27/D27*100,0) -> 39.848094 | L27: =[1]CUADRO123!M22 -> 145826.96 | M27: =[1]CUADRO123!N22 -> 7.9758903 | N27: =IF(ISNUMBER(L27/D27*100),L27/D27*100,0) -> 29.101984
A28: De 36 a 44 años | B28: =[1]CUADRO123!C23 -> 753872.54 | C28: =[1]CUADRO123!D23 -> 7.9976784 | D28: =[1]CUADRO123!E23 -> 707711.9 | E28: =[1]CUADRO123!F23 -> 8.0521344 | F28: =[1]CUADRO123!G23 -> 46160.64 | G28: =[1]CUADRO123!H23 -> 7.1549962 | H28: =F28/B28*100 -> 6.1231359 | I28: =[1]CUADRO123!K23 -> 305041.34 | J28: =[1]CUADRO123!L23 -> 7.4150665 | K28: =IF(ISNUMBER(I28/D28*100),I28/D28*100,0) -> 43.102474 | L28: =[1]CUADRO123!M23 -> 168740.72 | M28: =[1]CUADRO123!N23 -> 6.7384677 | N28: =IF(ISNUMBER(L28/D28*100),L28/D28*100,0) -> 23.843137
A29: De 45 a 59 años | B29: =[1]CUADRO123!C24 -> 793664.85 | C29: =[1]CUADRO123!D24 -> 7.4131357 | D29: =[1]CUADRO123!E24 -> 761062.22 | E29: =[1]CUADRO123!F24 -> 7.4275943 | F29: =[1]CUADRO123!G24 -> 32602.63 | G29: =[1]CUADRO123!H24 -> 7.0725316 | H29: =F29/B29*100 -> 4.1078586 | I29: =[1]CUADRO123!K24 -> 340769.78 | J29: =[1]CUADRO123!L24 -> 6.9889064 | K29: =IF(ISNUMBER(I29/D29*100),I29/D29*100,0) -> 44.775548 | L29: =[1]CUADRO123!M24 -> 159392.81 | M29: =[1]CUADRO123!N24 -> 5.8752205 | N29: =IF(ISNUMBER(L29/D29*100),L29/D29*100,0) -> 20.943466
A30: De 60 años y más | B30: =[1]CUADRO123!C25 -> 405302.61 | C30: =[1]CUADRO123!D25 -> 5.889228 | D30: =[1]CUADRO123!E25 -> 377987.51 | E30: =[1]CUADRO123!F25 -> 5.843686 | F30: =[1]CUADRO123!G25 -> 27315.098 | G30: =[1]CUADRO123!H25 -> 6.4601907 | H30: =F30/B30*100 -> 6.739433 | I30: =[1]CUADRO123!K25 -> 170060.25 | J30: =[1]CUADRO123!L25 -> 5.4190434 | K30: =IF(ISNUMBER(I30/D30*100),I30/D30*100,0) -> 44.99097 | L30: =[1]CUADRO123!M25 -> 98834.541 | M30: =[1]CUADRO123!N25 -> 4.817646 | N30: =IF(ISNUMBER(L30/D30*100),L30/D30*100,0) -> 26.147568
A32: Fuente: Instituto Nacional de Estadística (INE). Encuesta Permanente de Hogares de Propósitos Múltiples LXXIII, 2021.
A33: AEP: Años de Estudio Promedio
A34: TD: Tasa de Desocupación
A35: TST: Tasa de subocupación por Insuficiencia de Tiempo de Trabajo.
A36: TSI: Tasa de Subocupación Por Insuficiencia De Ingresos
A38: =A2 -> Cuadro No. 1. Población Económicamente Activa (Fuerza de Trabajo) en condición de empleo, según dominio, Nivel educativo, Rangos de edad, rama de actividad y ocupación
A39: ....... Continuación
A40: =A4 -> Categorías | B40: =B4 -> Fuerza de Trabajo | D40: =D4 -> Ocupados | F40: =F4 -> Desocupados | I40: Subocupados por Insuficiencia de Tiempo de Trabajo. | L40: Subocupados Por Insuficiencia De Ingresos
B41: =B5 -> No. | C41: =C5 -> AEP | D41: =D5 -> No. | E41: =E5 -> AEP | F41: =F5 -> No. | G41: =G5 -> AEP | H41: =H5 -> TD | I41: =I5 -> No. | ... N41: =N5 -> TSI
A43: =A7 -> Total Nacional | B43: =B7 -> 4071227.2 | C43: =C7 -> 8.1267214 | D43: =D7 -> 3722369.5 | E43: =E7 -> 8.0945061 | F43: =F7 -> 348857.7 | G43: =G7 -> 8.4732624 | H43: =H7 -> 8.5688585 | ... N43: =N7 -> 26.921632
A45: Rama de Actividad
A46: Agricultura, ganaderia, silvicultura y pesca | B46: =[1]CUADRO123!C26 -> 826951.34 | C46: =[1]CUADRO123!D26 -> 5.6563039 | D46: =[1]CUADRO123!E26 -> 826951.34 | E46: =[1]CUADRO123!F26 -> 5.6563039 | F46: =[1]CUADRO123!G26 -> 0 | G46: =[1]CUADRO123!H26 -> 0 | H46: =F46/B46*100 -> 0 | I46: =[1]CUADRO123!K26 -> 402266.22 | J46: =[1]CUADRO123!L26 -> 5.7174698 | K46: =IF(ISNUMBER(I46/D46*100),I46/D46*100,0) -> 48.644485 | L46: =[1]CUADRO123!M26 -> 192481.83 | M46: =[1]CUADRO123!N26 -> 5.1902994 | N46: =IF(ISNUMBER(L46/D46*100),L46/D46*100,0) -> 23.276077
A47: Explotacion de minas y canteras | B47: =[1]CUADRO123!C27 -> 12955.477 | C47: =[1]CUADRO123!D27 -> 6.3169903 | D47: =[1]CUADRO123!E27 -> 12955.477 | E47: =[1]CUADRO123!F27 -> 6.3169903 | F47: =[1]CUADRO123!G27 -> 0 | G47: =[1]CUADRO123!H27 -> 0 | H47: =F47/B47*100 -> 0 | I47: =[1]CUADRO123!K27 -> 4696.3046 | J47: =[1]CUADRO123!L27 -> 6.1570716 | K47: =IF(ISNUMBER(I47/D47*100),I47/D47*100,0) -> 36.249569 | L47: =[1]CUADRO123!M27 -> 3596.2957 | M47: =[1]CUADRO123!N27 -> 6.1793407 | N47: =IF(ISNUMBER(L47/D47*100),L47/D47*100,0) -> 27.758882
A48: Industria manufacturera | B48: =[1]CUADRO123!C28 -> 567245.4 | C48: =[1]CUADRO123!D28 -> 8.1562441 | D48: =[1]CUADRO123!E28 -> 567245.4 | E48: =[1]CUADRO123!F28 -> 8.1562441 | F48: =[1]CUADRO123!G28 -> 0 | G48: =[1]CUADRO123!H28 -> 0 | H48: =F48/B48*100 -> 0 | I48: =[1]CUADRO123!K28 -> 215047.08 | J48: =[1]CUADRO123!L28 -> 7.2345306 | K48: =IF(ISNUMBER(I48/D48*100),I48/D48*100,0) -> 37.910767 | L48: =[1]CUADRO123!M28 -> 191741.43 | M48: =[1]CUADRO123!N28 -> 8.2442636 | N48: =IF(ISNUMBER(L48/D48*100),L48/D48*100,0) -> 33.802201
A49: Suministro de electricidad, gas, vapor y aire acondicionado | B49: =[1]CUADRO123!C29 -> 6631.0262 | C49: =[1]CUADRO123!D29 -> 10.948305 | D49: =[1]CUADRO123!E29 -> 6631.0262 | E49: =[1]CUADRO123!F29 -> 10.948305 | F49: =[1]CUADRO123!G29 -> 0 | G49: =[1]CUADRO123!H29 -> 0 | H49: =F49/B49*100 -> 0 | I49: =[1]CUADRO123!K29 -> 1254.3908 | J49: =[1]CUADRO123!L29 -> 9.6972608 | K49: =IF(ISNUMBER(I49/D49*100),I49/D49*100,0) -> 18.916993 | L49: =[1]CUADRO123!M29 -> 3164.2102 | M49: =[1]CUADRO123!N29 -> 9.1329916 | N49: =IF(ISNUMBER(L49/D49*100),L49/D49*100,0) -> 47.718257
A50: Suministro de agua, evacuacion de aguas residuales, gestion de desechos y descontaminacion | B50: =[1]CUADRO123!C30 -> 21268.797 | C50: =[1]CUADRO123!D30 -> 6.5370112 | D50: =[1]CUADRO123!E30 -> 21268.797 | E50: =[1]CUADRO123!F30 -> 6.5370112 | F50: =[1]CUADRO123!G30 -> 0 | G50: =[1]CUADRO123!H30 -> 0 | H50: =F50/B50*100 -> 0 | I50: =[1]CUADRO123!K30 -> 8241.8935 | J50: =[1]CUADRO123!L30 -> 4.1677842 | K50: =IF(ISNUMBER(I50/D50*100),I50/D50*100,0) -> 38.751103 | L50: =[1]CUADRO123!M30 -> 4723.4 | M50: =[1]CUADRO123!N30 -> 6.5951795 | N50: =IF(ISNUMBER(L50/D50*100),L50/D50*100,0) -> 22.20812
A51: Construccion | B51: =[1]CUADRO123!C31 -> 293881.96 | C51: =[1]CUADRO123!D31 -> 7.0729506 | D51: =[1]CUADRO123!E31 -> 293881.96 | E51: =[1]CUADRO123!F31 -> 7.0729506 | F51: =[1]CUADRO123!G31 -> 0 | G51: =[1]CUADRO123!H31 -> 0 | H51: =F51/B51*100 -> 0 | I51: =[1]CUADRO123!K31 -> 88865.271 | J51: =[1]CUADRO123!L31 -> 7.1451819 | K51: =IF(ISNUMBER(I51/D51*100),I51/D51*100,0) -> 30.238423 | L51: =[1]CUADRO123!M31 -> 130106.18 | M51: =[1]CUADRO123!N31 -> 6.8600201 | N51: =IF(ISNUMBER(L51/D51*100),L51/D51*100,0) -> 44.271576
A52: Comercio al por mayor y al por menor, reparacion de vehiculos automotores y motocicletas | B52: =[1]CUADRO123!C32 -> 747381.08 | C52: =[1]CUADRO123!D32 -> 8.3657301 | D52: =[1]CUADRO123!E32 -> 747381.08 | E52: =[1]CUADRO123!F32 -> 8.3657301 | F52: =[1]CUADRO123!G32 -> 0 | G52: =[1]CUADRO123!H32 -> 0 | H52: =F52/B52*100 -> 0 | I52: =[1]CUADRO123!K32 -> 294251.39 | J52: =[1]CUADRO123!L32 -> 7.79168 | K52: =IF(ISNUMBER(I52/D52*100),I52/D52*100,0) -> 39.370999 | L52: =[1]CUADRO123!M32 -> 213930.89 | M52: =[1]CUADRO123!N32 -> 8.0419119 | N52: =IF(ISNUMBER(L52/D52*100),L52/D52*100,0) -> 28.624071
A53: Transporte y almacenamiento | B53: =[1]CUADRO123!C33 -> 129333.56 | C53: =[1]CUADRO123!D33 -> 8.1543195 | D53: =[1]CUADRO123!E33 -> 129333.56 | E53: =[1]CUADRO123!F33 -> 8.1543195 | F53: =[1]CUADRO123!G33 -> 0 | G53: =[1]CUADRO123!H33 -> 0 | H53: =F53/B53*100 -> 0 | I53: =[1]CUADRO123!K33 -> 61955.484 | J53: =[1]CUADRO123!L33 -> 8.2715583 | K53: =IF(ISNUMBER(I53/D53*100),I53/D53*100,0) -> 47.903641 | L53: =[1]CUADRO123!M33 -> 25245.384 | M53: =[1]CUADRO123!N33 -> 7.2618788 | N53: =IF(ISNUMBER(L53/D53*100),L53/D53*100,0) -> 19.519593
A54: Actividades de alojamiento y de servicios de comida | B54: =[1]CUADRO123!C34 -> 201229.63 | C54: =[1]CUADRO123!D34 -> 8.559034 | D54: =[1]CUADRO123!E34 -> 201229.63 | E54: =[1]CUADRO123!F34 -> 8.559034 | F54: =[1]CUADRO123!G34 -> 0 | G54: =[1]CUADRO123!H34 -> 0 | H54: =F54/B54*100 -> 0 | I54: =[1]CUADRO123!K34 -> 95948.661 | J54: =[1]CUADRO123!L34 -> 8.3133166 | K54: =IF(ISNUMBER(I54/D54*100),I54/D54*100,0) -> 47.68118 | L54: =[1]CUADRO123!M34 -> 47588.235 | M54: =[1]CUADRO123!N34 -> 8.3051299 | N54: =IF(ISNUMBER(L54/D54*100),L54/D54*100,0) -> 23.648722
A55: Informacion y comunicaciones | B55: =[1]CUADRO123!C35 -> 18310.908 | C55: =[1]CUADRO123!D35 -> 12.461094 | D55: =[1]CUADRO123!E35 -> 18310.908 | E55: =[1]CUADRO123!F35 -> 12.461094 | F55: =[1]CUADRO123!G35 -> 0 | G55: =[1]CUADRO123!H35 -> 0 | H55: =F55/B55*100 -> 0 | I55: =[1]CUADRO123!K35 -> 2471.792 | J55: =[1]CUADRO123!L35 -> 12.534594 | K55: =IF(ISNUMBER(I55/D55*100),I55/D55*100,0) -> 13.499014 | L55: =[1]CUADRO123!M35 -> 3205.1396 | M55: =[1]CUADRO123!N35 -> 9.5099676 | N55: =IF(ISNUMBER(L55/D55*100),L55/D55*100,0) -> 17.503991
A56: Actividades finacieras y de seguros | B56: =[1]CUADRO123!C36 -> 33113.367 | C56: =[1]CUADRO123!D36 -> 13.866666 | D56: =[1]CUADRO123!E36 -> 33113.367 | E56: =[1]CUADRO123!F36 -> 13.866666 | F56: =[1]CUADRO123!G36 -> 0 | G56: =[1]CUADRO123!H36 -> 0 | H56: =F56/B56*100 -> 0 | I56: =[1]CUADRO123!K36 -> 1617.8013 | J56: =[1]CUADRO123!L36 -> 16 | K56: =IF(ISNUMBER(I56/D56*100),I56/D56*100,0) -> 4.8856442 | L56: =[1]CUADRO123!M36 -> 5849.9366 | M56: =[1]CUADRO123!N36 -> 12.381294 | N56: =IF(ISNUMBER(L56/D56*100),L56/D56*100,0) -> 17.66639
A57: Actividades inmobiliarias | B57: =[1]CUADRO123!C37 -> 7362.3502 | C57: =[1]CUADRO123!D37 -> 10.64518 | D57: =[1]CUADRO123!E37 -> 7362.3502 | E57: =[1]CUADRO123!F37 -> 10.64518 | F57: =[1]CUADRO123!G37 -> 0 | G57: =[1]CUADRO123!H37 -> 0 | H57: =F57/B57*100 -> 0 | I57: =[1]CUADRO123!K37 -> 983.87323 | J57: =[1]CUADRO123!L37 -> 10.654061 | K57: =IF(ISNUMBER(I57/D57*100),I57/D57*100,0) -> 13.363576 | L57: =[1]CUADRO123!M37 -> 2701.3802 | M57: =[1]CUADRO123!N37 -> 4.5842867 | N57: =IF(ISNUMBER(L57/D57*100),L57/D57*100,0) -> 36.691819
... A66: Actividades de organizaciones y organos extraterritoriales | B66: =[1]CUADRO123!C46 -> 3797.4538 | C66: =[1]CUADRO123!D46 -> 12.64107 | D66: =[1]CUADRO123!E46 -> 3797.4538 | E66: =[1]CUADRO123!F46 -> 12.64107 | F66: =[1]CUADRO123!G46 -> 0 | G66: =[1]CUADRO123!H46 -> 0 | H66: =F66/B66*100 -> 0 | I66: =[1]CUADRO123!K46 -> 983.87323 | J66: =[1]CUADRO123!L46 -> 6 | K66: =IF(ISNUMBER(I66/D66*100),I66/D66*100,0) -> 25.908761 | L66: =[1]CUADRO123!M46 -> 0 | M66: =[1]CUADRO123!N46 -> 0 | N66: =IF(ISNUMBER(L66/D66*100),L66/D66*100,0) -> 0
A67: Rama de actividad NO especificadas | B67: =[1]CUADRO123!C47 -> 0 | C67: =[1]CUADRO123!D47 -> 0 | D67: =[1]CUADRO123!E47 -> 0 | E67: =[1]CUADRO123!F47 -> 0 | F67: =[1]CUADRO123!G47 -> 0 | G67: =[1]CUADRO123!H47 -> 0 | H67: =IFERROR(F67/B67*100,0) -> 0 | I67: =[1]CUADRO123!K47 -> 0 | J67: =[1]CUADRO123!L47 -> 0 | K67: =IF(ISNUMBER(I67/D67*100),I67/D67*100,0) -> 0 | L67: =[1]CUADRO123!M47 -> 0 | M67: =[1]CUADRO123!N47 -> 0 | N67: =IF(ISNUMBER(L67/D67*100),L67/D67*100,0) -> 0
A68: Busca trabajo por primera vez | B68: =[1]CUADRO123!C48 -> 88511.357 | C68: =[1]CUADRO123!D48 -> 9.2596718 | D68: =[1]CUADRO123!E48 -> 0 | E68: =[1]CUADRO123!F48 -> 0 | F68: =[1]CUADRO123!G48 -> 88511.357 | G68: =[1]CUADRO123!H48 -> 9.2596718 | H68: =F68/B68*100 -> 100 | I68: =[1]CUADRO123!K48 -> 0 | J68: =[1]CUADRO123!L48 -> 0 | K68: =IF(ISNUMBER(I68/D68*100),I68/D68*100,0) -> 0 | L68: =[1]CUADRO123!M48 -> 0 | M68: =[1]CUADRO123!N48 -> 0 | N68: =IF(ISNUMBER(L68/D68*100),L68/D68*100,0) -> 0
A69: NS/NR | B69: =[1]CUADRO123!C49 -> 93318.736 | C69: =[1]CUADRO123!D49 -> 9.0215844 | D69: =[1]CUADRO123!E49 -> 93318.736 | E69: =[1]CUADRO123!F49 -> 9.0215844 | F69: =[1]CUADRO123!G49 -> 0 | G69: =[1]CUADRO123!H49 -> 0 | H69: =F69/B69*100 -> 0 | I69: =[1]CUADRO123!K49 -> 28067.034 | J69: =[1]CUADRO123!L49 -> 7.4067263 | K69: =IF(ISNUMBER(I69/D69*100),I69/D69*100,0) -> 30.076527 | L69: =[1]CUADRO123!M49 -> 18126.742 | M69: =[1]CUADRO123!N49 -> 7.3805869 | N69: =IF(ISNUMBER(L69/D69*100),L69/D69*100,0) -> 19.424548
A71: Ocupación
A72: Directores y gerentes | B72: =[1]CUADRO123!C50 -> 86507.062 | C72: =[1]CUADRO123!D50 -> 12.689938 | D72: =[1]CUADRO123!E50 -> 86507.062 | E72: =[1]CUADRO123!F50 -> 12.689938 | F72: =[1]CUADRO123!G50 -> 0 | G72: =[1]CUADRO123!H50 -> 0 | H72: =F72/B72*100 -> 0 | I72: =[1]CUADRO123!K50 -> 23400.703 | J72: =[1]CUADRO123!L50 -> 11.163137 | K72: =IF(ISNUMBER(I72/D72*100),I72/D72*100,0) -> 27.050627 | L72: =[1]CUADRO123!M50 -> 13479.922 | M72: =[1]CUADRO123!N50 -> 11.70342 | N72: =IF(ISNUMBER(L72/D72*100),L72/D72*100,0) -> 15.582453
A73: Profesionales cientificos e intelectuales | B73: =[1]CUADRO123!C51 -> 169706.55 | C73: =[1]CUADRO123!D51 -> 15.86131 | D73: =[1]CUADRO123!E51 -> 169706.55 | E73: =[1]CUADRO123!F51 -> 15.86131 | F73: =[1]CUADRO123!G51 -> 0 | G73: =[1]CUADRO123!H51 -> 0 | H73: =F73/B73*100 -> 0 | I73: =[1]CUADRO123!K51 -> 55755.208 | J73: =[1]CUADRO123!L51 -> 16.040953 | K73: =IF(ISNUMBER(I73/D73*100),I73/D73*100,0) -> 32.853894 | L73: =[1]CUADRO123!M51 -> 12040.201 | M73: =[1]CUADRO123!N51 -> 13.424765 | N73: =IF(ISNUMBER(L73/D73*100),L73/D73*100,0) -> 7.0947181
A74: Tecnicos y profesionales de nivel medio | B74: =[1]CUADRO123!C52 -> 188112.1 | C74: =[1]CUADRO123!D52 -> 11.728865 | D74: =[1]CUADRO123!E52 -> 188112.1 | E74: =[1]CUADRO123!F52 -> 11.728865 | F74: =[1]CUADRO123!G52 -> 0 | G74: =[1]CUADRO123!H52 -> 0 | H74: =F74/B74*100 -> 0 | I74: =[1]CUADRO123!K52 -> 51962.747 | J74: =[1]CUADRO123!L52 -> 10.699185 | K74: =IF(ISNUMBER(I74/D74*100),I74/D74*100,0) -> 27.623287 | L74: =[1]CUADRO123!M52 -> 39519.09 | M74: =[1]CUADRO123!N52 -> 10.723868 | N74: =IF(ISNUMBER(L74/D74*100),L74/D74*100,0) -> 21.008265
A75: Personal de apoyo administrativo | B75: =[1]CUADRO123!C53 -> 110985.08 | C75: =[1]CUADRO123!D53 -> 11.728195 | D75: =[1]CUADRO123!E53 -> 110985.08 | E75: =[1]CUADRO123!F53 -> 11.728195 | F75: =[1]CUADRO123!G53 -> 0 | G75: =[1]CUADRO123!H53 -> 0 | H75: =F75/B75*100 -> 0 | I75: =[1]CUADRO123!K53 -> 14139.693 | J75: =[1]CUADRO123!L53 -> 11.233168 | K75: =IF(ISNUMBER(I75/D75*100),I75/D75*100,0) -> 12.740175 | L75: =[1]CUADRO123!M53 -> 31342.717 | M75: =[1]CUADRO123!N53 -> 10.408893 | N75: =IF(ISNUMBER(L75/D75*100),L75/D75*100,0) -> 28.240478
A76: Trabajadores de los servicios y vendedores de comercios y mercados | B76: =[1]CUADRO123!C54 -> 880167.54 | C76: =[1]CUADRO123!D54 -> 8.1104876 | D76: =[1]CUADRO123!E54 -> 880167.54 | E76: =[1]CUADRO123!F54 -> 8.1104876 | F76: =[1]CUADRO123!G54 -> 0 | G76: =[1]CUADRO123!H54 -> 0 | H76: =F76/B76*100 -> 0 | I76: =[1]CUADRO123!K54 -> 396628.15 | J76: =[1]CUADRO123!L54 -> 7.8681178 | K76: =IF(ISNUMBER(I76/D76*100),I76/D76*100,0) -> 45.062801 | L76: =[1]CUADRO123!M54 -> 237244.88 | M76: =[1]CUADRO123!N54 -> 7.7020073 | N76: =IF(ISNUMBER(L76/D76*100),L76/D76*100,0) -> 26.954514
A77: Agricultores y trabajadores calificados agropecuarios forestales y pesqueros | B77: =[1]CUADRO123!C55 -> 259505.46 | C77: =[1]CUADRO123!D55 -> 5.8054212 | D77: =[1]CUADRO123!E55 -> 259505.46 | E77: =[1]CUADRO123!F55 -> 5.8054212 | F77: =[1]CUADRO123!G55 -> 0 | G77: =[1]CUADRO123!H55 -> 0 | H77: =F77/B77*100 -> 0 | I77: =[1]CUADRO123!K55 -> 127452.79 | J77: =[1]CUADRO123!L55 -> 6.0061433 | K77: =IF(ISNUMBER(I77/D77*100),I77/D77*100,0) -> 49.113723 | L77: =[1]CUADRO123!M55 -> 63930.087 | M77: =[1]CUADRO123!N55 -> 5.1808735 | N77: =IF(ISNUMBER(L77/D77*100),L77/D77*100,0) -> 24.635354
A78: Oficiales, operarios y artesanos de artes mecanicas y de otros oficios | B78: =[1]CUADRO123!C56 -> 607193.07 | C78: =[1]CUADRO123!D56 -> 7.4964538 | D78: =[1]CUADRO123!E56 -> 607193.07 | E78: =[1]CUADRO123!F56 -> 7.4964538 | F78: =[1]CUADRO123!G56 -> 0 | G78: =[1]CUADRO123!H56 -> 0 | H78: =F78/B78*100 -> 0 | I78: =[1]CUADRO123!K56 -> 258838.95 | J78: =[1]CUADRO123!L56 -> 7.2289725 | K78: =IF(ISNUMBER(I78/D78*100),I78/D78*100,0) -> 42.628772 | L78: =[1]CUADRO123!M56 -> 188400.41 | M78: =[1]CUADRO123!N56 -> 7.4404138 | N78: =IF(ISNUMBER(L78/D78*100),L78/D78*100,0) -> 31.02809
A79: Operadores de instalaciones y maquinas y ensambladores | B79: =[1]CUADRO123!C57 -> 268805.89 | C79: =[1]CUADRO123!D57 -> 8.0443916 | D79: =[1]CUADRO123!E57 -> 268805.89 | E79: =[1]CUADRO123!F57 -> 8.0443916 | F79: =[1]CUADRO123!G57 -> 0 | G79: =[1]CUADRO123!H57 -> 0 | H79: =F79/B79*100 -> 0 | I79: =[1]CUADRO123!K57 -> 80161.644 | J79: =[1]CUADRO123!L57 -> 7.602506 | K79: =IF(ISNUMBER(I79/D79*100),I79/D79*100,0) -> 29.821386 | L79: =[1]CUADRO123!M57 -> 92173.193 | M79: =[1]CUADRO123!N57 -> 8.1742883 | N79: =IF(ISNUMBER(L79/D79*100),L79/D79*100,0) -> 34.28987
A80: Ocupaciones elementales | B80: =[1]CUADRO123!C58 -> 1148344.2 | C80: =[1]CUADRO123!D58 -> 6.4585393 | D80: =[1]CUADRO123!E58 -> 1148344.2 | E80: =[1]CUADRO123!F58 -> 6.4585393 | F80: =[1]CUADRO123!G58 -> 0 | G80: =[1]CUADRO123!H58 -> 0 | H80: =F80/B80*100 -> 0 | I80: =[1]CUADRO123!K58 -> 526950.54 | J80: =[1]CUADRO123!L58 -> 6.2495555 | K80: =IF(ISNUMBER(I80/D80*100),I80/D80*100,0) -> 45.887857 | L80: =[1]CUADRO123!M58 -> 322214.38 | M80: =[1]CUADRO123!N58 -> 6.3109404 | N80: =IF(ISNUMBER(L80/D80*100),L80/D80*100,0) -> 28.059042
A81: Ocupaciones militares | B81: =[1]CUADRO123!C59 -> 3042.601 | C81: =[1]CUADRO123!D59 -> 9.8579881 | D81: =[1]CUADRO123!E59 -> 3042.601 | E81: =[1]CUADRO123!F59 -> 9.8579881 | F81: =[1]CUADRO123!G59 -> 0 | G81: =[1]CUADRO123!H59 -> 0 | H81: =F81/B81*100 -> 0 | I81: =[1]CUADRO123!K59 -> 0 | J81: =[1]CUADRO123!L59 -> 0 | K81: =IF(ISNUMBER(I81/D81*100),I81/D81*100,0) -> 0 | L81: =[1]CUADRO123!M59 -> 1777.7438 | M81: =[1]CUADRO123!N59 -> 10.231278 | N81: =IF(ISNUMBER(L81/D81*100),L81/D81*100,0) -> 58.428424
A82: Busca trabajo por primera vez | B82: =[1]CUADRO123!C60 -> 88511.357 | C82: =[1]CUADRO123!D60 -> 9.2596718 | D82: =[1]CUADRO123!E60 -> 0 | E82: =[1]CUADRO123!F60 -> 0 | F82: =[1]CUADRO123!G60 -> 88511.357 | G82: =[1]CUADRO123!H60 -> 9.2596718 | H82: =F82/B82*100 -> 100 | I82: =[1]CUADRO123!K60 -> 0 | J82: =[1]CUADRO123!L60 -> 0 | K82: =IF(ISNUMBER(I82/D82*100),I82/D82*100,0) -> 0 | L82: =[1]CUADRO123!M60 -> 0 | M82: =[1]CUADRO123!N60 -> 0 | N82: =IF(ISNUMBER(L82/D82*100),L82/D82*100,0) -> 0
A83: NS/NR | B83: =[1]CUADRO123!C61 -> 0 | C83: =[1]CUADRO123!D61 -> 0 | D83: =[1]CUADRO123!E61 -> 0 | E83: =[1]CUADRO123!F61 -> 0 | F83: =[1]CUADRO123!G61 -> 0 | G83: =[1]CUADRO123!H61 -> 0 | H83: =F83/B83*100 -> #DIV/0! | I83: =[1]CUADRO123!K61 -> 0 | J83: =[1]CUADRO123!L61 -> 0 | K83: =IF(ISNUMBER(I83/D83*100),I83/D83*100,0) -> 0 | L83: =[1]CUADRO123!M61 -> 0 | M83: =[1]CUADRO123!N61 -> 0 | N83: =IF(ISNUMBER(L83/D83*100),L83/D83*100,0) -> 0
A86: =A32 -> Fuente: Instituto Nacional de Estadística (INE). Encuesta Permanente de Hogares de Propósitos Múltiples LXXIII, 2021.
A87: AEP: Años de Estudio Promedio
A88: =A34 -> TD: Tasa de Desocupación
A89: =A35 -> TST: Tasa de subocupación por Insuficiencia de Tiempo de Trabajo.
A90: =A36 -> TSI: Tasa de Subocupación Por Insuficiencia De Ingresos

Sheet C02
A1: Cuadro No. 2. Población Económicamente Activa (Fuerza de Trabajo) en condición de empleo, según dominio, nivel educativo, rango de edad, rama de actividad y ocupación
A2: HOMBRES
A3: Categorías | B3: Fuerza de Trabajo | D3: Ocupados | F3: Desocupados | I3: Subocupados por Insuficiencia de Tiempo de Trabajo. | L3: Subocupados Por Insuficiencia De Ingresos
B4: No. | C4: AEP | D4: No. | E4: AEP | F4: No. | G4: AEP | H4: TD | I4: No. | J4: AEP | K4: TST | L4: No. | M4: AEP | N4: TSI
A6: Total Nacional | B6: =[1]CUADRO123!C68 -> 2337252.7 | C6: =[1]CUADRO123!D68 -> 7.7549522 | D6: =[1]CUADRO123!E68 -> 2173399.2 | E6: =[1]CUADRO123!F68 -> 7.7327387 | F6: =[1]CUADRO123!G68 -> 163853.5 | G6: =[1]CUADRO123!H68 -> 8.0521202 | H6: =F6/B6*100 -> 7.0105171 | I6: =[1]CUADRO123!K68 -> 799598.68 | J6: =[1]CUADRO123!L68 -> 7.220867 | K6: =IF(ISNUMBER(I6/D6*100),I6/D6*100,0) -> 36.790235 | L6: =[1]CUADRO123!M68 -> 636418.1 | M6: =[1]CUADRO123!N68 -> 7.0839423 | N6: =IF(ISNUMBER(L6/D6*100),L6/D6*100,0) -> 29.282154
A8: Dominio
A9: Urbano | B9: =[1]CUADRO123!C69 -> 1330004.8 | C9: =[1]CUADRO123!D69 -> 8.9953083 | D9: =[1]CUADRO123!E69 -> 1221383.4 | E9: =[1]CUADRO123!F69 -> 8.9988268 | F9: =[1]CUADRO123!G69 -> 108621.4 | G9: =[1]CUADRO123!H69 -> 8.955567 | H9: =F9/B9*100 -> 8.1669935 | I9: =[1]CUADRO123!K69 -> 353525.7 | J9: =[1]CUADRO123!L69 -> 8.7241827 | K9: =IF(ISNUMBER(I9/D9*100),I9/D9*100,0) -> 28.944696 | L9: =[1]CUADRO123!M69 -> 370798.09 | M9: =[1]CUADRO123!N69 -> 8.0482794 | N9: =IF(ISNUMBER(L9/D9*100),L9/D9*100,0) -> 30.358862
A10: Distrito Central | B10: =[1]CUADRO123!C71 -> 286012.44 | C10: =[1]CUADRO123!D71 -> 9.9364583 | D10: =[1]CUADRO123!E71 -> 263246.58 | E10: =[1]CUADRO123!F71 -> 9.8795045 | F10: =[1]CUADRO123!G71 -> 22765.857 | G10: =[1]CUADRO123!H71 -> 10.638889 | H10: =F10/B10*100 -> 7.9597438 | I10: =[1]CUADRO123!K71 -> 72222.719 | J10: =[1]CUADRO123!L71 -> 9.5714286 | K10: =IF(ISNUMBER(I10/D10*100),I10/D10*100,0) -> 27.435388 | L10: =[1]CUADRO123!M71 -> 77717.926 | M10: =[1]CUADRO123!N71 -> 8.3111111 | N10: =IF(ISNUMBER(L10/D10*100),L10/D10*100,0) -> 29.522863
A11: San Pedro Sula | B11: =[1]CUADRO123!C72 -> 161109.62 | C11: =[1]CUADRO123!D72 -> 9.2247899 | D11: =[1]CUADRO123!E72 -> 150889.98 | E11: =[1]CUADRO123!F72 -> 9.247191 | F11: =[1]CUADRO123!G72 -> 10219.64 | G11: =[1]CUADRO123!H72 -> 8.9032258 | H11: =F11/B11*100 -> 6.3432836 | I11: =[1]CUADRO123!K72 -> 41780.292 | J11: =[1]CUADRO123!L72 -> 9.1068702 | K11: =IF(ISNUMBER(I11/D11*100),I11/D11*100,0) -> 27.689243 | L11: =[1]CUADRO123!M72 -> 44184.913 | M11: =[1]CUADRO123!N72 -> 8.1782946 | N11: =IF(ISNUMBER(L11/D11*100),L11/D11*100,0) -> 29.282869
A12: Resto urbano | B12: =[1]CUADRO123!C73 -> 882882.7 | C12: =[1]CUADRO123!D73 -> 8.6576128 | D12: =[1]CUADRO123!E73 -> 807246.8 | E12: =[1]CUADRO123!F73 -> 8.672353 | F12: =[1]CUADRO123!G73 -> 75635.905 | G12: =[1]CUADRO123!H73 -> 8.5014293 | H12: =F12/B12*100 -> 8.5669257 | I12: =[1]CUADRO123!K73 -> 239522.69 | J12: =[1]CUADRO123!L73 -> 8.4097757 | K12: =IF(ISNUMBER(I12/D12*100),I12/D12*100,0) -> 29.671557 | L12: =[1]CUADRO123!M73 -> 248895.25 | M12: =[1]CUADRO123!N73 -> 7.9441016 | N12: =IF(ISNUMBER(L12/D12*100),L12/D12*100,0) -> 30.832609
A13: Rural | B13: =[1]CUADRO123!C74 -> 1007248 | C13: =[1]CUADRO123!D74 -> 6.0415445 | D13: =[1]CUADRO123!E74 -> 952015.86 | E13: =[1]CUADRO123!F74 -> 6.0356221 | F13: =[1]CUADRO123!G74 -> 55232.098 | G13: =[1]CUADRO123!H74 -> 6.146789 | H13: =F13/B13*100 -> 5.4834659 | I13: =[1]CUADRO123!K74 -> 446072.98 | J13: =[1]CUADRO123!L74 -> 5.9562363 | K13: =IF(ISNUMBER(I13/D13*100),I13/D13*100,0) -> 46.855624 | L13: =[1]CUADRO123!M74 -> 265620.01 | M13: =[1]CUADRO123!N74 -> 5.6709559 | N13: =IF(ISNUMBER(L13/D13*100),L13/D13*100,0) -> 27.900797
A15: Nivel Educativo
A16: Sin Nivel | B16: =[1]CUADRO123!C75 -> 157723.53 | C16: =[1]CUADRO123!D75 -> 0 | D16: =[1]CUADRO123!E75 -> 147138.96 | E16: =[1]CUADRO123!F75 -> 0 | F16: =[1]CUADRO123!G75 -> 10584.57 | G16: =[1]CUADRO123!H75 -> 0 | H16: =F16/B16*100 -> 6.7108375 | I16: =[1]CUADRO123!K75 -> 62026.148 | J16: =[1]CUADRO123!L75 -> 0 | K16: =IF(ISNUMBER(I16/D16*100),I16/D16*100,0) -> 42.154809 | L16: =[1]CUADRO123!M75 -> 47731.544 | M16: =[1]CUADRO123!N75 -> 0 | N16: =IF(ISNUMBER(L16/D16*100),L16/D16*100,0) -> 32.439772
A17: Primaria | B17: =[1]CUADRO123!C76 -> 1242760 | C17: =[1]CUADRO123!D76 -> 5.1175671 | D17: =[1]CUADRO123!E76 -> 1160093.3 | E17: =[1]CUADRO123!F76 -> 5.1063118 | F17: =[1]CUADRO123!G76 -> 82666.772 | G17: =[1]CUADRO123!H76 -> 5.2755166 | H17: =F17/B17*100 -> 6.6518692 | I17: =[1]CUADRO123!K76 -> 475405.4 | J17: =[1]CUADRO123!L76 -> 5.0728828 | K17: =IF(ISNUMBER(I17/D17*100),I17/D17*100,0) -> 40.979929 | L17: =[1]CUADRO123!M76 -> 370001.16 | M17: =[1]CUADRO123!N76 -> 5.0700706 | N17: =IF(ISNUMBER(L17/D17*100),L17/D17*100,0) -> 31.894087
A18: Secundaria | B18: =[1]CUADRO123!C77 -> 643971.95 | C18: =[1]CUADRO123!D77 -> 10.640006 | D18: =[1]CUADRO123!E77 -> 596163.22 | E18: =[1]CUADRO123!F77 -> 10.622588 | F18: =[1]CUADRO123!G77 -> 47808.73 | G18: =[1]CUADRO123!H77 -> 10.856935 | H18: =F18/B18*100 -> 7.4240392 | I18: =[1]CUADRO123!K77 -> 189556.13 | J18: =[1]CUADRO123!L77 -> 10.512935 | K18: =IF(ISNUMBER(I18/D18*100),I18/D18*100,0) -> 31.796012 | L18: =[1]CUADRO123!M77 -> 179586.5 | M18: =[1]CUADRO123!N77 -> 10.459746 | N18: =IF(ISNUMBER(L18/D18*100),L18/D18*100,0) -> 30.123713
A19: Superior | B19: =[1]CUADRO123!C78 -> 225994.68 | C19: =[1]CUADRO123!D78 -> 16.205659 | D19: =[1]CUADRO123!E78 -> 205701.19 | E19: =[1]CUADRO123!F78 -> 16.242078 | F19: =[1]CUADRO123!G78 -> 20293.488 | G19: =[1]CUADRO123!H78 -> 15.747975 | H19: =F19/B19*100 -> 8.979631 | I19: =[1]CUADRO123!K78 -> 58843.198 | J19: =[1]CUADRO123!L78 -> 16.130433 | K19: =IF(ISNUMBER(I19/D19*100),I19/D19*100,0) -> 28.606154 | L19: =[1]CUADRO123!M78 -> 22391 | M19: =[1]CUADRO123!N78 -> 15.850901 | N19: =IF(ISNUMBER(L19/D19*100),L19/D19*100,0) -> 10.885207
A20: Ns / Nr | B20: =[1]CUADRO123!C79 -> 66802.521 | C20: =[1]CUADRO123!D79 -> 0 | D20: =[1]CUADRO123!E79 -> 64302.581 | E20: =[1]CUADRO123!F79 -> 0 | F20: =[1]CUADRO123!G79 -> 2499.9405 | G20: =[1]CUADRO123!H79 -> 0 | H20: =F20/B20*100 -> 3.7422847 | I20: =[1]CUADRO123!K79 -> 13767.806 | J20: =[1]CUADRO123!L79 -> 0 | K20: =IF(ISNUMBER(I20/D20*100),I20/D20*100,0) -> 21.41097 | L20: =[1]CUADRO123!M79 -> 16707.902 | M20: =[1]CUADRO123!N79 -> 0 | N20: =IF(ISNUMBER(L20/D20*100),L20/D20*100,0) -> 25.983252
A22: Rango de Edad
A23: De 15 a 18 años | B23: =[1]CUADRO123!C80 -> 229854.16 | C23: =[1]CUADRO123!D80 -> 7.407389 | D23: =[1]CUADRO123!E80 -> 204026.17 | E23: =[1]CUADRO123!F80 -> 7.3696817 | F23: =[1]CUADRO123!G80 -> 25827.999 | G23: =[1]CUADRO123!H80 -> 7.710248 | H23: =F23/B23*100 -> 11.23669 | I23: =[1]CUADRO123!K80 -> 82886.757 | J23: =[1]CUADRO123!L80 -> 7.4125415 | K23: =IF(ISNUMBER(I23/D23*100),I23/D23*100,0) -> 40.625553 | L23: =[1]CUADRO123!M80 -> 60792.685 | M23: =[1]CUADRO123!N80 -> 7.0890841 | N23: =IF(ISNUMBER(L23/D23*100),L23/D23*100,0) -> 29.796514
A24: De 19 a 24 años | B24: =[1]CUADRO123!C81 -> 425007.29 | C24: =[1]CUADRO123!D81 -> 8.3789864 | D24: =[1]CUADRO123!E81 -> 375365.62 | E24: =[1]CUADRO123!F81 -> 8.2529715 | F24: =[1]CUADRO123!G81 -> 49641.679 | G24: =[1]CUADRO123!H81 -> 9.3486637 | H24: =F24/B24*100 -> 11.680195 | I24: =[1]CUADRO123!K81 -> 126208.06 | J24: =[1]CUADRO123!L81 -> 7.5006906 | K24: =IF(ISNUMBER(I24/D24*100),I24/D24*100,0) -> 33.6227 | L24: =[1]CUADRO123!M81 -> 137403.33 | M24: =[1]CUADRO123!N81 -> 8.106862 | N24: =IF(ISNUMBER(L24/D24*100),L24/D24*100,0) -> 36.605198
A25: De 25 a 29 años | B25: =[1]CUADRO123!C82 -> 282492.17 | C25: =[1]CUADRO123!D82 -> 9.1079821 | D25: =[1]CUADRO123!E82 -> 261527.92 | E25: =[1]CUADRO123!F82 -> 9.1255803 | F25: =[1]CUADRO123!G82 -> 20964.25 | G25: =[1]CUADRO123!H82 -> 8.8634113 | H25: =F25/B25*100 -> 7.4211791 | I25: =[1]CUADRO123!K82 -> 85358.263 | J25: =[1]CUADRO123!L82 -> 8.4823401 | K25: =IF(ISNUMBER(I25/D25*100),I25/D25*100,0) -> 32.638298 | L25: =[1]CUADRO123!M82 -> 81968.352 | M25: =[1]CUADRO123!N82 -> 8.6339607 | N25: =IF(ISNUMBER(L25/D25*100),L25/D25*100,0) -> 31.342103
A26: De 30 a 35 años | B26: =[1]CUADRO123!C83 -> 311077.5 | C26: =[1]CUADRO123!D83 -> 8.2668442 | D26: =[1]CUADRO123!E83 -> 297211.69 | E26: =[1]CUADRO123!F83 -> 8.2453898 | F26: =[1]CUADRO123!G83 -> 13865.804 | G26: =[1]CUADRO123!H83 -> 8.6966894 | H26: =F26/B26*100 -> 4.4573471 | I26: =[1]CUADRO123!K83 -> 105211.96 | J26: =[1]CUADRO123!L83 -> 7.6205676 | K26: =IF(ISNUMBER(I26/D26*100),I26/D26*100,0) -> 35.399669 | L26: =[1]CUADRO123!M83 -> 87346.656 | M26: =[1]CUADRO123!N83 -> 7.4348519 | N26: =IF(ISNUMBER(L26/D26*100),L26/D26*100,0) -> 29.388701
A27: De 36 a 44 años | B27: =[1]CUADRO123!C84 -> 397683.91 | C27: =[1]CUADRO123!D84 -> 7.6556898 | D27: =[1]CUADRO123!E84 -> 378917.56 | E27: =[1]CUADRO123!F84 -> 7.7475991 | F27: =[1]CUADRO123!G84 -> 18766.348 | G27: =[1]CUADRO123!H84 -> 5.8417453 | H27: =F27/B27*100 -> 4.7189105 | I27: =[1]CUADRO123!K84 -> 134256.95 | J27: =[1]CUADRO123!L84 -> 7.2632828 | K27: =IF(ISNUMBER(I27/D27*100),I27/D27*100,0) -> 35.431704 | L27: =[1]CUADRO123!M84 -> 108069.89 | M27: =[1]CUADRO123!N84 -> 6.4449588 | N27: =IF(ISNUMBER(L27/D27*100),L27/D27*100,0) -> 28.520685
A28: De 45 a 59 años | B28: =[1]CUADRO123!C85 -> 440723.68 | C28: =[1]CUADRO123!D85 -> 7.0276996 | D28: =[1]CUADRO123!E85 -> 425407.15 | E28: =[1]CUADRO123!F85 -> 7.0294502 | F28: =[1]CUADRO123!G85 -> 15316.529 | G28: =[1]CUADRO123!H85 -> 6.9724887 | H28: =F28/B28*100 -> 3.4753135 | I28: =[1]CUADRO123!K85 -> 172377.32 | J28: =[1]CUADRO123!L85 -> 6.926334 | K28: =IF(ISNUMBER(I28/D28*100),I28/D28*100,0) -> 40.520551 | L28: =[1]CUADRO123!M85 -> 95159.953 | M28: =[1]CUADRO123!N85 -> 5.5838608 | N28: =IF(ISNUMBER(L28/D28*100),L28/D28*100,0) -> 22.369148
A29: De 60 años y más | B29: =[1]CUADRO123!C86 -> 250414 | C29: =[1]CUADRO123!D86 -> 5.9985576 | D29: =[1]CUADRO123!E86 -> 230943.11 | E29: =[1]CUADRO123!F86 -> 5.9273324 | F29: =[1]CUADRO123!G86 -> 19470.892 | G29: =[1]CUADRO123!H86 -> 6.7793697 | H29: =F29/B29*100 -> 7.7754807 | I29: =[1]CUADRO123!K86 -> 93299.38 | J29: =[1]CUADRO123!L86 -> 5.2861893 | K29: =IF(ISNUMBER(I29/D29*100),I29/D29*100,0) -> 40.399292 | L29: =[1]CUADRO123!M86 -> 65677.246 | M29: =[1]CUADRO123!N86 -> 4.9617887 | N29: =IF(ISNUMBER(L29/D29*100),L29/D29*100,0) -> 28.438713
A31: ='C01'!$A$32 -> Fuente: Instituto Nacional de Estadística (INE). Encuesta Permanente de Hogares de Propósitos Múltiples LXXIII, 2021.
A32: AEP: Años de Estudio Promedio
A33: TD: Tasa de Desocupación
A34: TST: Tasa de subocupación por Insuficiencia de Tiempo de Trabajo.
A35: TSI: Tasa de Subocupación Por Insuficiencia De Ingresos
A37: =A1 -> Cuadro No. 2. Población Económicamente Activa (Fuerza de Trabajo) en condición de empleo, según dominio, nivel educativo, rango de edad, rama de actividad y ocupación
A38: Hombres
A39: ....... Continuación
A40: =A3 -> Categorías | B40: Fuerza de Trabajo | D40: Ocupados | F40: Desocupados | I40: Subocupados por Insuficiencia de Tiempo de Trabajo. | L40: Subocupados Por Insuficiencia De Ingresos
B41: =B4 -> No. | C41: =C4 -> AEP | D41: =D4 -> No. | E41: =E4 -> AEP | F41: =F4 -> No. | G41: =G4 -> AEP | H41: TD | I41: =I4 -> No. | J41: =J4 -> AEP | K41: =K4 -> TST | L41: =L4 -> No. | M41: =M4 -> AEP | N41: =N4 -> TSI
A43: =A6 -> Total Nacional | B43: =B6 -> 2337252.7 | C43: =C6 -> 7.7549522 | D43: =D6 -> 2173399.2 | E43: =E6 -> 7.7327387 | F43: =F6 -> 163853.5 | G43: =G6 -> 8.0521202 | H43: =H6 -> 7.0105171 | ... N43: =N6 -> 29.282154
A45: Rama de Actividad
A46: ='C01'!A46 -> Agricultura, ganaderia, silvicultura y pesca | B46: =[1]CUADRO123!C87 -> 691324.27 | C46: =[1]CUADRO123!D87 -> 5.6218355 | D46: =[1]CUADRO123!E87 -> 691324.27 | E46: =[1]CUADRO123!F87 -> 5.6218355 | F46: =[1]CUADRO123!G87 -> 0 | G46: =[1]CUADRO123!H87 -> 0 | H46: =F46/B46*100 -> 0 | I46: =[1]CUADRO123!K87 -> 337130.34 | J46: =[1]CUADRO123!L87 -> 5.719898 | K46: =IF(ISNUMBER(I46/D46*100),I46/D46*100,0) -> 48.765876 | L46: =[1]CUADRO123!M87 -> 161547.43 | M46: =[1]CUADRO123!N87 -> 4.9944354 | N46: =IF(ISNUMBER(L46/D46*100),L46/D46*100,0) -> 23.367823
A47: ='C01'!A47 -> Explotacion de minas y canteras | B47: =[1]CUADRO123!C88 -> 12955.477 | C47: =[1]CUADRO123!D88 -> 6.3169903 | D47: =[1]CUADRO123!E88 -> 12955.477 | E47: =[1]CUADRO123!F88 -> 6.3169903 | F47: =[1]CUADRO123!G88 -> 0 | G47: =[1]CUADRO123!H88 -> 0 | H47: =F47/B47*100 -> 0 | I47: =[1]CUADRO123!K88 -> 4696.3046 | J47: =[1]CUADRO123!L88 -> 6.1570716 | K47: =IF(ISNUMBER(I47/D47*100),I47/D47*100,0) -> 36.249569 | L47: =[1]CUADRO123!M88 -> 3596.2957 | M47: =[1]CUADRO123!N88 -> 6.1793407 | N47: =IF(ISNUMBER(L47/D47*100),L47/D47*100,0) -> 27.758882
A48: ='C01'!A48 -> Industria manufacturera | B48: =[1]CUADRO123!C89 -> 275073.79 | C48: =[1]CUADRO123!D89 -> 8.5335436 | D48: =[1]CUADRO123!E89 -> 275073.79 | E48: =[1]CUADRO123!F89 -> 8.5335436 | F48: =[1]CUADRO123!G89 -> 0 | G48: =[1]CUADRO123!H89 -> 0 | H48: =F48/B48*100 -> 0 | I48: =[1]CUADRO123!K89 -> 68876.655 | J48: =[1]CUADRO123!L89 -> 7.7040483 | K48: =IF(ISNUMBER(I48/D48*100),I48/D48*100,0) -> 25.039338 | L48: =[1]CUADRO123!M89 -> 111247.22 | M48: =[1]CUADRO123!N89 -> 8.1249501 | N48: =IF(ISNUMBER(L48/D48*100),L48/D48*100,0) -> 40.442681
A49: ='C01'!A49 -> Suministro de electricidad, gas, vapor y aire acondicionado | B49: =[1]CUADRO123!C90 -> 3860.5682 | C49: =[1]CUADRO123!D90 -> 12.146166 | D49: =[1]CUADRO123!E90 -> 3860.5682 | E49: =[1]CUADRO123!F90 -> 12.146166 | F49: =[1]CUADRO123!G90 -> 0 | G49: =[1]CUADRO123!H90 -> 0 | H49: =F49/B49*100 -> 0 | I49: =[1]CUADRO123!K90 -> 0 | J49: =[1]CUADRO123!L90 -> 0 | K49: =IF(ISNUMBER(I49/D49*100),I49/D49*100,0) -> 0 | L49: =[1]CUADRO123!M90 -> 2331.4384 | M49: =[1]CUADRO123!N90 -> 11.680841 | N49: =IF(ISNUMBER(L49/D49*100),L49/D49*100,0) -> 60.391071
A50: ='C01'!A50 -> Suministro de agua, evacuacion de aguas residuales, gestion de desechos y descontaminacion | B50: =[1]CUADRO123!C91 -> 17897.184 | C50: =[1]CUADRO123!D91 -> 6.9665813 | D50: =[1]CUADRO123!E91 -> 17897.184 | E50: =[1]CUADRO123!F91 -> 6.9665813 | F50: =[1]CUADRO123!G91 -> 0 | G50: =[1]CUADRO123!H91 -> 0 | H50: =F50/B50*100 -> 0 | I50: =[1]CUADRO123!K91 -> 4870.2801 | J50: =[1]CUADRO123!L91 -> 4.6459468 | K50: =IF(ISNUMBER(I50/D50*100),I50/D50*100,0) -> 27.21255 | L50: =[1]CUADRO123!M91 -> 4723.4 | M50: =[1]CUADRO123!N91 -> 6.5951795 | N50: =IF(ISNUMBER(L50/D50*100),L50/D50*100,0) -> 26.391861
A51: ='C01'!A51 -> Construccion | B51: =[1]CUADRO123!C92 -> 289982.77 | C51: =[1]CUADRO123!D92 -> 7.020241 | D51: =[1]CUADRO123!E92 -> 289982.77 | E51: =[1]CUADRO123!F92 -> 7.020241 | F51: =[1]CUADRO123!G92 -> 0 | G51: =[1]CUADRO123!H92 -> 0 | H51: =F51/B51*100 -> 0 | I51: =[1]CUADRO123!K92 -> 87842.497 | J51: =[1]CUADRO123!L92 -> 7.0991555 | K51: =IF(ISNUMBER(I51/D51*100),I51/D51*100,0) -> 30.292316 | L51: =[1]CUADRO123!M92 -> 128053.69 | M51: =[1]CUADRO123!N92 -> 6.8047451 | N51: =IF(ISNUMBER(L51/D51*100),L51/D51*100,0) -> 44.159069
A52: ='C01'!A52 -> Comercio al por mayor y al por menor, reparacion de vehiculos automotores y motocicletas | B52: =[1]CUADRO123!C93 -> 347353.91 | C52: =[1]CUADRO123!D93 -> 8.5487556 | D52: =[1]CUADRO123!E93 -> 347353.91 | E52: =[1]CUADRO123!F93 -> 8.5487556 | F52: =[1]CUADRO123!G93 -> 0 | G52: =[1]CUADRO123!H93 -> 0 | H52: =F52/B52*100 -> 0 | I52: =[1]CUADRO123!K93 -> 103346.21 | J52: =[1]CUADRO123!L93 -> 8.120898 | K52: =IF(ISNUMBER(I52/D52*100),I52/D52*100,0) -> 29.752425 | L52: =[1]CUADRO123!M93 -> 108325.18 | M52: =[1]CUADRO123!N93 -> 7.9419588 | N52: =IF(ISNUMBER(L52/D52*100),L52/D52*100,0) -> 31.185825
A53: ='C01'!A53 -> Transporte y almacenamiento | B53: =[1]CUADRO123!C94 -> 118199.59 | C53: =[1]CUADRO123!D94 -> 7.8789022 | D53: =[1]CUADRO123!E94 -> 118199.59 | E53: =[1]CUADRO123!F94 -> 7.8789022 | F53: =[1]CUADRO123!G94 -> 0 | G53: =[1]CUADRO123!H94 -> 0 | H53: =F53/B53*100 -> 0 | I53: =[1]CUADRO123!K94 -> 56485.955 | J53: =[1]CUADRO123!L94 -> 7.8734642 | K53: =IF(ISNUMBER(I53/D53*100),I53/D53*100,0) -> 47.78862 | L53: =[1]CUADRO123!M94 -> 24421.454 | M53: =[1]CUADRO123!N94 -> 7.2729625 | N53: =IF(ISNUMBER(L53/D53*100),L53/D53*100,0) -> 20.661199
A54: ='C01'!A54 -> Actividades de alojamiento y de servicios de comida | B54: =[1]CUADRO123!C95 -> 50125.034 | C54: =[1]CUADRO123!D95 -> 9.8032127 | D54: =[1]CUADRO123!E95 -> 50125.034 | E54: =[1]CUADRO123!F95 -> 9.8032127 | F54: =[1]CUADRO123!G95 -> 0 | G54: =[1]CUADRO123!H95 -> 0 | H54: =F54/B54*100 -> 0 | I54: =[1]CUADRO123!K95 -> 18607.944 | J54: =[1]CUADRO123!L95 -> 8.6371149 | K54: =IF(ISNUMBER(I54/D54*100),I54/D54*100,0) -> 37.123054 | L54: =[1]CUADRO123!M95 -> 14565.442 | M54: =[1]CUADRO123!N95 -> 10.635341 | N54: =IF(ISNUMBER(L54/D54*100),L54/D54*100,0) -> 29.058219
A55: ='C01'!A55 -> Informacion y comunicaciones | B55: =[1]CUADRO123!C96 -> 11628.199 | C55: =[1]CUADRO123!D96 -> 12.046918 | D55: =[1]CUADRO123!E96 -> 11628.199 | E55: =[1]CUADRO123!F96 -> 12.046918 | F55: =[1]CUADRO123!G96 -> 0 | G55: =[1]CUADRO123!H96 -> 0 | H55: =F55/B55*100 -> 0 | I55: =[1]CUADRO123!K96 -> 1686.7625 | J55: =[1]CUADRO123!L96 -> 12.775078 | K55: =IF(ISNUMBER(I55/D55*100),I55/D55*100,0) -> 14.505793 | L55: =[1]CUADRO123!M96 -> 2199.3629 | M55: =[1]CUADRO123!N96 -> 9.3862427 | N55: =IF(ISNUMBER(L55/D55*100),L55/D55*100,0) -> 18.914045
A56: ='C01'!A56 -> Actividades finacieras y de seguros | B56: =[1]CUADRO123!C97 -> 19291.933 | C56: =[1]CUADRO123!D97 -> 13.292506 | D56: =[1]CUADRO123!E97 -> 19291.933 | E56: =[1]CUADRO123!F97 -> 13.292506 | F56: =[1]CUADRO123!G97 -> 0 | G56: =[1]CUADRO123!H97 -> 0 | H56: =F56/B56*100 -> 0 | I56: =[1]CUADRO123!K97 -> 785.02956 | J56: =[1]CUADRO123!L97 -> 16 | K56: =IF(ISNUMBER(I56/D56*100),I56/D56*100,0) -> 4.0692116 | L56: =[1]CUADRO123!M97 -> 4081.0338 | M56: =[1]CUADRO123!N97 -> 12.853243 | N56: =IF(ISNUMBER(L56/D56*100),L56/D56*100,0) -> 21.154095
A57: ='C01'!A57 -> Actividades inmobiliarias | B57: =[1]CUADRO123!C98 -> 4922.6465 | C57: =[1]CUADRO123!D98 -> 11.501569 | D57: =[1]CUADRO123!E98 -> 4922.6465 | E57: =[1]CUADRO123!F98 -> 11.501569 | F57: =[1]CUADRO123!G98 -> 0 | G57: =[1]CUADRO123!H98 -> 0 | H57: =F57/B57*100 -> 0 | I57: =[1]CUADRO123!K98 -> 683.29559 | J57: =[1]CUADRO123!L98 -> 16 | K57: =IF(ISNUMBER(I57/D57*100),I57/D57*100,0) -> 13.880655 | L57: =[1]CUADRO123!M98 -> 2139.126 | M57: =[1]CUADRO123!N98 -> 5.2635482 | N57: =IF(ISNUMBER(L57/D57*100),L57/D57*100,0) -> 43.454796
... A69: ='C01'!A69 -> NS/NR | B69: =[1]CUADRO123!C110 -> 61160.968 | C69: =[1]CUADRO123!D110 -> 8.2320414 | D69: =[1]CUADRO123!E110 -> 61160.968 | E69: =[1]CUADRO123!F110 -> 8.2320414 | F69: =[1]CUADRO123!G110 -> 0 | G69: =[1]CUADRO123!H110 -> 0 | H69: =F69/B69*100 -> 0 | I69: =[1]CUADRO123!K110 -> 19010.338 | J69: =[1]CUADRO123!L110 -> 6.663319 | K69: =IF(ISNUMBER(I69/D69*100),I69/D69*100,0) -> 31.082467 | L69: =[1]CUADRO123!M110 -> 12655.307 | M69: =[1]CUADRO123!N110 -> 6.7810289 | N69: =IF(ISNUMBER(L69/D69*100),L69/D69*100,0) -> 20.691803
A71: Ocupación
A72: ='C01'!A72 -> Directores y gerentes | B72: =[1]CUADRO123!C111 -> 45220.322 | C72: =[1]CUADRO123!D111 -> 12.677426 | D72: =[1]CUADRO123!E111 -> 45220.322 | E72: =[1]CUADRO123!F111 -> 12.677426 | F72: =[1]CUADRO123!G111 -> 0 | G72: =[1]CUADRO123!H111 -> 0 | H72: =F72/B72*100 -> 0 | I72: =[1]CUADRO123!K111 -> 11137.896 | J72: =[1]CUADRO123!L111 -> 11.216654 | K72: =IF(ISNUMBER(I72/D72*100),I72/D72*100,0) -> 24.630289 | L72: =[1]CUADRO123!M111 -> 6809.9947 | M72: =[1]CUADRO123!N111 -> 10.589745 | N72: =IF(ISNUMBER(L72/D72*100),L72/D72*100,0) -> 15.059589
A73: ='C01'!A73 -> Profesionales cientificos e intelectuales | B73: =[1]CUADRO123!C112 -> 69994.452 | C73: =[1]CUADRO123!D112 -> 15.731236 | D73: =[1]CUADRO123!E112 -> 69994.452 | E73: =[1]CUADRO123!F112 -> 15.731236 | F73: =[1]CUADRO123!G112 -> 0 | G73: =[1]CUADRO123!H112 -> 0 | H73: =F73/B73*100 -> 0 | I73: =[1]CUADRO123!K112 -> 22018.463 | J73: =[1]CUADRO123!L112 -> 15.814342 | K73: =IF(ISNUMBER(I73/D73*100),I73/D73*100,0) -> 31.45744 | L73: =[1]CUADRO123!M112 -> 6432.0659 | M73: =[1]CUADRO123!N112 -> 14.792764 | N73: =IF(ISNUMBER(L73/D73*100),L73/D73*100,0) -> 9.1893939
A74: ='C01'!A74 -> Tecnicos y profesionales de nivel medio | B74: =[1]CUADRO123!C113 -> 93120.862 | C74: =[1]CUADRO123!D113 -> 11.118969 | D74: =[1]CUADRO123!E113 -> 93120.862 | E74: =[1]CUADRO123!F113 -> 11.118969 | F74: =[1]CUADRO123!G113 -> 0 | G74: =[1]CUADRO123!H113 -> 0 | H74: =F74/B74*100 -> 0 | I74: =[1]CUADRO123!K113 -> 26503.832 | J74: =[1]CUADRO123!L113 -> 10.630463 | K74: =IF(ISNUMBER(I74/D74*100),I74/D74*100,0) -> 28.461755 | L74: =[1]CUADRO123!M113 -> 17732.5 | M74: =[1]CUADRO123!N113 -> 8.9170598 | N74: =IF(ISNUMBER(L74/D74*100),L74/D74*100,0) -> 19.042457
A75: ='C01'!A75 -> Personal de apoyo administrativo | B75: =[1]CUADRO123!C114 -> 60657 | C75: =[1]CUADRO123!D114 -> 11.387307 | D75: =[1]CUADRO123!E114 -> 60657 | E75: =[1]CUADRO123!F114 -> 11.387307 | F75: =[1]CUADRO123!G114 -> 0 | G75: =[1]CUADRO123!H114 -> 0 | H75: =F75/B75*100 -> 0 | I75: =[1]CUADRO123!K114 -> 7374.8449 | J75: =[1]CUADRO123!L114 -> 11.45594 | K75: =IF(ISNUMBER(I75/D75*100),I75/D75*100,0) -> 12.158275 | L75: =[1]CUADRO123!M114 -> 18921.991 | M75: =[1]CUADRO123!N114 -> 9.7196966 | N75: =IF(ISNUMBER(L75/D75*100),L75/D75*100,0) -> 31.195066
A76: ='C01'!A76 -> Trabajadores de los servicios y vendedores de comercios y mercados | B76: =[1]CUADRO123!C115 -> 296966.36 | C76: =[1]CUADRO123!D115 -> 8.3183731 | D76: =[1]CUADRO123!E115 -> 296966.36 | E76: =[1]CUADRO123!F115 -> 8.3183731 | F76: =[1]CUADRO123!G115 -> 0 | G76: =[1]CUADRO123!H115 -> 0 | H76: =F76/B76*100 -> 0 | I76: =[1]CUADRO123!K115 -> 94806.814 | J76: =[1]CUADRO123!L115 -> 8.0488379 | K76: =IF(ISNUMBER(I76/D76*100),I76/D76*100,0) -> 31.925102 | L76: =[1]CUADRO123!M115 -> 90661.197 | M76: =[1]CUADRO123!N115 -> 7.5861365 | N76: =IF(ISNUMBER(L76/D76*100),L76/D76*100,0) -> 30.529113
A77: ='C01'!A77 -> Agricultores y trabajadores calificados agropecuarios forestales y pesqueros | B77: =[1]CUADRO123!C116 -> 227515.91 | C77: =[1]CUADRO123!D116 -> 5.811364 | D77: =[1]CUADRO123!E116 -> 227515.91 | E77: =[1]CUADRO123!F116 -> 5.811364 | F77: =[1]CUADRO123!G116 -> 0 | G77: =[1]CUADRO123!H116 -> 0 | H77: =F77/B77*100 -> 0 | I77: =[1]CUADRO123!K116 -> 109631.05 | J77: =[1]CUADRO123!L116 -> 6.0788428 | K77: =IF(ISNUMBER(I77/D77*100),I77/D77*100,0) -> 48.186103 | L77: =[1]CUADRO123!M116 -> 55866.39 | M77: =[1]CUADRO123!N116 -> 5.2233446 | N77: =IF(ISNUMBER(L77/D77*100),L77/D77*100,0) -> 24.554937
A78: ='C01'!A78 -> Oficiales, operarios y artesanos de artes mecanicas y de otros oficios | B78: =[1]CUADRO123!C117 -> 407991.1 | C78: =[1]CUADRO123!D117 -> 7.6236158 | D78: =[1]CUADRO123!E117 -> 407991.1 | E78: =[1]CUADRO123!F117 -> 7.6236158 | F78: =[1]CUADRO123!G117 -> 0 | G78: =[1]CUADRO123!H117 -> 0 | H78: =F78/B78*100 -> 0 | I78: =[1]CUADRO123!K117 -> 137663.18 | J78: =[1]CUADRO123!L117 -> 7.4733713 | K78: =IF(ISNUMBER(I78/D78*100),I78/D78*100,0) -> 33.741712 | L78: =[1]CUADRO123!M117 -> 140809.75 | M78: =[1]CUADRO123!N117 -> 7.4387204 | N78: =IF(ISNUMBER(L78/D78*100),L78/D78*100,0) -> 34.512948
A79: ='C01'!A79 -> Operadores de instalaciones y maquinas y ensambladores | B79: =[1]CUADRO123!C118 -> 216276.48 | C79: =[1]CUADRO123!D118 -> 7.8359578 | D79: =[1]CUADRO123!E118 -> 216276.48 | E79: =[1]CUADRO123!F118 -> 7.8359578 | F79: =[1]CUADRO123!G118 -> 0 | G79: =[1]CUADRO123!H118 -> 0 | H79: =F79/B79*100 -> 0 | I79: =[1]CUADRO123!K118 -> 68104.615 | J79: =[1]CUADRO123!L118 -> 7.5744701 | K79: =IF(ISNUMBER(I79/D79*100),I79/D79*100,0) -> 31.489607 | L79: =[1]CUADRO123!M118 -> 64955.695 | M79: =[1]CUADRO123!N118 -> 7.7170467 | N79: =IF(ISNUMBER(L79/D79*100),L79/D79*100,0) -> 30.033638
A80: ='C01'!A80 -> Ocupaciones elementales | B80: =[1]CUADRO123!C119 -> 752875.8 | C80: =[1]CUADRO123!D119 -> 6.2601795 | D80: =[1]CUADRO123!E119 -> 752875.8 | E80: =[1]CUADRO123!F119 -> 6.2601795 | F80: =[1]CUADRO123!G119 -> 0 | G80: =[1]CUADRO123!H119 -> 0 | H80: =F80/B80*100 -> 0 | I80: =[1]CUADRO123!K119 -> 322357.98 | J80: =[1]CUADRO123!L119 -> 6.017357 | K80: =IF(ISNUMBER(I80/D80*100),I80/D80*100,0) -> 42.816887 | L80: =[1]CUADRO123!M119 -> 232712.45 | M80: =[1]CUADRO123!N119 -> 6.1249197 | N80: =IF(ISNUMBER(L80/D80*100),L80/D80*100,0) -> 30.909806
A81: ='C01'!A81 -> Ocupaciones militares | B81: =[1]CUADRO123!C120 -> 2780.9245 | C81: =[1]CUADRO123!D120 -> 9.8446252 | D81: =[1]CUADRO123!E120 -> 2780.9245 | E81: =[1]CUADRO123!F120 -> 9.8446252 | F81: =[1]CUADRO123!G120 -> 0 | G81: =[1]CUADRO123!H120 -> 0 | H81: =F81/B81*100 -> 0 | I81: =[1]CUADRO123!K120 -> 0 | J81: =[1]CUADRO123!L120 -> 0 | K81: =IF(ISNUMBER(I81/D81*100),I81/D81*100,0) -> 0 | L81: =[1]CUADRO123!M120 -> 1516.0673 | M81: =[1]CUADRO123!N120 -> 10.271197 | N81: =IF(ISNUMBER(L81/D81*100),L81/D81*100,0) -> 54.516665
A82: ='C01'!A82 -> Busca trabajo por primera vez | B82: =[1]CUADRO123!C121 -> 35918.136 | C82: =[1]CUADRO123!D121 -> 9.222549 | D82: =[1]CUADRO123!E121 -> 0 | E82: =[1]CUADRO123!F121 -> 0 | F82: =[1]CUADRO123!G121 -> 35918.136 | G82: =[1]CUADRO123!H121 -> 9.222549 | H82: =F82/B82*100 -> 100 | I82: =[1]CUADRO123!K121 -> 0 | J82: =[1]CUADRO123!L121 -> 0 | K82: =IF(ISNUMBER(I82/D82*100),I82/D82*100,0) -> 0 | L82: =[1]CUADRO123!M121 -> 0 | M82: =[1]CUADRO123!N121 -> 0 | N82: =IF(ISNUMBER(L82/D82*100),L82/D82*100,0) -> 0
A84: =A31 -> Fuente: Instituto Nacional de Estadística (INE). Encuesta Permanente de Hogares de Propósitos Múltiples LXXIII, 2021.
A85: AEP: Años de Estudio Promedio
A86: TD: Tasa de Desocupación
A87: TST: Tasa de subocupación por Insuficiencia de Tiempo de Trabajo.
A88: TSI: Tasa de Subocupación Por Insuficiencia De Ingresos

Sheet C03
A1: Cuadro No. 3. Población Económicamente Activa (Fuerza de Trabajo) en condición de empleo, según dominio, nivel educativo, Rangos de edad, rama de actividad y ocupación
A2: Mujeres
A3: Categorías | B3: Fuerza de Trabajo | D3: Ocupados | F3: Desocupados | I3: Subocupados por Insuficiencia de Tiempo de Trabajo. | L3: Subocupados Por Insuficiencia De Ingresos
B4: No. | C4: AEP | D4: No. | E4: AEP | F4: No. | G4: AEP | H4: TD | I4: No. | J4: AEP | K4: TST | L4: No. | M4: AEP | N4: TSI
A6: Total Nacional | B6: =[1]CUADRO123!C129 -> 1733974.5 | C6: =[1]CUADRO123!D129 -> 8.6247352 | D6: =[1]CUADRO123!E129 -> 1548970.3 | E6: =[1]CUADRO123!F129 -> 8.5987804 | F6: =[1]CUADRO123!G129 -> 185004.2 | G6: =[1]CUADRO123!H129 -> 8.8440445 | H6: =F6/B6*100 -> 10.669372 | I6: =[1]CUADRO123!K129 -> 735691.74 | J6: =[1]CUADRO123!L129 -> 7.8367272 | K6: =IF(ISNUMBER(I6/D6*100),I6/D6*100,0) -> 47.495535 | L6: =[1]CUADRO123!M129 -> 365704.52 | M6: =[1]CUADRO123!N129 -> 8.069216 | N6: =IF(ISNUMBER(L6/D6*100),L6/D6*100,0) -> 23.609524
A8: Dominio
A9: Urbano | B9: =[1]CUADRO123!C130 -> 1179123.8 | C9: =[1]CUADRO123!D130 -> 9.4489543 | D9: =[1]CUADRO123!E130 -> 1042184.2 | E9: =[1]CUADRO123!F130 -> 9.4628188 | F9: =[1]CUADRO123!G130 -> 136939.63 | G9: =[1]CUADRO123!H130 -> 9.3404443 | H9: =F9/B9*100 -> 11.613676 | I9: =[1]CUADRO123!K130 -> 454893.44 | J9: =[1]CUADRO123!L130 -> 8.6695792 | K9: =IF(ISNUMBER(I9/D9*100),I9/D9*100,0) -> 43.648084 | L9: =[1]CUADRO123!M130 -> 259456.52 | M9: =[1]CUADRO123!N130 -> 8.6818804 | N9: =IF(ISNUMBER(L9/D9*100),L9/D9*100,0) -> 24.895457
A10: Distrito Central | B10: =[1]CUADRO123!C132 -> 261153.17 | C10: =[1]CUADRO123!D132 -> 10.359155 | D10: =[1]CUADRO123!E132 -> 228705.28 | E10: =[1]CUADRO123!F132 -> 10.363271 | F10: =[1]CUADRO123!G132 -> 32447.888 | G10: =[1]CUADRO123!H132 -> 10.330189 | H10: =F10/B10*100 -> 12.42485 | I10: =[1]CUADRO123!K132 -> 94988.577 | J10: =[1]CUADRO123!L132 -> 9.2870662 | K10: =IF(ISNUMBER(I10/D10*100),I10/D10*100,0) -> 41.533181 | L10: =[1]CUADRO123!M132 -> 49980.215 | M10: =[1]CUADRO123!N132 -> 9.1349693 | N10: =IF(ISNUMBER(L10/D10*100),L10/D10*100,0) -> 21.853547
A11: San Pedro Sula | B11: =[1]CUADRO123!C133 -> 159306.15 | C11: =[1]CUADRO123!D133 -> 9.3057325 | D11: =[1]CUADRO123!E133 -> 139167.45 | E11: =[1]CUADRO123!F133 -> 9.3056235 | F11: =[1]CUADRO123!G133 -> 20138.702 | G11: =[1]CUADRO123!H133 -> 9.3064516 | H11: =F11/B11*100 -> 12.641509 | I11: =[1]CUADRO123!K133 -> 55306.286 | J11: =[1]CUADRO123!L133 -> 8.6213018 | K11: =IF(ISNUMBER(I11/D11*100),I11/D11*100,0) -> 39.740821 | L11: =[1]CUADRO123!M133 -> 33664.696 | M11: =[1]CUADRO123!N133 -> 7.9809524 | N11: =IF(ISNUMBER(L11/D11*100),L11/D11*100,0) -> 24.190065
A12: Resto urbano | B12: =[1]CUADRO123!C134 -> 758664.51 | C12: =[1]CUADRO123!D134 -> 9.182135 | D12: =[1]CUADRO123!E134 -> 674311.48 | E12: =[1]CUADRO123!F134 -> 9.2072059 | F12: =[1]CUADRO123!G134 -> 84353.036 | G12: =[1]CUADRO123!H134 -> 8.9704254 | H12: =F12/B12*100 -> 11.118622 | I12: =[1]CUADRO123!K134 -> 304598.58 | J12: =[1]CUADRO123!L134 -> 8.4931305 | K12: =IF(ISNUMBER(I12/D12*100),I12/D12*100,0) -> 45.171792 | L12: =[1]CUADRO123!M134 -> 175811.6 | M12: =[1]CUADRO123!N134 -> 8.6992892 | N12: =IF(ISNUMBER(L12/D12*100),L12/D12*100,0) -> 26.072759
A13: Rural | B13: =[1]CUADRO123!C135 -> 554850.7 | C13: =[1]CUADRO123!D135 -> 6.8398607 | D13: =[1]CUADRO123!E135 -> 506786.12 | E13: =[1]CUADRO123!F135 -> 6.7762906 | F13: =[1]CUADRO123!G135 -> 48064.574 | G13: =[1]CUADRO123!H135 -> 7.4854369 | H13: =F13/B13*100 -> 8.662614 | I13: =[1]CUADRO123!K135 -> 280798.3 | J13: =[1]CUADRO123!L135 -> 6.470489 | K13: =IF(ISNUMBER(I13/D13*100),I13/D13*100,0) -> 55.407654 | L13: =[1]CUADRO123!M135 -> 106248.01 | M13: =[1]CUADRO123!N135 -> 6.5181818 | N13: =IF(ISNUMBER(L13/D13*100),L13/D13*100,0) -> 20.965058
A15: Nivel Educativo
A16: Sin Nivel | B16: =[1]CUADRO123!C136 -> 87184.924 | C16: =[1]CUADRO123!D136 -> 0 | D16: =[1]CUADRO123!E136 -> 83087.178 | E16: =[1]CUADRO123!F136 -> 0 | F16: =[1]CUADRO123!G136 -> 4097.7453 | G16: =[1]CUADRO123!H136 -> 0 | H16: =F16/B16*100 -> 4.7000618 | I16: =[1]CUADRO123!K136 -> 46762.107 | J16: =[1]CUADRO123!L136 -> 0 | K16: =IF(ISNUMBER(I16/D16*100),I16/D16*100,0) -> 56.280773 | L16: =[1]CUADRO123!M136 -> 18839.929 | M16: =[1]CUADRO123!N136 -> 0 | N16: =IF(ISNUMBER(L16/D16*100),L16/D16*100,0) -> 22.674893
A17: Primaria | B17: =[1]CUADRO123!C137 -> 758482.37 | C17: =[1]CUADRO123!D137 -> 5.1546618 | D17: =[1]CUADRO123!E137 -> 686629.75 | E17: =[1]CUADRO123!F137 -> 5.1098055 | F17: =[1]CUADRO123!G137 -> 71852.619 | G17: =[1]CUADRO123!H137 -> 5.5833127 | H17: =F17/B17*100 -> 9.4732088 | I17: =[1]CUADRO123!K137 -> 384974.27 | J17: =[1]CUADRO123!L137 -> 5.1168086 | K17: =IF(ISNUMBER(I17/D17*100),I17/D17*100,0) -> 56.067229 | L17: =[1]CUADRO123!M137 -> 171163.01 | M17: =[1]CUADRO123!N137 -> 5.0715263 | N17: =IF(ISNUMBER(L17/D17*100),L17/D17*100,0) -> 24.927992
A18: Secundaria | B18: =[1]CUADRO123!C138 -> 595838.58 | C18: =[1]CUADRO123!D138 -> 10.752419 | D18: =[1]CUADRO123!E138 -> 514772.96 | E18: =[1]CUADRO123!F138 -> 10.728348 | F18: =[1]CUADRO123!G138 -> 81065.619 | G18: =[1]CUADRO123!H138 -> 10.904946 | H18: =F18/B18*100 -> 13.605299 | I18: =[1]CUADRO123!K138 -> 221123.6 | J18: =[1]CUADRO123!L138 -> 10.546065 | K18: =IF(ISNUMBER(I18/D18*100),I18/D18*100,0) -> 42.955558 | L18: =[1]CUADRO123!M138 -> 141350.95 | M18: =[1]CUADRO123!N138 -> 10.908372 | N18: =IF(ISNUMBER(L18/D18*100),L18/D18*100,0) -> 27.458892
A19: Superior | B19: =[1]CUADRO123!C139 -> 267129.49 | C19: =[1]CUADRO123!D139 -> 16.20471 | D19: =[1]CUADRO123!E139 -> 241330.16 | E19: =[1]CUADRO123!F139 -> 16.214674 | F19: =[1]CUADRO123!G139 -> 25799.322 | G19: =[1]CUADRO123!H139 -> 16.022846 | H19: =F19/B19*100 -> 9.6579835 | I19: =[1]CUADRO123!K139 -> 78210.667 | J19: =[1]CUADRO123!L139 -> 16.038672 | K19: =IF(ISNUMBER(I19/D19*100),I19/D19*100,0) -> 32.40816 | L19: =[1]CUADRO123!M139 -> 29430.583 | M19: =[1]CUADRO123!N139 -> 15.410226 | N19: =IF(ISNUMBER(L19/D19*100),L19/D19*100,0) -> 12.195153
A20: Ns / Nr | B20: =[1]CUADRO123!C140 -> 25339.165 | C20: =[1]CUADRO123!D140 -> 0 | D20: =[1]CUADRO123!E140 -> 23150.269 | E20: =[1]CUADRO123!F140 -> 0 | F20: =[1]CUADRO123!G140 -> 2188.8964 | G20: =[1]CUADRO123!H140 -> 0 | H20: =F20/B20*100 -> 8.638392 | I20: =[1]CUADRO123!K140 -> 4621.0983 | J20: =[1]CUADRO123!L140 -> 0 | K20: =IF(ISNUMBER(I20/D20*100),I20/D20*100,0) -> 19.961316 | L20: =[1]CUADRO123!M140 -> 4920.0505 | M20: =[1]CUADRO123!N140 -> 0 | N20: =IF(ISNUMBER(L20/D20*100),L20/D20*100,0) -> 21.252671
A22: Rango de Edad
A23: De 15 a 18 años | B23: =[1]CUADRO123!C141 -> 123420.71 | C23: =[1]CUADRO123!D141 -> 7.9876293 | D23: =[1]CUADRO123!E141 -> 101502.08 | E23: =[1]CUADRO123!F141 -> 7.9777698 | F23: =[1]CUADRO123!G141 -> 21918.631 | G23: =[1]CUADRO123!H141 -> 8.034237 | H23: =F23/B23*100 -> 17.759281 | I23: =[1]CUADRO123!K141 -> 47973.423 | J23: =[1]CUADRO123!L141 -> 8.2223099 | K23: =IF(ISNUMBER(I23/D23*100),I23/D23*100,0) -> 47.263487 | L23: =[1]CUADRO123!M141 -> 23373.894 | M23: =[1]CUADRO123!N141 -> 7.6476568 | N23: =IF(ISNUMBER(L23/D23*100),L23/D23*100,0) -> 23.027994
A24: De 19 a 24 años | B24: =[1]CUADRO123!C142 -> 327371.41 | C24: =[1]CUADRO123!D142 -> 9.5759761 | D24: =[1]CUADRO123!E142 -> 265469.03 | E24: =[1]CUADRO123!F142 -> 9.564326 | F24: =[1]CUADRO123!G142 -> 61902.385 | G24: =[1]CUADRO123!H142 -> 9.6293473 | H24: =F24/B24*100 -> 18.908916 | I24: =[1]CUADRO123!K142 -> 112974.29 | J24: =[1]CUADRO123!L142 -> 9.1369887 | K24: =IF(ISNUMBER(I24/D24*100),I24/D24*100,0) -> 42.556487 | L24: =[1]CUADRO123!M142 -> 81546.641 | M24: =[1]CUADRO123!N142 -> 9.8036976 | N24: =IF(ISNUMBER(L24/D24*100),L24/D24*100,0) -> 30.717949
A25: De 25 a 29 años | B25: =[1]CUADRO123!C143 -> 195003.65 | C25: =[1]CUADRO123!D143 -> 10.60381 | D25: =[1]CUADRO123!E143 -> 166627.67 | E25: =[1]CUADRO123!F143 -> 10.743808 | F25: =[1]CUADRO123!G143 -> 28375.972 | G25: =[1]CUADRO123!H143 -> 9.8253153 | H25: =F25/B25*100 -> 14.551509 | I25: =[1]CUADRO123!K143 -> 64343.68 | J25: =[1]CUADRO123!L143 -> 9.7811973 | K25: =IF(ISNUMBER(I25/D25*100),I25/D25*100,0) -> 38.615242 | L25: =[1]CUADRO123!M143 -> 44242.694 | M25: =[1]CUADRO123!N143 -> 10.246654 | N25: =IF(ISNUMBER(L25/D25*100),L25/D25*100,0) -> 26.551828
A26: De 30 a 35 años | B26: =[1]CUADRO123!C144 -> 224160.34 | C26: =[1]CUADRO123!D144 -> 9.3304362 | D26: =[1]CUADRO123!E144 -> 203877.72 | E26: =[1]CUADRO123!F144 -> 9.2641371 | F26: =[1]CUADRO123!G144 -> 20282.614 | G26: =[1]CUADRO123!H144 -> 10.003207 | H26: =F26/B26*100 -> 9.0482618 | I26: =[1]CUADRO123!K144 -> 94462.624 | J26: =[1]CUADRO123!L144 -> 8.3325778 | K26: =IF(ISNUMBER(I26/D26*100),I26/D26*100,0) -> 46.33298 | L26: =[1]CUADRO123!M144 -> 58480.307 | M26: =[1]CUADRO123!N144 -> 8.7963162 | N26: =IF(ISNUMBER(L26/D26*100),L26/D26*100,0) -> 28.684011
A27: De 36 a 44 años | B27: =[1]CUADRO123!C145 -> 356188.63 | C27: =[1]CUADRO123!D145 -> 8.3720821 | D27: =[1]CUADRO123!E145 -> 328794.34 | E27: =[1]CUADRO123!F145 -> 8.3949472 | F27: =[1]CUADRO123!G145 -> 27394.292 | G27: =[1]CUADRO123!H145 -> 8.0874429 | H27: =F27/B27*100 -> 7.6909508 | I27: =[1]CUADRO123!K145 -> 170784.39 | J27: =[1]CUADRO123!L145 -> 7.5324669 | K27: =IF(ISNUMBER(I27/D27*100),I27/D27*100,0) -> 51.942619 | L27: =[1]CUADRO123!M145 -> 60670.834 | M27: =[1]CUADRO123!N145 -> 7.250153 | N27: =IF(ISNUMBER(L27/D27*100),L27/D27*100,0) -> 18.452518
A28: De 45 a 59 años | B28: =[1]CUADRO123!C146 -> 352941.17 | C28: =[1]CUADRO123!D146 -> 7.8758651 | D28: =[1]CUADRO123!E146 -> 335655.07 | E28: =[1]CUADRO123!F146 -> 7.9166704 | F28: =[1]CUADRO123!G146 -> 17286.1 | G28: =[1]CUADRO123!H146 -> 7.1425564 | H28: =F28/B28*100 -> 4.8977285 | I28: =[1]CUADRO123!K146 -> 168392.46 | J28: =[1]CUADRO123!L146 -> 7.0523007 | K28: =IF(ISNUMBER(I28/D28*100),I28/D28*100,0) -> 50.168306 | L28: =[1]CUADRO123!M146 -> 64232.857 | M28: =[1]CUADRO123!N146 -> 6.2781667 | N28: =IF(ISNUMBER(L28/D28*100),L28/D28*100,0) -> 19.136567
A29: De 60 años y más | B29: =[1]CUADRO123!C147 -> 154888.61 | C29: =[1]CUADRO123!D147 -> 5.7201504 | D29: =[1]CUADRO123!E147 -> 147044.41 | E29: =[1]CUADRO123!F147 -> 5.7177303 | F29: =[1]CUADRO123!G147 -> 7844.2061 | G29: =[1]CUADRO123!H147 -> 5.758865 | H29: =F29/B29*100 -> 5.0644175 | I29: =[1]CUADRO123!K147 -> 76760.869 | J29: =[1]CUADRO123!L147 -> 5.5745253 | K29: =IF(ISNUMBER(I29/D29*100),I29/D29*100,0) -> 52.202508 | L29: =[1]CUADRO123!M147 -> 33157.295 | M29: =[1]CUADRO123!N147 -> 4.5746257 | N29: =IF(ISNUMBER(L29/D29*100),L29/D29*100,0) -> 22.549171
A31: ='C01'!$A$32 -> Fuente: Instituto Nacional de Estadística (INE). Encuesta Permanente de Hogares de Propósitos Múltiples LXXIII, 2021.
A32: AEP: Años de Estudio Promedio
A33: TD: Tasa de Desocupación
A34: TST: Tasa de subocupación por Insuficiencia de Tiempo de Trabajo.
A35: TSI: Tasa de Subocupación Por Insuficiencia De Ingresos
A37: =A1 -> Cuadro No. 3. Población Económicamente Activa (Fuerza de Trabajo) en condición de empleo, según dominio, nivel educativo, Rangos de edad, rama de actividad y ocupación
A38: =A2 -> Mujeres
A39: ....... Continuación
A40: =A3 -> Categorías | B40: Fuerza de Trabajo | D40: Ocupados | F40: Desocupados | I40: Subocupados por Insuficiencia de Tiempo de Trabajo. | L40: Subocupados Por Insuficiencia De Ingresos
B41: =B4 -> No. | C41: =C4 -> AEP | D41: =D4 -> No. | E41: =E4 -> AEP | F41: =F4 -> No. | G41: =G4 -> AEP | H41: =H4 -> TD | I41: =I4 -> No. | ... N41: =N4 -> TSI
A43: =A6 -> Total Nacional | B43: =B6 -> 1733974.5 | C43: =C6 -> 8.6247352 | D43: =D6 -> 1548970.3 | E43: =E6 -> 8.5987804 | F43: =F6 -> 185004.2 | G43: =G6 -> 8.8440445 | H43: =H6 -> 10.669372 | ... N43: =N6 -> 23.609524
A45: Rama de Actividad
A46: ='C02'!A46 -> Agricultura, ganaderia, silvicultura y pesca | B46: =[1]CUADRO123!C148 -> 135627.06 | C46: =[1]CUADRO123!D148 -> 5.8301264 | D46: =[1]CUADRO123!E148 -> 135627.06 | E46: =[1]CUADRO123!F148 -> 5.8301264 | F46: =[1]CUADRO123!G148 -> 0 | G46: =[1]CUADRO123!H148 -> 0 | H46: =F46/B46*100 -> 0 | I46: =[1]CUADRO123!K148 -> 65135.881 | J46: =[1]CUADRO123!L148 -> 5.7051887 | K46: =IF(ISNUMBER(I46/D46*100),I46/D46*100,0) -> 48.025726 | L46: =[1]CUADRO123!M148 -> 30934.399 | M46: =[1]CUADRO123!N148 -> 6.2117988 | N46: =IF(ISNUMBER(L46/D46*100),L46/D46*100,0) -> 22.808426
A47: ='C02'!A47 -> Explotacion de minas y canteras | B47: =[1]CUADRO123!C149 -> 0 | C47: =[1]CUADRO123!D149 -> 0 | D47: =[1]CUADRO123!E149 -> 0 | E47: =[1]CUADRO123!F149 -> 0 | F47: =[1]CUADRO123!G149 -> 0 | G47: =[1]CUADRO123!H149 -> 0 | H47: =F47/B47*100 -> #DIV/0! | I47: =[1]CUADRO123!K149 -> 0 | J47: =[1]CUADRO123!L149 -> 0 | K47: =IF(ISNUMBER(I47/D47*100),I47/D47*100,0) -> 0 | L47: =[1]CUADRO123!M149 -> 0 | M47: =[1]CUADRO123!N149 -> 0 | N47: =IF(ISNUMBER(L47/D47*100),L47/D47*100,0) -> 0
A48: ='C02'!A48 -> Industria manufacturera | B48: =[1]CUADRO123!C150 -> 292171.61 | C48: =[1]CUADRO123!D150 -> 7.801628 | D48: =[1]CUADRO123!E150 -> 292171.61 | E48: =[1]CUADRO123!F150 -> 7.801628 | F48: =[1]CUADRO123!G150 -> 0 | G48: =[1]CUADRO123!H150 -> 0 | H48: =F48/B48*100 -> 0 | I48: =[1]CUADRO123!K150 -> 146170.43 | J48: =[1]CUADRO123!L150 -> 7.0215156 | K48: =IF(ISNUMBER(I48/D48*100),I48/D48*100,0) -> 50.028963 | L48: =[1]CUADRO123!M150 -> 80494.214 | M48: =[1]CUADRO123!N150 -> 8.4092425 | N48: =IF(ISNUMBER(L48/D48*100),L48/D48*100,0) -> 27.55032
A49: ='C02'!A49 -> Suministro de electricidad, gas, vapor y aire acondicionado | B49: =[1]CUADRO123!C151 -> 2770.4581 | C49: =[1]CUADRO123!D151 -> 9.2791151 | D49: =[1]CUADRO123!E151 -> 2770.4581 | E49: =[1]CUADRO123!F151 -> 9.2791151 | F49: =[1]CUADRO123!G151 -> 0 | G49: =[1]CUADRO123!H151 -> 0 | H49: =F49/B49*100 -> 0 | I49: =[1]CUADRO123!K151 -> 1254.3908 | J49: =[1]CUADRO123!L151 -> 9.6972608 | K49: =IF(ISNUMBER(I49/D49*100),I49/D49*100,0) -> 45.277378 | L49: =[1]CUADRO123!M151 -> 832.7717 | M49: =[1]CUADRO123!N151 -> 2 | N49: =IF(ISNUMBER(L49/D49*100),L49/D49*100,0) -> 30.05899
A50: ='C02'!A50 -> Suministro de agua, evacuacion de aguas residuales, gestion de desechos y descontaminacion | B50: =[1]CUADRO123!C152 -> 3371.6134 | C50: =[1]CUADRO123!D152 -> 3.1357432 | D50: =[1]CUADRO123!E152 -> 3371.6134 | E50: =[1]CUADRO123!F152 -> 3.1357432 | F50: =[1]CUADRO123!G152 -> 0 | G50: =[1]CUADRO123!H152 -> 0 | H50: =F50/B50*100 -> 0 | I50: =[1]CUADRO123!K152 -> 3371.6134 | J50: =[1]CUADRO123!L152 -> 3.1357432 | K50: =IF(ISNUMBER(I50/D50*100),I50/D50*100,0) -> 100 | L50: =[1]CUADRO123!M152 -> 0 | M50: =[1]CUADRO123!N152 -> 0 | N50: =IF(ISNUMBER(L50/D50*100),L50/D50*100,0) -> 0
A51: ='C02'!A51 -> Construccion | B51: =[1]CUADRO123!C153 -> 3899.1878 | C51: =[1]CUADRO123!D153 -> 12.39028 | D51: =[1]CUADRO123!E153 -> 3899.1878 | E51: =[1]CUADRO123!F153 -> 12.39028 | F51: =[1]CUADRO123!G153 -> 0 | G51: =[1]CUADRO123!H153 -> 0 | H51: =F51/B51*100 -> 0 | I51: =[1]CUADRO123!K153 -> 1022.7744 | J51: =[1]CUADRO123!L153 -> 10.767269 | K51: =IF(ISNUMBER(I51/D51*100),I51/D51*100,0) -> 26.230446 | L51: =[1]CUADRO123!M153 -> 2052.4828 | M51: =[1]CUADRO123!N153 -> 13 | N51: =IF(ISNUMBER(L51/D51*100),L51/D51*100,0) -> 52.638725
A52: ='C02'!A52 -> Comercio al por mayor y al por menor, reparacion de vehiculos automotores y motocicletas | B52: =[1]CUADRO123!C154 -> 400027.17 | C52: =[1]CUADRO123!D154 -> 8.207209 | D52: =[1]CUADRO123!E154 -> 400027.17 | E52: =[1]CUADRO123!F154 -> 8.207209 | F52: =[1]CUADRO123!G154 -> 0 | G52: =[1]CUADRO123!H154 -> 0 | H52: =F52/B52*100 -> 0 | I52: =[1]CUADRO123!K154 -> 190905.18 | J52: =[1]CUADRO123!L154 -> 7.6124878 | K52: =IF(ISNUMBER(I52/D52*100),I52/D52*100,0) -> 47.723054 | L52: =[1]CUADRO123!M154 -> 105605.71 | M52: =[1]CUADRO123!N154 -> 8.1450535 | N52: =IF(ISNUMBER(L52/D52*100),L52/D52*100,0) -> 26.399634
A53: ='C02'!A53 -> Transporte y almacenamiento | B53: =[1]CUADRO123!C155 -> 11133.965 | C53: =[1]CUADRO123!D155 -> 11.52287 | D53: =[1]CUADRO123!E155 -> 11133.965 | E53: =[1]CUADRO123!F155 -> 11.52287 | F53: =[1]CUADRO123!G155 -> 0 | G53: =[1]CUADRO123!H155 -> 0 | H53: =F53/B53*100 -> 0 | I53: =[1]CUADRO123!K155 -> 5469.5285 | J53: =[1]CUADRO123!L155 -> 12.452716 | K53: =IF(ISNUMBER(I53/D53*100),I53/D53*100,0) -> 49.124713 | L53: =[1]CUADRO123!M155 -> 823.93068 | M53: =[1]CUADRO123!N155 -> 6.9527859 | N53: =IF(ISNUMBER(L53/D53*100),L53/D53*100,0) -> 7.4001549
A54: ='C02'!A54 -> Actividades de alojamiento y de servicios de comida | B54: =[1]CUADRO123!C156 -> 151104.59 | C54: =[1]CUADRO123!D156 -> 8.1493269 | D54: =[1]CUADRO123!E156 -> 151104.59 | E54: =[1]CUADRO123!F156 -> 8.1493269 | F54: =[1]CUADRO123!G156 -> 0 | G54: =[1]CUADRO123!H156 -> 0 | H54: =F54/B54*100 -> 0 | I54: =[1]CUADRO123!K156 -> 77340.718 | J54: =[1]CUADRO123!L156 -> 8.234222 | K54: =IF(ISNUMBER(I54/D54*100),I54/D54*100,0) -> 51.183565 | L54: =[1]CUADRO123!M156 -> 33022.793 | M54: =[1]CUADRO123!N156 -> 7.3292309 | N54: =IF(ISNUMBER(L54/D54*100),L54/D54*100,0) -> 21.854262
A55: ='C02'!A55 -> Informacion y comunicaciones | B55: =[1]CUADRO123!C157 -> 6682.7083 | C55: =[1]CUADRO123!D157 -> 13.287131 | D55: =[1]CUADRO123!E157 -> 6682.7083 | E55: =[1]CUADRO123!F157 -> 13.287131 | F55: =[1]CUADRO123!G157 -> 0 | G55: =[1]CUADRO123!H157 -> 0 | H55: =F55/B55*100 -> 0 | I55: =[1]CUADRO123!K157 -> 785.02956 | J55: =[1]CUADRO123!L157 -> 12 | K55: =IF(ISNUMBER(I55/D55*100),I55/D55*100,0) -> 11.747177 | L55: =[1]CUADRO123!M157 -> 1005.7767 | M55: =[1]CUADRO123!N157 -> 9.7805207 | N55: =IF(ISNUMBER(L55/D55*100),L55/D55*100,0) -> 15.050435
A56: ='C02'!A56 -> Actividades finacieras y de seguros | B56: =[1]CUADRO123!C158 -> 13821.434 | C56: =[1]CUADRO123!D158 -> 15.086159 | D56: =[1]CUADRO123!E158 -> 13821.434 | E56: =[1]CUADRO123!F158 -> 15.086159 | F56: =[1]CUADRO123!G158 -> 0 | G56: =[1]CUADRO123!H158 -> 0 | H56: =F56/B56*100 -> 0 | I56: =[1]CUADRO123!K158 -> 832.7717 | J56: =[1]CUADRO123!L158 -> 0 | K56: =IF(ISNUMBER(I56/D56*100),I56/D56*100,0) -> 6.0252193 | L56: =[1]CUADRO123!M158 -> 1768.9028 | M56: =[1]CUADRO123!N158 -> 10.876975 | N56: =IF(ISNUMBER(L56/D56*100),L56/D56*100,0) -> 12.798258
A57: ='C02'!A57 -> Actividades inmobiliarias | B57: =[1]CUADRO123!C159 -> 2439.7037 | C57: =[1]CUADRO123!D159 -> 9.0652203 | D57: =[1]CUADRO123!E159 -> 2439.7037 | E57: =[1]CUADRO123!F159 -> 9.0652203 | F57: =[1]CUADRO123!G159 -> 0 | G57: =[1]CUADRO123!H159 -> 0 | H57: =F57/B57*100 -> 0 | I57: =[1]CUADRO123!K159 -> 300.57764 | J57: =[1]CUADRO123!L159 -> 6 | K57: =IF(ISNUMBER(I57/D57*100),I57/D57*100,0) -> 12.320252 | L57: =[1]CUADRO123!M159 -> 562.25416 | M57: =[1]CUADRO123!N159 -> 2 | N57: =IF(ISNUMBER(L57/D57*100),L57/D57*100,0) -> 23.046002
... A69: ='C02'!A69 -> NS/NR | B69: =[1]CUADRO123!C171 -> 32157.768 | C69: =[1]CUADRO123!D171 -> 10.599798 | D69: =[1]CUADRO123!E171 -> 32157.768 | E69: =[1]CUADRO123!F171 -> 10.599798 | F69: =[1]CUADRO123!G171 -> 0 | G69: =[1]CUADRO123!H171 -> 0 | H69: =F69/B69*100 -> 0 | I69: =[1]CUADRO123!K171 -> 9056.6969 | J69: =[1]CUADRO123!L171 -> 9.4385016 | K69: =IF(ISNUMBER(I69/D69*100),I69/D69*100,0) -> 28.163326 | L69: =[1]CUADRO123!M171 -> 5471.4354 | M69: =[1]CUADRO123!N171 -> 8.6638013 | N69: =IF(ISNUMBER(L69/D69*100),L69/D69*100,0) -> 17.014351
A71: ='C02'!A71 -> Ocupación
A72: ='C02'!A72 -> Directores y gerentes | B72: =[1]CUADRO123!C172 -> 41286.741 | C72: =[1]CUADRO123!D172 -> 12.704444 | D72: =[1]CUADRO123!E172 -> 41286.741 | E72: =[1]CUADRO123!F172 -> 12.704444 | F72: =[1]CUADRO123!G172 -> 0 | G72: =[1]CUADRO123!H172 -> 0 | H72: =F72/B72*100 -> 0 | I72: =[1]CUADRO123!K172 -> 12262.807 | J72: =[1]CUADRO123!L172 -> 11.118529 | K72: =IF(ISNUMBER(I72/D72*100),I72/D72*100,0) -> 29.701562 | L72: =[1]CUADRO123!M172 -> 6669.9274 | M72: =[1]CUADRO123!N172 -> 12.970263 | N72: =IF(ISNUMBER(L72/D72*100),L72/D72*100,0) -> 16.155132
A73: ='C02'!A73 -> Profesionales cientificos e intelectuales | B73: =[1]CUADRO123!C173 -> 99712.094 | C73: =[1]CUADRO123!D173 -> 15.956221 | D73: =[1]CUADRO123!E173 -> 99712.094 | E73: =[1]CUADRO123!F173 -> 15.956221 | F73: =[1]CUADRO123!G173 -> 0 | G73: =[1]CUADRO123!H173 -> 0 | H73: =F73/B73*100 -> 0 | I73: =[1]CUADRO123!K173 -> 33736.746 | J73: =[1]CUADRO123!L173 -> 16.199996 | K73: =IF(ISNUMBER(I73/D73*100),I73/D73*100,0) -> 33.834156 | L73: =[1]CUADRO123!M173 -> 5608.1352 | M73: =[1]CUADRO123!N173 -> 11.653497 | N73: =IF(ISNUMBER(L73/D73*100),L73/D73*100,0) -> 5.624328
A74: ='C02'!A74 -> Tecnicos y profesionales de nivel medio | B74: =[1]CUADRO123!C174 -> 94991.242 | C74: =[1]CUADRO123!D174 -> 12.282657 | D74: =[1]CUADRO123!E174 -> 94991.242 | E74: =[1]CUADRO123!F174 -> 12.282657 | F74: =[1]CUADRO123!G174 -> 0 | G74: =[1]CUADRO123!H174 -> 0 | H74: =F74/B74*100 -> 0 | I74: =[1]CUADRO123!K174 -> 25458.916 | J74: =[1]CUADRO123!L174 -> 10.763959 | K74: =IF(ISNUMBER(I74/D74*100),I74/D74*100,0) -> 26.801329 | L74: =[1]CUADRO123!M174 -> 21786.59 | M74: =[1]CUADRO123!N174 -> 12.137105 | N74: =IF(ISNUMBER(L74/D74*100),L74/D74*100,0) -> 22.935366
A75: ='C02'!A75 -> Personal de apoyo administrativo | B75: =[1]CUADRO123!C175 -> 50328.079 | C75: =[1]CUADRO123!D175 -> 12.228243 | D75: =[1]CUADRO123!E175 -> 50328.079 | E75: =[1]CUADRO123!F175 -> 12.228243 | F75: =[1]CUADRO123!G175 -> 0 | G75: =[1]CUADRO123!H175 -> 0 | H75: =F75/B75*100 -> 0 | I75: =[1]CUADRO123!K175 -> 6764.8486 | J75: =[1]CUADRO123!L175 -> 10.957506 | K75: =IF(ISNUMBER(I75/D75*100),I75/D75*100,0) -> 13.4415 | L75: =[1]CUADRO123!M175 -> 12420.726 | M75: =[1]CUADRO123!N175 -> 11.987624 | N75: =IF(ISNUMBER(L75/D75*100),L75/D75*100,0) -> 24.679515
A76: ='C02'!A76 -> Trabajadores de los servicios y vendedores de comercios y mercados | B76: =[1]CUADRO123!C176 -> 583201.17 | C76: =[1]CUADRO123!D176 -> 8.0050314 | D76: =[1]CUADRO123!E176 -> 583201.17 | E76: =[1]CUADRO123!F176 -> 8.0050314 | F76: =[1]CUADRO123!G176 -> 0 | G76: =[1]CUADRO123!H176 -> 0 | H76: =F76/B76*100 -> 0 | I76: =[1]CUADRO123!K176 -> 301821.33 | J76: =[1]CUADRO123!L176 -> 7.8111878 | K76: =IF(ISNUMBER(I76/D76*100),I76/D76*100,0) -> 51.752525 | L76: =[1]CUADRO123!M176 -> 146583.68 | M76: =[1]CUADRO123!N176 -> 7.7730691 | N76: =IF(ISNUMBER(L76/D76*100),L76/D76*100,0) -> 25.134326
A77: ='C02'!A77 -> Agricultores y trabajadores calificados agropecuarios forestales y pesqueros | B77: =[1]CUADRO123!C177 -> 31989.543 | C77: =[1]CUADRO123!D177 -> 5.7636955 | D77: =[1]CUADRO123!E177 -> 31989.543 | E77: =[1]CUADRO123!F177 -> 5.7636955 | F77: =[1]CUADRO123!G177 -> 0 | G77: =[1]CUADRO123!H177 -> 0 | H77: =F77/B77*100 -> 0 | I77: =[1]CUADRO123!K177 -> 17821.74 | J77: =[1]CUADRO123!L177 -> 5.5585909 | K77: =IF(ISNUMBER(I77/D77*100),I77/D77*100,0) -> 55.711142 | L77: =[1]CUADRO123!M177 -> 8063.6965 | M77: =[1]CUADRO123!N177 -> 4.8963253 | N77: =IF(ISNUMBER(L77/D77*100),L77/D77*100,0) -> 25.207289
A78: ='C02'!A78 -> Oficiales, operarios y artesanos de artes mecanicas y de otros oficios | B78: =[1]CUADRO123!C178 -> 199201.97 | C78: =[1]CUADRO123!D178 -> 7.237879 | D78: =[1]CUADRO123!E178 -> 199201.97 | E78: =[1]CUADRO123!F178 -> 7.237879 | F78: =[1]CUADRO123!G178 -> 0 | G78: =[1]CUADRO123!H178 -> 0 | H78: =F78/B78*100 -> 0 | I78: =[1]CUADRO123!K178 -> 121175.77 | J78: =[1]CUADRO123!L178 -> 6.9502957 | K78: =IF(ISNUMBER(I78/D78*100),I78/D78*100,0) -> 60.830606 | L78: =[1]CUADRO123!M178 -> 47590.657 | M78: =[1]CUADRO123!N178 -> 7.445278 | N78: =IF(ISNUMBER(L78/D78*100),L78/D78*100,0) -> 23.890655
A79: ='C02'!A79 -> Operadores de instalaciones y maquinas y ensambladores | B79: =[1]CUADRO123!C179 -> 52529.413 | C79: =[1]CUADRO123!D179 -> 8.8909442 | D79: =[1]CUADRO123!E179 -> 52529.413 | E79: =[1]CUADRO123!F179 -> 8.8909442 | F79: =[1]CUADRO123!G179 -> 0 | G79: =[1]CUADRO123!H179 -> 0 | H79: =F79/B79*100 -> 0 | I79: =[1]CUADRO123!K179 -> 12057.029 | J79: =[1]CUADRO123!L179 -> 7.7632251 | K79: =IF(ISNUMBER(I79/D79*100),I79/D79*100,0) -> 22.952911 | L79: =[1]CUADRO123!M179 -> 27217.498 | M79: =[1]CUADRO123!N179 -> 9.2493479 | N79: =IF(ISNUMBER(L79/D79*100),L79/D79*100,0) -> 51.813826
A80: ='C02'!A80 -> Ocupaciones elementales | B80: =[1]CUADRO123!C180 -> 395468.39 | C80: =[1]CUADRO123!D180 -> 6.8294369 | D80: =[1]CUADRO123!E180 -> 395468.39 | E80: =[1]CUADRO123!F180 -> 6.8294369 | F80: =[1]CUADRO123!G180 -> 0 | G80: =[1]CUADRO123!H180 -> 0 | H80: =F80/B80*100 -> 0 | I80: =[1]CUADRO123!K180 -> 204592.56 | J80: =[1]CUADRO123!L180 -> 6.605049 | K80: =IF(ISNUMBER(I80/D80*100),I80/D80*100,0) -> 51.734238 | L80: =[1]CUADRO123!M180 -> 89501.931 | M80: =[1]CUADRO123!N180 -> 6.7930983 | N80: =IF(ISNUMBER(L80/D80*100),L80/D80*100,0) -> 22.63188
A81: ='C02'!A81 -> Ocupaciones militares | B81: =[1]CUADRO123!C181 -> 261.67652 | C81: =[1]CUADRO123!D181 -> 10 | D81: =[1]CUADRO123!E181 -> 261.67652 | E81: =[1]CUADRO123!F181 -> 10 | F81: =[1]CUADRO123!G181 -> 0 | G81: =[1]CUADRO123!H181 -> 0 | H81: =F81/B81*100 -> 0 | I81: =[1]CUADRO123!K181 -> 0 | J81: =[1]CUADRO123!L181 -> 0 | K81: =IF(ISNUMBER(I81/D81*100),I81/D81*100,0) -> 0 | L81: =[1]CUADRO123!M181 -> 261.67652 | M81: =[1]CUADRO123!N181 -> 10 | N81: =IF(ISNUMBER(L81/D81*100),L81/D81*100,0) -> 100
A82: ='C02'!A82 -> Busca trabajo por primera vez | B82: =[1]CUADRO123!C182 -> 52593.221 | C82: =[1]CUADRO123!D182 -> 9.2839246 | D82: =[1]CUADRO123!E182 -> 0 | E82: =[1]CUADRO123!F182 -> 0 | F82: =[1]CUADRO123!G182 -> 52593.221 | G82: =[1]CUADRO123!H182 -> 9.2839246 | H82: =F82/B82*100 -> 100 | I82: =[1]CUADRO123!K182 -> 0 | J82: =[1]CUADRO123!L182 -> 0 | K82: =IF(ISNUMBER(I82/D82*100),I82/D82*100,0) -> 0 | L82: =[1]CUADRO123!M182 -> 0 | M82: =[1]CUADRO123!N182 -> 0 | N82: =IF(ISNUMBER(L82/D82*100),L82/D82*100,0) -> 0
A84: =A31 -> Fuente: Instituto Nacional de Estadística (INE). Encuesta Permanente de Hogares de Propósitos Múltiples LXXIII, 2021.
A85: AEP: Años de Estudio Promedio
A86: TD: Tasa de Desocupación
A87: TST: Tasa de subocupación por Insuficiencia de Tiempo de Trabajo.
A88: TSI: Tasa de Subocupación Por Insuficiencia De Ingresos

Sheet C04
A1: Cuadro No. 4. Población con problemas de empleo y Años de Estudio Promedio (AEP), según dominio, Rangos de edad, rama de actividad y ocupación
A3: Categorías | B3: Total | C3: Desocupados | F3: Subocupados por Insuficiencia de Tiempo de Trabajo. | I3: Subocupados Por Insuficiencia De Ingresos | L3: Buscador no disponible | O3: Disponible no buscador
C4: No. | D4: % 2/ | E4: AEP | F4: No. | G4: % 2/ | H4: AEP | I4: No. | J4: % 2/ | K4: AEP | L4: No. | M4: % 2/ | N4: AEP | O4: No. | P4: % 2/ | Q4: AEP
A6: Total Nacional | B6: =SUM(C6,F6,I6,L6,O6) -> 3378261.9 | C6: =[1]CUADRO456!F7 -> 348857.7 | D6: =IF(ISNUMBER(C6/$B6*100),C6/$B6*100,0) -> 10.326544 | E6: =[1]CUADRO456!H7 -> 8.4732624 | F6: =[1]CUADRO456!I7 -> 1535290.4 | G6: =IF(ISNUMBER(F6/$B6*100),F6/$B6*100,0) -> 45.446163 | H6: =[1]CUADRO456!K7 -> 7.5176971 | I6: =[1]CUADRO456!L7 -> 1002122.6 | J6: =IF(ISNUMBER(I6/$B6*100),I6/$B6*100,0) -> 29.663852 | K6: =[1]CUADRO456!N7 -> 7.4453671 | L6: =[1]CUADRO456!O7 -> 9859.6947 | M6: =IF(ISNUMBER(L6/$B6*100),L6/$B6*100,0) -> 0.29185702 | N6: =[1]CUADRO456!Q7 -> 8.7522641 | O6: =[1]CUADRO456!R7 -> 482131.49 | P6: =IF(ISNUMBER(O6/$B6*100),O6/$B6*100,0) -> 14.271584 | Q6: =[1]CUADRO456!T7 -> 6.6288748
A8: Dominio
A9: Urbano | B9: =SUM(C9,F9,I9,L9,O9) -> 1866757.6 | C9: =[1]CUADRO456!F8 -> 245561.03 | D9: =IF(ISNUMBER(C9/$B7*100),C9/$B7*100,0) -> 0 | E9: =[1]CUADRO456!H8 -> 9.1675686 | F9: =[1]CUADRO456!I8 -> 808419.14 | G9: =IF(ISNUMBER(F9/$B7*100),F9/$B7*100,0) -> 0 | H9: =[1]CUADRO456!K8 -> 8.6936848 | I9: =[1]CUADRO456!L8 -> 630254.61 | J9: =IF(ISNUMBER(I9/$B7*100),I9/$B7*100,0) -> 0 | K9: =[1]CUADRO456!N8 -> 8.3088967 | L9: =[1]CUADRO456!O8 -> 7329.9803 | M9: =IF(ISNUMBER(L9/$B7*100),L9/$B7*100,0) -> 0 | N9: =[1]CUADRO456!Q8 -> 10.093862 | O9: =[1]CUADRO456!R8 -> 175192.81 | P9: =IF(ISNUMBER(O9/$B7*100),O9/$B7*100,0) -> 0 | Q9: =[1]CUADRO456!T8 -> 7.8216655
A10: Distrito Central | B10: =SUM(C10,F10,I10,L10,O10) -> 398533.34 | C10: =[1]CUADRO456!F10 -> 55213.746 | D10: =IF(ISNUMBER(C10/$B9*100),C10/$B9*100,0) -> 2.9577352 | E10: =[1]CUADRO456!H10 -> 10.455056 | F10: =[1]CUADRO456!I10 -> 167211.3 | G10: =IF(ISNUMBER(F10/$B9*100),F10/$B9*100,0) -> 8.9573118 | H10: =[1]CUADRO456!K10 -> 9.411032 | I10: =[1]CUADRO456!L10 -> 127698.14 | J10: =IF(ISNUMBER(I10/$B9*100),I10/$B9*100,0) -> 6.8406387 | K10: =[1]CUADRO456!N10 -> 8.6212471 | L10: =[1]CUADRO456!O10 -> 1308.3826 | M10: =IF(ISNUMBER(L10/$B9*100),L10/$B9*100,0) -> 0.070088512 | N10: =[1]CUADRO456!Q10 -> 10.6 | O10: =[1]CUADRO456!R10 -> 47101.774 | P10: =IF(ISNUMBER(O10/$B9*100),O10/$B9*100,0) -> 2.5231864 | Q10: =[1]CUADRO456!T10 -> 8.3037975
A11: San Pedro Sula | B11: =SUM(C11,F11,I11,L11,O11) -> 226334.96 | C11: =[1]CUADRO456!F11 -> 30358.342 | D11: =IF(ISNUMBER(C11/$B10*100),C11/$B10*100,0) -> 7.6175163 | E11: =[1]CUADRO456!H11 -> 9.172043 | F11: =[1]CUADRO456!I11 -> 97086.579 | G11: =IF(ISNUMBER(F11/$B10*100),F11/$B10*100,0) -> 24.360968 | H11: =[1]CUADRO456!K11 -> 8.8333333 | I11: =[1]CUADRO456!L11 -> 77849.609 | J11: =IF(ISNUMBER(I11/$B10*100),I11/$B10*100,0) -> 19.534027 | K11: =[1]CUADRO456!N11 -> 8.0897436 | L11: =[1]CUADRO456!O11 -> 1202.3106 | M11: =IF(ISNUMBER(L11/$B10*100),L11/$B10*100,0) -> 0.30168381 | N11: =[1]CUADRO456!Q11 -> 11 | O11: =[1]CUADRO456!R11 -> 19838.124 | P11: =IF(ISNUMBER(O11/$B10*100),O11/$B10*100,0) -> 4.9777829 | Q11: =[1]CUADRO456!T11 -> 7.625
A12: Resto urbano | B12: =SUM(C12,F12,I12,L12,O12) -> 1241889.3 | C12: =[1]CUADRO456!F12 -> 159988.94 | D12: =IF(ISNUMBER(C12/$B11*100),C12/$B11*100,0) -> 70.686799 | E12: =[1]CUADRO456!H12 -> 8.7421043 | F12: =[1]CUADRO456!I12 -> 544121.27 | G12: =IF(ISNUMBER(F12/$B11*100),F12/$B11*100,0) -> 240.40531 | H12: =[1]CUADRO456!K12 -> 8.4561235 | I12: =[1]CUADRO456!L12 -> 424706.85 | J12: =IF(ISNUMBER(I12/$B11*100),I12/$B11*100,0) -> 187.64527 | K12: =[1]CUADRO456!N12 -> 8.2573101 | L12: =[1]CUADRO456!O12 -> 4819.2871 | M12: =IF(ISNUMBER(L12/$B11*100),L12/$B11*100,0) -> 2.129272 | N12: =[1]CUADRO456!Q12 -> 9.7911029 | O12: =[1]CUADRO456!R12 -> 108252.91 | P12: =IF(ISNUMBER(O12/$B11*100),O12/$B11*100,0) -> 47.82863 | Q12: =[1]CUADRO456!T12 -> 7.652275
A13: Rural | B13: =SUM(C13,F13,I13,L13,O13) -> 1511504.4 | C13: =[1]CUADRO456!F13 -> 103296.67 | D13: =IF(ISNUMBER(C13/$B12*100),C13/$B12*100,0) -> 8.317704 | E13: =[1]CUADRO456!H13 -> 6.7971698 | F13: =[1]CUADRO456!I13 -> 726871.28 | G13: =IF(ISNUMBER(F13/$B12*100),F13/$B12*100,0) -> 58.529476 | H13: =[1]CUADRO456!K13 -> 6.1585932 | I13: =[1]CUADRO456!L13 -> 371868.02 | J13: =IF(ISNUMBER(I13/$B12*100),I13/$B12*100,0) -> 29.943734 | K13: =[1]CUADRO456!N13 -> 5.9149215 | L13: =[1]CUADRO456!O13 -> 2529.7144 | M13: =IF(ISNUMBER(L13/$B12*100),L13/$B12*100,0) -> 0.20369887 | N13: =[1]CUADRO456!Q13 -> 5 | O13: =[1]CUADRO456!R13 -> 306938.68 | P13: =IF(ISNUMBER(O13/$B12*100),O13/$B12*100,0) -> 24.715463 | Q13: =[1]CUADRO456!T13 -> 5.9357367
A15: Rango de Edad
A16: De 15 a 18 años | B16: =SUM(C16,F16,I16,L16,O16) -> 322543.79 | C16: =[1]CUADRO456!F14 -> 47746.63 | D16: =IF(ISNUMBER(C16/$B13*100),C16/$B13*100,0) -> 3.1588814 | E16: =[1]CUADRO456!H14 -> 7.8593156 | F16: =[1]CUADRO456!I14 -> 130860.18 | G16: =IF(ISNUMBER(F16/$B13*100),F16/$B13*100,0) -> 8.6576118 | H16: =[1]CUADRO456!K14 -> 7.713234 | I16: =[1]CUADRO456!L14 -> 84166.579 | J16: =IF(ISNUMBER(I16/$B13*100),I16/$B13*100,0) -> 5.568398 | K16: =[1]CUADRO456!N14 -> 7.2403677 | L16: =[1]CUADRO456!O14 -> 2681.7865 | M16: =IF(ISNUMBER(L16/$B13*100),L16/$B13*100,0) -> 0.17742499 | N16: =[1]CUADRO456!Q14 -> 10.225776 | O16: =[1]CUADRO456!R14 -> 57088.615 | P16: =IF(ISNUMBER(O16/$B13*100),O16/$B13*100,0) -> 3.7769401 | Q16: =[1]CUADRO456!T14 -> 7.2216752
A17: De 19 a 24 años | B17: =SUM(C17,F17,I17,L17,O17) -> 650043.04 | C17: =[1]CUADRO456!F15 -> 111544.06 | D17: =IF(ISNUMBER(C17/$B14*100),C17/$B14*100,0) -> 0 | E17: =[1]CUADRO456!H15 -> 9.4956266 | F17: =[1]CUADRO456!I15 -> 239182.35 | G17: =IF(ISNUMBER(F17/$B14*100),F17/$B14*100,0) -> 0 | H17: =[1]CUADRO456!K15 -> 8.2503138 | I17: =[1]CUADRO456!L15 -> 218949.97 | J17: =IF(ISNUMBER(I17/$B14*100),I17/$B14*100,0) -> 0 | K17: =[1]CUADRO456!N15 -> 8.7219363 | L17: =[1]CUADRO456!O15 -> 2528.3752 | M17: =IF(ISNUMBER(L17/$B14*100),L17/$B14*100,0) -> 0 | N17: =[1]CUADRO456!Q15 -> 8.4182526 | O17: =[1]CUADRO456!R15 -> 77838.285 | P17: =IF(ISNUMBER(O17/$B14*100),O17/$B14*100,0) -> 0 | Q17: =[1]CUADRO456!T15 -> 8.3183903
A18: De 25 a 29 años | B18: =SUM(C18,F18,I18,L18,O18) -> 372731.23 | C18: =[1]CUADRO456!F16 -> 49340.223 | D18: =IF(ISNUMBER(C18/$B15*100),C18/$B15*100,0) -> 0 | E18: =[1]CUADRO456!H16 -> 9.4544447 | F18: =[1]CUADRO456!I16 -> 149701.94 | G18: =IF(ISNUMBER(F18/$B15*100),F18/$B15*100,0) -> 0 | H18: =[1]CUADRO456!K16 -> 9.0560121 | I18: =[1]CUADRO456!L16 -> 126211.05 | J18: =IF(ISNUMBER(I18/$B15*100),I18/$B15*100,0) -> 0 | K18: =[1]CUADRO456!N16 -> 9.1889268 | L18: =[1]CUADRO456!O16 -> 2139.126 | M18: =IF(ISNUMBER(L18/$B15*100),L18/$B15*100,0) -> 0 | N18: =[1]CUADRO456!Q16 -> 11.004133 | O18: =[1]CUADRO456!R16 -> 45338.898 | P18: =IF(ISNUMBER(O18/$B15*100),O18/$B15*100,0) -> 0 | Q18: =[1]CUADRO456!T16 -> 7.9394396
A19: De 30 a 35 años | B19: =SUM(C19,F19,I19,L19,O19) -> 421998.17 | C19: =[1]CUADRO456!F17 -> 34148.418 | D19: =IF(ISNUMBER(C19/$B16*100),C19/$B16*100,0) -> 10.587219 | E19: =[1]CUADRO456!H17 -> 9.4586902 | F19: =[1]CUADRO456!I17 -> 199674.58 | G19: =IF(ISNUMBER(F19/$B16*100),F19/$B16*100,0) -> 61.906192 | H19: =[1]CUADRO456!K17 -> 7.9661144 | I19: =[1]CUADRO456!L17 -> 145826.96 | J19: =IF(ISNUMBER(I19/$B16*100),I19/$B16*100,0) -> 45.211524 | K19: =[1]CUADRO456!N17 -> 7.9758903 | L19: =[1]CUADRO456!O17 -> 0 | M19: =IF(ISNUMBER(L19/$B16*100),L19/$B16*100,0) -> 0 | N19: =[1]CUADRO456!Q17 -> 0 | O19: =[1]CUADRO456!R17 -> 42348.212 | P19: =IF(ISNUMBER(O19/$B16*100),O19/$B16*100,0) -> 13.129446 | Q19: =[1]CUADRO456!T17 -> 7.0514328
A20: De 36 a 44 años | B20: =SUM(C20,F20,I20,L20,O20) -> 596388.63 | C20: =[1]CUADRO456!F18 -> 46160.64 | D20: =IF(ISNUMBER(C20/$B17*100),C20/$B17*100,0) -> 7.1011667 | E20: =[1]CUADRO456!H18 -> 7.1549962 | F20: =[1]CUADRO456!I18 -> 305041.34 | G20: =IF(ISNUMBER(F20/$B17*100),F20/$B17*100,0) -> 46.926329 | H20: =[1]CUADRO456!K18 -> 7.4150665 | I20: =[1]CUADRO456!L18 -> 168740.72 | J20: =IF(ISNUMBER(I20/$B17*100),I20/$B17*100,0) -> 25.958392 | K20: =[1]CUADRO456!N18 -> 6.7384677 | L20: =[1]CUADRO456!O18 -> 843.23814 | M20: =IF(ISNUMBER(L20/$B17*100),L20/$B17*100,0) -> 0.12972036 | N20: =[1]CUADRO456!Q18 -> 5 | O20: =[1]CUADRO456!R18 -> 75602.695 | P20: =IF(ISNUMBER(O20/$B17*100),O20/$B17*100,0) -> 11.630414 | Q20: =[1]CUADRO456!T18 -> 6.1616528
A21: De 45 a 59 años | B21: =SUM(C21,F21,I21,L21,O21) -> 635554.16 | C21: =[1]CUADRO456!F19 -> 32602.63 | D21: =IF(ISNUMBER(C21/$B18*100),C21/$B18*100,0) -> 8.746954 | E21: =[1]CUADRO456!H19 -> 7.0725316 | F21: =[1]CUADRO456!I19 -> 340769.78 | G21: =IF(ISNUMBER(F21/$B18*100),F21/$B18*100,0) -> 91.425068 | H21: =[1]CUADRO456!K19 -> 6.9889064 | I21: =[1]CUADRO456!L19 -> 159392.81 | J21: =IF(ISNUMBER(I21/$B18*100),I21/$B18*100,0) -> 42.76347 | K21: =[1]CUADRO456!N19 -> 5.8752205 | L21: =[1]CUADRO456!O19 -> 944.97211 | M21: =IF(ISNUMBER(L21/$B18*100),L21/$B18*100,0) -> 0.25352641 | N21: =[1]CUADRO456!Q19 -> 7.4306327 | O21: =[1]CUADRO456!R19 -> 101843.96 | P21: =IF(ISNUMBER(O21/$B18*100),O21/$B18*100,0) -> 27.323699 | Q21: =[1]CUADRO456!T19 -> 5.5606929
A22: De 60 años y más | B22: =SUM(C22,F22,I22,L22,O22) -> 379002.91 | C22: =[1]CUADRO456!F20 -> 27315.098 | D22: =IF(ISNUMBER(C22/$B19*100),C22/$B19*100,0) -> 6.4728001 | E22: =[1]CUADRO456!H20 -> 6.4601907 | F22: =[1]CUADRO456!I20 -> 170060.25 | G22: =IF(ISNUMBER(F22/$B19*100),F22/$B19*100,0) -> 40.298812 | H22: =[1]CUADRO456!K20 -> 5.4190434 | I22: =[1]CUADRO456!L20 -> 98834.541 | J22: =IF(ISNUMBER(I22/$B19*100),I22/$B19*100,0) -> 23.420609 | K22: =[1]CUADRO456!N20 -> 4.817646 | L22: =[1]CUADRO456!O20 -> 722.19671 | M22: =IF(ISNUMBER(L22/$B19*100),L22/$B19*100,0) -> 0.1711374 | N22: =[1]CUADRO456!Q20 -> 1 | O22: =[1]CUADRO456!R20 -> 82070.828 | P22: =IF(ISNUMBER(O22/$B19*100),O22/$B19*100,0) -> 19.448148 | Q22: =[1]CUADRO456!T20 -> 5.0303239
A24: ='C01'!$A$32 -> Fuente: Instituto Nacional de Estadística (INE). Encuesta Permanente de Hogares de Propósitos Múltiples LXXIII, 2021.
A25: AEP: Años de Estudio Promedio
A26: 2/ Porcentaje por filas
A28: =A1 -> Cuadro No. 4. Población con problemas de empleo y Años de Estudio Promedio (AEP), según dominio, Rangos de edad, rama de actividad y ocupación
A29: ....... Continuación
A30: =A3 -> Categorías | B30: Total | C30: Desocupados | F30: Subocupados por Insuficiencia de Tiempo de Trabajo. | I30: Subocupados Por Insuficiencia De Ingresos | L30: =L3 -> Buscador no disponible | O30: =O3 -> Disponible no buscador
C31: No. | D31: % 2/ | E31: AEP | F31: No. | G31: % 2/ | H31: AEP | I31: No. | J31: % 2/ | K31: AEP | L31: No. | M31: % 2/ | N31: AEP | O31: No. | P31: % 2/ | Q31: AEP
A33: =A6 -> Total Nacional
A35: Rama de Actividad
A36: Agricultura, ganaderia, silvicultura y pesca | B36: =SUM(C36,F36,I36,L36,O36) -> 594748.05 | C36: 0 | D36: =IF(ISNUMBER(C36/$B36*100),C36/$B36*100,0) -> 0 | E36: 0 | F36: =[1]CUADRO456!I21 -> 402266.22 | G36: =IF(ISNUMBER(F36/$B36*100),F36/$B36*100,0) -> 67.636409 | H36: =[1]CUADRO456!K21 -> 5.7174698 | I36: =[1]CUADRO456!L21 -> 192481.83 | J36: =IF(ISNUMBER(I36/$B36*100),I36/$B36*100,0) -> 32.363591 | K36: =[1]CUADRO456!N21 -> 5.1902994 | L36: 0 | M36: =IF(ISNUMBER(L36/$B36*100),L36/$B36*100,0) -> 0 | N36: 0 | O36: 0 | P36: =IF(ISNUMBER(O36/$B36*100),O36/$B36*100,0) -> 0 | Q36: 0
A37: Explotacion de minas y canteras | B37: =SUM(C37,F37,I37,L37,O37) -> 8292.6002 | C37: 0 | D37: =IF(ISNUMBER(C37/$B37*100),C37/$B37*100,0) -> 0 | E37: 0 | F37: =[1]CUADRO456!I22 -> 4696.3046 | G37: =IF(ISNUMBER(F37/$B37*100),F37/$B37*100,0) -> 56.632473 | H37: =[1]CUADRO456!K22 -> 6.1570716 | I37: =[1]CUADRO456!L22 -> 3596.2957 | J37: =IF(ISNUMBER(I37/$B37*100),I37/$B37*100,0) -> 43.367527 | K37: =[1]CUADRO456!N22 -> 6.1793407 | L37: 0 | M37: =IF(ISNUMBER(L37/$B37*100),L37/$B37*100,0) -> 0 | N37: 0 | O37: 0 | P37: =IF(ISNUMBER(O37/$B37*100),O37/$B37*100,0) -> 0 | Q37: 0
A38: Industria manufacturera | B38: =SUM(C38,F38,I38,L38,O38) -> 406788.51 | C38: 0 | D38: =IF(ISNUMBER(C38/$B38*100),C38/$B38*100,0) -> 0 | E38: 0 | F38: =[1]CUADRO456!I23 -> 215047.08 | G38: =IF(ISNUMBER(F38/$B38*100),F38/$B38*100,0) -> 52.86459 | H38: =[1]CUADRO456!K23 -> 7.2345306 | I38: =[1]CUADRO456!L23 -> 191741.43 | J38: =IF(ISNUMBER(I38/$B38*100),I38/$B38*100,0) -> 47.13541 | K38: =[1]CUADRO456!N23 -> 8.2442636 | L38: 0 | M38: =IF(ISNUMBER(L38/$B38*100),L38/$B38*100,0) -> 0 | N38: 0 | O38: 0 | P38: =IF(ISNUMBER(O38/$B38*100),O38/$B38*100,0) -> 0 | Q38: 0
A39: Suministro de electricidad, gas, vapor y aire acondicionado | B39: =SUM(C39,F39,I39,L39,O39) -> 4418.6009 | C39: 0 | D39: =IF(ISNUMBER(C39/$B39*100),C39/$B39*100,0) -> 0 | E39: 0 | F39: =[1]CUADRO456!I24 -> 1254.3908 | G39: =IF(ISNUMBER(F39/$B39*100),F39/$B39*100,0) -> 28.388868 | H39: =[1]CUADRO456!K24 -> 9.6972608 | I39: =[1]CUADRO456!L24 -> 3164.2102 | J39: =IF(ISNUMBER(I39/$B39*100),I39/$B39*100,0) -> 71.611132 | K39: =[1]CUADRO456!N24 -> 9.1329916 | L39: 0 | M39: =IF(ISNUMBER(L39/$B39*100),L39/$B39*100,0) -> 0 | N39: 0 | O39: 0 | P39: =IF(ISNUMBER(O39/$B39*100),O39/$B39*100,0) -> 0 | Q39: 0
A40: Suministro de agua, evacuacion de aguas residuales, gestion de desechos y descontaminacion | B40: =SUM(C40,F40,I40,L40,O40) -> 12965.293 | C40: 0 | D40: =IF(ISNUMBER(C40/$B40*100),C40/$B40*100,0) -> 0 | E40: 0 | F40: =[1]CUADRO456!I25 -> 8241.8935 | G40: =IF(ISNUMBER(F40/$B40*100),F40/$B40*100,0) -> 63.568893 | H40: =[1]CUADRO456!K25 -> 4.1677842 | I40: =[1]CUADRO456!L25 -> 4723.4 | J40: =IF(ISNUMBER(I40/$B40*100),I40/$B40*100,0) -> 36.431107 | K40: =[1]CUADRO456!N25 -> 6.5951795 | L40: 0 | M40: =IF(ISNUMBER(L40/$B40*100),L40/$B40*100,0) -> 0 | N40: 0 | O40: 0 | P40: =IF(ISNUMBER(O40/$B40*100),O40/$B40*100,0) -> 0 | Q40: 0
A41: Construccion | B41: =SUM(C41,F41,I41,L41,O41) -> 218971.45 | C41: 0 | D41: =IF(ISNUMBER(C41/$B41*100),C41/$B41*100,0) -> 0 | E41: 0 | F41: =[1]CUADRO456!I26 -> 88865.271 | G41: =IF(ISNUMBER(F41/$B41*100),F41/$B41*100,0) -> 40.58304 | H41: =[1]CUADRO456!K26 -> 7.1451819 | I41: =[1]CUADRO456!L26 -> 130106.18 | J41: =IF(ISNUMBER(I41/$B41*100),I41/$B41*100,0) -> 59.41696 | K41: =[1]CUADRO456!N26 -> 6.8600201 | L41: 0 | M41: =IF(ISNUMBER(L41/$B41*100),L41/$B41*100,0) -> 0 | N41: 0 | O41: 0 | P41: =IF(ISNUMBER(O41/$B41*100),O41/$B41*100,0) -> 0 | Q41: 0
A42: Comercio al por mayor y al por menor, reparacion de vehiculos automotores y motocicletas | B42: =SUM(C42,F42,I42,L42,O42) -> 508182.28 | C42: 0 | D42: =IF(ISNUMBER(C42/$B42*100),C42/$B42*100,0) -> 0 | E42: 0 | F42: =[1]CUADRO456!I27 -> 294251.39 | G42: =IF(ISNUMBER(F42/$B42*100),F42/$B42*100,0) -> 57.902726 | H42: =[1]CUADRO456!K27 -> 7.79168 | I42: =[1]CUADRO456!L27 -> 213930.89 | J42: =IF(ISNUMBER(I42/$B42*100),I42/$B42*100,0) -> 42.097274 | K42: =[1]CUADRO456!N27 -> 8.0419119 | L42: 0 | M42: =IF(ISNUMBER(L42/$B42*100),L42/$B42*100,0) -> 0 | N42: 0 | O42: 0 | P42: =IF(ISNUMBER(O42/$B42*100),O42/$B42*100,0) -> 0 | Q42: 0
A43: Transporte y almacenamiento | B43: =SUM(C43,F43,I43,L43,O43) -> 87200.868 | C43: 0 | D43: =IF(ISNUMBER(C43/$B43*100),C43/$B43*100,0) -> 0 | E43: 0 | F43: =[1]CUADRO456!I28 -> 61955.484 | G43: =IF(ISNUMBER(F43/$B43*100),F43/$B43*100,0) -> 71.049159 | H43: =[1]CUADRO456!K28 -> 8.2715583 | I43: =[1]CUADRO456!L28 -> 25245.384 | J43: =IF(ISNUMBER(I43/$B43*100),I43/$B43*100,0) -> 28.950841 | K43: =[1]CUADRO456!N28 -> 7.2618788 | L43: 0 | M43: =IF(ISNUMBER(L43/$B43*100),L43/$B43*100,0) -> 0 | N43: 0 | O43: 0 | P43: =IF(ISNUMBER(O43/$B43*100),O43/$B43*100,0) -> 0 | Q43: 0
A44: Actividades de alojamiento y de servicios de comida | B44: =SUM(C44,F44,I44,L44,O44) -> 143536.9 | C44: 0 | D44: =IF(ISNUMBER(C44/$B44*100),C44/$B44*100,0) -> 0 | E44: 0 | F44: =[1]CUADRO456!I29 -> 95948.661 | G44: =IF(ISNUMBER(F44/$B44*100),F44/$B44*100,0) -> 66.845991 | H44: =[1]CUADRO456!K29 -> 8.3133166 | I44: =[1]CUADRO456!L29 -> 47588.235 | J44: =IF(ISNUMBER(I44/$B44*100),I44/$B44*100,0) -> 33.154009 | K44: =[1]CUADRO456!N29 -> 8.3051299 | L44: 0 | M44: =IF(ISNUMBER(L44/$B44*100),L44/$B44*100,0) -> 0 | N44: 0 | O44: 0 | P44: =IF(ISNUMBER(O44/$B44*100),O44/$B44*100,0) -> 0 | Q44: 0
A45: Informacion y comunicaciones | B45: =SUM(C45,F45,I45,L45,O45) -> 5676.9316 | C45: 0 | D45: =IF(ISNUMBER(C45/$B45*100),C45/$B45*100,0) -> 0 | E45: 0 | F45: =[1]CUADRO456!I30 -> 2471.792 | G45: =IF(ISNUMBER(F45/$B45*100),F45/$B45*100,0) -> 43.540987 | H45: =[1]CUADRO456!K30 -> 12.534594 | I45: =[1]CUADRO456!L30 -> 3205.1396 | J45: =IF(ISNUMBER(I45/$B45*100),I45/$B45*100,0) -> 56.459013 | K45: =[1]CUADRO456!N30 -> 9.5099676 | L45: 0 | M45: =IF(ISNUMBER(L45/$B45*100),L45/$B45*100,0) -> 0 | N45: 0 | O45: 0 | P45: =IF(ISNUMBER(O45/$B45*100),O45/$B45*100,0) -> 0 | Q45: 0
A46: Actividades finacieras y de seguros | B46: =SUM(C46,F46,I46,L46,O46) -> 7467.7378 | C46: 0 | D46: =IF(ISNUMBER(C46/$B46*100),C46/$B46*100,0) -> 0 | E46: 0 | F46: =[1]CUADRO456!I31 -> 1617.8013 | G46: =IF(ISNUMBER(F46/$B46*100),F46/$B46*100,0) -> 21.663873 | H46: =[1]CUADRO456!K31 -> 16 | I46: =[1]CUADRO456!L31 -> 5849.9366 | J46: =IF(ISNUMBER(I46/$B46*100),I46/$B46*100,0) -> 78.336127 | K46: =[1]CUADRO456!N31 -> 12.381294 | L46: 0 | M46: =IF(ISNUMBER(L46/$B46*100),L46/$B46*100,0) -> 0 | N46: 0 | O46: 0 | P46: =IF(ISNUMBER(O46/$B46*100),O46/$B46*100,0) -> 0 | Q46: 0
A47: Actividades inmobiliarias | B47: =SUM(C47,F47,I47,L47,O47) -> 3685.2534 | C47: 0 | D47: =IF(ISNUMBER(C47/$B47*100),C47/$B47*100,0) -> 0 | E47: 0 | F47: =[1]CUADRO456!I32 -> 983.87323 | G47: =IF(ISNUMBER(F47/$B47*100),F47/$B47*100,0) -> 26.697573 | H47: =[1]CUADRO456!K32 -> 10.654061 | I47: =[1]CUADRO456!L32 -> 2701.3802 | J47: =IF(ISNUMBER(I47/$B47*100),I47/$B47*100,0) -> 73.302427 | K47: =[1]CUADRO456!N32 -> 4.5842867 | L47: 0 | M47: =IF(ISNUMBER(L47/$B47*100),L47/$B47*100,0) -> 0 | N47: 0 | O47: 0 | P47: =IF(ISNUMBER(O47/$B47*100),O47/$B47*100,0) -> 0 | Q47: 0
... A57: Rama de actividad NO especificadas | B57: =SUM(C57,F57,I57,L57,O57) -> 0 | C57: 0 | D57: =IF(ISNUMBER(C57/$B57*100),C57/$B57*100,0) -> 0 | E57: 0 | F57: =[1]CUADRO456!I42 -> 0 | G57: =IF(ISNUMBER(F57/$B57*100),F57/$B57*100,0) -> 0 | H57: =[1]CUADRO456!K42 -> 0 | I57: =[1]CUADRO456!L42 -> 0 | J57: =IF(ISNUMBER(I57/$B57*100),I57/$B57*100,0) -> 0 | K57: =[1]CUADRO456!N42 -> 0 | L57: 0 | M57: =IF(ISNUMBER(L57/$B57*100),L57/$B57*100,0) -> 0 | N57: 0 | O57: 0 | P57: =IF(ISNUMBER(O57/$B57*100),O57/$B57*100,0) -> 0 | Q57: 0
A58: Busca trabajo por primera vez | B58: =SUM(C58,F58,I58,L58,O58) -> 90840.485 | C58: 88511.357 | D58: 100 | E58: 9.26 | F58: =[1]CUADRO456!I43 -> 0 | G58: =IF(ISNUMBER(F58/$B58*100),F58/$B58*100,0) -> 0 | H58: =[1]CUADRO456!K43 -> 0 | I58: =[1]CUADRO456!L43 -> 0 | J58: =IF(ISNUMBER(I58/$B58*100),I58/$B58*100,0) -> 0 | K58: =[1]CUADRO456!N43 -> 0 | L58: 2329.1287 | M58: 100 | N58: 10.24 | O58: 0 | P58: =IF(ISNUMBER(O58/$B58*100),O58/$B58*100,0) -> 0 | Q58: 0
A59: NS/NR | B59: =SUM(C59,F59,I59,L59,O59) -> 46193.777 | C59: 0 | D59: =IF(ISNUMBER(C59/$B59*100),C59/$B59*100,0) -> 0 | E59: 0 | F59: =[1]CUADRO456!I44 -> 28067.034 | G59: =IF(ISNUMBER(F59/$B59*100),F59/$B59*100,0) -> 60.759341 | H59: =[1]CUADRO456!K44 -> 7.4067263 | I59: =[1]CUADRO456!L44 -> 18126.742 | J59: =IF(ISNUMBER(I59/$B59*100),I59/$B59*100,0) -> 39.240659 | K59: =[1]CUADRO456!N44 -> 7.3805869 | L59: 0 | M59: =IF(ISNUMBER(L59/$B59*100),L59/$B59*100,0) -> 0 | N59: 0 | O59: 0 | P59: =IF(ISNUMBER(O59/$B59*100),O59/$B59*100,0) -> 0 | Q59: 0
A61: Ocupación
A62: Directores y gerentes | B62: =SUM(C62,F62,I62,L62,O62) -> 36880.625 | C62: 0 | D62: =IF(ISNUMBER(C62/$B62*100),C62/$B62*100,0) -> 0 | E62: 0 | F62: =[1]CUADRO456!I45 -> 23400.703 | G62: =IF(ISNUMBER(F62/$B62*100),F62/$B62*100,0) -> 63.449854 | H62: =[1]CUADRO456!K45 -> 11.163137 | I62: =[1]CUADRO456!L45 -> 13479.922 | J62: =IF(ISNUMBER(I62/$B62*100),I62/$B62*100,0) -> 36.550146 | K62: =[1]CUADRO456!N45 -> 11.70342 | L62: 0 | M62: =IF(ISNUMBER(L62/$B62*100),L62/$B62*100,0) -> 0 | N62: 0 | O62: 0 | P62: =IF(ISNUMBER(O62/$B62*100),O62/$B62*100,0) -> 0 | Q62: 0
A63: Profesionales cientificos e intelectuales | B63: =SUM(C63,F63,I63,L63,O63) -> 67795.409 | C63: 0 | D63: =IF(ISNUMBER(C63/$B63*100),C63/$B63*100,0) -> 0 | E63: 0 | F63: =[1]CUADRO456!I46 -> 55755.208 | G63: =IF(ISNUMBER(F63/$B63*100),F63/$B63*100,0) -> 82.240389 | H63: =[1]CUADRO456!K46 -> 16.040953 | I63: =[1]CUADRO456!L46 -> 12040.201 | J63: =IF(ISNUMBER(I63/$B63*100),I63/$B63*100,0) -> 17.759611 | K63: =[1]CUADRO456!N46 -> 13.424765 | L63: 0 | M63: =IF(ISNUMBER(L63/$B63*100),L63/$B63*100,0) -> 0 | N63: 0 | O63: 0 | P63: =IF(ISNUMBER(O63/$B63*100),O63/$B63*100,0) -> 0 | Q63: 0
A64: Tecnicos y profesionales de nivel medio | B64: =SUM(C64,F64,I64,L64,O64) -> 91481.837 | C64: 0 | D64: =IF(ISNUMBER(C64/$B64*100),C64/$B64*100,0) -> 0 | E64: 0 | F64: =[1]CUADRO456!I47 -> 51962.747 | G64: =IF(ISNUMBER(F64/$B64*100),F64/$B64*100,0) -> 56.801163 | H64: =[1]CUADRO456!K47 -> 10.699185 | I64: =[1]CUADRO456!L47 -> 39519.09 | J64: =IF(ISNUMBER(I64/$B64*100),I64/$B64*100,0) -> 43.198837 | K64: =[1]CUADRO456!N47 -> 10.723868 | L64: 0 | M64: =IF(ISNUMBER(L64/$B64*100),L64/$B64*100,0) -> 0 | N64: 0 | O64: 0 | P64: =IF(ISNUMBER(O64/$B64*100),O64/$B64*100,0) -> 0 | Q64: 0
A65: Personal de apoyo administrativo | B65: =SUM(C65,F65,I65,L65,O65) -> 45482.411 | C65: 0 | D65: =IF(ISNUMBER(C65/$B65*100),C65/$B65*100,0) -> 0 | E65: 0 | F65: =[1]CUADRO456!I48 -> 14139.693 | G65: =IF(ISNUMBER(F65/$B65*100),F65/$B65*100,0) -> 31.088268 | H65: =[1]CUADRO456!K48 -> 11.233168 | I65: =[1]CUADRO456!L48 -> 31342.717 | J65: =IF(ISNUMBER(I65/$B65*100),I65/$B65*100,0) -> 68.911732 | K65: =[1]CUADRO456!N48 -> 10.408893 | L65: 0 | M65: =IF(ISNUMBER(L65/$B65*100),L65/$B65*100,0) -> 0 | N65: 0 | O65: 0 | P65: =IF(ISNUMBER(O65/$B65*100),O65/$B65*100,0) -> 0 | Q65: 0
A66: Trabajadores de los servicios y vendedores de comercios y mercados | B66: =SUM(C66,F66,I66,L66,O66) -> 633873.03 | C66: 0 | D66: =IF(ISNUMBER(C66/$B66*100),C66/$B66*100,0) -> 0 | E66: 0 | F66: =[1]CUADRO456!I49 -> 396628.15 | G66: =IF(ISNUMBER(F66/$B66*100),F66/$B66*100,0) -> 62.572176 | H66: =[1]CUADRO456!K49 -> 7.8681178 | I66: =[1]CUADRO456!L49 -> 237244.88 | J66: =IF(ISNUMBER(I66/$B66*100),I66/$B66*100,0) -> 37.427824 | K66: =[1]CUADRO456!N49 -> 7.7020073 | L66: 0 | M66: =IF(ISNUMBER(L66/$B66*100),L66/$B66*100,0) -> 0 | N66: 0 | O66: 0 | P66: =IF(ISNUMBER(O66/$B66*100),O66/$B66*100,0) -> 0 | Q66: 0
A67: Agricultores y trabajadores calificados agropecuarios forestales y pesqueros | B67: =SUM(C67,F67,I67,L67,O67) -> 191382.88 | C67: 0 | D67: =IF(ISNUMBER(C67/$B67*100),C67/$B67*100,0) -> 0 | E67: 0 | F67: =[1]CUADRO456!I50 -> 127452.79 | G67: =IF(ISNUMBER(F67/$B67*100),F67/$B67*100,0) -> 66.595713 | H67: =[1]CUADRO456!K50 -> 6.0061433 | I67: =[1]CUADRO456!L50 -> 63930.087 | J67: =IF(ISNUMBER(I67/$B67*100),I67/$B67*100,0) -> 33.404287 | K67: =[1]CUADRO456!N50 -> 5.1808735 | L67: 0 | M67: =IF(ISNUMBER(L67/$B67*100),L67/$B67*100,0) -> 0 | N67: 0 | O67: 0 | P67: =IF(ISNUMBER(O67/$B67*100),O67/$B67*100,0) -> 0 | Q67: 0
A68: Oficiales, operarios y artesanos de artes mecanicas y de otros oficios | B68: =SUM(C68,F68,I68,L68,O68) -> 447239.36 | C68: 0 | D68: =IF(ISNUMBER(C68/$B68*100),C68/$B68*100,0) -> 0 | E68: 0 | F68: =[1]CUADRO456!I51 -> 258838.95 | G68: =IF(ISNUMBER(F68/$B68*100),F68/$B68*100,0) -> 57.874814 | H68: =[1]CUADRO456!K51 -> 7.2289725 | I68: =[1]CUADRO456!L51 -> 188400.41 | J68: =IF(ISNUMBER(I68/$B68*100),I68/$B68*100,0) -> 42.125186 | K68: =[1]CUADRO456!N51 -> 7.4404138 | L68: 0 | M68: =IF(ISNUMBER(L68/$B68*100),L68/$B68*100,0) -> 0 | N68: 0 | O68: 0 | P68: =IF(ISNUMBER(O68/$B68*100),O68/$B68*100,0) -> 0 | Q68: 0
A69: Operadores de instalaciones y maquinas y ensambladores | B69: =SUM(C69,F69,I69,L69,O69) -> 172334.84 | C69: 0 | D69: =IF(ISNUMBER(C69/$B69*100),C69/$B69*100,0) -> 0 | E69: 0 | F69: =[1]CUADRO456!I52 -> 80161.644 | G69: =IF(ISNUMBER(F69/$B69*100),F69/$B69*100,0) -> 46.515055 | H69: =[1]CUADRO456!K52 -> 7.602506 | I69: =[1]CUADRO456!L52 -> 92173.193 | J69: =IF(ISNUMBER(I69/$B69*100),I69/$B69*100,0) -> 53.484945 | K69: =[1]CUADRO456!N52 -> 8.1742883 | L69: 0 | M69: =IF(ISNUMBER(L69/$B69*100),L69/$B69*100,0) -> 0 | N69: 0 | O69: 0 | P69: =IF(ISNUMBER(O69/$B69*100),O69/$B69*100,0) -> 0 | Q69: 0
A70: Ocupaciones elementales | B70: =SUM(C70,F70,I70,L70,O70) -> 849164.92 | C70: 0 | D70: =IF(ISNUMBER(C70/$B70*100),C70/$B70*100,0) -> 0 | E70: 0 | F70: =[1]CUADRO456!I53 -> 526950.54 | G70: =IF(ISNUMBER(F70/$B70*100),F70/$B70*100,0) -> 62.055147 | H70: =[1]CUADRO456!K53 -> 6.2495555 | I70: =[1]CUADRO456!L53 -> 322214.38 | J70: =IF(ISNUMBER(I70/$B70*100),I70/$B70*100,0) -> 37.944853 | K70: =[1]CUADRO456!N53 -> 6.3109404 | L70: 0 | M70: =IF(ISNUMBER(L70/$B70*100),L70/$B70*100,0) -> 0 | N70: 0 | O70: 0 | P70: =IF(ISNUMBER(O70/$B70*100),O70/$B70*100,0) -> 0 | Q70: 0
A71: Ocupaciones militares | B71: =SUM(C71,F71,I71,L71,O71) -> 1777.7438 | C71: 0 | D71: =IF(ISNUMBER(C71/$B71*100),C71/$B71*100,0) -> 0 | E71: 0 | F71: =[1]CUADRO456!I54 -> 0 | G71: =IF(ISNUMBER(F71/$B71*100),F71/$B71*100,0) -> 0 | H71: =[1]CUADRO456!K54 -> 0 | I71: =[1]CUADRO456!L54 -> 1777.7438 | J71: =IF(ISNUMBER(I71/$B71*100),I71/$B71*100,0) -> 100 | K71: =[1]CUADRO456!N54 -> 10.231278 | L71: 0 | M71: =IF(ISNUMBER(L71/$B71*100),L71/$B71*100,0) -> 0 | N71: 0 | O71: 0 | P71: =IF(ISNUMBER(O71/$B71*100),O71/$B71*100,0) -> 0 | Q71: 0
A72: Ocupaciones NO especificadas | F72: =[1]CUADRO456!I55 -> 0 | I72: =[1]CUADRO456!L55 -> 0
A73: Busca trabajo por primera vez | B73: =SUM(C73,F73,I73,L73,O73) -> 90840.485 | C73: 88511.357 | D73: 100 | E73: 9.3 | F73: =[1]CUADRO456!I56 -> 0 | G73: =IF(ISNUMBER(F73/$B73*100),F73/$B73*100,0) -> 0 | H73: 0 | I73: =[1]CUADRO456!L56 -> 0 | J73: =IF(ISNUMBER(I73/$B73*100),I73/$B73*100,0) -> 0 | K73: 0 | L73: 2329.1287 | M73: 100 | N73: 10.2 | O73: 0 | P73: =IF(ISNUMBER(O73/$B73*100),O73/$B73*100,0) -> 0 | Q73: 0
A74: NS/NR | B74: =SUM(C74,F74,I74,L74,O74) -> 0 | C74: 0 | D74: =IF(ISNUMBER(C74/$B74*100),C74/$B74*100,0) -> 0 | E74: 0 | F74: =[1]CUADRO456!I57 -> 0 | G74: =IF(ISNUMBER(F74/$B74*100),F74/$B74*100,0) -> 0 | H74: 0 | I74: =[1]CUADRO456!L57 -> 0 | J74: =IF(ISNUMBER(I74/$B74*100),I74/$B74*100,0) -> 0 | K74: 0 | L74: 0 | M74: =IF(ISNUMBER(L74/$B74*100),L74/$B74*100,0) -> 0 | N74: 0 | O74: 0 | P74: =IF(ISNUMBER(O74/$B74*100),O74/$B74*100,0) -> 0 | Q74: 0
A76: =A24 -> Fuente: Instituto Nacional de Estadística (INE). Encuesta Permanente de Hogares de Propósitos Múltiples LXXIII, 2021.
A77: AEP: Años de Estudio Promedio
A78: 2/ Porcentaje por filas

Sheet C05
A1: Cuadro No. 5 Población con problemas de empleo y Años de Estudio Promedio (AEP), según dominio, Rangos de edad, rama de actividad y ocupación
A2: Hombres
A3: Categorías | B3: Total | C3: Desocupados | F3: Subocupados por Insuficiencia de Tiempo de Trabajo. | I3: Subocupados Por Insuficiencia De Ingresos | L3: ='C04'!L3:N3 -> Buscador no disponible | O3: ='C04'!O3:Q3 -> Disponible no buscador
C4: No. | D4: % 2/ | E4: AEP | F4: No. | G4: % 2/ | H4: AEP | I4: No. | J4: % 2/ | K4: AEP | L4: No. | M4: % 2/ | N4: AEP | O4: No. | P4: % 2/ | Q4: AEP
A6: Total Nacional | B6: =SUM(C6,F6,I6,L6,O6) -> 1778756.7 | C6: =[1]CUADRO456!F63 -> 163853.5 | D6: =IF(ISNUMBER(C6/$B6*100),C6/$B6*100,0) -> 9.2116868 | E6: =[1]CUADRO456!H63 -> 8.0521202 | F6: =[1]CUADRO456!I63 -> 799598.68 | G6: =IF(ISNUMBER(F6/$B6*100),F6/$B6*100,0) -> 44.952672 | H6: =[1]CUADRO456!K63 -> 7.220867 | I6: =[1]CUADRO456!L63 -> 636418.1 | J6: =IF(ISNUMBER(I6/$B6*100),I6/$B6*100,0) -> 35.778816 | K6: =[1]CUADRO456!N63 -> 7.0839423 | L6: =[1]CUADRO456!O63 -> 4952.4204 | M6: =IF(ISNUMBER(L6/$B6*100),L6/$B6*100,0) -> 0.27842033 | N6: =[1]CUADRO456!Q63 -> 7.3143754 | O6: =[1]CUADRO456!R63 -> 173934.04 | P6: =IF(ISNUMBER(O6/$B6*100),O6/$B6*100,0) -> 9.7784053 | Q6: =[1]CUADRO456!T63 -> 6.1985008
A8: Dominio
A9: Urbano | B9: =SUM(C9,F9,I9,L9,O9) -> 905583.65 | C9: =[1]CUADRO456!F64 -> 108621.4 | D9: =IF(ISNUMBER(C9/$B9*100),C9/$B9*100,0) -> 11.994629 | E9: =[1]CUADRO456!H64 -> 8.955567 | F9: =[1]CUADRO456!I64 -> 353525.7 | G9: =IF(ISNUMBER(F9/$B9*100),F9/$B9*100,0) -> 39.038437 | H9: =[1]CUADRO456!K64 -> 8.7241827 | I9: =[1]CUADRO456!L64 -> 370798.09 | J9: =IF(ISNUMBER(I9/$B9*100),I9/$B9*100,0) -> 40.945758 | K9: =[1]CUADRO456!N64 -> 8.0482794 | L9: =[1]CUADRO456!O64 -> 2844.325 | M9: =IF(ISNUMBER(L9/$B9*100),L9/$B9*100,0) -> 0.3140875 | N9: =[1]CUADRO456!Q64 -> 9.7398264 | O9: =[1]CUADRO456!R64 -> 69794.133 | P9: =IF(ISNUMBER(O9/$B9*100),O9/$B9*100,0) -> 7.7070885 | Q9: =[1]CUADRO456!T64 -> 7.0434393
A10: Distrito Central | B10: =SUM(C10,F10,I10,L10,O10) -> 189977.15 | C10: =[1]CUADRO456!F66 -> 22765.857 | D10: =IF(ISNUMBER(C10/$B10*100),C10/$B10*100,0) -> 11.983471 | E10: =[1]CUADRO456!H66 -> 10.638889 | F10: =[1]CUADRO456!I66 -> 72222.719 | G10: =IF(ISNUMBER(F10/$B10*100),F10/$B10*100,0) -> 38.016529 | H10: =[1]CUADRO456!K66 -> 9.5714286 | I10: =[1]CUADRO456!L66 -> 77717.926 | J10: =IF(ISNUMBER(I10/$B10*100),I10/$B10*100,0) -> 40.909091 | K10: =[1]CUADRO456!N66 -> 8.3111111 | L10: =[1]CUADRO456!O66 -> 523.35304 | M10: =IF(ISNUMBER(L10/$B10*100),L10/$B10*100,0) -> 0.27548209 | N10: =[1]CUADRO456!Q66 -> 9 | O10: =[1]CUADRO456!R66 -> 16747.297 | P10: =IF(ISNUMBER(O10/$B10*100),O10/$B10*100,0) -> 8.815427 | Q10: =[1]CUADRO456!T66 -> 8.4259259
A11: San Pedro Sula | B11: =SUM(C11,F11,I11,L11,O11) -> 104300.44 | C11: =[1]CUADRO456!F67 -> 10219.64 | D11: =IF(ISNUMBER(C11/$B11*100),C11/$B11*100,0) -> 9.7982709 | E11: =[1]CUADRO456!H67 -> 8.9032258 | F11: =[1]CUADRO456!I67 -> 41780.292 | G11: =IF(ISNUMBER(F11/$B11*100),F11/$B11*100,0) -> 40.057637 | H11: =[1]CUADRO456!K67 -> 9.1068702 | I11: =[1]CUADRO456!L67 -> 44184.913 | J11: =IF(ISNUMBER(I11/$B11*100),I11/$B11*100,0) -> 42.363112 | K11: =[1]CUADRO456!N67 -> 8.1782946 | L11: =[1]CUADRO456!O67 -> 0 | M11: =IF(ISNUMBER(L11/$B11*100),L11/$B11*100,0) -> 0 | N11: =[1]CUADRO456!Q67 -> 0 | O11: =[1]CUADRO456!R67 -> 8115.5964 | P11: =IF(ISNUMBER(O11/$B11*100),O11/$B11*100,0) -> 7.7809798 | Q11: =[1]CUADRO456!T67 -> 7.85
A12: Resto urbano | B12: =SUM(C12,F12,I12,L12,O12) -> 611306.06 | C12: =[1]CUADRO456!F68 -> 75635.905 | D12: =IF(ISNUMBER(C12/$B12*100),C12/$B12*100,0) -> 12.372838 | E12: =[1]CUADRO456!H68 -> 8.5014293 | F12: =[1]CUADRO456!I68 -> 239522.69 | G12: =IF(ISNUMBER(F12/$B12*100),F12/$B12*100,0) -> 39.182123 | H12: =[1]CUADRO456!K68 -> 8.4097757 | I12: =[1]CUADRO456!L68 -> 248895.25 | J12: =IF(ISNUMBER(I12/$B12*100),I12/$B12*100,0) -> 40.715325 | K12: =[1]CUADRO456!N68 -> 7.9441016 | L12: =[1]CUADRO456!O68 -> 2320.972 | M12: =IF(ISNUMBER(L12/$B12*100),L12/$B12*100,0) -> 0.3796743 | N12: =[1]CUADRO456!Q68 -> 10 | O12: =[1]CUADRO456!R68 -> 44931.24 | P12: =IF(ISNUMBER(O12/$B12*100),O12/$B12*100,0) -> 7.35004 | Q12: =[1]CUADRO456!T68 -> 6.4226537
A13: Rural | B13: =SUM(C13,F13,I13,L13,O13) -> 873173.1 | C13: =[1]CUADRO456!F69 -> 55232.098 | D13: =IF(ISNUMBER(C13/$B13*100),C13/$B13*100,0) -> 6.3254466 | E13: =[1]CUADRO456!H69 -> 6.146789 | F13: =[1]CUADRO456!I69 -> 446072.98 | G13: =IF(ISNUMBER(F13/$B13*100),F13/$B13*100,0) -> 51.086432 | H13: =[1]CUADRO456!K69 -> 5.9562363 | I13: =[1]CUADRO456!L69 -> 265620.01 | J13: =IF(ISNUMBER(I13/$B13*100),I13/$B13*100,0) -> 30.420087 | K13: =[1]CUADRO456!N69 -> 5.6709559 | L13: =[1]CUADRO456!O69 -> 2108.0954 | M13: =IF(ISNUMBER(L13/$B13*100),L13/$B13*100,0) -> 0.24142926 | N13: =[1]CUADRO456!Q69 -> 5 | O13: =[1]CUADRO456!R69 -> 104139.91 | P13: =IF(ISNUMBER(O13/$B13*100),O13/$B13*100,0) -> 11.926606 | Q13: =[1]CUADRO456!T69 -> 5.6367925
A15: Rango de Edad
A16: De 15 a 18 años | B16: =SUM(C16,F16,I16,L16,O16) -> 198352.57 | C16: =[1]CUADRO456!F70 -> 25827.999 | D16: =IF(ISNUMBER(C16/$B16*100),C16/$B16*100,0) -> 13.021258 | E16: =[1]CUADRO456!H70 -> 7.710248 | F16: =[1]CUADRO456!I70 -> 82886.757 | G16: =IF(ISNUMBER(F16/$B16*100),F16/$B16*100,0) -> 41.78759 | H16: =[1]CUADRO456!K70 -> 7.4125415 | I16: =[1]CUADRO456!L70 -> 60792.685 | J16: =IF(ISNUMBER(I16/$B16*100),I16/$B16*100,0) -> 30.648802 | K16: =[1]CUADRO456!N70 -> 7.0890841 | L16: =[1]CUADRO456!O70 -> 1165.7192 | M16: =IF(ISNUMBER(L16/$B16*100),L16/$B16*100,0) -> 0.5877006 | N16: =[1]CUADRO456!Q70 -> 9.723363 | O16: =[1]CUADRO456!R70 -> 27679.406 | P16: =IF(ISNUMBER(O16/$B16*100),O16/$B16*100,0) -> 13.95465 | Q16: =[1]CUADRO456!T70 -> 7.1497483
A17: De 19 a 24 años | B17: =SUM(C17,F17,I17,L17,O17) -> 340797.51 | C17: =[1]CUADRO456!F71 -> 49641.679 | D17: =IF(ISNUMBER(C17/$B17*100),C17/$B17*100,0) -> 14.566327 | E17: =[1]CUADRO456!H71 -> 9.3486637 | F17: =[1]CUADRO456!I71 -> 126208.06 | G17: =IF(ISNUMBER(F17/$B17*100),F17/$B17*100,0) -> 37.03315 | H17: =[1]CUADRO456!K71 -> 7.5006906 | I17: =[1]CUADRO456!L71 -> 137403.33 | J17: =IF(ISNUMBER(I17/$B17*100),I17/$B17*100,0) -> 40.318172 | K17: =[1]CUADRO456!N71 -> 8.106862 | L17: =[1]CUADRO456!O71 -> 1094.4482 | M17: =IF(ISNUMBER(L17/$B17*100),L17/$B17*100,0) -> 0.32114325 | N17: =[1]CUADRO456!Q71 -> 12 | O17: =[1]CUADRO456!R71 -> 26450.005 | P17: =IF(ISNUMBER(O17/$B17*100),O17/$B17*100,0) -> 7.7612082 | Q17: =[1]CUADRO456!T71 -> 8.2232073
A18: De 25 a 29 años | B18: =SUM(C18,F18,I18,L18,O18) -> 200794.38 | C18: =[1]CUADRO456!F72 -> 20964.25 | D18: =IF(ISNUMBER(C18/$B18*100),C18/$B18*100,0) -> 10.440656 | E18: =[1]CUADRO456!H72 -> 8.8634113 | F18: =[1]CUADRO456!I72 -> 85358.263 | G18: =IF(ISNUMBER(F18/$B18*100),F18/$B18*100,0) -> 42.510285 | H18: =[1]CUADRO456!K72 -> 8.4823401 | I18: =[1]CUADRO456!L72 -> 81968.352 | J18: =IF(ISNUMBER(I18/$B18*100),I18/$B18*100,0) -> 40.822035 | K18: =[1]CUADRO456!N72 -> 8.6339607 | L18: =[1]CUADRO456!O72 -> 744.10015 | M18: =IF(ISNUMBER(L18/$B18*100),L18/$B18*100,0) -> 0.37057817 | N18: =[1]CUADRO456!Q72 -> 11 | O18: =[1]CUADRO456!R72 -> 11759.416 | P18: =IF(ISNUMBER(O18/$B18*100),O18/$B18*100,0) -> 5.8564469 | Q18: =[1]CUADRO456!T72 -> 7.3181648
A19: De 30 a 35 años | B19: =SUM(C19,F19,I19,L19,O19) -> 220071.58 | C19: =[1]CUADRO456!F73 -> 13865.804 | D19: =IF(ISNUMBER(C19/$B19*100),C19/$B19*100,0) -> 6.300588 | E19: =[1]CUADRO456!H73 -> 8.6966894 | F19: =[1]CUADRO456!I73 -> 105211.96 | G19: =IF(ISNUMBER(F19/$B19*100),F19/$B19*100,0) -> 47.808061 | H19: =[1]CUADRO456!K73 -> 7.6205676 | I19: =[1]CUADRO456!L73 -> 87346.656 | J19: =IF(ISNUMBER(I19/$B19*100),I19/$B19*100,0) -> 39.690111 | K19: =[1]CUADRO456!N73 -> 7.4348519 | L19: =[1]CUADRO456!O73 -> 0 | M19: =IF(ISNUMBER(L19/$B19*100),L19/$B19*100,0) -> 0 | N19: =[1]CUADRO456!Q73 -> 0 | O19: =[1]CUADRO456!R73 -> 13647.167 | P19: =IF(ISNUMBER(O19/$B19*100),O19/$B19*100,0) -> 6.2012402 | Q19: =[1]CUADRO456!T73 -> 6.1574866
A20: De 36 a 44 años | B20: =SUM(C20,F20,I20,L20,O20) -> 283941.9 | C20: =[1]CUADRO456!F74 -> 18766.348 | D20: =IF(ISNUMBER(C20/$B20*100),C20/$B20*100,0) -> 6.6092211 | E20: =[1]CUADRO456!H74 -> 5.8417453 | F20: =[1]CUADRO456!I74 -> 134256.95 | G20: =IF(ISNUMBER(F20/$B20*100),F20/$B20*100,0) -> 47.283247 | H20: =[1]CUADRO456!K74 -> 7.2632828 | I20: =[1]CUADRO456!L74 -> 108069.89 | J20: =IF(ISNUMBER(I20/$B20*100),I20/$B20*100,0) -> 38.060563 | K20: =[1]CUADRO456!N74 -> 6.4449588 | L20: =[1]CUADRO456!O74 -> 843.23814 | M20: =IF(ISNUMBER(L20/$B20*100),L20/$B20*100,0) -> 0.2969756 | N20: =[1]CUADRO456!Q74 -> 5 | O20: =[1]CUADRO456!R74 -> 22005.478 | P20: =IF(ISNUMBER(O20/$B20*100),O20/$B20*100,0) -> 7.7499933 | Q20: =[1]CUADRO456!T74 -> 5.9505227
A21: De 45 a 59 años | B21: =SUM(C21,F21,I21,L21,O21) -> 314898.59 | C21: =[1]CUADRO456!F75 -> 15316.529 | D21: =IF(ISNUMBER(C21/$B21*100),C21/$B21*100,0) -> 4.8639561 | E21: =[1]CUADRO456!H75 -> 6.9724887 | F21: =[1]CUADRO456!I75 -> 172377.32 | G21: =IF(ISNUMBER(F21/$B21*100),F21/$B21*100,0) -> 54.740581 | H21: =[1]CUADRO456!K75 -> 6.926334 | I21: =[1]CUADRO456!L75 -> 95159.953 | J21: =IF(ISNUMBER(I21/$B21*100),I21/$B21*100,0) -> 30.219237 | K21: =[1]CUADRO456!N75 -> 5.5838608 | L21: =[1]CUADRO456!O75 -> 683.29559 | M21: =IF(ISNUMBER(L21/$B21*100),L21/$B21*100,0) -> 0.21698909 | N21: =[1]CUADRO456!Q75 -> 4.1488872 | O21: =[1]CUADRO456!R75 -> 31361.496 | P21: =IF(ISNUMBER(O21/$B21*100),O21/$B21*100,0) -> 9.9592365 | Q21: =[1]CUADRO456!T75 -> 4.9852798
A22: De 60 años y más | B22: =SUM(C22,F22,I22,L22,O22) -> 219900.21 | C22: =[1]CUADRO456!F76 -> 19470.892 | D22: =IF(ISNUMBER(C22/$B22*100),C22/$B22*100,0) -> 8.8544216 | E22: =[1]CUADRO456!H76 -> 6.7793697 | F22: =[1]CUADRO456!I76 -> 93299.38 | G22: =IF(ISNUMBER(F22/$B22*100),F22/$B22*100,0) -> 42.428053 | H22: =[1]CUADRO456!K76 -> 5.2861893 | I22: =[1]CUADRO456!L76 -> 65677.246 | J22: =IF(ISNUMBER(I22/$B22*100),I22/$B22*100,0) -> 29.866841 | K22: =[1]CUADRO456!N76 -> 4.9617887 | L22: =[1]CUADRO456!O76 -> 421.61907 | M22: =IF(ISNUMBER(L22/$B22*100),L22/$B22*100,0) -> 0.191732 | N22: =[1]CUADRO456!Q76 -> 1 | O22: =[1]CUADRO456!R76 -> 41031.076 | P22: =IF(ISNUMBER(O22/$B22*100),O22/$B22*100,0) -> 18.658952 | Q22: =[1]CUADRO456!T76 -> 4.6114288
A24: ='C01'!$A$32 -> Fuente: Instituto Nacional de Estadística (INE). Encuesta Permanente de Hogares de Propósitos Múltiples LXXIII, 2021.
A25: AEP: Años de Estudio Promedio
A26: 2/ Porcentaje por filas
A28: =A1 -> Cuadro No. 5 Población con problemas de empleo y Años de Estudio Promedio (AEP), según dominio, Rangos de edad, rama de actividad y ocupación
A29: Hombres
A30: ....... Continuación
A31: =A3 -> Categorías | B31: Total | C31: Desocupados | F31: Subocupados por Insuficiencia de Tiempo de Trabajo. | I31: Subocupados Por Insuficiencia De Ingresos | L31: =L3 -> Buscador no disponible | O31: =O3 -> Disponible no buscador
C32: No. | D32: % 2/ | E32: AEP | F32: No. | G32: % 2/ | H32: AEP | I32: No. | J32: % 2/ | K32: AEP | L32: No. | M32: % 2/ | N32: AEP | O32: No. | P32: % 2/ | Q32: AEP
A34: =A6 -> Total Nacional
A36: Rama de Actividad
A37: Agricultura, ganaderia, silvicultura y pesca | B37: =SUM(C37,F37,I37,L37,O37) -> 498677.77 | C37: 0 | D37: =IF(ISNUMBER(C37/$B37*100),C37/$B37*100,0) -> 0 | E37: 0 | F37: =[1]CUADRO456!I77 -> 337130.34 | G37: =IF(ISNUMBER(F37/$B37*100),F37/$B37*100,0) -> 67.604846 | H37: =[1]CUADRO456!K77 -> 5.719898 | I37: =[1]CUADRO456!L77 -> 161547.43 | J37: =IF(ISNUMBER(I37/$B37*100),I37/$B37*100,0) -> 32.395154 | K37: =[1]CUADRO456!N77 -> 4.9944354 | L37: 0 | M37: =IF(ISNUMBER(L37/$B37*100),L37/$B37*100,0) -> 0 | N37: 0 | O37: 0 | P37: =IF(ISNUMBER(O37/$B37*100),O37/$B37*100,0) -> 0 | Q37: 0
A38: Explotacion de minas y canteras | B38: =SUM(C38,F38,I38,L38,O38) -> 8292.6002 | C38: 0 | D38: =IF(ISNUMBER(C38/$B38*100),C38/$B38*100,0) -> 0 | E38: 0 | F38: =[1]CUADRO456!I78 -> 4696.3046 | G38: =IF(ISNUMBER(F38/$B38*100),F38/$B38*100,0) -> 56.632473 | H38: =[1]CUADRO456!K78 -> 6.1570716 | I38: =[1]CUADRO456!L78 -> 3596.2957 | J38: =IF(ISNUMBER(I38/$B38*100),I38/$B38*100,0) -> 43.367527 | K38: =[1]CUADRO456!N78 -> 6.1793407 | L38: 0 | M38: =IF(ISNUMBER(L38/$B38*100),L38/$B38*100,0) -> 0 | N38: 0 | O38: 0 | P38: =IF(ISNUMBER(O38/$B38*100),O38/$B38*100,0) -> 0 | Q38: 0
A39: Industria manufacturera | B39: =SUM(C39,F39,I39,L39,O39) -> 180123.87 | C39: 0 | D39: =IF(ISNUMBER(C39/$B39*100),C39/$B39*100,0) -> 0 | E39: 0 | F39: =[1]CUADRO456!I79 -> 68876.655 | G39: =IF(ISNUMBER(F39/$B39*100),F39/$B39*100,0) -> 38.238493 | H39: =[1]CUADRO456!K79 -> 7.7040483 | I39: =[1]CUADRO456!L79 -> 111247.22 | J39: =IF(ISNUMBER(I39/$B39*100),I39/$B39*100,0) -> 61.761507 | K39: =[1]CUADRO456!N79 -> 8.1249501 | L39: 0 | M39: =IF(ISNUMBER(L39/$B39*100),L39/$B39*100,0) -> 0 | N39: 0 | O39: 0 | P39: =IF(ISNUMBER(O39/$B39*100),O39/$B39*100,0) -> 0 | Q39: 0
A40: Suministro de electricidad, gas, vapor y aire acondicionado | B40: =SUM(C40,F40,I40,L40,O40) -> 2331.4384 | C40: 0 | D40: =IF(ISNUMBER(C40/$B40*100),C40/$B40*100,0) -> 0 | E40: 0 | F40: =[1]CUADRO456!I80 -> 0 | G40: =IF(ISNUMBER(F40/$B40*100),F40/$B40*100,0) -> 0 | H40: =[1]CUADRO456!K80 -> 0 | I40: =[1]CUADRO456!L80 -> 2331.4384 | J40: =IF(ISNUMBER(I40/$B40*100),I40/$B40*100,0) -> 100 | K40: =[1]CUADRO456!N80 -> 11.680841 | L40: 0 | M40: =IF(ISNUMBER(L40/$B40*100),L40/$B40*100,0) -> 0 | N40: 0 | O40: 0 | P40: =IF(ISNUMBER(O40/$B40*100),O40/$B40*100,0) -> 0 | Q40: 0
A41: Suministro de agua, evacuacion de aguas residuales, gestion de desechos y descontaminacion | B41: =SUM(C41,F41,I41,L41,O41) -> 9593.6801 | C41: 0 | D41: =IF(ISNUMBER(C41/$B41*100),C41/$B41*100,0) -> 0 | E41: 0 | F41: =[1]CUADRO456!I81 -> 4870.2801 | G41: =IF(ISNUMBER(F41/$B41*100),F41/$B41*100,0) -> 50.765505 | H41: =[1]CUADRO456!K81 -> 4.6459468 | I41: =[1]CUADRO456!L81 -> 4723.4 | J41: =IF(ISNUMBER(I41/$B41*100),I41/$B41*100,0) -> 49.234495 | K41: =[1]CUADRO456!N81 -> 6.5951795 | L41: 0 | M41: =IF(ISNUMBER(L41/$B41*100),L41/$B41*100,0) -> 0 | N41: 0 | O41: 0 | P41: =IF(ISNUMBER(O41/$B41*100),O41/$B41*100,0) -> 0 | Q41: 0
A42: Construccion | B42: =SUM(C42,F42,I42,L42,O42) -> 215896.19 | C42: 0 | D42: =IF(ISNUMBER(C42/$B42*100),C42/$B42*100,0) -> 0 | E42: 0 | F42: =[1]CUADRO456!I82 -> 87842.497 | G42: =IF(ISNUMBER(F42/$B42*100),F42/$B42*100,0) -> 40.687377 | H42: =[1]CUADRO456!K82 -> 7.0991555 | I42: =[1]CUADRO456!L82 -> 128053.69 | J42: =IF(ISNUMBER(I42/$B42*100),I42/$B42*100,0) -> 59.312623 | K42: =[1]CUADRO456!N82 -> 6.8047451 | L42: 0 | M42: =IF(ISNUMBER(L42/$B42*100),L42/$B42*100,0) -> 0 | N42: 0 | O42: 0 | P42: =IF(ISNUMBER(O42/$B42*100),O42/$B42*100,0) -> 0 | Q42: 0
A43: Comercio al por mayor y al por menor, reparacion de vehiculos automotores y motocicletas | B43: =SUM(C43,F43,I43,L43,O43) -> 211671.39 | C43: 0 | D43: =IF(ISNUMBER(C43/$B43*100),C43/$B43*100,0) -> 0 | E43: 0 | F43: =[1]CUADRO456!I83 -> 103346.21 | G43: =IF(ISNUMBER(F43/$B43*100),F43/$B43*100,0) -> 48.823891 | H43: =[1]CUADRO456!K83 -> 8.120898 | I43: =[1]CUADRO456!L83 -> 108325.18 | J43: =IF(ISNUMBER(I43/$B43*100),I43/$B43*100,0) -> 51.176109 | K43: =[1]CUADRO456!N83 -> 7.9419588 | L43: 0 | M43: =IF(ISNUMBER(L43/$B43*100),L43/$B43*100,0) -> 0 | N43: 0 | O43: 0 | P43: =IF(ISNUMBER(O43/$B43*100),O43/$B43*100,0) -> 0 | Q43: 0
A44: Transporte y almacenamiento | B44: =SUM(C44,F44,I44,L44,O44) -> 80907.409 | C44: 0 | D44: =IF(ISNUMBER(C44/$B44*100),C44/$B44*100,0) -> 0 | E44: 0 | F44: =[1]CUADRO456!I84 -> 56485.955 | G44: =IF(ISNUMBER(F44/$B44*100),F44/$B44*100,0) -> 69.815553 | H44: =[1]CUADRO456!K84 -> 7.8734642 | I44: =[1]CUADRO456!L84 -> 24421.454 | J44: =IF(ISNUMBER(I44/$B44*100),I44/$B44*100,0) -> 30.184447 | K44: =[1]CUADRO456!N84 -> 7.2729625 | L44: 0 | M44: =IF(ISNUMBER(L44/$B44*100),L44/$B44*100,0) -> 0 | N44: 0 | O44: 0 | P44: =IF(ISNUMBER(O44/$B44*100),O44/$B44*100,0) -> 0 | Q44: 0
A45: Actividades de alojamiento y de servicios de comida | B45: =SUM(C45,F45,I45,L45,O45) -> 33173.386 | C45: 0 | D45: =IF(ISNUMBER(C45/$B45*100),C45/$B45*100,0) -> 0 | E45: 0 | F45: =[1]CUADRO456!I85 -> 18607.944 | G45: =IF(ISNUMBER(F45/$B45*100),F45/$B45*100,0) -> 56.092989 | H45: =[1]CUADRO456!K85 -> 8.6371149 | I45: =[1]CUADRO456!L85 -> 14565.442 | J45: =IF(ISNUMBER(I45/$B45*100),I45/$B45*100,0) -> 43.907011 | K45: =[1]CUADRO456!N85 -> 10.635341 | L45: 0 | M45: =IF(ISNUMBER(L45/$B45*100),L45/$B45*100,0) -> 0 | N45: 0 | O45: 0 | P45: =IF(ISNUMBER(O45/$B45*100),O45/$B45*100,0) -> 0 | Q45: 0
A46: Informacion y comunicaciones | B46: =SUM(C46,F46,I46,L46,O46) -> 3886.1254 | C46: 0 | D46: =IF(ISNUMBER(C46/$B46*100),C46/$B46*100,0) -> 0 | E46: 0 | F46: =[1]CUADRO456!I86 -> 1686.7625 | G46: =IF(ISNUMBER(F46/$B46*100),F46/$B46*100,0) -> 43.404737 | H46: =[1]CUADRO456!K86 -> 12.775078 | I46: =[1]CUADRO456!L86 -> 2199.3629 | J46: =IF(ISNUMBER(I46/$B46*100),I46/$B46*100,0) -> 56.595263 | K46: =[1]CUADRO456!N86 -> 9.3862427 | L46: 0 | M46: =IF(ISNUMBER(L46/$B46*100),L46/$B46*100,0) -> 0 | N46: 0 | O46: 0 | P46: =IF(ISNUMBER(O46/$B46*100),O46/$B46*100,0) -> 0 | Q46: 0
A47: Actividades finacieras y de seguros | B47: =SUM(C47,F47,I47,L47,O47) -> 4866.0633 | C47: 0 | D47: =IF(ISNUMBER(C47/$B47*100),C47/$B47*100,0) -> 0 | E47: 0 | F47: =[1]CUADRO456!I87 -> 785.02956 | G47: =IF(ISNUMBER(F47/$B47*100),F47/$B47*100,0) -> 16.132744 | H47: =[1]CUADRO456!K87 -> 16 | I47: =[1]CUADRO456!L87 -> 4081.0338 | J47: =IF(ISNUMBER(I47/$B47*100),I47/$B47*100,0) -> 83.867256 | K47: =[1]CUADRO456!N87 -> 12.853243 | L47: 0 | M47: =IF(ISNUMBER(L47/$B47*100),L47/$B47*100,0) -> 0 | N47: 0 | O47: 0 | P47: =IF(ISNUMBER(O47/$B47*100),O47/$B47*100,0) -> 0 | Q47: 0
A48: Actividades inmobiliarias | B48: =SUM(C48,F48,I48,L48,O48) -> 2822.4216 | C48: 0 | D48: =IF(ISNUMBER(C48/$B48*100),C48/$B48*100,0) -> 0 | E48: 0 | F48: =[1]CUADRO456!I88 -> 683.29559 | G48: =IF(ISNUMBER(F48/$B48*100),F48/$B48*100,0) -> 24.209551 | H48: =[1]CUADRO456!K88 -> 16 | I48: =[1]CUADRO456!L88 -> 2139.126 | J48: =IF(ISNUMBER(I48/$B48*100),I48/$B48*100,0) -> 75.790449 | K48: =[1]CUADRO456!N88 -> 5.2635482 | L48: 0 | M48: =IF(ISNUMBER(L48/$B48*100),L48/$B48*100,0) -> 0 | N48: 0 | O48: 0 | P48: =IF(ISNUMBER(O48/$B48*100),O48/$B48*100,0) -> 0 | Q48: 0
... A58: Rama de actividad NO especificadas | B58: =SUM(C58,F58,I58,L58,O58) -> 0 | C58: 0 | D58: =IF(ISNUMBER(C58/$B58*100),C58/$B58*100,0) -> 0 | E58: 0 | F58: =[1]CUADRO456!I98 -> 0 | G58: =IF(ISNUMBER(F58/$B58*100),F58/$B58*100,0) -> 0 | H58: =[1]CUADRO456!K98 -> 0 | I58: =[1]CUADRO456!L98 -> 0 | J58: =IF(ISNUMBER(I58/$B58*100),I58/$B58*100,0) -> 0 | K58: =[1]CUADRO456!N98 -> 0 | L58: 0 | M58: =IF(ISNUMBER(L58/$B58*100),L58/$B58*100,0) -> 0 | N58: 0 | O58: 0 | P58: =IF(ISNUMBER(O58/$B58*100),O58/$B58*100,0) -> 0 | Q58: 0
A59: Busca trabajo por primera vez | B59: =SUM(C59,F59,I59,L59,O59) -> 36923.912 | C59: 35918.136 | D59: 100 | E59: 7.7083285 | F59: =[1]CUADRO456!I99 -> 0 | G59: =IF(ISNUMBER(F59/$B59*100),F59/$B59*100,0) -> 0 | H59: =[1]CUADRO456!K99 -> 0 | I59: =[1]CUADRO456!L99 -> 0 | J59: =IF(ISNUMBER(I59/$B59*100),I59/$B59*100,0) -> 0 | K59: =[1]CUADRO456!N99 -> 0 | L59: 1005.7767 | M59: 100 | N59: 9.7805207 | O59: 0 | P59: =IF(ISNUMBER(O59/$B59*100),O59/$B59*100,0) -> 0 | Q59: 0
A60: NS/NR | B60: =SUM(C60,F60,I60,L60,O60) -> 31665.645 | C60: 0 | D60: =IF(ISNUMBER(C60/$B60*100),C60/$B60*100,0) -> 0 | E60: 0 | F60: =[1]CUADRO456!I100 -> 19010.338 | G60: =IF(ISNUMBER(F60/$B60*100),F60/$B60*100,0) -> 60.034583 | H60: =[1]CUADRO456!K100 -> 6.663319 | I60: =[1]CUADRO456!L100 -> 12655.307 | J60: =IF(ISNUMBER(I60/$B60*100),I60/$B60*100,0) -> 39.965417 | K60: =[1]CUADRO456!N100 -> 6.7810289 | L60: 0 | M60: =IF(ISNUMBER(L60/$B60*100),L60/$B60*100,0) -> 0 | N60: 0 | O60: 0 | P60: =IF(ISNUMBER(O60/$B60*100),O60/$B60*100,0) -> 0 | Q60: 0
A61: Ocupación
A62: Directores y gerentes | B62: =SUM(C62,F62,I62,L62,O62) -> 17947.891 | C62: 0 | D62: =IF(ISNUMBER(C62/$B62*100),C62/$B62*100,0) -> 0 | E62: 0 | F62: =[1]CUADRO456!I101 -> 11137.896 | G62: =IF(ISNUMBER(F62/$B62*100),F62/$B62*100,0) -> 62.056852 | H62: =[1]CUADRO456!K101 -> 11.216654 | I62: =[1]CUADRO456!L101 -> 6809.9947 | J62: =IF(ISNUMBER(I62/$B62*100),I62/$B62*100,0) -> 37.943148 | K62: =[1]CUADRO456!N101 -> 10.589745 | L62: 0 | M62: =IF(ISNUMBER(L62/$B62*100),L62/$B62*100,0) -> 0 | N62: 0 | O62: 0 | P62: =IF(ISNUMBER(O62/$B62*100),O62/$B62*100,0) -> 0 | Q62: 0
A63: Profesionales cientificos e intelectuales | B63: =SUM(C63,F63,I63,L63,O63) -> 28450.529 | C63: 0 | D63: =IF(ISNUMBER(C63/$B63*100),C63/$B63*100,0) -> 0 | E63: 0 | F63: =[1]CUADRO456!I102 -> 22018.463 | G63: =IF(ISNUMBER(F63/$B63*100),F63/$B63*100,0) -> 77.392104 | H63: =[1]CUADRO456!K102 -> 15.814342 | I63: =[1]CUADRO456!L102 -> 6432.0659 | J63: =IF(ISNUMBER(I63/$B63*100),I63/$B63*100,0) -> 22.607896 | K63: =[1]CUADRO456!N102 -> 14.792764 | L63: 0 | M63: =IF(ISNUMBER(L63/$B63*100),L63/$B63*100,0) -> 0 | N63: 0 | O63: 0 | P63: =IF(ISNUMBER(O63/$B63*100),O63/$B63*100,0) -> 0 | Q63: 0
A64: Tecnicos y profesionales de nivel medio | B64: =SUM(C64,F64,I64,L64,O64) -> 44236.332 | C64: 0 | D64: =IF(ISNUMBER(C64/$B64*100),C64/$B64*100,0) -> 0 | E64: 0 | F64: =[1]CUADRO456!I103 -> 26503.832 | G64: =IF(ISNUMBER(F64/$B64*100),F64/$B64*100,0) -> 59.914171 | H64: =[1]CUADRO456!K103 -> 10.630463 | I64: =[1]CUADRO456!L103 -> 17732.5 | J64: =IF(ISNUMBER(I64/$B64*100),I64/$B64*100,0) -> 40.085829 | K64: =[1]CUADRO456!N103 -> 8.9170598 | L64: 0 | M64: =IF(ISNUMBER(L64/$B64*100),L64/$B64*100,0) -> 0 | N64: 0 | O64: 0 | P64: =IF(ISNUMBER(O64/$B64*100),O64/$B64*100,0) -> 0 | Q64: 0
A65: Personal de apoyo administrativo | B65: =SUM(C65,F65,I65,L65,O65) -> 26296.836 | C65: 0 | D65: =IF(ISNUMBER(C65/$B65*100),C65/$B65*100,0) -> 0 | E65: 0 | F65: =[1]CUADRO456!I104 -> 7374.8449 | G65: =IF(ISNUMBER(F65/$B65*100),F65/$B65*100,0) -> 28.044609 | H65: =[1]CUADRO456!K104 -> 11.45594 | I65: =[1]CUADRO456!L104 -> 18921.991 | J65: =IF(ISNUMBER(I65/$B65*100),I65/$B65*100,0) -> 71.955391 | K65: =[1]CUADRO456!N104 -> 9.7196966 | L65: 0 | M65: =IF(ISNUMBER(L65/$B65*100),L65/$B65*100,0) -> 0 | N65: 0 | O65: 0 | P65: =IF(ISNUMBER(O65/$B65*100),O65/$B65*100,0) -> 0 | Q65: 0
A66: Trabajadores de los servicios y vendedores de comercios y mercados | B66: =SUM(C66,F66,I66,L66,O66) -> 185468.01 | C66: 0 | D66: =IF(ISNUMBER(C66/$B66*100),C66/$B66*100,0) -> 0 | E66: 0 | F66: =[1]CUADRO456!I105 -> 94806.814 | G66: =IF(ISNUMBER(F66/$B66*100),F66/$B66*100,0) -> 51.11761 | H66: =[1]CUADRO456!K105 -> 8.0488379 | I66: =[1]CUADRO456!L105 -> 90661.197 | J66: =IF(ISNUMBER(I66/$B66*100),I66/$B66*100,0) -> 48.88239 | K66: =[1]CUADRO456!N105 -> 7.5861365 | L66: 0 | M66: =IF(ISNUMBER(L66/$B66*100),L66/$B66*100,0) -> 0 | N66: 0 | O66: 0 | P66: =IF(ISNUMBER(O66/$B66*100),O66/$B66*100,0) -> 0 | Q66: 0
A67: Agricultores y trabajadores calificados agropecuarios forestales y pesqueros | B67: =SUM(C67,F67,I67,L67,O67) -> 165497.44 | C67: 0 | D67: =IF(ISNUMBER(C67/$B67*100),C67/$B67*100,0) -> 0 | E67: 0 | F67: =[1]CUADRO456!I106 -> 109631.05 | G67: =IF(ISNUMBER(F67/$B67*100),F67/$B67*100,0) -> 66.243351 | H67: =[1]CUADRO456!K106 -> 6.0788428 | I67: =[1]CUADRO456!L106 -> 55866.39 | J67: =IF(ISNUMBER(I67/$B67*100),I67/$B67*100,0) -> 33.756649 | K67: =[1]CUADRO456!N106 -> 5.2233446 | L67: 0 | M67: =IF(ISNUMBER(L67/$B67*100),L67/$B67*100,0) -> 0 | N67: 0 | O67: 0 | P67: =IF(ISNUMBER(O67/$B67*100),O67/$B67*100,0) -> 0 | Q67: 0
A68: Oficiales, operarios y artesanos de artes mecanicas y de otros oficios | B68: =SUM(C68,F68,I68,L68,O68) -> 278472.94 | C68: 0 | D68: =IF(ISNUMBER(C68/$B68*100),C68/$B68*100,0) -> 0 | E68: 0 | F68: =[1]CUADRO456!I107 -> 137663.18 | G68: =IF(ISNUMBER(F68/$B68*100),F68/$B68*100,0) -> 49.435031 | H68: =[1]CUADRO456!K107 -> 7.4733713 | I68: =[1]CUADRO456!L107 -> 140809.75 | J68: =IF(ISNUMBER(I68/$B68*100),I68/$B68*100,0) -> 50.564969 | K68: =[1]CUADRO456!N107 -> 7.4387204 | L68: 0 | M68: =IF(ISNUMBER(L68/$B68*100),L68/$B68*100,0) -> 0 | N68: 0 | O68: 0 | P68: =IF(ISNUMBER(O68/$B68*100),O68/$B68*100,0) -> 0 | Q68: 0
A69: Operadores de instalaciones y maquinas y ensambladores | B69: =SUM(C69,F69,I69,L69,O69) -> 133060.31 | C69: 0 | D69: =IF(ISNUMBER(C69/$B69*100),C69/$B69*100,0) -> 0 | E69: 0 | F69: =[1]CUADRO456!I108 -> 68104.615 | G69: =IF(ISNUMBER(F69/$B69*100),F69/$B69*100,0) -> 51.183268 | H69: =[1]CUADRO456!K108 -> 7.5744701 | I69: =[1]CUADRO456!L108 -> 64955.695 | J69: =IF(ISNUMBER(I69/$B69*100),I69/$B69*100,0) -> 48.816732 | K69: =[1]CUADRO456!N108 -> 7.7170467 | L69: 0 | M69: =IF(ISNUMBER(L69/$B69*100),L69/$B69*100,0) -> 0 | N69: 0 | O69: 0 | P69: =IF(ISNUMBER(O69/$B69*100),O69/$B69*100,0) -> 0 | Q69: 0
A70: Ocupaciones elementales | B70: =SUM(C70,F70,I70,L70,O70) -> 555070.43 | C70: 0 | D70: =IF(ISNUMBER(C70/$B70*100),C70/$B70*100,0) -> 0 | E70: 0 | F70: =[1]CUADRO456!I109 -> 322357.98 | G70: =IF(ISNUMBER(F70/$B70*100),F70/$B70*100,0) -> 58.075149 | H70: =[1]CUADRO456!K109 -> 6.017357 | I70: =[1]CUADRO456!L109 -> 232712.45 | J70: =IF(ISNUMBER(I70/$B70*100),I70/$B70*100,0) -> 41.924851 | K70: =[1]CUADRO456!N109 -> 6.1249197 | L70: 0 | M70: =IF(ISNUMBER(L70/$B70*100),L70/$B70*100,0) -> 0 | N70: 0 | O70: 0 | P70: =IF(ISNUMBER(O70/$B70*100),O70/$B70*100,0) -> 0 | Q70: 0
A71: Ocupaciones militares | B71: =SUM(C71,F71,I71,L71,O71) -> 1516.0673 | C71: 0 | D71: =IF(ISNUMBER(C71/$B71*100),C71/$B71*100,0) -> 0 | E71: 0 | F71: =[1]CUADRO456!I110 -> 0 | G71: =IF(ISNUMBER(F71/$B71*100),F71/$B71*100,0) -> 0 | H71: =[1]CUADRO456!K110 -> 0 | I71: =[1]CUADRO456!L110 -> 1516.0673 | J71: =IF(ISNUMBER(I71/$B71*100),I71/$B71*100,0) -> 100 | K71: =[1]CUADRO456!N110 -> 10.271197 | L71: 0 | M71: =IF(ISNUMBER(L71/$B71*100),L71/$B71*100,0) -> 0 | N71: 0 | O71: 0 | P71: =IF(ISNUMBER(O71/$B71*100),O71/$B71*100,0) -> 0 | Q71: 0
A72: Ocupaciones NO especificadas | F72: =[1]CUADRO456!I111 -> 0 | H72: =[1]CUADRO456!K111 -> 0 | I72: =[1]CUADRO456!L111 -> 0 | K72: =[1]CUADRO456!N111 -> 0
A73: Busca trabajo por primera vez | B73: =SUM(C73,F73,I73,L73,O73) -> 36923.912 | C73: 35918.136 | D73: 100 | E73: 7.7083285 | F73: =[1]CUADRO456!I112 -> 0 | G73: =IF(ISNUMBER(F73/$B73*100),F73/$B73*100,0) -> 0 | H73: =[1]CUADRO456!K112 -> 0 | I73: =[1]CUADRO456!L112 -> 0 | J73: =IF(ISNUMBER(I73/$B73*100),I73/$B73*100,0) -> 0 | K73: =[1]CUADRO456!N112 -> 0 | L73: 1005.7767 | M73: 100 | N73: 9.7805207 | O73: 0 | P73: =IF(ISNUMBER(O73/$B73*100),O73/$B73*100,0) -> 0 | Q73: 0
A74: NS/NR | B74: =SUM(C74,F74,I74,L74,O74) -> 0 | C74: 0 | D74: =IF(ISNUMBER(C74/$B74*100),C74/$B74*100,0) -> 0 | E74: 0 | F74: =[1]CUADRO456!I113 -> 0 | G74: =IF(ISNUMBER(F74/$B74*100),F74/$B74*100,0) -> 0 | H74: =[1]CUADRO456!K113 -> 0 | I74: =[1]CUADRO456!L113 -> 0 | J74: =IF(ISNUMBER(I74/$B74*100),I74/$B74*100,0) -> 0 | K74: =[1]CUADRO456!N113 -> 0 | L74: 0 | M74: =IF(ISNUMBER(L74/$B74*100),L74/$B74*100,0) -> 0 | N74: 0 | O74: 0 | P74: =IF(ISNUMBER(O74/$B74*100),O74/$B74*100,0) -> 0 | Q74: 0
A76: =A24 -> Fuente: Instituto Nacional de Estadística (INE). Encuesta Permanente de Hogares de Propósitos Múltiples LXXIII, 2021.
A77: AEP: Años de Estudio Promedio
A78: 2/ Porcentaje por filas

Sheet C06
A1: Cuadro No. 6. Población con problemas de empleo y Años de Estudio Promedio (AEP), según dominio, Rangos de edad, rama de actividad y ocupación
A2: Mujeres
A3: Categorías | B3: Total | C3: Desocupados | F3: Subocupados por Insuficiencia de Tiempo de Trabajo. | I3: Subocupados Por Insuficiencia De Ingresos | L3: ='C04'!L3:N3 -> Buscador no disponible | O3: ='C04'!O3:Q3 -> Disponible no buscador
C4: No. | D4: % 1/ | E4: AEP | F4: No. | G4: % 1/ | H4: AEP | I4: No. | J4: % 1/ | K4: AEP | L4: No. | M4: % 1/ | N4: AEP | O4: No. | P4: % 1/ | Q4: AEP
A6: Total Nacional/2 | B6: =SUM(C6,F6,I6,L6,O6) -> 1599505.2 | C6: =[1]CUADRO456!F119 -> 185004.2 | D6: =IF(ISNUMBER(C6/$B6*100),C6/$B6*100,0) -> 11.56634 | E6: =[1]CUADRO456!H119 -> 8.8440445 | F6: =[1]CUADRO456!I119 -> 735691.74 | G6: =IF(ISNUMBER(F6/$B6*100),F6/$B6*100,0) -> 45.994958 | H6: =[1]CUADRO456!K119 -> 7.8367272 | I6: =[1]CUADRO456!L119 -> 365704.52 | J6: =IF(ISNUMBER(I6/$B6*100),I6/$B6*100,0) -> 22.863603 | K6: =[1]CUADRO456!N119 -> 8.069216 | L6: =[1]CUADRO456!O119 -> 4907.2743 | M6: =IF(ISNUMBER(L6/$B6*100),L6/$B6*100,0) -> 0.30679952 | N6: =[1]CUADRO456!Q119 -> 10.277196 | O6: =[1]CUADRO456!R119 -> 308197.45 | P6: =IF(ISNUMBER(O6/$B6*100),O6/$B6*100,0) -> 19.2683 | Q6: =[1]CUADRO456!T119 -> 6.8604883
A8: Dominio
A9: Urbano | B9: =SUM(C9,F9,I9,L9,O9) -> 961173.92 | C9: =[1]CUADRO456!F120 -> 136939.63 | D9: =IF(ISNUMBER(C9/$B9*100),C9/$B9*100,0) -> 14.247123 | E9: =[1]CUADRO456!H120 -> 9.3404443 | F9: =[1]CUADRO456!I120 -> 454893.44 | G9: =IF(ISNUMBER(F9/$B9*100),F9/$B9*100,0) -> 47.326861 | H9: =[1]CUADRO456!K120 -> 8.6695792 | I9: =[1]CUADRO456!L120 -> 259456.52 | J9: =IF(ISNUMBER(I9/$B9*100),I9/$B9*100,0) -> 26.993712 | K9: =[1]CUADRO456!N120 -> 8.6818804 | L9: =[1]CUADRO456!O120 -> 4485.6552 | M9: =IF(ISNUMBER(L9/$B9*100),L9/$B9*100,0) -> 0.46668508 | N9: =[1]CUADRO456!Q120 -> 10.277196 | O9: =[1]CUADRO456!R120 -> 105398.68 | P9: =IF(ISNUMBER(O9/$B9*100),O9/$B9*100,0) -> 10.96562 | Q9: =[1]CUADRO456!T120 -> 8.2989297
A10: Distrito Central | B10: =SUM(C10,F10,I10,L10,O10) -> 208556.19 | C10: =[1]CUADRO456!F122 -> 32447.888 | D10: =IF(ISNUMBER(C10/$B10*100),C10/$B10*100,0) -> 15.558344 | E10: =[1]CUADRO456!H122 -> 10.330189 | F10: =[1]CUADRO456!I122 -> 94988.577 | G10: =IF(ISNUMBER(F10/$B10*100),F10/$B10*100,0) -> 45.545797 | H10: =[1]CUADRO456!K122 -> 9.2870662 | I10: =[1]CUADRO456!L122 -> 49980.215 | J10: =IF(ISNUMBER(I10/$B10*100),I10/$B10*100,0) -> 23.964868 | K10: =[1]CUADRO456!N122 -> 9.1349693 | L10: =[1]CUADRO456!O122 -> 785.02956 | M10: =IF(ISNUMBER(L10/$B10*100),L10/$B10*100,0) -> 0.37641154 | N10: =[1]CUADRO456!Q122 -> 11.666667 | O10: =[1]CUADRO456!R122 -> 30354.476 | P10: =IF(ISNUMBER(O10/$B10*100),O10/$B10*100,0) -> 14.55458 | Q10: =[1]CUADRO456!T122 -> 8.2403846
A11: San Pedro Sula | B11: =SUM(C11,F11,I11,L11,O11) -> 122034.52 | C11: =[1]CUADRO456!F123 -> 20138.702 | D11: =IF(ISNUMBER(C11/$B11*100),C11/$B11*100,0) -> 16.502463 | E11: =[1]CUADRO456!H123 -> 9.3064516 | F11: =[1]CUADRO456!I123 -> 55306.286 | G11: =IF(ISNUMBER(F11/$B11*100),F11/$B11*100,0) -> 45.320197 | H11: =[1]CUADRO456!K123 -> 8.6213018 | I11: =[1]CUADRO456!L123 -> 33664.696 | J11: =IF(ISNUMBER(I11/$B11*100),I11/$B11*100,0) -> 27.586207 | K11: =[1]CUADRO456!N123 -> 7.9809524 | L11: =[1]CUADRO456!O123 -> 1202.3106 | M11: =IF(ISNUMBER(L11/$B11*100),L11/$B11*100,0) -> 0.98522167 | N11: =[1]CUADRO456!Q123 -> 11 | O11: =[1]CUADRO456!R123 -> 11722.528 | P11: =IF(ISNUMBER(O11/$B11*100),O11/$B11*100,0) -> 9.6059113 | Q11: =[1]CUADRO456!T123 -> 7.5
A12: Resto urbano | B12: =SUM(C12,F12,I12,L12,O12) -> 630583.21 | C12: =[1]CUADRO456!F124 -> 84353.036 | D12: =IF(ISNUMBER(C12/$B12*100),C12/$B12*100,0) -> 13.376987 | E12: =[1]CUADRO456!H124 -> 8.9704254 | F12: =[1]CUADRO456!I124 -> 304598.58 | G12: =IF(ISNUMBER(F12/$B12*100),F12/$B12*100,0) -> 48.304264 | H12: =[1]CUADRO456!K124 -> 8.4931305 | I12: =[1]CUADRO456!L124 -> 175811.6 | J12: =IF(ISNUMBER(I12/$B12*100),I12/$B12*100,0) -> 27.880794 | K12: =[1]CUADRO456!N124 -> 8.6992892 | L12: =[1]CUADRO456!O124 -> 2498.3151 | M12: =IF(ISNUMBER(L12/$B12*100),L12/$B12*100,0) -> 0.39619119 | N12: =[1]CUADRO456!Q124 -> 9.6666667 | O12: =[1]CUADRO456!R124 -> 63321.673 | P12: =IF(ISNUMBER(O12/$B12*100),O12/$B12*100,0) -> 10.041763 | Q12: =[1]CUADRO456!T124 -> 8.472882
A13: Rural | B13: =SUM(C13,F13,I13,L13,O13) -> 638331.27 | C13: =[1]CUADRO456!F125 -> 48064.574 | D13: =IF(ISNUMBER(C13/$B13*100),C13/$B13*100,0) -> 7.5297226 | E13: =[1]CUADRO456!H125 -> 7.4854369 | F13: =[1]CUADRO456!I125 -> 280798.3 | G13: =IF(ISNUMBER(F13/$B13*100),F13/$B13*100,0) -> 43.989432 | H13: =[1]CUADRO456!K125 -> 6.470489 | I13: =[1]CUADRO456!L125 -> 106248.01 | J13: =IF(ISNUMBER(I13/$B13*100),I13/$B13*100,0) -> 16.64465 | K13: =[1]CUADRO456!N125 -> 6.5181818 | L13: =[1]CUADRO456!O125 -> 421.61907 | M13: =IF(ISNUMBER(L13/$B13*100),L13/$B13*100,0) -> 0.066050198 | N13: =[1]CUADRO456!Q125 -> 0 | O13: =[1]CUADRO456!R125 -> 202798.77 | P13: =IF(ISNUMBER(O13/$B13*100),O13/$B13*100,0) -> 31.770145 | Q13: =[1]CUADRO456!T125 -> 6.084507
A15: Rango de Edad
A16: De 15 a 18 años | B16: =SUM(C16,F16,I16,L16,O16) -> 124191.22 | C16: =[1]CUADRO456!F126 -> 21918.631 | D16: =IF(ISNUMBER(C16/$B16*100),C16/$B16*100,0) -> 17.649098 | E16: =[1]CUADRO456!H126 -> 8.034237 | F16: =[1]CUADRO456!I126 -> 47973.423 | G16: =IF(ISNUMBER(F16/$B16*100),F16/$B16*100,0) -> 38.628674 | H16: =[1]CUADRO456!K126 -> 8.2223099 | I16: =[1]CUADRO456!L126 -> 23373.894 | J16: =IF(ISNUMBER(I16/$B16*100),I16/$B16*100,0) -> 18.82089 | K16: =[1]CUADRO456!N126 -> 7.6476568 | L16: =[1]CUADRO456!O126 -> 1516.0673 | M16: =IF(ISNUMBER(L16/$B16*100),L16/$B16*100,0) -> 1.2207524 | N16: =[1]CUADRO456!Q126 -> 10.760906 | O16: =[1]CUADRO456!R126 -> 29409.209 | P16: =IF(ISNUMBER(O16/$B16*100),O16/$B16*100,0) -> 23.680585 | Q16: =[1]CUADRO456!T126 -> 7.2868144
A17: De 19 a 24 años | B17: =SUM(C17,F17,I17,L17,O17) -> 309245.53 | C17: =[1]CUADRO456!F127 -> 61902.385 | D17: =IF(ISNUMBER(C17/$B17*100),C17/$B17*100,0) -> 20.017229 | E17: =[1]CUADRO456!H127 -> 9.6293473 | F17: =[1]CUADRO456!I127 -> 112974.29 | G17: =IF(ISNUMBER(F17/$B17*100),F17/$B17*100,0) -> 36.532232 | H17: =[1]CUADRO456!K127 -> 9.1369887 | I17: =[1]CUADRO456!L127 -> 81546.641 | J17: =IF(ISNUMBER(I17/$B17*100),I17/$B17*100,0) -> 26.369546 | K17: =[1]CUADRO456!N127 -> 9.8036976 | L17: =[1]CUADRO456!O127 -> 1433.927 | M17: =IF(ISNUMBER(L17/$B17*100),L17/$B17*100,0) -> 0.46368561 | N17: =[1]CUADRO456!Q127 -> 7.5912709 | O17: =[1]CUADRO456!R127 -> 51388.28 | P17: =IF(ISNUMBER(O17/$B17*100),O17/$B17*100,0) -> 16.617308 | Q17: =[1]CUADRO456!T127 -> 8.3691035
A18: De 25 a 29 años | B18: =SUM(C18,F18,I18,L18,O18) -> 171936.85 | C18: =[1]CUADRO456!F128 -> 28375.972 | D18: =IF(ISNUMBER(C18/$B18*100),C18/$B18*100,0) -> 16.503717 | E18: =[1]CUADRO456!H128 -> 9.8253153 | F18: =[1]CUADRO456!I128 -> 64343.68 | G18: =IF(ISNUMBER(F18/$B18*100),F18/$B18*100,0) -> 37.422855 | H18: =[1]CUADRO456!K128 -> 9.7811973 | I18: =[1]CUADRO456!L128 -> 44242.694 | J18: =IF(ISNUMBER(I18/$B18*100),I18/$B18*100,0) -> 25.731943 | K18: =[1]CUADRO456!N128 -> 10.246654 | L18: =[1]CUADRO456!O128 -> 1395.0259 | M18: =IF(ISNUMBER(L18/$B18*100),L18/$B18*100,0) -> 0.81135943 | N18: =[1]CUADRO456!Q128 -> 11.006338 | O18: =[1]CUADRO456!R128 -> 33579.482 | P18: =IF(ISNUMBER(O18/$B18*100),O18/$B18*100,0) -> 19.530125 | Q18: =[1]CUADRO456!T128 -> 8.1294556
A19: De 30 a 35 años | B19: =SUM(C19,F19,I19,L19,O19) -> 201926.59 | C19: =[1]CUADRO456!F129 -> 20282.614 | D19: =IF(ISNUMBER(C19/$B19*100),C19/$B19*100,0) -> 10.044548 | E19: =[1]CUADRO456!H129 -> 10.003207 | F19: =[1]CUADRO456!I129 -> 94462.624 | G19: =IF(ISNUMBER(F19/$B19*100),F19/$B19*100,0) -> 46.780676 | H19: =[1]CUADRO456!K129 -> 8.3325778 | I19: =[1]CUADRO456!L129 -> 58480.307 | J19: =IF(ISNUMBER(I19/$B19*100),I19/$B19*100,0) -> 28.961172 | K19: =[1]CUADRO456!N129 -> 8.7963162 | L19: =[1]CUADRO456!O129 -> 0 | M19: =IF(ISNUMBER(L19/$B19*100),L19/$B19*100,0) -> 0 | N19: =[1]CUADRO456!Q129 -> 0 | O19: =[1]CUADRO456!R129 -> 28701.045 | P19: =IF(ISNUMBER(O19/$B19*100),O19/$B19*100,0) -> 14.213604 | Q19: =[1]CUADRO456!T129 -> 7.3782521
A20: De 36 a 44 años | B20: =SUM(C20,F20,I20,L20,O20) -> 312446.73 | C20: =[1]CUADRO456!F130 -> 27394.292 | D20: =IF(ISNUMBER(C20/$B20*100),C20/$B20*100,0) -> 8.767668 | E20: =[1]CUADRO456!H130 -> 8.0874429 | F20: =[1]CUADRO456!I130 -> 170784.39 | G20: =IF(ISNUMBER(F20/$B20*100),F20/$B20*100,0) -> 54.660322 | H20: =[1]CUADRO456!K130 -> 7.5324669 | I20: =[1]CUADRO456!L130 -> 60670.834 | J20: =IF(ISNUMBER(I20/$B20*100),I20/$B20*100,0) -> 19.417977 | K20: =[1]CUADRO456!N130 -> 7.250153 | L20: =[1]CUADRO456!O130 -> 0 | M20: =IF(ISNUMBER(L20/$B20*100),L20/$B20*100,0) -> 0 | N20: =[1]CUADRO456!Q130 -> 0 | O20: =[1]CUADRO456!R130 -> 53597.217 | P20: =IF(ISNUMBER(O20/$B20*100),O20/$B20*100,0) -> 17.154033 | Q20: =[1]CUADRO456!T130 -> 6.2478808
A21: De 45 a 59 años | B21: =SUM(C21,F21,I21,L21,O21) -> 320655.56 | C21: =[1]CUADRO456!F131 -> 17286.1 | D21: =IF(ISNUMBER(C21/$B21*100),C21/$B21*100,0) -> 5.3908624 | E21: =[1]CUADRO456!H131 -> 7.1425564 | F21: =[1]CUADRO456!I131 -> 168392.46 | G21: =IF(ISNUMBER(F21/$B21*100),F21/$B21*100,0) -> 52.515061 | H21: =[1]CUADRO456!K131 -> 7.0523007 | I21: =[1]CUADRO456!L131 -> 64232.857 | J21: =IF(ISNUMBER(I21/$B21*100),I21/$B21*100,0) -> 20.03173 | K21: =[1]CUADRO456!N131 -> 6.2781667 | L21: =[1]CUADRO456!O131 -> 261.67652 | M21: =IF(ISNUMBER(L21/$B21*100),L21/$B21*100,0) -> 0.08160673 | N21: =[1]CUADRO456!Q131 -> 16 | O21: =[1]CUADRO456!R131 -> 70482.466 | P21: =IF(ISNUMBER(O21/$B21*100),O21/$B21*100,0) -> 21.98074 | Q21: =[1]CUADRO456!T131 -> 5.8098346
A22: De 60 años y más | B22: =SUM(C22,F22,I22,L22,O22) -> 159102.7 | C22: =[1]CUADRO456!F132 -> 7844.2061 | D22: =IF(ISNUMBER(C22/$B22*100),C22/$B22*100,0) -> 4.9302785 | E22: =[1]CUADRO456!H132 -> 5.758865 | F22: =[1]CUADRO456!I132 -> 76760.869 | G22: =IF(ISNUMBER(F22/$B22*100),F22/$B22*100,0) -> 48.246113 | H22: =[1]CUADRO456!K132 -> 5.5745253 | I22: =[1]CUADRO456!L132 -> 33157.295 | J22: =IF(ISNUMBER(I22/$B22*100),I22/$B22*100,0) -> 20.840184 | K22: =[1]CUADRO456!N132 -> 4.5746257 | L22: =[1]CUADRO456!O132 -> 300.57764 | M22: =IF(ISNUMBER(L22/$B22*100),L22/$B22*100,0) -> 0.18892052 | N22: =[1]CUADRO456!Q132 -> 0 | O22: =[1]CUADRO456!R132 -> 41039.752 | P22: =IF(ISNUMBER(O22/$B22*100),O22/$B22*100,0) -> 25.794504 | Q22: =[1]CUADRO456!T132 -> 5.4318357
A25: ='C01'!$A$32 -> Fuente: Instituto Nacional de Estadística (INE). Encuesta Permanente de Hogares de Propósitos Múltiples LXXIII, 2021.
A26: AEP: Años de Estudio Promedio
A27: 1/ Porcentaje por filas
A29: =A1 -> Cuadro No. 6. Población con problemas de empleo y Años de Estudio Promedio (AEP), según dominio, Rangos de edad, rama de actividad y ocupación
A30: =A2 -> Mujeres
A31: ....... Continuación
A32: =A3 -> Categorías | B32: Total | C32: Desocupados | F32: Subocupados por Insuficiencia de Tiempo de Trabajo. | I32: Subocupados Por Insuficiencia De Ingresos | L32: =L3 -> Buscador no disponible | O32: =O3 -> Disponible no buscador
C33: No. | D33: % 1/ | E33: AEP | F33: No. | G33: % 1/ | H33: AEP | I33: No. | J33: % 1/ | K33: AEP | L33: No. | M33: % 1/ | N33: AEP | O33: No. | P33: % 1/ | Q33: AEP
A35: =A6 -> Total Nacional/2
A37: Rama de Actividad
A38: Agricultura, ganaderia, silvicultura y pesca | B38: =SUM(C38,F38,I38,L38,O38) -> 96070.28 | C38: =[1]CUADRO456!F133 -> 0 | D38: =IF(ISNUMBER(C38/$B38*100),C38/$B38*100,0) -> 0 | E38: =[1]CUADRO456!H133 -> 0 | F38: =[1]CUADRO456!I133 -> 65135.881 | G38: =IF(ISNUMBER(F38/$B38*100),F38/$B38*100,0) -> 67.800241 | H38: =[1]CUADRO456!K133 -> 5.7051887 | I38: =[1]CUADRO456!L133 -> 30934.399 | J38: =IF(ISNUMBER(I38/$B38*100),I38/$B38*100,0) -> 32.199759 | K38: =[1]CUADRO456!N133 -> 6.2117988 | L38: =[1]CUADRO456!O133 -> 0 | M38: =IF(ISNUMBER(L38/$B38*100),L38/$B38*100,0) -> 0 | N38: =[1]CUADRO456!Q133 -> 0 | O38: =[1]CUADRO456!R133 -> 0 | P38: =IF(ISNUMBER(O38/$B38*100),O38/$B38*100,0) -> 0 | Q38: =[1]CUADRO456!T133 -> 0
A39: Explotacion de minas y canteras | B39: =SUM(C39,F39,I39,L39,O39) -> 0 | C39: =[1]CUADRO456!F134 -> 0 | D39: =IF(ISNUMBER(C39/$B39*100),C39/$B39*100,0) -> 0 | E39: =[1]CUADRO456!H134 -> 0 | F39: =[1]CUADRO456!I134 -> 0 | G39: =IF(ISNUMBER(F39/$B39*100),F39/$B39*100,0) -> 0 | H39: =[1]CUADRO456!K134 -> 0 | I39: =[1]CUADRO456!L134 -> 0 | J39: =IF(ISNUMBER(I39/$B39*100),I39/$B39*100,0) -> 0 | K39: =[1]CUADRO456!N134 -> 0 | L39: =[1]CUADRO456!O134 -> 0 | M39: =IF(ISNUMBER(L39/$B39*100),L39/$B39*100,0) -> 0 | N39: =[1]CUADRO456!Q134 -> 0 | O39: =[1]CUADRO456!R134 -> 0 | P39: =IF(ISNUMBER(O39/$B39*100),O39/$B39*100,0) -> 0 | Q39: =[1]CUADRO456!T134 -> 0
A40: Industria manufacturera | B40: =SUM(C40,F40,I40,L40,O40) -> 226664.64 | C40: =[1]CUADRO456!F135 -> 0 | D40: =IF(ISNUMBER(C40/$B40*100),C40/$B40*100,0) -> 0 | E40: =[1]CUADRO456!H135 -> 0 | F40: =[1]CUADRO456!I135 -> 146170.43 | G40: =IF(ISNUMBER(F40/$B40*100),F40/$B40*100,0) -> 64.487529 | H40: =[1]CUADRO456!K135 -> 7.0215156 | I40: =[1]CUADRO456!L135 -> 80494.214 | J40: =IF(ISNUMBER(I40/$B40*100),I40/$B40*100,0) -> 35.512471 | K40: =[1]CUADRO456!N135 -> 8.4092425 | L40: =[1]CUADRO456!O135 -> 0 | M40: =IF(ISNUMBER(L40/$B40*100),L40/$B40*100,0) -> 0 | N40: =[1]CUADRO456!Q135 -> 0 | O40: =[1]CUADRO456!R135 -> 0 | P40: =IF(ISNUMBER(O40/$B40*100),O40/$B40*100,0) -> 0 | Q40: =[1]CUADRO456!T135 -> 0
A41: Suministro de electricidad, gas, vapor y aire acondicionado | B41: =SUM(C41,F41,I41,L41,O41) -> 2087.1625 | C41: =[1]CUADRO456!F136 -> 0 | D41: =IF(ISNUMBER(C41/$B41*100),C41/$B41*100,0) -> 0 | E41: =[1]CUADRO456!H136 -> 0 | F41: =[1]CUADRO456!I136 -> 1254.3908 | G41: =IF(ISNUMBER(F41/$B41*100),F41/$B41*100,0) -> 60.100293 | H41: =[1]CUADRO456!K136 -> 9.6972608 | I41: =[1]CUADRO456!L136 -> 832.7717 | J41: =IF(ISNUMBER(I41/$B41*100),I41/$B41*100,0) -> 39.899707 | K41: =[1]CUADRO456!N136 -> 2 | L41: =[1]CUADRO456!O136 -> 0 | M41: =IF(ISNUMBER(L41/$B41*100),L41/$B41*100,0) -> 0 | N41: =[1]CUADRO456!Q136 -> 0 | O41: =[1]CUADRO456!R136 -> 0 | P41: =IF(ISNUMBER(O41/$B41*100),O41/$B41*100,0) -> 0 | Q41: =[1]CUADRO456!T136 -> 0
A42: Suministro de agua, evacuacion de aguas residuales, gestion de desechos y descontaminacion | B42: =SUM(C42,F42,I42,L42,O42) -> 3371.6134 | C42: =[1]CUADRO456!F137 -> 0 | D42: =IF(ISNUMBER(C42/$B42*100),C42/$B42*100,0) -> 0 | E42: =[1]CUADRO456!H137 -> 0 | F42: =[1]CUADRO456!I137 -> 3371.6134 | G42: =IF(ISNUMBER(F42/$B42*100),F42/$B42*100,0) -> 100 | H42: =[1]CUADRO456!K137 -> 3.1357432 | I42: =[1]CUADRO456!L137 -> 0 | J42: =IF(ISNUMBER(I42/$B42*100),I42/$B42*100,0) -> 0 | K42: =[1]CUADRO456!N137 -> 0 | L42: =[1]CUADRO456!O137 -> 0 | M42: =IF(ISNUMBER(L42/$B42*100),L42/$B42*100,0) -> 0 | N42: =[1]CUADRO456!Q137 -> 0 | O42: =[1]CUADRO456!R137 -> 0 | P42: =IF(ISNUMBER(O42/$B42*100),O42/$B42*100,0) -> 0 | Q42: =[1]CUADRO456!T137 -> 0
A43: Construccion | B43: =SUM(C43,F43,I43,L43,O43) -> 3075.2571 | C43: =[1]CUADRO456!F138 -> 0 | D43: =IF(ISNUMBER(C43/$B43*100),C43/$B43*100,0) -> 0 | E43: =[1]CUADRO456!H138 -> 0 | F43: =[1]CUADRO456!I138 -> 1022.7744 | G43: =IF(ISNUMBER(F43/$B43*100),F43/$B43*100,0) -> 33.258174 | H43: =[1]CUADRO456!K138 -> 10.767269 | I43: =[1]CUADRO456!L138 -> 2052.4828 | J43: =IF(ISNUMBER(I43/$B43*100),I43/$B43*100,0) -> 66.741826 | K43: =[1]CUADRO456!N138 -> 13 | L43: =[1]CUADRO456!O138 -> 0 | M43: =IF(ISNUMBER(L43/$B43*100),L43/$B43*100,0) -> 0 | N43: =[1]CUADRO456!Q138 -> 0 | O43: =[1]CUADRO456!R138 -> 0 | P43: =IF(ISNUMBER(O43/$B43*100),O43/$B43*100,0) -> 0 | Q43: =[1]CUADRO456!T138 -> 0
A44: Comercio al por mayor y al por menor, reparacion de vehiculos automotores y motocicletas | B44: =SUM(C44,F44,I44,L44,O44) -> 296510.89 | C44: =[1]CUADRO456!F139 -> 0 | D44: =IF(ISNUMBER(C44/$B44*100),C44/$B44*100,0) -> 0 | E44: =[1]CUADRO456!H139 -> 0 | F44: =[1]CUADRO456!I139 -> 190905.18 | G44: =IF(ISNUMBER(F44/$B44*100),F44/$B44*100,0) -> 64.383869 | H44: =[1]CUADRO456!K139 -> 7.6124878 | I44: =[1]CUADRO456!L139 -> 105605.71 | J44: =IF(ISNUMBER(I44/$B44*100),I44/$B44*100,0) -> 35.616131 | K44: =[1]CUADRO456!N139 -> 8.1450535 | L44: =[1]CUADRO456!O139 -> 0 | M44: =IF(ISNUMBER(L44/$B44*100),L44/$B44*100,0) -> 0 | N44: =[1]CUADRO456!Q139 -> 0 | O44: =[1]CUADRO456!R139 -> 0 | P44: =IF(ISNUMBER(O44/$B44*100),O44/$B44*100,0) -> 0 | Q44: =[1]CUADRO456!T139 -> 0
A45: Transporte y almacenamiento | B45: =SUM(C45,F45,I45,L45,O45) -> 6293.4592 | C45: =[1]CUADRO456!F140 -> 0 | D45: =IF(ISNUMBER(C45/$B45*100),C45/$B45*100,0) -> 0 | E45: =[1]CUADRO456!H140 -> 0 | F45: =[1]CUADRO456!I140 -> 5469.5285 | G45: =IF(ISNUMBER(F45/$B45*100),F45/$B45*100,0) -> 86.908143 | H45: =[1]CUADRO456!K140 -> 12.452716 | I45: =[1]CUADRO456!L140 -> 823.93068 | J45: =IF(ISNUMBER(I45/$B45*100),I45/$B45*100,0) -> 13.091857 | K45: =[1]CUADRO456!N140 -> 6.9527859 | L45: =[1]CUADRO456!O140 -> 0 | M45: =IF(ISNUMBER(L45/$B45*100),L45/$B45*100,0) -> 0 | N45: =[1]CUADRO456!Q140 -> 0 | O45: =[1]CUADRO456!R140 -> 0 | P45: =IF(ISNUMBER(O45/$B45*100),O45/$B45*100,0) -> 0 | Q45: =[1]CUADRO456!T140 -> 0
A46: Actividades de alojamiento y de servicios de comida | B46: =SUM(C46,F46,I46,L46,O46) -> 110363.51 | C46: =[1]CUADRO456!F141 -> 0 | D46: =IF(ISNUMBER(C46/$B46*100),C46/$B46*100,0) -> 0 | E46: =[1]CUADRO456!H141 -> 0 | F46: =[1]CUADRO456!I141 -> 77340.718 | G46: =IF(ISNUMBER(F46/$B46*100),F46/$B46*100,0) -> 70.07816 | H46: =[1]CUADRO456!K141 -> 8.234222 | I46: =[1]CUADRO456!L141 -> 33022.793 | J46: =IF(ISNUMBER(I46/$B46*100),I46/$B46*100,0) -> 29.92184 | K46: =[1]CUADRO456!N141 -> 7.3292309 | L46: =[1]CUADRO456!O141 -> 0 | M46: =IF(ISNUMBER(L46/$B46*100),L46/$B46*100,0) -> 0 | N46: =[1]CUADRO456!Q141 -> 0 | O46: =[1]CUADRO456!R141 -> 0 | P46: =IF(ISNUMBER(O46/$B46*100),O46/$B46*100,0) -> 0 | Q46: =[1]CUADRO456!T141 -> 0
A47: Informacion y comunicaciones | B47: =SUM(C47,F47,I47,L47,O47) -> 1790.8062 | C47: =[1]CUADRO456!F142 -> 0 | D47: =IF(ISNUMBER(C47/$B47*100),C47/$B47*100,0) -> 0 | E47: =[1]CUADRO456!H142 -> 0 | F47: =[1]CUADRO456!I142 -> 785.02956 | G47: =IF(ISNUMBER(F47/$B47*100),F47/$B47*100,0) -> 43.836656 | H47: =[1]CUADRO456!K142 -> 12 | I47: =[1]CUADRO456!L142 -> 1005.7767 | J47: =IF(ISNUMBER(I47/$B47*100),I47/$B47*100,0) -> 56.163344 | K47: =[1]CUADRO456!N142 -> 9.7805207 | L47: =[1]CUADRO456!O142 -> 0 | M47: =IF(ISNUMBER(L47/$B47*100),L47/$B47*100,0) -> 0 | N47: =[1]CUADRO456!Q142 -> 0 | O47: =[1]CUADRO456!R142 -> 0 | P47: =IF(ISNUMBER(O47/$B47*100),O47/$B47*100,0) -> 0 | Q47: =[1]CUADRO456!T142 -> 0
A48: Actividades finacieras y de seguros | B48: =SUM(C48,F48,I48,L48,O48) -> 2601.6745 | C48: =[1]CUADRO456!F143 -> 0 | D48: =IF(ISNUMBER(C48/$B48*100),C48/$B48*100,0) -> 0 | E48: =[1]CUADRO456!H143 -> 0 | F48: =[1]CUADRO456!I143 -> 832.7717 | G48: =IF(ISNUMBER(F48/$B48*100),F48/$B48*100,0) -> 32.009066 | H48: =[1]CUADRO456!K143 -> 0 | I48: =[1]CUADRO456!L143 -> 1768.9028 | J48: =IF(ISNUMBER(I48/$B48*100),I48/$B48*100,0) -> 67.990934 | K48: =[1]CUADRO456!N143 -> 10.876975 | L48: =[1]CUADRO456!O143 -> 0 | M48: =IF(ISNUMBER(L48/$B48*100),L48/$B48*100,0) -> 0 | N48: =[1]CUADRO456!Q143 -> 0 | O48: =[1]CUADRO456!R143 -> 0 | P48: =IF(ISNUMBER(O48/$B48*100),O48/$B48*100,0) -> 0 | Q48: =[1]CUADRO456!T143 -> 0
A49: Actividades inmobiliarias | B49: =SUM(C49,F49,I49,L49,O49) -> 862.8318 | C49: =[1]CUADRO456!F144 -> 0 | D49: =IF(ISNUMBER(C49/$B49*100),C49/$B49*100,0) -> 0 | E49: =[1]CUADRO456!H144 -> 0 | F49: =[1]CUADRO456!I144 -> 300.57764 | G49: =IF(ISNUMBER(F49/$B49*100),F49/$B49*100,0) -> 34.83618 | H49: =[1]CUADRO456!K144 -> 6 | I49: =[1]CUADRO456!L144 -> 562.25416 | J49: =IF(ISNUMBER(I49/$B49*100),I49/$B49*100,0) -> 65.16382 | K49: =[1]CUADRO456!N144 -> 2 | L49: =[1]CUADRO456!O144 -> 0 | M49: =IF(ISNUMBER(L49/$B49*100),L49/$B49*100,0) -> 0 | N49: =[1]CUADRO456!Q144 -> 0 | O49: =[1]CUADRO456!R144 -> 0 | P49: =IF(ISNUMBER(O49/$B49*100),O49/$B49*100,0) -> 0 | Q49: =[1]CUADRO456!T144 -> 0
... A59: Rama de actividad NO especificadas | B59: =SUM(C59,F59,I59,L59,O59) -> 0 | C59: =[1]CUADRO456!F154 -> 0 | D59: =IF(ISNUMBER(C59/$B59*100),C59/$B59*100,0) -> 0 | E59: =[1]CUADRO456!H154 -> 0 | F59: =[1]CUADRO456!I154 -> 0 | G59: =IF(ISNUMBER(F59/$B59*100),F59/$B59*100,0) -> 0 | H59: =[1]CUADRO456!K154 -> 0 | I59: =[1]CUADRO456!L154 -> 0 | J59: =IF(ISNUMBER(I59/$B59*100),I59/$B59*100,0) -> 0 | K59: =[1]CUADRO456!N154 -> 0 | L59: =[1]CUADRO456!O154 -> 0 | M59: =IF(ISNUMBER(L59/$B59*100),L59/$B59*100,0) -> 0 | N59: =[1]CUADRO456!Q154 -> 0 | O59: =[1]CUADRO456!R154 -> 0 | P59: =IF(ISNUMBER(O59/$B59*100),O59/$B59*100,0) -> 0 | Q59: =[1]CUADRO456!T154 -> 0
A60: Busca trabajo por primera vez | B60: =SUM(C60,F60,I60,L60,O60) -> 53916.573 | C60: =[1]CUADRO456!F155 -> 52593.221 | D60: 100 | E60: =[1]CUADRO456!H155 -> 9.2839246 | F60: =[1]CUADRO456!I155 -> 0 | G60: =IF(ISNUMBER(F60/$B60*100),F60/$B60*100,0) -> 0 | H60: =[1]CUADRO456!K155 -> 0 | I60: =[1]CUADRO456!L155 -> 0 | J60: =IF(ISNUMBER(I60/$B60*100),I60/$B60*100,0) -> 0 | K60: =[1]CUADRO456!N155 -> 0 | L60: =[1]CUADRO456!O155 -> 1323.352 | M60: 100 | N60: =[1]CUADRO456!Q155 -> 11 | O60: =[1]CUADRO456!R155 -> 0 | P60: =IF(ISNUMBER(O60/$B60*100),O60/$B60*100,0) -> 0 | Q60: =[1]CUADRO456!T155 -> 0
A61: NS/NR | B61: =SUM(C61,F61,I61,L61,O61) -> 14528.132 | C61: =[1]CUADRO456!F156 -> 0 | D61: =IF(ISNUMBER(C61/$B61*100),C61/$B61*100,0) -> 0 | E61: =[1]CUADRO456!H156 -> 0 | F61: =[1]CUADRO456!I156 -> 9056.6969 | G61: =IF(ISNUMBER(F61/$B61*100),F61/$B61*100,0) -> 62.339031 | H61: =[1]CUADRO456!K156 -> 9.4385016 | I61: =[1]CUADRO456!L156 -> 5471.4354 | J61: =IF(ISNUMBER(I61/$B61*100),I61/$B61*100,0) -> 37.660969 | K61: =[1]CUADRO456!N156 -> 8.6638013 | L61: =[1]CUADRO456!O156 -> 0 | M61: =IF(ISNUMBER(L61/$B61*100),L61/$B61*100,0) -> 0 | N61: =[1]CUADRO456!Q156 -> 0 | O61: =[1]CUADRO456!R156 -> 0 | P61: =IF(ISNUMBER(O61/$B61*100),O61/$B61*100,0) -> 0 | Q61: =[1]CUADRO456!T156 -> 0
A62: Ocupación
A63: Directores y gerentes | B63: =SUM(C63,F63,I63,L63,O63) -> 18932.734 | C63: =[1]CUADRO456!F157 -> 0 | D63: =IF(ISNUMBER(C63/$B63*100),C63/$B63*100,0) -> 0 | E63: =[1]CUADRO456!H157 -> 0 | F63: =[1]CUADRO456!I157 -> 12262.807 | G63: =IF(ISNUMBER(F63/$B63*100),F63/$B63*100,0) -> 64.770396 | H63: =[1]CUADRO456!K157 -> 11.118529 | I63: =[1]CUADRO456!L157 -> 6669.9274 | J63: =IF(ISNUMBER(I63/$B63*100),I63/$B63*100,0) -> 35.229604 | K63: =[1]CUADRO456!N157 -> 12.970263 | L63: =[1]CUADRO456!O157 -> 0 | M63: =IF(ISNUMBER(L63/$B63*100),L63/$B63*100,0) -> 0 | N63: =[1]CUADRO456!Q157 -> 0 | O63: =[1]CUADRO456!R157 -> 0 | P63: =IF(ISNUMBER(O63/$B63*100),O63/$B63*100,0) -> 0 | Q63: =[1]CUADRO456!T157 -> 0
A64: Profesionales cientificos e intelectuales | B64: =SUM(C64,F64,I64,L64,O64) -> 39344.881 | C64: =[1]CUADRO456!F158 -> 0 | D64: =IF(ISNUMBER(C64/$B64*100),C64/$B64*100,0) -> 0 | E64: =[1]CUADRO456!H158 -> 0 | F64: =[1]CUADRO456!I158 -> 33736.746 | G64: =IF(ISNUMBER(F64/$B64*100),F64/$B64*100,0) -> 85.746214 | H64: =[1]CUADRO456!K158 -> 16.199996 | I64: =[1]CUADRO456!L158 -> 5608.1352 | J64: =IF(ISNUMBER(I64/$B64*100),I64/$B64*100,0) -> 14.253786 | K64: =[1]CUADRO456!N158 -> 11.653497 | L64: =[1]CUADRO456!O158 -> 0 | M64: =IF(ISNUMBER(L64/$B64*100),L64/$B64*100,0) -> 0 | N64: =[1]CUADRO456!Q158 -> 0 | O64: =[1]CUADRO456!R158 -> 0 | P64: =IF(ISNUMBER(O64/$B64*100),O64/$B64*100,0) -> 0 | Q64: =[1]CUADRO456!T158 -> 0
A65: Tecnicos y profesionales de nivel medio | B65: =SUM(C65,F65,I65,L65,O65) -> 47245.505 | C65: =[1]CUADRO456!F159 -> 0 | D65: =IF(ISNUMBER(C65/$B65*100),C65/$B65*100,0) -> 0 | E65: =[1]CUADRO456!H159 -> 0 | F65: =[1]CUADRO456!I159 -> 25458.916 | G65: =IF(ISNUMBER(F65/$B65*100),F65/$B65*100,0) -> 53.886429 | H65: =[1]CUADRO456!K159 -> 10.763959 | I65: =[1]CUADRO456!L159 -> 21786.59 | J65: =IF(ISNUMBER(I65/$B65*100),I65/$B65*100,0) -> 46.113571 | K65: =[1]CUADRO456!N159 -> 12.137105 | L65: =[1]CUADRO456!O159 -> 0 | M65: =IF(ISNUMBER(L65/$B65*100),L65/$B65*100,0) -> 0 | N65: =[1]CUADRO456!Q159 -> 0 | O65: =[1]CUADRO456!R159 -> 0 | P65: =IF(ISNUMBER(O65/$B65*100),O65/$B65*100,0) -> 0 | Q65: =[1]CUADRO456!T159 -> 0
A66: Personal de apoyo administrativo | B66: =SUM(C66,F66,I66,L66,O66) -> 19185.575 | C66: =[1]CUADRO456!F160 -> 0 | D66: =IF(ISNUMBER(C66/$B66*100),C66/$B66*100,0) -> 0 | E66: =[1]CUADRO456!H160 -> 0 | F66: =[1]CUADRO456!I160 -> 6764.8486 | G66: =IF(ISNUMBER(F66/$B66*100),F66/$B66*100,0) -> 35.260078 | H66: =[1]CUADRO456!K160 -> 10.957506 | I66: =[1]CUADRO456!L160 -> 12420.726 | J66: =IF(ISNUMBER(I66/$B66*100),I66/$B66*100,0) -> 64.739922 | K66: =[1]CUADRO456!N160 -> 11.987624 | L66: =[1]CUADRO456!O160 -> 0 | M66: =IF(ISNUMBER(L66/$B66*100),L66/$B66*100,0) -> 0 | N66: =[1]CUADRO456!Q160 -> 0 | O66: =[1]CUADRO456!R160 -> 0 | P66: =IF(ISNUMBER(O66/$B66*100),O66/$B66*100,0) -> 0 | Q66: =[1]CUADRO456!T160 -> 0
A67: Trabajadores de los servicios y vendedores de comercios y mercados | B67: =SUM(C67,F67,I67,L67,O67) -> 448405.02 | C67: =[1]CUADRO456!F161 -> 0 | D67: =IF(ISNUMBER(C67/$B67*100),C67/$B67*100,0) -> 0 | E67: =[1]CUADRO456!H161 -> 0 | F67: =[1]CUADRO456!I161 -> 301821.33 | G67: =IF(ISNUMBER(F67/$B67*100),F67/$B67*100,0) -> 67.309981 | H67: =[1]CUADRO456!K161 -> 7.8111878 | I67: =[1]CUADRO456!L161 -> 146583.68 | J67: =IF(ISNUMBER(I67/$B67*100),I67/$B67*100,0) -> 32.690019 | K67: =[1]CUADRO456!N161 -> 7.7730691 | L67: =[1]CUADRO456!O161 -> 0 | M67: =IF(ISNUMBER(L67/$B67*100),L67/$B67*100,0) -> 0 | N67: =[1]CUADRO456!Q161 -> 0 | O67: =[1]CUADRO456!R161 -> 0 | P67: =IF(ISNUMBER(O67/$B67*100),O67/$B67*100,0) -> 0 | Q67: =[1]CUADRO456!T161 -> 0
A68: Agricultores y trabajadores calificados agropecuarios forestales y pesqueros | B68: =SUM(C68,F68,I68,L68,O68) -> 25885.436 | C68: =[1]CUADRO456!F162 -> 0 | D68: =IF(ISNUMBER(C68/$B68*100),C68/$B68*100,0) -> 0 | E68: =[1]CUADRO456!H162 -> 0 | F68: =[1]CUADRO456!I162 -> 17821.74 | G68: =IF(ISNUMBER(F68/$B68*100),F68/$B68*100,0) -> 68.84852 | H68: =[1]CUADRO456!K162 -> 5.5585909 | I68: =[1]CUADRO456!L162 -> 8063.6965 | J68: =IF(ISNUMBER(I68/$B68*100),I68/$B68*100,0) -> 31.15148 | K68: =[1]CUADRO456!N162 -> 4.8963253 | L68: =[1]CUADRO456!O162 -> 0 | M68: =IF(ISNUMBER(L68/$B68*100),L68/$B68*100,0) -> 0 | N68: =[1]CUADRO456!Q162 -> 0 | O68: =[1]CUADRO456!R162 -> 0 | P68: =IF(ISNUMBER(O68/$B68*100),O68/$B68*100,0) -> 0 | Q68: =[1]CUADRO456!T162 -> 0
A69: Oficiales, operarios y artesanos de artes mecanicas y de otros oficios | B69: =SUM(C69,F69,I69,L69,O69) -> 168766.42 | C69: =[1]CUADRO456!F163 -> 0 | D69: =IF(ISNUMBER(C69/$B69*100),C69/$B69*100,0) -> 0 | E69: =[1]CUADRO456!H163 -> 0 | F69: =[1]CUADRO456!I163 -> 121175.77 | G69: =IF(ISNUMBER(F69/$B69*100),F69/$B69*100,0) -> 71.800874 | H69: =[1]CUADRO456!K163 -> 6.9502957 | I69: =[1]CUADRO456!L163 -> 47590.657 | J69: =IF(ISNUMBER(I69/$B69*100),I69/$B69*100,0) -> 28.199126 | K69: =[1]CUADRO456!N163 -> 7.445278 | L69: =[1]CUADRO456!O163 -> 0 | M69: =IF(ISNUMBER(L69/$B69*100),L69/$B69*100,0) -> 0 | N69: =[1]CUADRO456!Q163 -> 0 | O69: =[1]CUADRO456!R163 -> 0 | P69: =IF(ISNUMBER(O69/$B69*100),O69/$B69*100,0) -> 0 | Q69: =[1]CUADRO456!T163 -> 0
A70: Operadores de instalaciones y maquinas y ensambladores | B70: =SUM(C70,F70,I70,L70,O70) -> 39274.528 | C70: =[1]CUADRO456!F164 -> 0 | D70: =IF(ISNUMBER(C70/$B70*100),C70/$B70*100,0) -> 0 | E70: =[1]CUADRO456!H164 -> 0 | F70: =[1]CUADRO456!I164 -> 12057.029 | G70: =IF(ISNUMBER(F70/$B70*100),F70/$B70*100,0) -> 30.699362 | H70: =[1]CUADRO456!K164 -> 7.7632251 | I70: =[1]CUADRO456!L164 -> 27217.498 | J70: =IF(ISNUMBER(I70/$B70*100),I70/$B70*100,0) -> 69.300638 | K70: =[1]CUADRO456!N164 -> 9.2493479 | L70: =[1]CUADRO456!O164 -> 0 | M70: =IF(ISNUMBER(L70/$B70*100),L70/$B70*100,0) -> 0 | N70: =[1]CUADRO456!Q164 -> 0 | O70: =[1]CUADRO456!R164 -> 0 | P70: =IF(ISNUMBER(O70/$B70*100),O70/$B70*100,0) -> 0 | Q70: =[1]CUADRO456!T164 -> 0
A71: Ocupaciones elementales | B71: =SUM(C71,F71,I71,L71,O71) -> 294094.49 | C71: =[1]CUADRO456!F165 -> 0 | D71: =IF(ISNUMBER(C71/$B71*100),C71/$B71*100,0) -> 0 | E71: =[1]CUADRO456!H165 -> 0 | F71: =[1]CUADRO456!I165 -> 204592.56 | G71: =IF(ISNUMBER(F71/$B71*100),F71/$B71*100,0) -> 69.566947 | H71: =[1]CUADRO456!K165 -> 6.605049 | I71: =[1]CUADRO456!L165 -> 89501.931 | J71: =IF(ISNUMBER(I71/$B71*100),I71/$B71*100,0) -> 30.433053 | K71: =[1]CUADRO456!N165 -> 6.7930983 | L71: =[1]CUADRO456!O165 -> 0 | M71: =IF(ISNUMBER(L71/$B71*100),L71/$B71*100,0) -> 0 | N71: =[1]CUADRO456!Q165 -> 0 | O71: =[1]CUADRO456!R165 -> 0 | P71: =IF(ISNUMBER(O71/$B71*100),O71/$B71*100,0) -> 0 | Q71: =[1]CUADRO456!T165 -> 0
A72: Ocupaciones militares | B72: =SUM(C72,F72,I72,L72,O72) -> 261.67652 | C72: =[1]CUADRO456!F166 -> 0 | D72: =IF(ISNUMBER(C72/$B72*100),C72/$B72*100,0) -> 0 | E72: =[1]CUADRO456!H166 -> 0 | F72: =[1]CUADRO456!I166 -> 0 | G72: =IF(ISNUMBER(F72/$B72*100),F72/$B72*100,0) -> 0 | H72: =[1]CUADRO456!K166 -> 0 | I72: =[1]CUADRO456!L166 -> 261.67652 | J72: =IF(ISNUMBER(I72/$B72*100),I72/$B72*100,0) -> 100 | K72: =[1]CUADRO456!N166 -> 10 | L72: =[1]CUADRO456!O166 -> 0 | M72: =IF(ISNUMBER(L72/$B72*100),L72/$B72*100,0) -> 0 | N72: =[1]CUADRO456!Q166 -> 0 | O72: =[1]CUADRO456!R166 -> 0 | P72: =IF(ISNUMBER(O72/$B72*100),O72/$B72*100,0) -> 0 | Q72: =[1]CUADRO456!T166 -> 0
A73: Ocupaciones NO especificadas
A74: Busca trabajo por primera vez | B74: =SUM(C74,F74,I74,L74,O74) -> 53916.573 | C74: =[1]CUADRO456!F167 -> 52593.221 | D74: 100 | E74: =[1]CUADRO456!H167 -> 9.2839246 | F74: =[1]CUADRO456!I167 -> 0 | G74: =IF(ISNUMBER(F74/$B74*100),F74/$B74*100,0) -> 0 | H74: =[1]CUADRO456!K167 -> 0 | I74: =[1]CUADRO456!L167 -> 0 | J74: =IF(ISNUMBER(I74/$B74*100),I74/$B74*100,0) -> 0 | K74: =[1]CUADRO456!N167 -> 0 | L74: =[1]CUADRO456!O167 -> 1323.352 | M74: 100 | N74: =[1]CUADRO456!Q167 -> 11 | O74: =[1]CUADRO456!R167 -> 0 | P74: =IF(ISNUMBER(O74/$B74*100),O74/$B74*100,0) -> 0 | Q74: =[1]CUADRO456!T167 -> 0
A75: NS/NR | B75: =SUM(C75,F75,I75,L75,O75) -> 0 | C75: =[1]CUADRO456!F169 -> 0 | D75: =IF(ISNUMBER(C75/$B75*100),C75/$B75*100,0) -> 0 | E75: =[1]CUADRO456!H169 -> 0 | F75: =[1]CUADRO456!I169 -> 0 | G75: =IF(ISNUMBER(F75/$B75*100),F75/$B75*100,0) -> 0 | H75: =[1]CUADRO456!K169 -> 0 | I75: =[1]CUADRO456!L169 -> 0 | J75: =IF(ISNUMBER(I75/$B75*100),I75/$B75*100,0) -> 0 | K75: =[1]CUADRO456!N169 -> 0 | L75: =[1]CUADRO456!O169 -> 0 | M75: =IF(ISNUMBER(L75/$B75*100),L75/$B75*100,0) -> 0 | N75: =[1]CUADRO456!Q169 -> 0 | O75: =[1]CUADRO456!R169 -> 0 | P75: =IF(ISNUMBER(O75/$B75*100),O75/$B75*100,0) -> 0 | Q75: =[1]CUADRO456!T169 -> 0
A77: =A25 -> Fuente: Instituto Nacional de Estadística (INE). Encuesta Permanente de Hogares de Propósitos Múltiples LXXIII, 2021.
A78: AEP: Años de Estudio Promedio
A79: 1/ Porcentaje por filas
