Workbook

Sheet Portada

Sheet C01
A2: Cuadro No. 1. Fuerza de Trabajo (FT) en condición de empleo, según dominio, Nivel educativo, Rangos de edad, rama de actividad y ocupación
A4: Categorías | B4: Fuerza de Trabajo | D4: Ocupados | F4: Desocupados | I4: Subocupados por Insuficiencia de Tiempo de Trabajo. | L4: Subocupados Por Insuficiencia De Ingresos
B5: No. | C5: AEP | D5: No. | E5: AEP | F5: No. | G5: AEP | H5: TD | I5: No. | J5: AEP | K5: TST | L5: No. | M5: AEP | N5: TSI
A7: Total Nacional | B7: 3930943.9 | C7: 7.7784835 | D7: 3724970.5 | E7: 7.7269705 | F7: 205973.38 | G7: 8.6650437 | H7: =F7/B7*100 -> 5.2397945 | I7: 317814.78 | J7: 7.2822072 | K7: =IF(ISNUMBER(I7/D7*100),I7/D7*100,0) -> 8.5320079 | L7: 1295636.9 | M7: 7.0381791 | N7: =IF(ISNUMBER(L7/D7*100),L7/D7*100,0) -> 34.782473
A9: Dominio
A10: Urbano | B10: 2359842.9 | C10: 8.726265 | D10: 2225575.1 | E10: 8.6782026 | F10: 134267.84 | G10: 9.5039783 | H10: =F10/B10*100 -> 5.6896939 | I10: 164057.61 | J10: 8.5440317 | K10: =IF(ISNUMBER(I10/D10*100),I10/D10*100,0) -> 7.3714706 | L10: 804841.29 | M10: 7.5358597 | N10: =IF(ISNUMBER(L10/D10*100),L10/D10*100,0) -> 36.163295
A11: Distrito Central | B11: 540226.98 | C11: 9.9858809 | D11: 498595.11 | E11: 9.9563303 | F11: 41631.871 | G11: 10.329046 | H11: =F11/B11*100 -> 7.7063664 | I11: 53425.127 | J11: 9.841311 | K11: =IF(ISNUMBER(I11/D11*100),I11/D11*100,0) -> 10.715133 | L11: 160949.98 | M11: 7.9416942 | N11: =IF(ISNUMBER(L11/D11*100),L11/D11*100,0) -> 32.280699
A12: San Pedro Sula | B12: 308382.95 | C12: 9.1380319 | D12: 295030.29 | E12: 9.1338019 | F12: 13352.664 | G12: 9.2280285 | H12: =F12/B12*100 -> 4.3298969 | I12: 13712.118 | J12: 8.5636083 | K12: =IF(ISNUMBER(I12/D12*100),I12/D12*100,0) -> 4.6476984 | L12: 110556.31 | M12: 8.0699573 | N12: =IF(ISNUMBER(L12/D12*100),L12/D12*100,0) -> 37.472868
A13: Resto urbano | B13: 1511233 | C13: 8.1774399 | D13: 1431949.7 | E13: 8.1253986 | F13: 79283.305 | G13: 9.1023527 | H13: =F13/B13*100 -> 5.2462661 | I13: 96920.368 | J13: 7.772454 | K13: =IF(ISNUMBER(I13/D13*100),I13/D13*100,0) -> 6.7684199 | L13: 533334.99 | M13: 7.2972982 | N13: =IF(ISNUMBER(L13/D13*100),L13/D13*100,0) -> 37.245372
A14: Rural | B14: 1571101 | C14: 6.2368063 | D14: 1499395.4 | E14: 6.1937451 | F14: 71705.542 | G14: 7.062554 | H14: =F14/B14*100 -> 4.5640314 | I14: 153757.16 | J14: 5.8466226 | K14: =IF(ISNUMBER(I14/D14*100),I14/D14*100,0) -> 10.254611 | L14: 490795.59 | M14: 6.1731323 | N14: =IF(ISNUMBER(L14/D14*100),L14/D14*100,0) -> 32.732899
A16: Nivel Educativo /1
A17: Sin Nivel | B17: 291652.1 | C17: 0 | D17: 284847.84 | E17: 0 | F17: 6804.2604 | G17: 0 | H17: =F17/B17*100 -> 2.3330058 | I17: 29781.166 | J17: 0 | K17: =IF(ISNUMBER(I17/D17*100),I17/D17*100,0) -> 10.455114 | L17: 93114.356 | M17: 0 | N17: =IF(ISNUMBER(L17/D17*100),L17/D17*100,0) -> 32.689157
A18: Básica (1-3) | B18: 432873.05 | C18: 2.343268 | D18: 418941.24 | E18: 2.3354095 | F18: 13931.813 | G18: 2.5795818 | H18: =F18/B18*100 -> 3.2184523 | I18: 40666.591 | J18: 2.3373373 | K18: =IF(ISNUMBER(I18/D18*100),I18/D18*100,0) -> 9.7069916 | L18: 139441.94 | M18: 2.3646653 | N18: =IF(ISNUMBER(L18/D18*100),L18/D18*100,0) -> 33.284367
A19: Básica (4-6) | B19: 1294162 | C19: 5.7069872 | D19: 1242017.5 | E19: 5.7051756 | F19: 52144.506 | G19: 5.7501365 | H19: =F19/B19*100 -> 4.0292101 | I19: 107954.48 | J19: 5.6931667 | K19: =IF(ISNUMBER(I19/D19*100),I19/D19*100,0) -> 8.6918649 | L19: 486049.81 | M19: 5.6823083 | N19: =IF(ISNUMBER(L19/D19*100),L19/D19*100,0) -> 39.133895
A20: Básica (7-9) | B20: 507920.48 | C20: 8.4541406 | D20: 478046.02 | E20: 8.4517957 | F20: 29874.466 | G20: 8.4916638 | H20: =F20/B20*100 -> 5.881721 | I20: 41456.527 | J20: 8.3691793 | K20: =IF(ISNUMBER(I20/D20*100),I20/D20*100,0) -> 8.6720788 | L20: 204143.09 | M20: 8.488488 | N20: =IF(ISNUMBER(L20/D20*100),L20/D20*100,0) -> 42.703647
A21: Media | B21: 872888.42 | C21: 8.6601776 | D21: 806430.33 | E21: 8.6633468 | F21: 66458.098 | G21: 8.6216704 | H21: =F21/B21*100 -> 7.6135845 | I21: 67223.548 | J21: 8.5563807 | K21: =IF(ISNUMBER(I21/D21*100),I21/D21*100,0) -> 8.33594 | L21: 290947.93 | M21: 8.6591006 | N21: =IF(ISNUMBER(L21/D21*100),L21/D21*100,0) -> 36.078496
A22: Superior | B22: 494607.14 | C22: 15.737603 | D22: 459198.12 | E22: 15.749846 | F22: 35409.021 | G22: 15.579491 | H22: =F22/B22*100 -> 7.1590195 | I22: 28841.447 | J22: 15.670084 | K22: =IF(ISNUMBER(I22/D22*100),I22/D22*100,0) -> 6.2808288 | L22: 70563.649 | M22: 14.749147 | N22: =IF(ISNUMBER(L22/D22*100),L22/D22*100,0) -> 15.366711
A23: No Sabe/No Responde | B23: 36840.74 | C23: 0 | D23: 35489.521 | E23: 0 | F23: 1351.2182 | G23: 0 | H23: =F23/B23*100 -> 3.6677281 | I23: 1891.0177 | J23: 0 | K23: =IF(ISNUMBER(I23/D23*100),I23/D23*100,0) -> 5.3283832 | L23: 11376.104 | M23: 0 | N23: =IF(ISNUMBER(L23/D23*100),L23/D23*100,0) -> 32.054824
A25: Rango de Edad
A26: De 15 a 18 años | B26: 239275.09 | C26: 6.6458619 | D26: 220729.05 | E26: 6.5929129 | F26: 18546.035 | G26: 7.2798857 | H26: =F26/B26*100 -> 7.7509259 | I26: 18428.618 | J26: 6.6900324 | K26: =IF(ISNUMBER(I26/D26*100),I26/D26*100,0) -> 8.3489768 | L26: 89141.773 | M26: 6.3525546 | N26: =IF(ISNUMBER(L26/D26*100),L26/D26*100,0) -> 40.385156
A27: De 19 a 24 años | B27: 558227.63 | C27: 8.2755585 | D27: 499673.61 | E27: 8.1870371 | F27: 58554.013 | G27: 9.0138774 | H27: =F27/B27*100 -> 10.489272 | I27: 41783.235 | J27: 7.5702347 | K27: =IF(ISNUMBER(I27/D27*100),I27/D27*100,0) -> 8.3621056 | L27: 224263.47 | M27: 8.0007199 | N27: =IF(ISNUMBER(L27/D27*100),L27/D27*100,0) -> 44.881993
A28: De 25 a 29 años | B28: 507600.12 | C28: 8.8405406 | D28: 473682.33 | E28: 8.7652855 | F28: 33917.793 | G28: 9.906112 | H28: =F28/B28*100 -> 6.6819907 | I28: 43276.745 | J28: 8.5772947 | K28: =IF(ISNUMBER(I28/D28*100),I28/D28*100,0) -> 9.1362379 | L28: 184760.66 | M28: 8.1513725 | N28: =IF(ISNUMBER(L28/D28*100),L28/D28*100,0) -> 39.005183
A29: De 30 a 35 años | B29: 537634.08 | C29: 8.8610989 | D29: 509720.69 | E29: 8.865513 | F29: 27913.386 | G29: 8.7830611 | H29: =F29/B29*100 -> 5.1918931 | I29: 40495.239 | J29: 8.3753389 | K29: =IF(ISNUMBER(I29/D29*100),I29/D29*100,0) -> 7.9445939 | L29: 179587.4 | M29: 7.7257258 | N29: =IF(ISNUMBER(L29/D29*100),L29/D29*100,0) -> 35.232511
A30: De 36 a 44 años | B30: 731939.29 | C30: 7.6610484 | D30: 703098.44 | E30: 7.6083086 | F30: 28840.846 | G30: 8.8797343 | H30: =F30/B30*100 -> 3.9403331 | I30: 69555.442 | J30: 7.0950251 | K30: =IF(ISNUMBER(I30/D30*100),I30/D30*100,0) -> 9.8927032 | L30: 233475.59 | M30: 6.7853115 | N30: =IF(ISNUMBER(L30/D30*100),L30/D30*100,0) -> 33.206672
A31: De 45 a 59 años | B31: 904355.67 | C31: 7.2346494 | D31: 876528.5 | E31: 7.2413764 | F31: 27827.164 | G31: 7.029474 | H31: =F31/B31*100 -> 3.0770155 | I31: 80439.082 | J31: 6.2309283 | K31: =IF(ISNUMBER(I31/D31*100),I31/D31*100,0) -> 9.177007 | L31: 257945.09 | M31: 6.0592016 | N31: =IF(ISNUMBER(L31/D31*100),L31/D31*100,0) -> 29.428032
A32: De 60 años y más | B32: 451912.04 | C32: 6.175245 | D32: 441537.9 | E32: 6.1165387 | F32: 10374.144 | G32: 8.3850619 | H32: =F32/B32*100 -> 2.2956112 | I32: 23836.419 | J32: 6.7958054 | K32: =IF(ISNUMBER(I32/D32*100),I32/D32*100,0) -> 5.3984989 | L32: 126462.89 | M32: 5.0470224 | N32: =IF(ISNUMBER(L32/D32*100),L32/D32*100,0) -> 28.641457
A34: Fuente: Instituto Nacional de Estadística (INE). LXXXI Encuesta Permanente de Hogares de Propósitos Múltiples, Junio 2024.
A35: AEP: Años de Estudio Promedio
A36: TD: Tasa de Desocupación
A37: TST: Tasa de subocupación por Insuficiencia de Tiempo de Trabajo.
A38: TSI: Tasa de Subocupación Por Insuficiencia De Ingresos
A39: /1 Nivel Educativo: La suma de básica (1-3), básica (4-6) y básica (7-9) es equivalente a Nivel Educativo Primaria.
A42: =A2 -> Cuadro No. 1. Fuerza de Trabajo (FT) en condición de empleo, según dominio, Nivel educativo, Rangos de edad, rama de actividad y ocupación
A43: ....... Continuación
A44: =A4 -> Categorías | B44: =B4 -> Fuerza de Trabajo | D44: =D4 -> Ocupados | F44: =F4 -> Desocupados | I44: Subocupados por Insuficiencia de Tiempo de Trabajo. | L44: Subocupados Por Insuficiencia De Ingresos
B45: =B5 -> No. | C45: =C5 -> AEP | D45: =D5 -> No. | E45: =E5 -> AEP | F45: =F5 -> No. | G45: =G5 -> AEP | H45: =H5 -> TD | I45: =I5 -> No. | ... N45: =N5 -> TSI
A47: =A7 -> Total Nacional | B47: =B7 -> 3930943.9 | C47: =C7 -> 7.7784835 | D47: =D7 -> 3724970.5 | E47: =E7 -> 7.7269705 | F47: =F7 -> 205973.38 | G47: =G7 -> 8.6650437 | H47: =H7 -> 5.2397945 | ... N47: =N7 -> 34.782473
A49: Rama de Actividad
A50: Agricultura, ganaderia, silvicultura y pesca | B50: 807483.34 | C50: 5.3411019 | D50: 807483.34 | E50: 5.3411019 | F50: 0 | G50: 0 | H50: =F50/B50*100 -> 0 | I50: 97654.538 | J50: 5.1602822 | K50: =IF(ISNUMBER(I50/D50*100),I50/D50*100,0) -> 12.093691 | L50: 181266.24 | M50: 5.6129871 | N50: =IF(ISNUMBER(L50/D50*100),L50/D50*100,0) -> 22.448295
A51: Explotacion de minas y canteras | B51: 15116.017 | C51: 7.6797363 | D51: 15116.017 | E51: 7.6797363 | F51: 0 | G51: 0 | H51: =F51/B51*100 -> 0 | I51: 470.97738 | J51: 8 | K51: =IF(ISNUMBER(I51/D51*100),I51/D51*100,0) -> 3.1157505 | L51: 5102.9084 | M51: 5.9286234 | N51: =IF(ISNUMBER(L51/D51*100),L51/D51*100,0) -> 33.758287
A52: Industria manufacturera | B52: 503070.76 | C52: 7.4802805 | D52: 503070.76 | E52: 7.4802805 | F52: 0 | G52: 0 | H52: =F52/B52*100 -> 0 | I52: 48763.008 | J52: 7.5556332 | K52: =IF(ISNUMBER(I52/D52*100),I52/D52*100,0) -> 9.6930715 | L52: 194242.26 | M52: 7.2755448 | N52: =IF(ISNUMBER(L52/D52*100),L52/D52*100,0) -> 38.611319
A53: Suministro de electricidad, gas, vapor y aire acondicionado | B53: 12811.19 | C53: 8.3985724 | D53: 12811.19 | E53: 8.3985724 | F53: 0 | G53: 0 | H53: =F53/B53*100 -> 0 | I53: 433.1405 | J53: 3 | K53: =IF(ISNUMBER(I53/D53*100),I53/D53*100,0) -> 3.3809545 | L53: 3886.3082 | M53: 9.7675483 | N53: =IF(ISNUMBER(L53/D53*100),L53/D53*100,0) -> 30.335264
A54: Suministro de agua, evacuacion de aguas residuales, gestion de desechos y descontaminacion | B54: 15125.66 | C54: 6.2103518 | D54: 15125.66 | E54: 6.2103518 | F54: 0 | G54: 0 | H54: =F54/B54*100 -> 0 | I54: 1965.4236 | J54: 7.6666667 | K54: =IF(ISNUMBER(I54/D54*100),I54/D54*100,0) -> 12.993969 | L54: 5093.1337 | M54: 7.1418635 | N54: =IF(ISNUMBER(L54/D54*100),L54/D54*100,0) -> 33.672141
A55: Construccion | B55: 273234.95 | C55: 6.3858352 | D55: 273234.95 | E55: 6.3858352 | F55: 0 | G55: 0 | H55: =F55/B55*100 -> 0 | I55: 13864.722 | J55: 6.4939718 | K55: =IF(ISNUMBER(I55/D55*100),I55/D55*100,0) -> 5.0742855 | L55: 138197.28 | M55: 6.1076507 | N55: =IF(ISNUMBER(L55/D55*100),L55/D55*100,0) -> 50.578184
A56: Comercio al por mayor y al por menor, reparacion de vehiculos automotores y motocicletas | B56: 855412.3 | C56: 7.5982648 | D56: 855412.3 | E56: 7.5982648 | F56: 0 | G56: 0 | H56: =F56/B56*100 -> 0 | I56: 43377.836 | J56: 7.4860471 | K56: =IF(ISNUMBER(I56/D56*100),I56/D56*100,0) -> 5.0709858 | L56: 364884.31 | M56: 7.1339906 | N56: =IF(ISNUMBER(L56/D56*100),L56/D56*100,0) -> 42.655959
A57: Transporte y almacenamiento | B57: 151332.85 | C57: 7.6476528 | D57: 151332.85 | E57: 7.6476528 | F57: 0 | G57: 0 | H57: =F57/B57*100 -> 0 | I57: 8374.7052 | J57: 10.966383 | K57: =IF(ISNUMBER(I57/D57*100),I57/D57*100,0) -> 5.5339638 | L57: 54173.265 | M57: 6.7081614 | N57: =IF(ISNUMBER(L57/D57*100),L57/D57*100,0) -> 35.797425
A58: Actividades de alojamiento y de servicios de comida | B58: 207439.55 | C58: 7.3551976 | D58: 207439.55 | E58: 7.3551976 | F58: 0 | G58: 0 | H58: =F58/B58*100 -> 0 | I58: 20401.778 | J58: 7.292284 | K58: =IF(ISNUMBER(I58/D58*100),I58/D58*100,0) -> 9.8350473 | L58: 79447.609 | M58: 6.9566892 | N58: =IF(ISNUMBER(L58/D58*100),L58/D58*100,0) -> 38.299161
A59: Informacion y comunicaciones | B59: 16976.359 | C59: 11.175052 | D59: 16976.359 | E59: 11.175052 | F59: 0 | G59: 0 | H59: =F59/B59*100 -> 0 | I59: 795.39609 | J59: 10.351351 | K59: =IF(ISNUMBER(I59/D59*100),I59/D59*100,0) -> 4.6853162 | L59: 5399.1347 | M59: 9.9429407 | N59: =IF(ISNUMBER(L59/D59*100),L59/D59*100,0) -> 31.803844
A60: Actividades finacieras y de seguros | B60: 32771.173 | C60: 12.269736 | D60: 32771.173 | E60: 12.269736 | F60: 0 | G60: 0 | H60: =F60/B60*100 -> 0 | I60: 1483.2081 | J60: 13.33362 | K60: =IF(ISNUMBER(I60/D60*100),I60/D60*100,0) -> 4.5259536 | L60: 9139.6149 | M60: 10.546166 | N60: =IF(ISNUMBER(L60/D60*100),L60/D60*100,0) -> 27.889191
A61: Actividades inmobiliarias | B61: 13791.729 | C61: 12.680992 | D61: 13791.729 | E61: 12.680992 | F61: 0 | G61: 0 | H61: =F61/B61*100 -> 0 | I61: 1097.3042 | J61: 9.6203863 | K61: =IF(ISNUMBER(I61/D61*100),I61/D61*100,0) -> 7.9562478 | L61: 2528.7366 | M61: 10.860749 | N61: =IF(ISNUMBER(L61/D61*100),L61/D61*100,0) -> 18.335167
... A70: Actividades de organizaciones y organos extraterritoriales | B70: 450.46061 | C70: 10.772269 | D70: 450.46061 | E70: 10.772269 | F70: 0 | G70: 0 | H70: =F70/B70*100 -> 0 | I70: 0 | J70: 0 | K70: =IF(ISNUMBER(I70/D70*100),I70/D70*100,0) -> 0 | L70: 235.48869 | M70: 6 | N70: =IF(ISNUMBER(L70/D70*100),L70/D70*100,0) -> 52.277311
A71: Rama de actividad NO especificadas | B71: 0 | C71: 0 | D71: 0 | E71: 0 | F71: 0 | G71: 0 | H71: =IFERROR(F71/B71*100,0) -> 0 | I71: 0 | J71: 0 | K71: =IF(ISNUMBER(I71/D71*100),I71/D71*100,0) -> 0 | L71: 0 | M71: 0 | N71: =IF(ISNUMBER(L71/D71*100),L71/D71*100,0) -> 0
A72: Busca trabajo por primera vez | B72: 594.36943 | C72: 9.7126048 | D72: 0 | E72: 0 | F72: 594.36943 | G72: 9.7126048 | H72: =F72/B72*100 -> 100 | I72: 0 | J72: 0 | K72: =IF(ISNUMBER(I72/D72*100),I72/D72*100,0) -> 0 | L72: 0 | M72: 0 | N72: =IF(ISNUMBER(L72/D72*100),L72/D72*100,0) -> 0
A73: NS/NR | B73: 15191.641 | C73: 10.962869 | D73: 15191.641 | E73: 10.962869 | F73: 0 | G73: 0 | H73: =F73/B73*100 -> 0 | I73: 0 | J73: 0 | K73: =IF(ISNUMBER(I73/D73*100),I73/D73*100,0) -> 0 | L73: 4436.8857 | M73: 8.644595 | N73: =IF(ISNUMBER(L73/D73*100),L73/D73*100,0) -> 29.206099
A75: Ocupación
A76: Directores y gerentes | B76: 85751.87 | C76: 12.397853 | D76: 85751.87 | E76: 12.397853 | F76: 0 | G76: 0 | H76: =F76/B76*100 -> 0 | I76: 4277.8465 | J76: 10.346405 | K76: =IF(ISNUMBER(I76/D76*100),I76/D76*100,0) -> 4.9886335 | L76: 17679.217 | M76: 10.511224 | N76: =IF(ISNUMBER(L76/D76*100),L76/D76*100,0) -> 20.616714
A77: Profesionales cientificos e intelectuales | B77: 189495.11 | C77: 15.914222 | D77: 189495.11 | E77: 15.914222 | F77: 0 | G77: 0 | H77: =F77/B77*100 -> 0 | I77: 13425.038 | J77: 16.082517 | K77: =IF(ISNUMBER(I77/D77*100),I77/D77*100,0) -> 7.0846356 | L77: 9054.3119 | M77: 15.199444 | N77: =IF(ISNUMBER(L77/D77*100),L77/D77*100,0) -> 4.7781242
A78: Tecnicos y profesionales de nivel medio | B78: 232474.42 | C78: 10.664409 | D78: 232474.42 | E78: 10.664409 | F78: 0 | G78: 0 | H78: =F78/B78*100 -> 0 | I78: 11684.481 | J78: 10.20068 | K78: =IF(ISNUMBER(I78/D78*100),I78/D78*100,0) -> 5.0261364 | L78: 53118.437 | M78: 9.6563349 | N78: =IF(ISNUMBER(L78/D78*100),L78/D78*100,0) -> 22.849154
A79: Personal de apoyo administrativo | B79: 106144.82 | C79: 10.004899 | D79: 106144.82 | E79: 10.004899 | F79: 0 | G79: 0 | H79: =F79/B79*100 -> 0 | I79: 2636.0493 | J79: 8.4966727 | K79: =IF(ISNUMBER(I79/D79*100),I79/D79*100,0) -> 2.483446 | L79: 41769.361 | M79: 9.4617112 | N79: =IF(ISNUMBER(L79/D79*100),L79/D79*100,0) -> 39.351293
A80: Trabajadores de los servicios y vendedores de comercios y mercados | B80: 992677.3 | C80: 7.4394733 | D80: 992677.3 | E80: 7.4394733 | F80: 0 | G80: 0 | H80: =F80/B80*100 -> 0 | I80: 69053.774 | J80: 7.738641 | K80: =IF(ISNUMBER(I80/D80*100),I80/D80*100,0) -> 6.9563164 | L80: 437470.26 | M80: 7.0659411 | N80: =IF(ISNUMBER(L80/D80*100),L80/D80*100,0) -> 44.069735
A81: Agricultores y trabajadores calificados agropecuarios forestales y pesqueros | B81: 345122.18 | C81: 5.0601814 | D81: 345122.18 | E81: 5.0601814 | F81: 0 | G81: 0 | H81: =F81/B81*100 -> 0 | I81: 36224.134 | J81: 4.6345109 | K81: =IF(ISNUMBER(I81/D81*100),I81/D81*100,0) -> 10.496032 | L81: 58678.947 | M81: 5.5982795 | N81: =IF(ISNUMBER(L81/D81*100),L81/D81*100,0) -> 17.002369
A82: Oficiales, operarios y artesanos de artes mecanicas y de otros oficios | B82: 550156.93 | C82: 6.8172918 | D82: 550156.93 | E82: 6.8172918 | F82: 0 | G82: 0 | H82: =F82/B82*100 -> 0 | I82: 50066.028 | J82: 7.074405 | K82: =IF(ISNUMBER(I82/D82*100),I82/D82*100,0) -> 9.1003177 | L82: 196351.63 | M82: 6.813468 | N82: =IF(ISNUMBER(L82/D82*100),L82/D82*100,0) -> 35.690113
A83: Operadores de instalaciones y maquinas y ensambladores | B83: 250267.81 | C83: 7.1859846 | D83: 250267.81 | E83: 7.1859846 | F83: 0 | G83: 0 | H83: =F83/B83*100 -> 0 | I83: 13888.209 | J83: 8.2484942 | K83: =IF(ISNUMBER(I83/D83*100),I83/D83*100,0) -> 5.549339 | L83: 106599.67 | M83: 7.141944 | N83: =IF(ISNUMBER(L83/D83*100),L83/D83*100,0) -> 42.594239
A84: Ocupaciones elementales | B84: 955354.5 | C84: 6.0879675 | D84: 955354.5 | E84: 6.0879675 | F84: 0 | G84: 0 | H84: =F84/B84*100 -> 0 | I84: 115499.84 | J84: 5.9137774 | K84: =IF(ISNUMBER(I84/D84*100),I84/D84*100,0) -> 12.089736 | L84: 369527.98 | M84: 6.1313508 | N84: =IF(ISNUMBER(L84/D84*100),L84/D84*100,0) -> 38.679672
A85: Ocupaciones militares | B85: 4757.6314 | C85: 7.9670214 | D85: 4757.6314 | E85: 7.9670214 | F85: 0 | G85: 0 | H85: =F85/B85*100 -> 0 | I85: 0 | J85: 0 | K85: =IF(ISNUMBER(I85/D85*100),I85/D85*100,0) -> 0 | L85: 4327.6876 | M85: 7.8643978 | N85: =IF(ISNUMBER(L85/D85*100),L85/D85*100,0) -> 90.96307
A86: Ocupaciones NO especificadas | B86: 0 | C86: 0 | D86: 0 | E86: 0 | F86: 0 | G86: 0 | H86: =IFERROR(F86/B86*100,0) -> 0 | I86: 0 | J86: 0 | K86: =IF(ISNUMBER(I86/D86*100),I86/D86*100,0) -> 0 | L86: 0 | M86: 0 | N86: =IF(ISNUMBER(L86/D86*100),L86/D86*100,0) -> 0
A87: Busca trabajo por primera vez | B87: 594.36943 | C87: 9.7126048 | D87: 0 | E87: 0 | F87: 594.36943 | G87: 9.7126048 | H87: =F87/B87*100 -> 100 | I87: 0 | J87: 0 | K87: =IF(ISNUMBER(I87/D87*100),I87/D87*100,0) -> 0 | L87: 0 | M87: 0 | N87: =IF(ISNUMBER(L87/D87*100),L87/D87*100,0) -> 0
A88: NS/NR | B88: 12767.953 | C88: 14.4827 | D88: 12767.953 | E88: 14.4827 | F88: 0 | G88: 0 | H88: =F88/B88*100 -> 0 | I88: 1059.3773 | J88: 17 | K88: =IF(ISNUMBER(I88/D88*100),I88/D88*100,0) -> 8.2971585 | L88: 1059.3773 | M88: 9 | N88: =IF(ISNUMBER(L88/D88*100),L88/D88*100,0) -> 8.2971585
A91: Fuente: Instituto Nacional de Estadística (INE). LXXIV Encuesta Permanente de Hogares de Propósitos Múltiples, Septiembre 2023.
A92: AEP: Años de Estudio Promedio
A93: =A36 -> TD: Tasa de Desocupación
A94: =A37 -> TST: Tasa de subocupación por Insuficiencia de Tiempo de Trabajo.
A95: =A38 -> TSI: Tasa de Subocupación Por Insuficiencia De Ingresos

Sheet C02
A1: Cuadro No. 2. Fuerza de Trabajo (PEA) en condición de empleo, según dominio, Nivel educativo, Rangos de edad, rama de actividad y ocupación y ocupación
A2: HOMBRES
A3: Categorías | B3: Fuerza de Trabajo | D3: Ocupados | F3: Desocupados | I3: Subocupados por Insuficiencia de Tiempo de Trabajo. | L3: Subocupados Por Insuficiencia De Ingresos
B4: No. | C4: AEP | D4: No. | E4: AEP | F4: No. | G4: AEP | H4: TD | I4: No. | J4: AEP | K4: TST | L4: No. | M4: AEP | N4: TSI
A6: Total Nacional | B6: 2347645.7 | C6: 7.292724 | D6: 2245198.4 | E6: 7.2643629 | F6: 102447.22 | G6: 7.8754629 | H6: =F6/B6*100 -> 4.3638281 | I6: 161532.4 | J6: 6.804706 | K6: =IF(ISNUMBER(I6/D6*100),I6/D6*100,0) -> 7.1945711 | L6: 795229.71 | M6: 6.8391533 | N6: =IF(ISNUMBER(L6/D6*100),L6/D6*100,0) -> 35.419128
A8: Dominio
A9: Urbano | B9: 1274724.8 | C9: 8.3099312 | D9: 1211431 | E9: 8.2916336 | F9: 63293.786 | G9: 8.6481893 | H9: =F9/B9*100 -> 4.9652904 | I9: 66288.014 | J9: 8.8012205 | K9: =IF(ISNUMBER(I9/D9*100),I9/D9*100,0) -> 5.471877 | L9: 469454.9 | M9: 7.3800513 | N9: =IF(ISNUMBER(L9/D9*100),L9/D9*100,0) -> 38.752096
A10: Distrito Central | B10: 286596.46 | C10: 9.6214758 | D10: 266086.61 | E10: 9.6373582 | F10: 20509.856 | G10: 9.421624 | H10: =F10/B10*100 -> 7.1563536 | I10: 23211.848 | J10: 10.632962 | K10: =IF(ISNUMBER(I10/D10*100),I10/D10*100,0) -> 8.7234186 | L10: 90950.523 | M10: 7.8338836 | N10: =IF(ISNUMBER(L10/D10*100),L10/D10*100,0) -> 34.180797
A11: San Pedro Sula | B11: 166359.3 | C11: 8.9737793 | D11: 162024.71 | E11: 9.0363449 | F11: 4334.594 | G11: 6.7317073 | H11: =F11/B11*100 -> 2.6055616 | I11: 4641.1872 | J11: 8.6856492 | K11: =IF(ISNUMBER(I11/D11*100),I11/D11*100,0) -> 2.8644935 | L11: 67566.806 | M11: 8.2503249 | N11: =IF(ISNUMBER(L11/D11*100),L11/D11*100,0) -> 41.701545
A12: Resto urbano | B12: 821769.01 | C12: 7.6959896 | D12: 783319.68 | E12: 7.6576896 | F12: 38449.336 | G12: 8.4496999 | H12: =F12/B12*100 -> 4.6788496 | I12: 38434.978 | J12: 7.4516731 | K12: =IF(ISNUMBER(I12/D12*100),I12/D12*100,0) -> 4.9066785 | L12: 310937.57 | M12: 7.0486269 | N12: =IF(ISNUMBER(L12/D12*100),L12/D12*100,0) -> 39.69485
A13: Rural | B13: 1072920.9 | C13: 5.9687572 | D13: 1033767.5 | E13: 5.9430295 | F13: 39153.436 | G13: 6.5858608 | H13: =F13/B13*100 -> 3.6492379 | I13: 95244.385 | J13: 5.3822905 | K13: =IF(ISNUMBER(I13/D13*100),I13/D13*100,0) -> 9.2133279 | L13: 325774.81 | M13: 6.0034889 | N13: =IF(ISNUMBER(L13/D13*100),L13/D13*100,0) -> 31.513355
A15: Nivel Educativo /1
A16: Sin Nivel | B16: 215592.69 | C16: 0 | D16: 211628.5 | E16: 0 | F16: 3964.1916 | G16: 0 | H16: =F16/B16*100 -> 1.8387412 | I16: 19948.263 | J16: 0 | K16: =IF(ISNUMBER(I16/D16*100),I16/D16*100,0) -> 9.426076 | L16: 69889.879 | M16: 0 | N16: =IF(ISNUMBER(L16/D16*100),L16/D16*100,0) -> 33.024795
A17: Básica (1-3) | B17: 300378.84 | C17: 2.3529545 | D17: 290098.65 | E17: 2.3449507 | F17: 10280.185 | G17: 2.5788136 | H17: =F17/B17*100 -> 3.4224065 | I17: 29959.359 | J17: 2.3540315 | K17: =IF(ISNUMBER(I17/D17*100),I17/D17*100,0) -> 10.3273 | L17: 93794.799 | M17: 2.3992276 | N17: =IF(ISNUMBER(L17/D17*100),L17/D17*100,0) -> 32.332035
A18: Básica (4-6) | B18: 833013.15 | C18: 5.7084329 | D18: 799993.48 | E18: 5.7066124 | F18: 33019.667 | G18: 5.7525413 | H18: =F18/B18*100 -> 3.9638831 | I18: 53234.092 | J18: 5.6717412 | K18: =IF(ISNUMBER(I18/D18*100),I18/D18*100,0) -> 6.6543158 | L18: 311313.44 | M18: 5.6917 | N18: =IF(ISNUMBER(L18/D18*100),L18/D18*100,0) -> 38.914497
A19: Básica (7-9) | B19: 309012.92 | C19: 8.4620387 | D19: 295229.19 | E19: 8.4587638 | F19: 13783.735 | G19: 8.532182 | H19: =F19/B19*100 -> 4.460569 | I19: 17811.586 | J19: 8.3868026 | K19: =IF(ISNUMBER(I19/D19*100),I19/D19*100,0) -> 6.0331387 | L19: 129042.62 | M19: 8.4907932 | N19: =IF(ISNUMBER(L19/D19*100),L19/D19*100,0) -> 43.709304
A20: Media | B20: 441427.76 | C20: 8.5968793 | D20: 412888.18 | E20: 8.5946221 | F20: 28539.583 | G20: 8.6295354 | H20: =F20/B20*100 -> 6.4652895 | I20: 25304.955 | J20: 8.3663894 | K20: =IF(ISNUMBER(I20/D20*100),I20/D20*100,0) -> 6.1287672 | L20: 145666.07 | M20: 8.5890148 | N20: =IF(ISNUMBER(L20/D20*100),L20/D20*100,0) -> 35.279787
A21: Superior | B21: 222134.62 | C21: 15.758038 | D21: 210096.12 | E21: 15.762444 | F21: 12038.492 | G21: 15.681735 | H21: =F21/B21*100 -> 5.4194579 | I21: 14191.226 | J21: 15.680171 | K21: =IF(ISNUMBER(I21/D21*100),I21/D21*100,0) -> 6.754635 | L21: 39262.788 | M21: 14.623424 | N21: =IF(ISNUMBER(L21/D21*100),L21/D21*100,0) -> 18.688012
A22: No Sabe/No Responde | B22: 26085.684 | C22: 0 | D22: 25264.316 | E22: 0 | F22: 821.36861 | G22: 0 | H22: =F22/B22*100 -> 3.1487332 | I22: 1082.916 | J22: 0 | K22: =IF(ISNUMBER(I22/D22*100),I22/D22*100,0) -> 4.2863458 | L22: 6260.1123 | M22: 0 | N22: =IF(ISNUMBER(L22/D22*100),L22/D22*100,0) -> 24.778475
A24: Rango de Edad
A25: De 15 a 18 años | B25: 171882.57 | C25: 6.4553378 | D25: 161120.05 | E25: 6.4201228 | F25: 10762.516 | G25: 6.9668401 | H25: =F25/B25*100 -> 6.2615521 | I25: 14423.744 | J25: 6.6229759 | K25: =IF(ISNUMBER(I25/D25*100),I25/D25*100,0) -> 8.9521718 | L25: 65778.218 | M25: 6.3181101 | N25: =IF(ISNUMBER(L25/D25*100),L25/D25*100,0) -> 40.825595
A26: De 19 a 24 años | B26: 336318.72 | C26: 7.6994056 | D26: 307858.41 | E26: 7.6557946 | F26: 28460.311 | G26: 8.1580494 | H26: =F26/B26*100 -> 8.4623035 | I26: 23317.264 | J26: 7.0856463 | K26: =IF(ISNUMBER(I26/D26*100),I26/D26*100,0) -> 7.5740221 | L26: 133390.65 | M26: 7.5236904 | N26: =IF(ISNUMBER(L26/D26*100),L26/D26*100,0) -> 43.32857
A27: De 25 a 29 años | B27: 296860.28 | C27: 8.2125143 | D27: 285499.51 | E27: 8.212364 | F27: 11360.771 | G27: 8.2167678 | H27: =F27/B27*100 -> 3.8269759 | I27: 18150.349 | J27: 7.9698968 | K27: =IF(ISNUMBER(I27/D27*100),I27/D27*100,0) -> 6.357401 | L27: 119702.77 | M27: 7.9969647 | N27: =IF(ISNUMBER(L27/D27*100),L27/D27*100,0) -> 41.927487
A28: De 30 a 35 años | B28: 301132.69 | C28: 8.4332339 | D28: 287557.83 | E28: 8.434658 | F28: 13574.861 | G28: 8.4038922 | H28: =F28/B28*100 -> 4.5079332 | I28: 20168.916 | J28: 7.9114289 | K28: =IF(ISNUMBER(I28/D28*100),I28/D28*100,0) -> 7.0138644 | L28: 102786.53 | M28: 7.6500055 | N28: =IF(ISNUMBER(L28/D28*100),L28/D28*100,0) -> 35.744645
A29: De 36 a 44 años | B29: 417664.49 | C29: 7.0732394 | D29: 404201.61 | E29: 7.0352853 | F29: 13462.873 | G29: 8.1111865 | H29: =F29/B29*100 -> 3.2233703 | I29: 33306.426 | J29: 6.958206 | K29: =IF(ISNUMBER(I29/D29*100),I29/D29*100,0) -> 8.2400526 | L29: 138522.01 | M29: 6.5758481 | N29: =IF(ISNUMBER(L29/D29*100),L29/D29*100,0) -> 34.270524
A30: De 45 a 59 años | B30: 521392.94 | C30: 6.7515014 | D30: 505873.39 | E30: 6.7415279 | F30: 15519.549 | G30: 7.039031 | H30: =F30/B30*100 -> 2.9765553 | I30: 36075.868 | J30: 5.2888774 | K30: =IF(ISNUMBER(I30/D30*100),I30/D30*100,0) -> 7.1314026 | L30: 156241.64 | M30: 5.9617834 | N30: =IF(ISNUMBER(L30/D30*100),L30/D30*100,0) -> 30.885522
A31: De 60 años y más | B31: 302393.98 | C31: 6.2168353 | D31: 293087.64 | E31: 6.1491383 | F31: 9306.3406 | G31: 8.0562041 | H31: =F31/B31*100 -> 3.0775549 | I31: 16089.832 | J31: 6.4579348 | K31: =IF(ISNUMBER(I31/D31*100),I31/D31*100,0) -> 5.4897683 | L31: 78807.898 | M31: 4.8068542 | N31: =IF(ISNUMBER(L31/D31*100),L31/D31*100,0) -> 26.888851
A33: ='C01'!$A$34 -> Fuente: Instituto Nacional de Estadística (INE). LXXXI Encuesta Permanente de Hogares de Propósitos Múltiples, Junio 2024.
A34: AEP: Años de Estudio Promedio
A35: TD: Tasa de Desocupación
A36: TST: Tasa de subocupación por Insuficiencia de Tiempo de Trabajo.
A37: TSI: Tasa de Subocupación Por Insuficiencia De Ingresos
A38: /1 Nivel Educativo: La suma de básica (1-3), básica (4-6) y básica (7-9) es equivalente a Nivel Educativo Primaria.
A42: =A1 -> Cuadro No. 2. Fuerza de Trabajo (PEA) en condición de empleo, según dominio, Nivel educativo, Rangos de edad, rama de actividad y ocupación y ocupación
A43: Hombres
A44: ....... Continuación
A45: =A3 -> Categorías | B45: Fuerza de Trabajo | D45: Ocupados | F45: Desocupados | I45: Subocupados por Insuficiencia de Tiempo de Trabajo. | L45: Subocupados Por Insuficiencia De Ingresos
B46: =B4 -> No. | C46: =C4 -> AEP | D46: =D4 -> No. | E46: =E4 -> AEP | F46: =F4 -> No. | G46: =G4 -> AEP | H46: TD | I46: =I4 -> No. | J46: =J4 -> AEP | K46: =K4 -> TST | L46: =L4 -> No. | M46: =M4 -> AEP | N46: =N4 -> TSI
A48: =A6 -> Total Nacional | B48: =B6 -> 2347645.7 | C48: =C6 -> 7.292724 | D48: =D6 -> 2245198.4 | E48: =E6 -> 7.2643629 | F48: =F6 -> 102447.22 | G48: =G6 -> 7.8754629 | H48: =H6 -> 4.3638281 | ... N48: =N6 -> 35.419128
A50: Rama de Actividad
A51: ='C01'!A50 -> Agricultura, ganaderia, silvicultura y pesca | B51: 301132.69 | C51: 8.4332339 | D51: 287557.83 | E51: 8.434658 | F51: 13574.861 | G51: 8.4038922 | H51: =F51/B51*100 -> 4.5079332 | I51: 20168.916 | J51: 7.9114289 | K51: =IF(ISNUMBER(I51/D51*100),I51/D51*100,0) -> 7.0138644 | L51: 102786.53 | M51: 7.6500055 | N51: =IF(ISNUMBER(L51/D51*100),L51/D51*100,0) -> 35.744645
A52: ='C01'!A51 -> Explotacion de minas y canteras | B52: 417664.49 | C52: 7.0732394 | D52: 404201.61 | E52: 7.0352853 | F52: 13462.873 | G52: 8.1111865 | H52: =F52/B52*100 -> 3.2233703 | I52: 33306.426 | J52: 6.958206 | K52: =IF(ISNUMBER(I52/D52*100),I52/D52*100,0) -> 8.2400526 | L52: 138522.01 | M52: 6.5758481 | N52: =IF(ISNUMBER(L52/D52*100),L52/D52*100,0) -> 34.270524
A53: ='C01'!A52 -> Industria manufacturera | B53: 521392.94 | C53: 6.7515014 | D53: 505873.39 | E53: 6.7415279 | F53: 15519.549 | G53: 7.039031 | H53: =F53/B53*100 -> 2.9765553 | I53: 36075.868 | J53: 5.2888774 | K53: =IF(ISNUMBER(I53/D53*100),I53/D53*100,0) -> 7.1314026 | L53: 156241.64 | M53: 5.9617834 | N53: =IF(ISNUMBER(L53/D53*100),L53/D53*100,0) -> 30.885522
A54: ='C01'!A53 -> Suministro de electricidad, gas, vapor y aire acondicionado | B54: 302393.98 | C54: 6.2168353 | D54: 293087.64 | E54: 6.1491383 | F54: 9306.3406 | G54: 8.0562041 | H54: =F54/B54*100 -> 3.0775549 | I54: 16089.832 | J54: 6.4579348 | K54: =IF(ISNUMBER(I54/D54*100),I54/D54*100,0) -> 5.4897683 | L54: 78807.898 | M54: 4.8068542 | N54: =IF(ISNUMBER(L54/D54*100),L54/D54*100,0) -> 26.888851
A55: ='C01'!A54 -> Suministro de agua, evacuacion de aguas residuales, gestion de desechos y descontaminacion | B55: 737113.27 | C55: 5.3315238 | D55: 737113.27 | E55: 5.3315238 | F55: 0 | G55: 0 | H55: =F55/B55*100 -> 0 | I55: 87148.539 | J55: 5.0547892 | K55: =IF(ISNUMBER(I55/D55*100),I55/D55*100,0) -> 11.822951 | L55: 171612.16 | M55: 5.596752 | N55: =IF(ISNUMBER(L55/D55*100),L55/D55*100,0) -> 23.281654
A56: ='C01'!A55 -> Construccion | B56: 15116.017 | C56: 7.6797363 | D56: 15116.017 | E56: 7.6797363 | F56: 0 | G56: 0 | H56: =F56/B56*100 -> 0 | I56: 470.97738 | J56: 8 | K56: =IF(ISNUMBER(I56/D56*100),I56/D56*100,0) -> 3.1157505 | L56: 5102.9084 | M56: 5.9286234 | N56: =IF(ISNUMBER(L56/D56*100),L56/D56*100,0) -> 33.758287
A57: ='C01'!A56 -> Comercio al por mayor y al por menor, reparacion de vehiculos automotores y motocicletas | B57: 258690.13 | C57: 7.5426275 | D57: 258690.13 | E57: 7.5426275 | F57: 0 | G57: 0 | H57: =F57/B57*100 -> 0 | I57: 10853.572 | J57: 8.5127971 | K57: =IF(ISNUMBER(I57/D57*100),I57/D57*100,0) -> 4.195588 | L57: 113100.73 | M57: 7.2928423 | N57: =IF(ISNUMBER(L57/D57*100),L57/D57*100,0) -> 43.720542
A58: ='C01'!A57 -> Transporte y almacenamiento | B58: 6657.7461 | C58: 9.0927885 | D58: 6657.7461 | E58: 9.0927885 | F58: 0 | G58: 0 | H58: =F58/B58*100 -> 0 | I58: 0 | J58: 0 | K58: =IF(ISNUMBER(I58/D58*100),I58/D58*100,0) -> 0 | L58: 3241.3924 | M58: 8.859128 | N58: =IF(ISNUMBER(L58/D58*100),L58/D58*100,0) -> 48.686033
A59: ='C01'!A58 -> Actividades de alojamiento y de servicios de comida | B59: 10620.109 | C59: 6.0720649 | D59: 10620.109 | E59: 6.0720649 | F59: 0 | G59: 0 | H59: =F59/B59*100 -> 0 | I59: 928.85457 | J59: 9 | K59: =IF(ISNUMBER(I59/D59*100),I59/D59*100,0) -> 8.7461864 | L59: 3818.4626 | M59: 6.5215843 | N59: =IF(ISNUMBER(L59/D59*100),L59/D59*100,0) -> 35.955022
A60: ='C01'!A59 -> Informacion y comunicaciones | B60: 270332.01 | C60: 6.339897 | D60: 270332.01 | E60: 6.339897 | F60: 0 | G60: 0 | H60: =F60/B60*100 -> 0 | I60: 13864.722 | J60: 6.4939718 | K60: =IF(ISNUMBER(I60/D60*100),I60/D60*100,0) -> 5.1287753 | L60: 137402.74 | M60: 6.0986653 | N60: =IF(ISNUMBER(L60/D60*100),L60/D60*100,0) -> 50.827404
A61: ='C01'!A60 -> Actividades finacieras y de seguros | B61: 404040.78 | C61: 7.5927343 | D61: 404040.78 | E61: 7.5927343 | F61: 0 | G61: 0 | H61: =F61/B61*100 -> 0 | I61: 15546.431 | J61: 6.6523335 | K61: =IF(ISNUMBER(I61/D61*100),I61/D61*100,0) -> 3.8477381 | L61: 176871.66 | M61: 7.132371 | N61: =IF(ISNUMBER(L61/D61*100),L61/D61*100,0) -> 43.775695
A62: ='C01'!A61 -> Actividades inmobiliarias | B62: 136677.88 | C62: 7.2760065 | D62: 136677.88 | E62: 7.2760065 | F62: 0 | G62: 0 | H62: =F62/B62*100 -> 0 | I62: 7951.818 | J62: 10.671389 | K62: =IF(ISNUMBER(I62/D62*100),I62/D62*100,0) -> 5.8179262 | L62: 50700.087 | M62: 6.586502 | N62: =IF(ISNUMBER(L62/D62*100),L62/D62*100,0) -> 37.094582
... A70: ='C01'!A69 -> Actividades de los hogares como empleadores y actividades no diferenciadas de los hogares como productores de bienes y s | B70: 48794.062 | C70: 13.864954 | D70: 48794.062 | E70: 13.864954 | F70: 0 | G70: 0 | H70: =F70/B70*100 -> 0 | I70: 4925.9307 | J70: 15.913439 | K70: =IF(ISNUMBER(I70/D70*100),I70/D70*100,0) -> 10.095349 | L70: 4816.5977 | M70: 7.306727 | N70: =IF(ISNUMBER(L70/D70*100),L70/D70*100,0) -> 9.8712785
A71: ='C01'!A70 -> Actividades de organizaciones y organos extraterritoriales | B71: 18947.301 | C71: 12.763925 | D71: 18947.301 | E71: 12.763925 | F71: 0 | G71: 0 | H71: =IFERROR(F71/B71*100,0) -> 0 | I71: 1500.9991 | J71: 14.822697 | K71: =IF(ISNUMBER(I71/D71*100),I71/D71*100,0) -> 7.9219679 | L71: 7442.6419 | M71: 9.6484524 | N71: =IF(ISNUMBER(L71/D71*100),L71/D71*100,0) -> 39.280751
A72: ='C01'!A71 -> Rama de actividad NO especificadas | B72: 13769.425 | C72: 8.3182456 | D72: 13769.425 | E72: 8.3182456 | F72: 0 | G72: 0 | H72: =IFERROR(F72/B72*100,0) -> 0 | I72: 639.62329 | J72: 6.9917257 | K72: =IF(ISNUMBER(I72/D72*100),I72/D72*100,0) -> 4.6452434 | L72: 3230.4129 | M72: 11.161428 | N72: =IF(ISNUMBER(L72/D72*100),L72/D72*100,0) -> 23.460769
A73: ='C01'!A72 -> Busca trabajo por primera vez | B73: 65243.296 | C73: 8.3716889 | D73: 65243.296 | E73: 8.3716889 | F73: 0 | G73: 0 | H73: =F73/B73*100 -> 0 | I73: 7687.7956 | J73: 8.5955293 | K73: =IF(ISNUMBER(I73/D73*100),I73/D73*100,0) -> 11.783273 | L73: 17341.291 | M73: 7.3913718 | N73: =IF(ISNUMBER(L73/D73*100),L73/D73*100,0) -> 26.579422
A74: ='C01'!A73 -> NS/NR | B74: 3433.7573 | C74: 5.4571799 | D74: 3433.7573 | E74: 5.4571799 | F74: 0 | G74: 0 | H74: =F74/B74*100 -> 0 | I74: 529.68866 | J74: 6 | K74: =IF(ISNUMBER(I74/D74*100),I74/D74*100,0) -> 15.42592 | L74: 1199.9211 | M74: 5.3373996 | N74: =IF(ISNUMBER(L74/D74*100),L74/D74*100,0) -> 34.944842
A76: Ocupación
A77: ='C01'!A76 -> Directores y gerentes | B77: 235.48869 | C77: 6 | D77: 235.48869 | E77: 6 | F77: 0 | G77: 0 | H77: =F77/B77*100 -> 0 | I77: 0 | J77: 0 | K77: =IF(ISNUMBER(I77/D77*100),I77/D77*100,0) -> 0 | L77: 235.48869 | M77: 6 | N77: =IF(ISNUMBER(L77/D77*100),L77/D77*100,0) -> 100
A78: ='C01'!A77 -> Profesionales cientificos e intelectuales | B78: 0 | C78: 0 | D78: 0 | E78: 0 | F78: 0 | G78: 0 | H78: =IFERROR(F78/B78*100,0) -> 0 | I78: 0 | J78: 0 | K78: =IF(ISNUMBER(I78/D78*100),I78/D78*100,0) -> 0 | L78: 0 | M78: 0 | N78: =IF(ISNUMBER(L78/D78*100),L78/D78*100,0) -> 0
A79: ='C01'!A78 -> Tecnicos y profesionales de nivel medio | B79: 433.1405 | C79: 7 | D79: 0 | E79: 0 | F79: 433.1405 | G79: 7 | H79: =F79/B79*100 -> 100 | I79: 0 | J79: 0 | K79: =IF(ISNUMBER(I79/D79*100),I79/D79*100,0) -> 0 | L79: 0 | M79: 0 | N79: =IF(ISNUMBER(L79/D79*100),L79/D79*100,0) -> 0
A80: ='C01'!A79 -> Personal de apoyo administrativo | B80: 11283.253 | C80: 10.154611 | D80: 11283.253 | E80: 10.154611 | F80: 0 | G80: 0 | H80: =F80/B80*100 -> 0 | I80: 0 | J80: 0 | K80: =IF(ISNUMBER(I80/D80*100),I80/D80*100,0) -> 0 | L80: 2764.5334 | M80: 7.9272443 | N80: =IF(ISNUMBER(L80/D80*100),L80/D80*100,0) -> 24.501208
A81: ='C01'!A80 -> Trabajadores de los servicios y vendedores de comercios y mercados | B81: 41897.456 | C81: 12.084887 | D81: 41897.456 | E81: 12.084887 | F81: 0 | G81: 0 | H81: =F81/B81*100 -> 0 | I81: 2515.0768 | J81: 10.469532 | K81: =IF(ISNUMBER(I81/D81*100),I81/D81*100,0) -> 6.0029344 | L81: 7606.3325 | M81: 9.3502225 | N81: =IF(ISNUMBER(L81/D81*100),L81/D81*100,0) -> 18.154641
A82: ='C01'!A81 -> Agricultores y trabajadores calificados agropecuarios forestales y pesqueros | B82: 84944.162 | C82: 15.798434 | D82: 84944.162 | E82: 15.798434 | F82: 0 | G82: 0 | H82: =F82/B82*100 -> 0 | I82: 6240.0398 | J82: 16.456355 | K82: =IF(ISNUMBER(I82/D82*100),I82/D82*100,0) -> 7.346049 | L82: 5967.1734 | M82: 15.066973 | N82: =IF(ISNUMBER(L82/D82*100),L82/D82*100,0) -> 7.0248187
A83: ='C01'!A82 -> Oficiales, operarios y artesanos de artes mecanicas y de otros oficios | B83: 136902.39 | C83: 10.229745 | D83: 136902.39 | E83: 10.229745 | F83: 0 | G83: 0 | H83: =F83/B83*100 -> 0 | I83: 5771.1624 | J83: 11.222189 | K83: =IF(ISNUMBER(I83/D83*100),I83/D83*100,0) -> 4.2155308 | L83: 32744.949 | M83: 9.0671692 | N83: =IF(ISNUMBER(L83/D83*100),L83/D83*100,0) -> 23.918464
A84: ='C01'!A83 -> Operadores de instalaciones y maquinas y ensambladores | B84: 56014.969 | C84: 9.5200768 | D84: 56014.969 | E84: 9.5200768 | F84: 0 | G84: 0 | H84: =F84/B84*100 -> 0 | I84: 2213.1621 | J84: 8.4004977 | K84: =IF(ISNUMBER(I84/D84*100),I84/D84*100,0) -> 3.9510191 | L84: 21398.905 | M84: 9.4498287 | N84: =IF(ISNUMBER(L84/D84*100),L84/D84*100,0) -> 38.202119
A85: ='C01'!A84 -> Ocupaciones elementales | B85: 345904.79 | C85: 7.3881067 | D85: 345904.79 | E85: 7.3881067 | F85: 0 | G85: 0 | H85: =F85/B85*100 -> 0 | I85: 13733.413 | J85: 7.5113254 | K85: =IF(ISNUMBER(I85/D85*100),I85/D85*100,0) -> 3.970287 | L85: 172082.61 | M85: 7.0321559 | N85: =IF(ISNUMBER(L85/D85*100),L85/D85*100,0) -> 49.748549
A86: ='C01'!A85 -> Ocupaciones militares | B86: 310351.56 | C86: 5.0890004 | D86: 310351.56 | E86: 5.0890004 | F86: 0 | G86: 0 | H86: =F86/B86*100 -> 0 | I86: 29861.053 | J86: 4.4918008 | K86: =IF(ISNUMBER(I86/D86*100),I86/D86*100,0) -> 9.6216863 | L86: 56786.82 | M86: 5.6428015 | N86: =IF(ISNUMBER(L86/D86*100),L86/D86*100,0) -> 18.297579
A87: Ocupacion NO especificada | B87: 382646.64 | C87: 6.840599 | D87: 382646.64 | E87: 6.840599 | F87: 0 | G87: 0 | H87: =IFERROR(F87/B87*100,0) -> 0 | I87: 17373.897 | J87: 7.4133297 | K87: =IF(ISNUMBER(I87/D87*100),I87/D87*100,0) -> 4.5404547 | L87: 155997.93 | M87: 6.8679092 | N87: =IF(ISNUMBER(L87/D87*100),L87/D87*100,0) -> 40.768144
A88: ='C01'!A87 -> Busca trabajo por primera vez | B88: 203882.47 | C88: 7.1200474 | D88: 203882.47 | E88: 7.1200474 | F88: 0 | G88: 0 | H88: =F88/B88*100 -> 0 | I88: 8320.7726 | J88: 8.3464075 | K88: =IF(ISNUMBER(I88/D88*100),I88/D88*100,0) -> 4.0811614 | L88: 81198.721 | M88: 7.0369147 | N88: =IF(ISNUMBER(L88/D88*100),L88/D88*100,0) -> 39.82624
A89: ='C01'!A88 -> NS/NR | B89: 674422.87 | C89: 5.864678 | D89: 674422.87 | E89: 5.864678 | F89: 0 | G89: 0 | H89: =IFERROR(F89/B89*100,0) -> 0 | I89: 75503.822 | J89: 5.6254247 | K89: =IF(ISNUMBER(I89/D89*100),I89/D89*100,0) -> 11.195323 | L89: 257118.58 | M89: 5.9373714 | N89: =IF(ISNUMBER(L89/D89*100),L89/D89*100,0) -> 38.124237
A91: =A33 -> Fuente: Instituto Nacional de Estadística (INE). LXXXI Encuesta Permanente de Hogares de Propósitos Múltiples, Junio 2024.
A92: AEP: Años de Estudio Promedio
A93: TD: Tasa de Desocupación
A94: TST: Tasa de subocupación por Insuficiencia de Tiempo de Trabajo.
A95: TSI: Tasa de Subocupación Por Insuficiencia De Ingresos

Sheet C03
A1: Cuadro No. 3. Fuerza de Trabajo (PEA) en condición de empleo, según dominio, Nivel educativo, Rangos de edad, rama de actividad y ocupación
A2: Mujeres
A3: Categorías | B3: Fuerza de Trabajo | D3: Ocupados | F3: Desocupados | I3: Subocupados por Insuficiencia de Tiempo de Trabajo. | L3: Subocupados Por Insuficiencia De Ingresos
B4: No. | C4: AEP | D4: No. | E4: AEP | F4: No. | G4: AEP | H4: TD | I4: No. | J4: AEP | K4: TST | L4: No. | M4: AEP | N4: TSI
A6: Total Nacional | B6: 1583298.2 | C6: 8.4620343 | D6: 1479772.1 | E6: 8.3922228 | F6: 103526.16 | G6: 9.4360617 | H6: =F6/B6*100 -> 6.5386392 | I6: 156282.38 | J6: 7.7428559 | K6: =IF(ISNUMBER(I6/D6*100),I6/D6*100,0) -> 10.561247 | L6: 500407.17 | M6: 7.3417769 | N6: =IF(ISNUMBER(L6/D6*100),L6/D6*100,0) -> 33.816503
A8: Dominio
A9: Urbano | B9: 1085118.2 | C9: 9.203009 | D9: 1014144.1 | E9: 9.1278633 | F9: 70974.053 | G9: 10.264938 | H9: =F9/B9*100 -> 6.5406751 | I9: 97769.6 | J9: 8.3838136 | K9: =IF(ISNUMBER(I9/D9*100),I9/D9*100,0) -> 9.6406023 | L9: 335386.38 | M9: 7.7489554 | N9: =IF(ISNUMBER(L9/D9*100),L9/D9*100,0) -> 33.070881
A10: Distrito Central | B10: 253630.52 | C10: 10.392548 | D10: 232508.51 | E10: 10.316961 | F10: 21122.014 | G10: 11.199917 | H10: =F10/B10*100 -> 8.3278678 | I10: 30213.279 | J10: 9.2037498 | K10: =IF(ISNUMBER(I10/D10*100),I10/D10*100,0) -> 12.994483 | L10: 69999.462 | M10: 8.0767704 | N10: =IF(ISNUMBER(L10/D10*100),L10/D10*100,0) -> 30.106194
A11: San Pedro Sula | B11: 142023.65 | C11: 9.3283857 | D11: 133005.58 | E11: 9.2513754 | F11: 9018.07 | G11: 10.427902 | H11: =F11/B11*100 -> 6.3496959 | I11: 9070.9309 | J11: 8.5011655 | K11: =IF(ISNUMBER(I11/D11*100),I11/D11*100,0) -> 6.8199625 | L11: 42989.507 | M11: 7.7857848 | N11: =IF(ISNUMBER(L11/D11*100),L11/D11*100,0) -> 32.321581
A12: Resto urbano | B12: 689463.98 | C12: 8.7325888 | D12: 648630.01 | E12: 8.6707622 | F12: 40833.969 | G12: 9.7198816 | H12: =F12/B12*100 -> 5.9225674 | I12: 58485.39 | J12: 7.9483249 | K12: =IF(ISNUMBER(I12/D12*100),I12/D12*100,0) -> 9.0167567 | L12: 222397.42 | M12: 7.6364167 | N12: =IF(ISNUMBER(L12/D12*100),L12/D12*100,0) -> 34.287253
A13: Rural | B13: 498180.09 | C13: 6.7740349 | D13: 465627.99 | E13: 6.7116989 | F13: 32552.107 | G13: 7.619256 | H13: =F13/B13*100 -> 6.5342046 | I13: 58512.78 | J13: 6.5819718 | K13: =IF(ISNUMBER(I13/D13*100),I13/D13*100,0) -> 12.566422 | L13: 165020.78 | M13: 6.4880189 | N13: =IF(ISNUMBER(L13/D13*100),L13/D13*100,0) -> 35.440477
A15: Nivel Educativo /1
A16: Sin Nivel | B16: 76059.405 | C16: 0 | D16: 73219.337 | E16: 0 | F16: 2840.0689 | G16: 0 | H16: =F16/B16*100 -> 3.734014 | I16: 9832.9033 | J16: 0 | K16: =IF(ISNUMBER(I16/D16*100),I16/D16*100,0) -> 13.42938 | L16: 23224.477 | M16: 0 | N16: =IF(ISNUMBER(L16/D16*100),L16/D16*100,0) -> 31.719048
A17: Básica (1-3) | B17: 132494.21 | C17: 2.3213078 | D17: 128842.59 | E17: 2.3139266 | F17: 3651.6277 | G17: 2.5817448 | H17: =F17/B17*100 -> 2.7560658 | I17: 10707.231 | J17: 2.2906261 | K17: =IF(ISNUMBER(I17/D17*100),I17/D17*100,0) -> 8.3103201 | L17: 45647.141 | M17: 2.2936475 | N17: =IF(ISNUMBER(L17/D17*100),L17/D17*100,0) -> 35.428613
A18: Básica (4-6) | B18: 461148.83 | C18: 5.7043756 | D18: 442023.99 | E18: 5.7025753 | F18: 19124.838 | G18: 5.7459845 | H18: =F18/B18*100 -> 4.147216 | I18: 54720.389 | J18: 5.7140103 | K18: =IF(ISNUMBER(I18/D18*100),I18/D18*100,0) -> 12.379506 | L18: 174736.37 | M18: 5.6655759 | N18: =IF(ISNUMBER(L18/D18*100),L18/D18*100,0) -> 39.530969
A19: Básica (7-9) | B19: 198907.56 | C19: 8.4418707 | D19: 182816.83 | E19: 8.440543 | F19: 16090.731 | G19: 8.4569549 | H19: =F19/B19*100 -> 8.0895522 | I19: 23644.941 | J19: 8.3559038 | K19: =IF(ISNUMBER(I19/D19*100),I19/D19*100,0) -> 12.933679 | L19: 75100.461 | M19: 8.484527 | N19: =IF(ISNUMBER(L19/D19*100),L19/D19*100,0) -> 41.079622
A20: Media | B20: 431460.66 | C20: 8.7250603 | D20: 393542.14 | E20: 8.7355727 | F20: 37918.515 | G20: 8.6157283 | H20: =F20/B20*100 -> 8.7884061 | I20: 41918.593 | J20: 8.6710725 | K20: =IF(ISNUMBER(I20/D20*100),I20/D20*100,0) -> 10.651615 | L20: 145281.86 | M20: 8.7296966 | N20: =IF(ISNUMBER(L20/D20*100),L20/D20*100,0) -> 36.916469
A21: Superior | B21: 272472.52 | C21: 15.721051 | D21: 249101.99 | E21: 15.739292 | F21: 23370.529 | G21: 15.526824 | H21: =F21/B21*100 -> 8.5772059 | I21: 14650.221 | J21: 15.660313 | K21: =IF(ISNUMBER(I21/D21*100),I21/D21*100,0) -> 5.8812139 | L21: 31300.861 | M21: 14.906851 | N21: =IF(ISNUMBER(L21/D21*100),L21/D21*100,0) -> 12.56548
A22: No Sabe/No Responde | B22: 10755.055 | C22: 0 | D22: 10225.206 | E22: 0 | F22: 529.84956 | G22: 0 | H22: =F22/B22*100 -> 4.9265164 | I22: 808.10175 | J22: 0 | K22: =IF(ISNUMBER(I22/D22*100),I22/D22*100,0) -> 7.9030368 | L22: 5115.9914 | M22: 0 | N22: =IF(ISNUMBER(L22/D22*100),L22/D22*100,0) -> 50.03314
A24: Rango de Edad
A25: De 15 a 18 años | B25: 67392.524 | C25: 7.1387032 | D25: 59609.006 | E25: 7.0626883 | F25: 7783.5184 | G25: 7.7547685 | H25: =F25/B25*100 -> 11.549528 | I25: 4004.8741 | J25: 6.9271038 | K25: =IF(ISNUMBER(I25/D25*100),I25/D25*100,0) -> 6.7185721 | L25: 23363.555 | M25: 6.4536471 | N25: =IF(ISNUMBER(L25/D25*100),L25/D25*100,0) -> 39.194673
A26: De 19 a 24 años | B26: 221908.91 | C26: 9.1220851 | D26: 191815.21 | E26: 9.0127457 | F26: 30093.703 | G26: 9.8121126 | H26: =F26/B26*100 -> 13.561286 | I26: 18465.972 | J26: 8.2019992 | K26: =IF(ISNUMBER(I26/D26*100),I26/D26*100,0) -> 9.6269591 | L26: 90872.829 | M26: 8.6782281 | N26: =IF(ISNUMBER(L26/D26*100),L26/D26*100,0) -> 47.375195
A27: De 25 a 29 años | B27: 210739.84 | C27: 9.6875441 | D27: 188182.82 | E27: 9.5735924 | F27: 22557.022 | G27: 10.619821 | H27: =F27/B27*100 -> 10.703729 | I27: 25126.396 | J27: 9.0127947 | K27: =IF(ISNUMBER(I27/D27*100),I27/D27*100,0) -> 13.35212 | L27: 65057.888 | M27: 8.4341104 | N27: =IF(ISNUMBER(L27/D27*100),L27/D27*100,0) -> 34.571641
A28: De 30 a 35 años | B28: 236501.39 | C28: 9.388594 | D28: 222162.86 | E28: 9.4058634 | F28: 14338.526 | G28: 9.1294253 | H28: =F28/B28*100 -> 6.0627661 | I28: 20326.322 | J28: 8.8339113 | K28: =IF(ISNUMBER(I28/D28*100),I28/D28*100,0) -> 9.1492892 | L28: 76800.873 | M28: 7.8233649 | N28: =IF(ISNUMBER(L28/D28*100),L28/D28*100,0) -> 34.569627
A29: De 36 a 44 años | B29: 314274.8 | C29: 8.3919823 | D29: 298896.83 | E29: 8.3312879 | F29: 15377.973 | G29: 9.565019 | H29: =F29/B29*100 -> 4.8931613 | I29: 36249.016 | J29: 7.2046112 | K29: =IF(ISNUMBER(I29/D29*100),I29/D29*100,0) -> 12.127601 | L29: 94953.58 | M29: 7.0722563 | N29: =IF(ISNUMBER(L29/D29*100),L29/D29*100,0) -> 31.768012
A30: De 45 a 59 años | B30: 382962.72 | C30: 7.8635246 | D30: 370655.11 | E30: 7.8892456 | F30: 12307.615 | G30: 7.0153045 | H30: =F30/B30*100 -> 3.2137893 | I30: 44363.213 | J30: 6.8918761 | K30: =IF(ISNUMBER(I30/D30*100),I30/D30*100,0) -> 11.968866 | L30: 101703.45 | M30: 6.2014913 | N30: =IF(ISNUMBER(L30/D30*100),L30/D30*100,0) -> 27.438837
A31: De 60 años y más | B31: 149518.06 | C31: 6.1004535 | D31: 148450.26 | E31: 6.0595069 | F31: 1067.803 | G31: 10.831721 | H31: =F31/B31*100 -> 0.71416319 | I31: 7746.5863 | J31: 7.4617568 | K31: =IF(ISNUMBER(I31/D31*100),I31/D31*100,0) -> 5.2183043 | L31: 47654.991 | M31: 5.395272 | N31: =IF(ISNUMBER(L31/D31*100),L31/D31*100,0) -> 32.101655
A33: ='C01'!$A$34 -> Fuente: Instituto Nacional de Estadística (INE). LXXXI Encuesta Permanente de Hogares de Propósitos Múltiples, Junio 2024.
A34: AEP: Años de Estudio Promedio
A35: TD: Tasa de Desocupación
A36: TST: Tasa de subocupación por Insuficiencia de Tiempo de Trabajo.
A37: TSI: Tasa de Subocupación Por Insuficiencia De Ingresos
A38: =+'C01'!A39 -> /1 Nivel Educativo: La suma de básica (1-3), básica (4-6) y básica (7-9) es equivalente a Nivel Educativo Primaria.
A40: =A1 -> Cuadro No. 3. Fuerza de Trabajo (PEA) en condición de empleo, según dominio, Nivel educativo, Rangos de edad, rama de actividad y ocupación
A41: =A2 -> Mujeres
A42: ....... Continuación
A43: =A3 -> Categorías | B43: Fuerza de Trabajo | D43: Ocupados | F43: Desocupados | I43: Subocupados por Insuficiencia de Tiempo de Trabajo. | L43: Subocupados Por Insuficiencia De Ingresos
B44: =B4 -> No. | C44: =C4 -> AEP | D44: =D4 -> No. | E44: =E4 -> AEP | F44: =F4 -> No. | G44: =G4 -> AEP | H44: =H4 -> TD | I44: =I4 -> No. | ... N44: =N4 -> TSI
A46: =A6 -> Total Nacional | B46: =B6 -> 1583298.2 | C46: =C6 -> 8.4620343 | D46: =D6 -> 1479772.1 | E46: =E6 -> 8.3922228 | F46: =F6 -> 103526.16 | G46: =G6 -> 9.4360617 | H46: =H6 -> 6.5386392 | ... N46: =N6 -> 33.816503
A48: Rama de Actividad
A49: ='C02'!A51 -> Agricultura, ganaderia, silvicultura y pesca | B49: 70370.065 | C49: 5.4370725 | D49: 70370.065 | E49: 5.4370725 | F49: 0 | G49: 0 | H49: =F49/B49*100 -> 0 | I49: 10506 | J49: 6.0887361 | K49: =IF(ISNUMBER(I49/D49*100),I49/D49*100,0) -> 14.929643 | L49: 9654.0778 | M49: 5.8817389 | N49: =IF(ISNUMBER(L49/D49*100),L49/D49*100,0) -> 13.719012
A50: ='C02'!A52 -> Explotacion de minas y canteras | B50: 0 | C50: 0 | D50: 0 | E50: 0 | F50: 0 | G50: 0 | H50: =IFERROR(F50/B50*100,0) -> 0 | I50: 0 | J50: 0 | K50: =IF(ISNUMBER(I50/D50*100),I50/D50*100,0) -> 0 | L50: 0 | M50: 0 | N50: =IF(ISNUMBER(L50/D50*100),L50/D50*100,0) -> 0
A51: ='C02'!A53 -> Industria manufacturera | B51: 244380.63 | C51: 7.4137267 | D51: 244380.63 | E51: 7.4137267 | F51: 0 | G51: 0 | H51: =F51/B51*100 -> 0 | I51: 37909.436 | J51: 7.3005188 | K51: =IF(ISNUMBER(I51/D51*100),I51/D51*100,0) -> 15.512455 | L51: 81141.53 | M51: 7.2515694 | N51: =IF(ISNUMBER(L51/D51*100),L51/D51*100,0) -> 33.202931
A52: ='C02'!A54 -> Suministro de electricidad, gas, vapor y aire acondicionado | B52: 6153.4436 | C52: 7.491259 | D52: 6153.4436 | E52: 7.491259 | F52: 0 | G52: 0 | H52: =F52/B52*100 -> 0 | I52: 433.1405 | J52: 3 | K52: =IF(ISNUMBER(I52/D52*100),I52/D52*100,0) -> 7.0389935 | L52: 644.91575 | M52: 14.333333 | N52: =IF(ISNUMBER(L52/D52*100),L52/D52*100,0) -> 10.480567
A53: ='C02'!A55 -> Suministro de agua, evacuacion de aguas residuales, gestion de desechos y descontaminacion | B53: 4505.5508 | C53: 6.5491754 | D53: 4505.5508 | E53: 6.5491754 | F53: 0 | G53: 0 | H53: =F53/B53*100 -> 0 | I53: 1036.5691 | J53: 6.8181818 | K53: =IF(ISNUMBER(I53/D53*100),I53/D53*100,0) -> 23.00649 | L53: 1274.671 | M53: 9 | N53: =IF(ISNUMBER(L53/D53*100),L53/D53*100,0) -> 28.291126
A54: ='C02'!A56 -> Construccion | B54: 2902.9399 | C54: 10.307107 | D54: 2902.9399 | E54: 10.307107 | F54: 0 | G54: 0 | H54: =F54/B54*100 -> 0 | I54: 0 | J54: 0 | K54: =IF(ISNUMBER(I54/D54*100),I54/D54*100,0) -> 0 | L54: 794.533 | M54: 7.5 | N54: =IF(ISNUMBER(L54/D54*100),L54/D54*100,0) -> 27.369943
A55: ='C02'!A57 -> Comercio al por mayor y al por menor, reparacion de vehiculos automotores y motocicletas | B55: 451371.52 | C55: 7.603122 | D55: 451371.52 | E55: 7.603122 | F55: 0 | G55: 0 | H55: =F55/B55*100 -> 0 | I55: 27831.405 | J55: 7.920501 | K55: =IF(ISNUMBER(I55/D55*100),I55/D55*100,0) -> 6.165964 | L55: 188012.65 | M55: 7.1354982 | N55: =IF(ISNUMBER(L55/D55*100),L55/D55*100,0) -> 41.653637
A56: ='C02'!A58 -> Transporte y almacenamiento | B56: 14654.976 | C56: 10.911961 | D56: 14654.976 | E56: 10.911961 | F56: 0 | G56: 0 | H56: =F56/B56*100 -> 0 | I56: 422.88722 | J56: 16 | K56: =IF(ISNUMBER(I56/D56*100),I56/D56*100,0) -> 2.8856221 | L56: 3473.1774 | M56: 8.4189611 | N56: =IF(ISNUMBER(L56/D56*100),L56/D56*100,0) -> 23.699646
A57: ='C02'!A59 -> Actividades de alojamiento y de servicios de comida | B57: 158412.08 | C57: 7.3059117 | D57: 158412.08 | E57: 7.3059117 | F57: 0 | G57: 0 | H57: =F57/B57*100 -> 0 | I57: 18160.058 | J57: 7.2933212 | K57: =IF(ISNUMBER(I57/D57*100),I57/D57*100,0) -> 11.463809 | L57: 58991.126 | M57: 6.8373482 | N57: =IF(ISNUMBER(L57/D57*100),L57/D57*100,0) -> 37.239033
A58: ='C02'!A60 -> Informacion y comunicaciones | B58: 4269.3708 | C58: 11.628251 | D58: 4269.3708 | E58: 11.628251 | F58: 0 | G58: 0 | H58: =F58/B58*100 -> 0 | I58: 0 | J58: 0 | K58: =IF(ISNUMBER(I58/D58*100),I58/D58*100,0) -> 0 | L58: 1172.5985 | M58: 8.5171392 | N58: =IF(ISNUMBER(L58/D58*100),L58/D58*100,0) -> 27.465371
A59: ='C02'!A61 -> Actividades finacieras y de seguros | B59: 13099.863 | C59: 11.251423 | D59: 13099.863 | E59: 11.251423 | F59: 0 | G59: 0 | H59: =F59/B59*100 -> 0 | I59: 745.34509 | J59: 12.893661 | K59: =IF(ISNUMBER(I59/D59*100),I59/D59*100,0) -> 5.6897166 | L59: 4400.8634 | M59: 10.19813 | N59: =IF(ISNUMBER(L59/D59*100),L59/D59*100,0) -> 33.594728
A60: ='C02'!A62 -> Actividades inmobiliarias | B60: 6580.612 | C60: 13.138609 | D60: 6580.612 | E60: 13.138609 | F60: 0 | G60: 0 | H60: =F60/B60*100 -> 0 | I60: 794.533 | J60: 11 | K60: =IF(ISNUMBER(I60/D60*100),I60/D60*100,0) -> 12.073847 | L60: 757.99587 | M60: 9 | N60: =IF(ISNUMBER(L60/D60*100),L60/D60*100,0) -> 11.518623
A61: ='C02'!A63 -> Actividades profesionales, cientificas y tecnicas | B61: 20667.603 | C61: 13.879163 | D61: 20667.603 | E61: 13.879163 | F61: 0 | G61: 0 | H61: =F61/B61*100 -> 0 | I61: 1330.495 | J61: 14.531089 | K61: =IF(ISNUMBER(I61/D61*100),I61/D61*100,0) -> 6.4375875 | L61: 1278.3517 | M61: 11.742907 | N61: =IF(ISNUMBER(L61/D61*100),L61/D61*100,0) -> 6.1852924
A62: ='C02'!A64 -> Actividades de servicios administrativos y de apoyo | B62: 45717.653 | C62: 8.6468736 | D62: 45717.653 | E62: 8.6468736 | F62: 0 | G62: 0 | H62: =F62/B62*100 -> 0 | I62: 3109.9548 | J62: 6.7707026 | K62: =IF(ISNUMBER(I62/D62*100),I62/D62*100,0) -> 6.8025249 | L62: 17984.601 | M62: 7.7386231 | N62: =IF(ISNUMBER(L62/D62*100),L62/D62*100,0) -> 39.338416
... A69: ='C02'!A71 -> Actividades de organizaciones y organos extraterritoriales | B69: 214.97192 | C69: 16 | D69: 214.97192 | E69: 16 | F69: 0 | G69: 0 | H69: =F69/B69*100 -> 0 | I69: 0 | J69: 0 | K69: =IF(ISNUMBER(I69/D69*100),I69/D69*100,0) -> 0 | L69: 0 | M69: 0 | N69: =IF(ISNUMBER(L69/D69*100),L69/D69*100,0) -> 0
A70: ='C02'!A72 -> Rama de actividad NO especificadas | B70: 0 | C70: 0 | D70: 0 | E70: 0 | F70: 0 | G70: 0 | H70: =IFERROR(F70/B70*100,0) -> 0 | I70: 0 | J70: 0 | K70: =IF(ISNUMBER(I70/D70*100),I70/D70*100,0) -> 0 | L70: 0 | M70: 0 | N70: =IF(ISNUMBER(L70/D70*100),L70/D70*100,0) -> 0
A71: ='C02'!A73 -> Busca trabajo por primera vez | B71: 161.22894 | C71: 17 | D71: 0 | E71: 0 | F71: 161.22894 | G71: 17 | H71: =F71/B71*100 -> 100 | I71: 0 | J71: 0 | K71: =IF(ISNUMBER(I71/D71*100),I71/D71*100,0) -> 0 | L71: 0 | M71: 0 | N71: =IF(ISNUMBER(L71/D71*100),L71/D71*100,0) -> 0
A72: ='C02'!A74 -> NS/NR | B72: 3908.3876 | C72: 13.112604 | D72: 3908.3876 | E72: 13.112604 | F72: 0 | G72: 0 | H72: =F72/B72*100 -> 0 | I72: 0 | J72: 0 | K72: =IF(ISNUMBER(I72/D72*100),I72/D72*100,0) -> 0 | L72: 1672.3523 | M72: 9.8304337 | N72: =IF(ISNUMBER(L72/D72*100),L72/D72*100,0) -> 42.788804
A74: ='C02'!A76 -> Ocupación
A75: ='C02'!A77 -> Directores y gerentes | B75: 43854.414 | C75: 12.700219 | D75: 43854.414 | E75: 12.700219 | F75: 0 | G75: 0 | H75: =F75/B75*100 -> 0 | I75: 1762.7697 | J75: 10.170732 | K75: =IF(ISNUMBER(I75/D75*100),I75/D75*100,0) -> 4.0195947 | L75: 10072.885 | M75: 11.408918 | N75: =IF(ISNUMBER(L75/D75*100),L75/D75*100,0) -> 22.968919
A76: ='C02'!A78 -> Profesionales cientificos e intelectuales | B76: 104550.95 | C76: 16.006786 | D76: 104550.95 | E76: 16.006786 | F76: 0 | G76: 0 | H76: =F76/B76*100 -> 0 | I76: 7184.9984 | J76: 15.757847 | K76: =IF(ISNUMBER(I76/D76*100),I76/D76*100,0) -> 6.8722459 | L76: 3087.1385 | M76: 15.4555 | N76: =IF(ISNUMBER(L76/D76*100),L76/D76*100,0) -> 2.9527598
A77: ='C02'!A79 -> Tecnicos y profesionales de nivel medio | B77: 95572.026 | C77: 11.292448 | D77: 95572.026 | E77: 11.292448 | F77: 0 | G77: 0 | H77: =F77/B77*100 -> 0 | I77: 5913.3188 | J77: 9.2037282 | K77: =IF(ISNUMBER(I77/D77*100),I77/D77*100,0) -> 6.1872904 | L77: 20373.488 | M77: 10.616957 | N77: =IF(ISNUMBER(L77/D77*100),L77/D77*100,0) -> 21.317418
A78: ='C02'!A80 -> Personal de apoyo administrativo | B78: 50129.855 | C78: 10.561209 | D78: 50129.855 | E78: 10.561209 | F78: 0 | G78: 0 | H78: =F78/B78*100 -> 0 | I78: 422.88722 | J78: 9 | K78: =IF(ISNUMBER(I78/D78*100),I78/D78*100,0) -> 0.84358358 | L78: 20370.456 | M78: 9.4741937 | N78: =IF(ISNUMBER(L78/D78*100),L78/D78*100,0) -> 40.635378
A79: ='C02'!A81 -> Trabajadores de los servicios y vendedores de comercios y mercados | B79: 646772.51 | C79: 7.4661178 | D79: 646772.51 | E79: 7.4661178 | F79: 0 | G79: 0 | H79: =F79/B79*100 -> 0 | I79: 55320.361 | J79: 7.7957783 | K79: =IF(ISNUMBER(I79/D79*100),I79/D79*100,0) -> 8.553295 | L79: 265387.64 | M79: 7.0871928 | N79: =IF(ISNUMBER(L79/D79*100),L79/D79*100,0) -> 41.03261
A80: ='C02'!A82 -> Agricultores y trabajadores calificados agropecuarios forestales y pesqueros | B80: 34770.623 | C80: 4.8039512 | D80: 34770.623 | E80: 4.8039512 | F80: 0 | G80: 0 | H80: =F80/B80*100 -> 0 | I80: 6363.0807 | J80: 5.3812855 | K80: =IF(ISNUMBER(I80/D80*100),I80/D80*100,0) -> 18.300163 | L80: 1892.1268 | M80: 4.1927711 | N80: =IF(ISNUMBER(L80/D80*100),L80/D80*100,0) -> 5.4417396
A81: ='C02'!A83 -> Oficiales, operarios y artesanos de artes mecanicas y de otros oficios | B81: 167510.29 | C81: 6.7632056 | D81: 167510.29 | E81: 6.7632056 | F81: 0 | G81: 0 | H81: =F81/B81*100 -> 0 | I81: 32692.131 | J81: 6.8913926 | K81: =IF(ISNUMBER(I81/D81*100),I81/D81*100,0) -> 19.516492 | L81: 40353.694 | M81: 6.6010932 | N81: =IF(ISNUMBER(L81/D81*100),L81/D81*100,0) -> 24.090278
A82: ='C02'!A84 -> Operadores de instalaciones y maquinas y ensambladores | B82: 46385.346 | C82: 7.4641637 | D82: 46385.346 | E82: 7.4641637 | F82: 0 | G82: 0 | H82: =F82/B82*100 -> 0 | I82: 5567.4367 | J82: 8.1153521 | K82: =IF(ISNUMBER(I82/D82*100),I82/D82*100,0) -> 12.002577 | L82: 25400.95 | M82: 7.4715846 | N82: =IF(ISNUMBER(L82/D82*100),L82/D82*100,0) -> 54.760722
A83: ='C02'!A85 -> Ocupaciones elementales | B83: 280931.62 | C83: 6.5891254 | D83: 280931.62 | E83: 6.5891254 | F83: 0 | G83: 0 | H83: =F83/B83*100 -> 0 | I83: 39996.019 | J83: 6.4072489 | K83: =IF(ISNUMBER(I83/D83*100),I83/D83*100,0) -> 14.236923 | L83: 112409.41 | M83: 6.5502491 | N83: =IF(ISNUMBER(L83/D83*100),L83/D83*100,0) -> 40.013084
A84: ='C02'!A86 -> Ocupaciones militares | B84: 0 | C84: 0 | D84: 0 | E84: 0 | F84: 0 | G84: 0 | H84: =F84/B84*100 -> #DIV/0! | I84: 0 | J84: 0 | K84: =IF(ISNUMBER(I84/D84*100),I84/D84*100,0) -> 0 | L84: 0 | M84: 0 | N84: =IF(ISNUMBER(L84/D84*100),L84/D84*100,0) -> 0
A85: Ocupacion NO especificada | B85: 0 | C85: 0 | D85: 0 | E85: 0 | F85: 0 | G85: 0 | H85: =IFERROR(F85/B85*100,0) -> 0 | I85: 0 | J85: 0 | K85: =IF(ISNUMBER(I85/D85*100),I85/D85*100,0) -> 0 | L85: 0 | M85: 0 | N85: =IF(ISNUMBER(L85/D85*100),L85/D85*100,0) -> 0
A86: ='C02'!A88 -> Busca trabajo por primera vez | B86: 161.22894 | C86: 17 | D86: 0 | E86: 0 | F86: 161.22894 | G86: 17 | H86: =F86/B86*100 -> 100 | I86: 0 | J86: 0 | K86: =IF(ISNUMBER(I86/D86*100),I86/D86*100,0) -> 0 | L86: 0 | M86: 0 | N86: =IF(ISNUMBER(L86/D86*100),L86/D86*100,0) -> 0
A87: ='C02'!A89 -> NS/NR | B87: 9294.4489 | C87: 15.283501 | D87: 9294.4489 | E87: 15.283501 | F87: 0 | G87: 0 | H87: =F87/B87*100 -> 0 | I87: 1059.3773 | J87: 17 | K87: =IF(ISNUMBER(I87/D87*100),I87/D87*100,0) -> 11.397957 | L87: 1059.3773 | M87: 9 | N87: =IF(ISNUMBER(L87/D87*100),L87/D87*100,0) -> 11.397957
A89: =A33 -> Fuente: Instituto Nacional de Estadística (INE). LXXXI Encuesta Permanente de Hogares de Propósitos Múltiples, Junio 2024.
A90: AEP: Años de Estudio Promedio
A91: TD: Tasa de Desocupación
A92: TST: Tasa de subocupación por Insuficiencia de Tiempo de Trabajo.
A93: TSI: Tasa de Subocupación Por Insuficiencia De Ingresos

Sheet C04
A1: Cuadro No. 4. Población con problemas de empleo y Años de Estudio Promedio (AEP), según dominio, Rangos de edad, rama de actividad y ocupación
A3: Categorías | B3: Total | C3: Desocupados | F3: Subocupados por Insuficiencia de Tiempo de Trabajo. | I3: Subocupados Por Insuficiencia De Ingresos | L3: Buscador no disponible | O3: Disponible no buscador
C4: No. | D4: % 2/ | E4: AEP | F4: No. | G4: % 2/ | H4: AEP | I4: No. | J4: % 2/ | K4: AEP | L4: No. | M4: % 2/ | N4: AEP | O4: No. | P4: % 2/ | Q4: AEP
A6: Total Nacional | B6: =SUM(C6,F6,I6,L6,O6) -> 2026306.4 | C6: 205973.38 | D6: =IF(ISNUMBER(C6/$B6*100),C6/$B6*100,0) -> 10.164967 | E6: 8.6650437 | F6: 317814.78 | G6: =IF(ISNUMBER(F6/$B6*100),F6/$B6*100,0) -> 15.684438 | H6: 7.2822072 | I6: 1295636.9 | J6: =IF(ISNUMBER(I6/$B6*100),I6/$B6*100,0) -> 63.940817 | K6: 7.0381791 | L6: 26657.878 | M6: =IF(ISNUMBER(L6/$B6*100),L6/$B6*100,0) -> 1.3155897 | N6: 7.5690119 | O6: 180223.49 | P6: =IF(ISNUMBER(O6/$B6*100),O6/$B6*100,0) -> 8.8941873 | Q6: 6.6725771
A8: Dominio
A9: Urbano | B9: =SUM(C9,F9,I9,L9,O9) -> 1191184.1 | C9: 134267.84 | D9: =IF(ISNUMBER(C9/$B7*100),C9/$B7*100,0) -> 0 | E9: 9.5039783 | F9: 164057.61 | G9: =IF(ISNUMBER(F9/$B7*100),F9/$B7*100,0) -> 0 | H9: 8.5440317 | I9: 804841.29 | J9: =IF(ISNUMBER(I9/$B7*100),I9/$B7*100,0) -> 0 | K9: 7.5358597 | L9: 18449.415 | M9: =IF(ISNUMBER(L9/$B7*100),L9/$B7*100,0) -> 0 | N9: 8.4094819 | O9: 69567.962 | P9: =IF(ISNUMBER(O9/$B7*100),O9/$B7*100,0) -> 0 | Q9: 7.6616838
A10: Distrito Central | B10: =SUM(C10,F10,I10,L10,O10) -> 280280.89 | C10: 41631.871 | D10: =IF(ISNUMBER(C10/$B9*100),C10/$B9*100,0) -> 3.4949988 | E10: 10.329046 | F10: 53425.127 | G10: =IF(ISNUMBER(F10/$B9*100),F10/$B9*100,0) -> 4.4850436 | H10: 9.841311 | I10: 160949.98 | J10: =IF(ISNUMBER(I10/$B9*100),I10/$B9*100,0) -> 13.511764 | K10: 7.9416942 | L10: 3562.3917 | M10: =IF(ISNUMBER(L10/$B9*100),L10/$B9*100,0) -> 0.29906307 | N10: 11.300481 | O10: 20711.52 | P10: =IF(ISNUMBER(O10/$B9*100),O10/$B9*100,0) -> 1.7387338 | Q10: 9.1413073
A11: San Pedro Sula | B11: =SUM(C11,F11,I11,L11,O11) -> 145805.47 | C11: 13352.664 | D11: =IF(ISNUMBER(C11/$B10*100),C11/$B10*100,0) -> 4.7640293 | E11: 9.2280285 | F11: 13712.118 | G11: =IF(ISNUMBER(F11/$B10*100),F11/$B10*100,0) -> 4.8922771 | H11: 8.5636083 | I11: 110556.31 | J11: =IF(ISNUMBER(I11/$B10*100),I11/$B10*100,0) -> 39.444826 | K11: 8.0699573 | L11: 1492.1878 | M11: =IF(ISNUMBER(L11/$B10*100),L11/$B10*100,0) -> 0.53239011 | N11: 7.1781377 | O11: 6692.1903 | P11: =IF(ISNUMBER(O11/$B10*100),O11/$B10*100,0) -> 2.3876726 | Q11: 8.4139021
A12: Resto urbano | B12: =SUM(C12,F12,I12,L12,O12) -> 765097.75 | C12: 79283.305 | D12: =IF(ISNUMBER(C12/$B11*100),C12/$B11*100,0) -> 54.376083 | E12: 9.1023527 | F12: 96920.368 | G12: =IF(ISNUMBER(F12/$B11*100),F12/$B11*100,0) -> 66.47238 | H12: 7.772454 | I12: 533334.99 | J12: =IF(ISNUMBER(I12/$B11*100),I12/$B11*100,0) -> 365.7853 | K12: 7.2972982 | L12: 13394.836 | M12: =IF(ISNUMBER(L12/$B11*100),L12/$B11*100,0) -> 9.1867852 | N12: 7.8218534 | O12: 42164.252 | P12: =IF(ISNUMBER(O12/$B11*100),O12/$B11*100,0) -> 28.918155 | Q12: 6.7609941
A13: Rural | B13: =SUM(C13,F13,I13,L13,O13) -> 835122.28 | C13: 71705.542 | D13: =IF(ISNUMBER(C13/$B12*100),C13/$B12*100,0) -> 9.3720759 | E13: 7.062554 | F13: 153757.16 | G13: =IF(ISNUMBER(F13/$B12*100),F13/$B12*100,0) -> 20.096408 | H13: 5.8466226 | I13: 490795.59 | J13: =IF(ISNUMBER(I13/$B12*100),I13/$B12*100,0) -> 64.14809 | K13: 6.1731323 | L13: 8208.463 | M13: =IF(ISNUMBER(L13/$B12*100),L13/$B12*100,0) -> 1.0728646 | N13: 5.6985262 | O13: 110655.52 | P13: =IF(ISNUMBER(O13/$B12*100),O13/$B12*100,0) -> 14.462926 | Q13: 5.9883505
A15: Rango de Edad
A16: De 15 a 18 años | B16: =SUM(C16,F16,I16,L16,O16) -> 145792.18 | C16: 18546.035 | D16: =IF(ISNUMBER(C16/$B13*100),C16/$B13*100,0) -> 2.2207568 | E16: 7.2798857 | F16: 18428.618 | G16: =IF(ISNUMBER(F16/$B13*100),F16/$B13*100,0) -> 2.2066969 | H16: 6.6900324 | I16: 89141.773 | J16: =IF(ISNUMBER(I16/$B13*100),I16/$B13*100,0) -> 10.674098 | K16: 6.3525546 | L16: 2440.2852 | M16: =IF(ISNUMBER(L16/$B13*100),L16/$B13*100,0) -> 0.29220693 | N16: 6.7685214 | O16: 17235.466 | P16: =IF(ISNUMBER(O16/$B13*100),O16/$B13*100,0) -> 2.0638254 | Q16: 6.6784102
A17: De 19 a 24 años | B17: =SUM(C17,F17,I17,L17,O17) -> 365742.26 | C17: 58554.013 | D17: =IF(ISNUMBER(C17/$B14*100),C17/$B14*100,0) -> 0 | E17: 9.0138774 | F17: 41783.235 | G17: =IF(ISNUMBER(F17/$B14*100),F17/$B14*100,0) -> 0 | H17: 7.5702347 | I17: 224263.47 | J17: =IF(ISNUMBER(I17/$B14*100),I17/$B14*100,0) -> 0 | K17: 8.0007199 | L17: 10377.317 | M17: =IF(ISNUMBER(L17/$B14*100),L17/$B14*100,0) -> 0 | N17: 8.8468708 | O17: 30764.217 | P17: =IF(ISNUMBER(O17/$B14*100),O17/$B14*100,0) -> 0 | Q17: 7.8053546
A18: De 25 a 29 años | B18: =SUM(C18,F18,I18,L18,O18) -> 287704.77 | C18: 33917.793 | D18: =IF(ISNUMBER(C18/$B15*100),C18/$B15*100,0) -> 0 | E18: 9.906112 | F18: 43276.745 | G18: =IF(ISNUMBER(F18/$B15*100),F18/$B15*100,0) -> 0 | H18: 8.5772947 | I18: 184760.66 | J18: =IF(ISNUMBER(I18/$B15*100),I18/$B15*100,0) -> 0 | K18: 8.1513725 | L18: 6480.4189 | M18: =IF(ISNUMBER(L18/$B15*100),L18/$B15*100,0) -> 0 | N18: 7.0717416 | O18: 19269.157 | P18: =IF(ISNUMBER(O18/$B15*100),O18/$B15*100,0) -> 0 | Q18: 6.9289396
A19: De 30 a 35 años | B19: =SUM(C19,F19,I19,L19,O19) -> 269505.08 | C19: 27913.386 | D19: =IF(ISNUMBER(C19/$B16*100),C19/$B16*100,0) -> 19.146011 | E19: 8.7830611 | F19: 40495.239 | G19: =IF(ISNUMBER(F19/$B16*100),F19/$B16*100,0) -> 27.776003 | H19: 8.3753389 | I19: 179587.4 | J19: =IF(ISNUMBER(I19/$B16*100),I19/$B16*100,0) -> 123.18041 | K19: 7.7257258 | L19: 433.1405 | M19: =IF(ISNUMBER(L19/$B16*100),L19/$B16*100,0) -> 0.29709447 | N19: 6 | O19: 21075.918 | P19: =IF(ISNUMBER(O19/$B16*100),O19/$B16*100,0) -> 14.456138 | Q19: 7.017244
A20: De 36 a 44 años | B20: =SUM(C20,F20,I20,L20,O20) -> 364906.14 | C20: 28840.846 | D20: =IF(ISNUMBER(C20/$B17*100),C20/$B17*100,0) -> 7.8855657 | E20: 8.8797343 | F20: 69555.442 | G20: =IF(ISNUMBER(F20/$B17*100),F20/$B17*100,0) -> 19.017611 | H20: 7.0950251 | I20: 233475.59 | J20: =IF(ISNUMBER(I20/$B17*100),I20/$B17*100,0) -> 63.8361 | K20: 6.7853115 | L20: 3116.5806 | M20: =IF(ISNUMBER(L20/$B17*100),L20/$B17*100,0) -> 0.85212483 | N20: 7.2236521 | O20: 29917.679 | P20: =IF(ISNUMBER(O20/$B17*100),O20/$B17*100,0) -> 8.1799896 | Q20: 6.3260424
A21: De 45 a 59 años | B21: =SUM(C21,F21,I21,L21,O21) -> 409326.26 | C21: 27827.164 | D21: =IF(ISNUMBER(C21/$B18*100),C21/$B18*100,0) -> 9.6721247 | E21: 7.029474 | F21: 80439.082 | G21: =IF(ISNUMBER(F21/$B18*100),F21/$B18*100,0) -> 27.958897 | H21: 6.2309283 | I21: 257945.09 | J21: =IF(ISNUMBER(I21/$B18*100),I21/$B18*100,0) -> 89.656173 | K21: 6.0592016 | L21: 2775.1171 | M21: =IF(ISNUMBER(L21/$B18*100),L21/$B18*100,0) -> 0.96457109 | N21: 6.0420501 | O21: 40339.811 | P21: =IF(ISNUMBER(O21/$B18*100),O21/$B18*100,0) -> 14.021252 | Q21: 5.8168057
A22: De 60 años y más | B22: =SUM(C22,F22,I22,L22,O22) -> 183329.71 | C22: 10374.144 | D22: =IF(ISNUMBER(C22/$B19*100),C22/$B19*100,0) -> 3.8493313 | E22: 8.3850619 | F22: 23836.419 | G22: =IF(ISNUMBER(F22/$B19*100),F22/$B19*100,0) -> 8.8445154 | H22: 6.7958054 | I22: 126462.89 | J22: =IF(ISNUMBER(I22/$B19*100),I22/$B19*100,0) -> 46.92412 | K22: 5.0470224 | L22: 1035.0192 | M22: =IF(ISNUMBER(L22/$B19*100),L22/$B19*100,0) -> 0.38404442 | N22: 2 | O22: 21621.239 | P22: =IF(ISNUMBER(O22/$B19*100),O22/$B19*100,0) -> 8.0225718 | Q22: 6.4361177
A24: ='C01'!$A$34 -> Fuente: Instituto Nacional de Estadística (INE). LXXXI Encuesta Permanente de Hogares de Propósitos Múltiples, Junio 2024.
A25: AEP: Años de Estudio Promedio
A26: 2/ Porcentaje por filas
A29: =A1 -> Cuadro No. 4. Población con problemas de empleo y Años de Estudio Promedio (AEP), según dominio, Rangos de edad, rama de actividad y ocupación
A30: ....... Continuación
A31: =A3 -> Categorías | B31: Total | C31: Desocupados | F31: Subocupados por Insuficiencia de Tiempo de Trabajo. | I31: Subocupados Por Insuficiencia De Ingresos | L31: =L3 -> Buscador no disponible | O31: =O3 -> Disponible no buscador
C32: No. | D32: % 2/ | E32: AEP | F32: No. | G32: % 2/ | H32: AEP | I32: No. | J32: % 2/ | K32: AEP | L32: No. | M32: % 2/ | N32: AEP | O32: No. | P32: % 2/ | Q32: AEP
A34: =A6 -> Total Nacional
A36: Rama de Actividad
A37: Agricultura, ganaderia, silvicultura y pesca | B37: =SUM(C37,F37,I37,L37,O37) -> 278920.78 | C37: 0 | D37: =IF(ISNUMBER(C37/$B37*100),C37/$B37*100,0) -> 0 | E37: 0 | F37: 97654.538 | G37: =IF(ISNUMBER(F37/$B37*100),F37/$B37*100,0) -> 35.011568 | H37: 5.1602822 | I37: 181266.24 | J37: =IF(ISNUMBER(I37/$B37*100),I37/$B37*100,0) -> 64.988432 | K37: 5.6129871 | L37: 0 | M37: =IF(ISNUMBER(L37/$B34*100),L37/$B34*100,0) -> 0 | N37: 0 | O37: 0 | P37: =IF(ISNUMBER(O37/$B34*100),O37/$B34*100,0) -> 0 | Q37: 0
A38: Explotacion de minas y canteras | B38: =SUM(C38,F38,I38,L38,O38) -> 5573.8858 | C38: 0 | D38: =IF(ISNUMBER(C38/$B38*100),C38/$B38*100,0) -> 0 | E38: 0 | F38: 470.97738 | G38: =IF(ISNUMBER(F38/$B38*100),F38/$B38*100,0) -> 8.4497136 | H38: 8 | I38: 5102.9084 | J38: =IF(ISNUMBER(I38/$B38*100),I38/$B38*100,0) -> 91.550286 | K38: 5.9286234 | L38: 0 | M38: =IF(ISNUMBER(L38/$B35*100),L38/$B35*100,0) -> 0 | N38: 0 | O38: 0 | P38: =IF(ISNUMBER(O38/$B38*100),O38/$B38*100,0) -> 0 | Q38: 0
A39: Industria manufacturera | B39: =SUM(C39,F39,I39,L39,O39) -> 243005.27 | C39: 0 | D39: =IF(ISNUMBER(C39/$B39*100),C39/$B39*100,0) -> 0 | E39: 0 | F39: 48763.008 | G39: =IF(ISNUMBER(F39/$B39*100),F39/$B39*100,0) -> 20.066647 | H39: 7.5556332 | I39: 194242.26 | J39: =IF(ISNUMBER(I39/$B39*100),I39/$B39*100,0) -> 79.933353 | K39: 7.2755448 | L39: 0 | M39: =IF(ISNUMBER(L39/$B36*100),L39/$B36*100,0) -> 0 | N39: 0 | O39: 0 | P39: =IF(ISNUMBER(O39/$B39*100),O39/$B39*100,0) -> 0 | Q39: 0
A40: Suministro de electricidad, gas, vapor y aire acondicionado | B40: =SUM(C40,F40,I40,L40,O40) -> 4319.4487 | C40: 0 | D40: =IF(ISNUMBER(C40/$B40*100),C40/$B40*100,0) -> 0 | E40: 0 | F40: 433.1405 | G40: =IF(ISNUMBER(F40/$B40*100),F40/$B40*100,0) -> 10.02768 | H40: 3 | I40: 3886.3082 | J40: =IF(ISNUMBER(I40/$B40*100),I40/$B40*100,0) -> 89.97232 | K40: 9.7675483 | L40: 0 | M40: =IF(ISNUMBER(L40/$B37*100),L40/$B37*100,0) -> 0 | N40: 0 | O40: 0 | P40: =IF(ISNUMBER(O40/$B40*100),O40/$B40*100,0) -> 0 | Q40: 0
A41: Suministro de agua, evacuacion de aguas residuales, gestion de desechos y descontaminacion | B41: =SUM(C41,F41,I41,L41,O41) -> 7058.5573 | C41: 0 | D41: =IF(ISNUMBER(C41/$B41*100),C41/$B41*100,0) -> 0 | E41: 0 | F41: 1965.4236 | G41: =IF(ISNUMBER(F41/$B41*100),F41/$B41*100,0) -> 27.844552 | H41: 7.6666667 | I41: 5093.1337 | J41: =IF(ISNUMBER(I41/$B41*100),I41/$B41*100,0) -> 72.155448 | K41: 7.1418635 | L41: 0 | M41: =IF(ISNUMBER(L41/$B38*100),L41/$B38*100,0) -> 0 | N41: 0 | O41: 0 | P41: =IF(ISNUMBER(O41/$B41*100),O41/$B41*100,0) -> 0 | Q41: 0
A42: Construccion | B42: =SUM(C42,F42,I42,L42,O42) -> 152062 | C42: 0 | D42: =IF(ISNUMBER(C42/$B42*100),C42/$B42*100,0) -> 0 | E42: 0 | F42: 13864.722 | G42: =IF(ISNUMBER(F42/$B42*100),F42/$B42*100,0) -> 9.1178083 | H42: 6.4939718 | I42: 138197.28 | J42: =IF(ISNUMBER(I42/$B42*100),I42/$B42*100,0) -> 90.882192 | K42: 6.1076507 | L42: 0 | M42: =IF(ISNUMBER(L42/$B39*100),L42/$B39*100,0) -> 0 | N42: 0 | O42: 0 | P42: =IF(ISNUMBER(O42/$B42*100),O42/$B42*100,0) -> 0 | Q42: 0
A43: Comercio al por mayor y al por menor, reparacion de vehiculos automotores y motocicletas | B43: =SUM(C43,F43,I43,L43,O43) -> 408262.15 | C43: 0 | D43: =IF(ISNUMBER(C43/$B43*100),C43/$B43*100,0) -> 0 | E43: 0 | F43: 43377.836 | G43: =IF(ISNUMBER(F43/$B43*100),F43/$B43*100,0) -> 10.624996 | H43: 7.4860471 | I43: 364884.31 | J43: =IF(ISNUMBER(I43/$B43*100),I43/$B43*100,0) -> 89.375004 | K43: 7.1339906 | L43: 0 | M43: =IF(ISNUMBER(L43/$B40*100),L43/$B40*100,0) -> 0 | N43: 0 | O43: 0 | P43: =IF(ISNUMBER(O43/$B43*100),O43/$B43*100,0) -> 0 | Q43: 0
A44: Transporte y almacenamiento | B44: =SUM(C44,F44,I44,L44,O44) -> 62547.97 | C44: 0 | D44: =IF(ISNUMBER(C44/$B44*100),C44/$B44*100,0) -> 0 | E44: 0 | F44: 8374.7052 | G44: =IF(ISNUMBER(F44/$B44*100),F44/$B44*100,0) -> 13.389252 | H44: 10.966383 | I44: 54173.265 | J44: =IF(ISNUMBER(I44/$B44*100),I44/$B44*100,0) -> 86.610748 | K44: 6.7081614 | L44: 0 | M44: =IF(ISNUMBER(L44/$B41*100),L44/$B41*100,0) -> 0 | N44: 0 | O44: 0 | P44: =IF(ISNUMBER(O44/$B44*100),O44/$B44*100,0) -> 0 | Q44: 0
A45: Actividades de alojamiento y de servicios de comida | B45: =SUM(C45,F45,I45,L45,O45) -> 99849.387 | C45: 0 | D45: =IF(ISNUMBER(C45/$B45*100),C45/$B45*100,0) -> 0 | E45: 0 | F45: 20401.778 | G45: =IF(ISNUMBER(F45/$B45*100),F45/$B45*100,0) -> 20.432552 | H45: 7.292284 | I45: 79447.609 | J45: =IF(ISNUMBER(I45/$B45*100),I45/$B45*100,0) -> 79.567448 | K45: 6.9566892 | L45: 0 | M45: =IF(ISNUMBER(L45/$B42*100),L45/$B42*100,0) -> 0 | N45: 0 | O45: 0 | P45: =IF(ISNUMBER(O45/$B45*100),O45/$B45*100,0) -> 0 | Q45: 0
A46: Informacion y comunicaciones | B46: =SUM(C46,F46,I46,L46,O46) -> 6194.5308 | C46: 0 | D46: =IF(ISNUMBER(C46/$B46*100),C46/$B46*100,0) -> 0 | E46: 0 | F46: 795.39609 | G46: =IF(ISNUMBER(F46/$B46*100),F46/$B46*100,0) -> 12.840296 | H46: 10.351351 | I46: 5399.1347 | J46: =IF(ISNUMBER(I46/$B46*100),I46/$B46*100,0) -> 87.159704 | K46: 9.9429407 | L46: 0 | M46: =IF(ISNUMBER(L46/$B43*100),L46/$B43*100,0) -> 0 | N46: 0 | O46: 0 | P46: =IF(ISNUMBER(O46/$B46*100),O46/$B46*100,0) -> 0 | Q46: 0
A47: Actividades finacieras y de seguros | B47: =SUM(C47,F47,I47,L47,O47) -> 10622.823 | C47: 0 | D47: =IF(ISNUMBER(C47/$B47*100),C47/$B47*100,0) -> 0 | E47: 0 | F47: 1483.2081 | G47: =IF(ISNUMBER(F47/$B47*100),F47/$B47*100,0) -> 13.962466 | H47: 13.33362 | I47: 9139.6149 | J47: =IF(ISNUMBER(I47/$B47*100),I47/$B47*100,0) -> 86.037534 | K47: 10.546166 | L47: 0 | M47: =IF(ISNUMBER(L47/$B44*100),L47/$B44*100,0) -> 0 | N47: 0 | O47: 0 | P47: =IF(ISNUMBER(O47/$B47*100),O47/$B47*100,0) -> 0 | Q47: 0
A48: Actividades inmobiliarias | B48: =SUM(C48,F48,I48,L48,O48) -> 3626.0408 | C48: 0 | D48: =IF(ISNUMBER(C48/$B48*100),C48/$B48*100,0) -> 0 | E48: 0 | F48: 1097.3042 | G48: =IF(ISNUMBER(F48/$B48*100),F48/$B48*100,0) -> 30.261771 | H48: 9.6203863 | I48: 2528.7366 | J48: =IF(ISNUMBER(I48/$B48*100),I48/$B48*100,0) -> 69.738229 | K48: 10.860749 | L48: 0 | M48: =IF(ISNUMBER(L48/$B45*100),L48/$B45*100,0) -> 0 | N48: 0 | O48: 0 | P48: =IF(ISNUMBER(O48/$B48*100),O48/$B48*100,0) -> 0 | Q48: 0
A49: Actividades profesionales, cientificas y tecnicas | B49: =SUM(C49,F49,I49,L49,O49) -> 6510.0463 | C49: 0 | D49: =IF(ISNUMBER(C49/$B49*100),C49/$B49*100,0) -> 0 | E49: 0 | F49: 2640.8433 | G49: =IF(ISNUMBER(F49/$B49*100),F49/$B49*100,0) -> 40.565661 | H49: 14.042612 | I49: 3869.203 | J49: =IF(ISNUMBER(I49/$B49*100),I49/$B49*100,0) -> 59.434339 | K49: 12.251309 | L49: 0 | M49: =IF(ISNUMBER(L49/$B46*100),L49/$B46*100,0) -> 0 | N49: 0 | O49: 0 | P49: =IF(ISNUMBER(O49/$B49*100),O49/$B49*100,0) -> 0 | Q49: 0
... A58: Rama de actividad NO especificadas | B58: =SUM(C58,F58,I58,L58,O58) -> 0 | C58: 0 | D58: =IF(ISNUMBER(C58/$B58*100),C58/$B58*100,0) -> 0 | E58: 0 | F58: 0 | G58: =IF(ISNUMBER(F58/$B58*100),F58/$B58*100,0) -> 0 | H58: 0 | I58: 0 | J58: =IF(ISNUMBER(I58/$B58*100),I58/$B58*100,0) -> 0 | K58: 0 | L58: 0 | M58: =IF(ISNUMBER(L58/$B55*100),L58/$B55*100,0) -> 0 | N58: 0 | O58: 0 | P58: =IF(ISNUMBER(O58/$B58*100),O58/$B58*100,0) -> 0 | Q58: 0
A59: Busca trabajo por primera vez | B59: =SUM(C59,F59,I59,L59,O59) -> 594.36943 | C59: 594.36943 | D59: =IF(ISNUMBER(C59/$B59*100),C59/$B59*100,0) -> 100 | E59: 9.7126048 | F59: 0 | G59: =IF(ISNUMBER(F59/$B59*100),F59/$B59*100,0) -> 0 | H59: 0 | I59: 0 | J59: =IF(ISNUMBER(I59/$B59*100),I59/$B59*100,0) -> 0 | K59: 0 | L59: 0 | M59: =IF(ISNUMBER(L59/$B56*100),L59/$B56*100,0) -> 0 | N59: 0 | O59: 0 | P59: =IF(ISNUMBER(O59/$B43*100),O59/$B43*100,0) -> 0 | Q59: 0
A60: NS/NR | B60: =SUM(C60,F60,I60,L60,O60) -> 4436.8857 | C60: 0 | D60: =IF(ISNUMBER(C60/$B60*100),C60/$B60*100,0) -> 0 | E60: 0 | F60: 0 | G60: =IF(ISNUMBER(F60/$B60*100),F60/$B60*100,0) -> 0 | H60: 0 | I60: 4436.8857 | J60: =IF(ISNUMBER(I60/$B60*100),I60/$B60*100,0) -> 100 | K60: 8.644595 | L60: 0 | M60: =IF(ISNUMBER(L60/$B57*100),L60/$B57*100,0) -> 0 | N60: 0 | O60: 0 | P60: =IF(ISNUMBER(O60/$B60*100),O60/$B60*100,0) -> 0 | Q60: 0
A62: Ocupación
A63: Directores y gerentes | B63: =SUM(C63,F63,I63,L63,O63) -> 21957.064 | C63: 0 | D63: =IF(ISNUMBER(C63/$B63*100),C63/$B63*100,0) -> 0 | E63: 0 | F63: 4277.8465 | G63: =IF(ISNUMBER(F63/$B63*100),F63/$B63*100,0) -> 19.48278 | H63: 10.346405 | I63: 17679.217 | J63: =IF(ISNUMBER(I63/$B63*100),I63/$B63*100,0) -> 80.51722 | K63: 10.511224 | L63: 0 | M63: =IF(ISNUMBER(L63/$B63*100),L63/$B63*100,0) -> 0 | N63: 0 | O63: 0 | P63: =IF(ISNUMBER(O63/$B63*100),O63/$B63*100,0) -> 0 | Q63: 0
A64: Profesionales cientificos e intelectuales | B64: =SUM(C64,F64,I64,L64,O64) -> 22479.35 | C64: 0 | D64: =IF(ISNUMBER(C64/$B64*100),C64/$B64*100,0) -> 0 | E64: 0 | F64: 13425.038 | G64: =IF(ISNUMBER(F64/$B64*100),F64/$B64*100,0) -> 59.721647 | H64: 16.082517 | I64: 9054.3119 | J64: =IF(ISNUMBER(I64/$B64*100),I64/$B64*100,0) -> 40.278353 | K64: 15.199444 | L64: 0 | M64: =IF(ISNUMBER(L64/$B64*100),L64/$B64*100,0) -> 0 | N64: 0 | O64: 0 | P64: =IF(ISNUMBER(O64/$B64*100),O64/$B64*100,0) -> 0 | Q64: 0
A65: Tecnicos y profesionales de nivel medio | B65: =SUM(C65,F65,I65,L65,O65) -> 64802.918 | C65: 0 | D65: =IF(ISNUMBER(C65/$B65*100),C65/$B65*100,0) -> 0 | E65: 0 | F65: 11684.481 | G65: =IF(ISNUMBER(F65/$B65*100),F65/$B65*100,0) -> 18.030795 | H65: 10.20068 | I65: 53118.437 | J65: =IF(ISNUMBER(I65/$B65*100),I65/$B65*100,0) -> 81.969205 | K65: 9.6563349 | L65: 0 | M65: =IF(ISNUMBER(L65/$B65*100),L65/$B65*100,0) -> 0 | N65: 0 | O65: 0 | P65: =IF(ISNUMBER(O65/$B65*100),O65/$B65*100,0) -> 0 | Q65: 0
A66: Personal de apoyo administrativo | B66: =SUM(C66,F66,I66,L66,O66) -> 44405.41 | C66: 0 | D66: =IF(ISNUMBER(C66/$B66*100),C66/$B66*100,0) -> 0 | E66: 0 | F66: 2636.0493 | G66: =IF(ISNUMBER(F66/$B66*100),F66/$B66*100,0) -> 5.9363248 | H66: 8.4966727 | I66: 41769.361 | J66: =IF(ISNUMBER(I66/$B66*100),I66/$B66*100,0) -> 94.063675 | K66: 9.4617112 | L66: 0 | M66: =IF(ISNUMBER(L66/$B66*100),L66/$B66*100,0) -> 0 | N66: 0 | O66: 0 | P66: =IF(ISNUMBER(O66/$B66*100),O66/$B66*100,0) -> 0 | Q66: 0
A67: Trabajadores de los servicios y vendedores de comercios y mercados | B67: =SUM(C67,F67,I67,L67,O67) -> 506524.03 | C67: 0 | D67: =IF(ISNUMBER(C67/$B67*100),C67/$B67*100,0) -> 0 | E67: 0 | F67: 69053.774 | G67: =IF(ISNUMBER(F67/$B67*100),F67/$B67*100,0) -> 13.632872 | H67: 7.738641 | I67: 437470.26 | J67: =IF(ISNUMBER(I67/$B67*100),I67/$B67*100,0) -> 86.367128 | K67: 7.0659411 | L67: 0 | M67: =IF(ISNUMBER(L67/$B67*100),L67/$B67*100,0) -> 0 | N67: 0 | O67: 0 | P67: =IF(ISNUMBER(O67/$B67*100),O67/$B67*100,0) -> 0 | Q67: 0
A68: Agricultores y trabajadores calificados agropecuarios forestales y pesqueros | B68: =SUM(C68,F68,I68,L68,O68) -> 94903.081 | C68: 0 | D68: =IF(ISNUMBER(C68/$B68*100),C68/$B68*100,0) -> 0 | E68: 0 | F68: 36224.134 | G68: =IF(ISNUMBER(F68/$B68*100),F68/$B68*100,0) -> 38.169608 | H68: 4.6345109 | I68: 58678.947 | J68: =IF(ISNUMBER(I68/$B68*100),I68/$B68*100,0) -> 61.830392 | K68: 5.5982795 | L68: 0 | M68: =IF(ISNUMBER(L68/$B68*100),L68/$B68*100,0) -> 0 | N68: 0 | O68: 0 | P68: =IF(ISNUMBER(O68/$B68*100),O68/$B68*100,0) -> 0 | Q68: 0
A69: Oficiales, operarios y artesanos de artes mecanicas y de otros oficios | B69: =SUM(C69,F69,I69,L69,O69) -> 246417.66 | C69: 0 | D69: =IF(ISNUMBER(C69/$B69*100),C69/$B69*100,0) -> 0 | E69: 0 | F69: 50066.028 | G69: =IF(ISNUMBER(F69/$B69*100),F69/$B69*100,0) -> 20.317549 | H69: 7.074405 | I69: 196351.63 | J69: =IF(ISNUMBER(I69/$B69*100),I69/$B69*100,0) -> 79.682451 | K69: 6.813468 | L69: 0 | M69: =IF(ISNUMBER(L69/$B69*100),L69/$B69*100,0) -> 0 | N69: 0 | O69: 0 | P69: =IF(ISNUMBER(O69/$B69*100),O69/$B69*100,0) -> 0 | Q69: 0
A70: Operadores de instalaciones y maquinas y ensambladores | B70: =SUM(C70,F70,I70,L70,O70) -> 120487.88 | C70: 0 | D70: =IF(ISNUMBER(C70/$B70*100),C70/$B70*100,0) -> 0 | E70: 0 | F70: 13888.209 | G70: =IF(ISNUMBER(F70/$B70*100),F70/$B70*100,0) -> 11.526644 | H70: 8.2484942 | I70: 106599.67 | J70: =IF(ISNUMBER(I70/$B70*100),I70/$B70*100,0) -> 88.473356 | K70: 7.141944 | L70: 0 | M70: =IF(ISNUMBER(L70/$B70*100),L70/$B70*100,0) -> 0 | N70: 0 | O70: 0 | P70: =IF(ISNUMBER(O70/$B70*100),O70/$B70*100,0) -> 0 | Q70: 0
A71: Ocupaciones elementales | B71: =SUM(C71,F71,I71,L71,O71) -> 485027.82 | C71: 0 | D71: =IF(ISNUMBER(C71/$B71*100),C71/$B71*100,0) -> 0 | E71: 0 | F71: 115499.84 | G71: =IF(ISNUMBER(F71/$B71*100),F71/$B71*100,0) -> 23.813034 | H71: 5.9137774 | I71: 369527.98 | J71: =IF(ISNUMBER(I71/$B71*100),I71/$B71*100,0) -> 76.186966 | K71: 6.1313508 | L71: 0 | M71: =IF(ISNUMBER(L71/$B71*100),L71/$B71*100,0) -> 0 | N71: 0 | O71: 0 | P71: =IF(ISNUMBER(O71/$B71*100),O71/$B71*100,0) -> 0 | Q71: 0
A72: Ocupaciones militares | B72: =SUM(C72,F72,I72,L72,O72) -> 4327.6876 | C72: 0 | D72: =IF(ISNUMBER(C72/$B72*100),C72/$B72*100,0) -> 0 | E72: 0 | F72: 0 | G72: =IF(ISNUMBER(F72/$B72*100),F72/$B72*100,0) -> 0 | H72: 0 | I72: 4327.6876 | J72: =IF(ISNUMBER(I72/$B72*100),I72/$B72*100,0) -> 100 | K72: 7.8643978 | L72: 0 | M72: =IF(ISNUMBER(L72/$B72*100),L72/$B72*100,0) -> 0 | N72: 0 | O72: 0 | P72: =IF(ISNUMBER(O72/$B72*100),O72/$B72*100,0) -> 0 | Q72: 0
A73: Ocupaciones NO especificadas | B73: =SUM(C73,F73,I73,L73,O73) -> 0 | C73: 0 | D73: =IF(ISNUMBER(C73/$B73*100),C73/$B73*100,0) -> 0 | E73: 0 | F73: 0 | G73: =IF(ISNUMBER(F73/$B73*100),F73/$B73*100,0) -> 0 | H73: 0 | I73: 0 | J73: =IF(ISNUMBER(I73/$B73*100),I73/$B73*100,0) -> 0 | K73: 0 | L73: 0 | M73: =IF(ISNUMBER(L73/$B73*100),L73/$B73*100,0) -> 0 | N73: 0 | O73: 0 | P73: =IF(ISNUMBER(O73/$B73*100),O73/$B73*100,0) -> 0 | Q73: 0
A74: Busca trabajo por primera vez | B74: =SUM(C74,F74,I74,L74,O74) -> 594.36943 | C74: 594.36943 | D74: =IF(ISNUMBER(C74/$B74*100),C74/$B74*100,0) -> 100 | E74: 9.7126048 | F74: 0 | G74: =IF(ISNUMBER(F74/$B74*100),F74/$B74*100,0) -> 0 | H74: 0 | I74: 0 | J74: =IF(ISNUMBER(I74/$B74*100),I74/$B74*100,0) -> 0 | K74: 0 | L74: 0 | M74: =IF(ISNUMBER(L74/$B74*100),L74/$B74*100,0) -> 0 | N74: 0 | O74: 0 | P74: =IF(ISNUMBER(O74/$B74*100),O74/$B74*100,0) -> 0 | Q74: 0
A75: NS/NR | B75: =SUM(C75,F75,I75,L75,O75) -> 2118.7547 | C75: 0 | D75: =IF(ISNUMBER(C75/$B75*100),C75/$B75*100,0) -> 0 | E75: 0 | F75: 1059.3773 | G75: =IF(ISNUMBER(F75/$B75*100),F75/$B75*100,0) -> 50 | H75: 17 | I75: 1059.3773 | J75: =IF(ISNUMBER(I75/$B75*100),I75/$B75*100,0) -> 50 | K75: 9 | L75: 0 | M75: =IF(ISNUMBER(L75/$B75*100),L75/$B75*100,0) -> 0 | N75: 0 | O75: 0 | P75: =IF(ISNUMBER(O75/$B75*100),O75/$B75*100,0) -> 0 | Q75: 0
A77: =A24 -> Fuente: Instituto Nacional de Estadística (INE). LXXXI Encuesta Permanente de Hogares de Propósitos Múltiples, Junio 2024.
A78: AEP: Años de Estudio Promedio
A79: 2/ Porcentaje por filas

Sheet C05
A1: Cuadro No. 5 Población con problemas de empleo y Años de Estudio Promedio (AEP), según dominio, Rangos de edad, rama de actividad y ocupación
A2: Hombres
A3: Categorías | B3: Total | C3: Desocupados | F3: Subocupados por Insuficiencia de Tiempo de Trabajo. | I3: Subocupados Por Insuficiencia De Ingresos | L3: ='C04'!L3:N3 -> Buscador no disponible | O3: ='C04'!O3:Q3 -> Disponible no buscador
C4: No. | D4: % 2/ | E4: AEP | F4: No. | G4: % 2/ | H4: AEP | I4: No. | J4: % 2/ | K4: AEP | L4: No. | M4: % 2/ | N4: AEP | O4: No. | P4: % 2/ | Q4: AEP
A6: Total Nacional | B6: =SUM(C6,F6,I6,L6,O6) -> 1127350.9 | C6: 102447.22 | D6: =IF(ISNUMBER(C6/$B6*100),C6/$B6*100,0) -> 9.0874297 | E6: 7.8754629 | F6: 161532.4 | G6: =IF(ISNUMBER(F6/$B6*100),F6/$B6*100,0) -> 14.328493 | H6: 6.804706 | I6: 795229.71 | J6: =IF(ISNUMBER(I6/$B6*100),I6/$B6*100,0) -> 70.539678 | K6: 6.8391533 | L6: 10726.862 | M6: =IF(ISNUMBER(L6/$B6*100),L6/$B6*100,0) -> 0.95151046 | N6: 7.1349741 | O6: 57414.729 | P6: =IF(ISNUMBER(O6/$B6*100),O6/$B6*100,0) -> 5.0928888 | Q6: 6.5975872
A8: Dominio
A9: Urbano | B9: =SUM(C9,F9,I9,L9,O9) -> 624921.45 | C9: 63293.786 | D9: =IF(ISNUMBER(C9/$B9*100),C9/$B9*100,0) -> 10.128279 | E9: 8.6481893 | F9: 66288.014 | G9: =IF(ISNUMBER(F9/$B9*100),F9/$B9*100,0) -> 10.607415 | H9: 8.8012205 | I9: 469454.9 | J9: =IF(ISNUMBER(I9/$B9*100),I9/$B9*100,0) -> 75.122225 | K9: 7.3800513 | L9: 5870.7487 | M9: =IF(ISNUMBER(L9/$B9*100),L9/$B9*100,0) -> 0.93943785 | N9: 8.4566991 | O9: 20014.002 | P9: =IF(ISNUMBER(O9/$B9*100),O9/$B9*100,0) -> 3.2026428 | Q9: 7.9282179
A10: Distrito Central | B10: =SUM(C10,F10,I10,L10,O10) -> 143155.94 | C10: 20509.856 | D10: =IF(ISNUMBER(C10/$B10*100),C10/$B10*100,0) -> 14.326933 | E10: 9.421624 | F10: 23211.848 | G10: =IF(ISNUMBER(F10/$B10*100),F10/$B10*100,0) -> 16.21438 | H10: 10.632962 | I10: 90950.523 | J10: =IF(ISNUMBER(I10/$B10*100),I10/$B10*100,0) -> 63.532482 | K10: 7.8338836 | L10: 1248.3726 | M10: =IF(ISNUMBER(L10/$B10*100),L10/$B10*100,0) -> 0.8720369 | N10: 11.587946 | O10: 7235.3405 | P10: =IF(ISNUMBER(O10/$B10*100),O10/$B10*100,0) -> 5.0541671 | Q10: 10.25382
A11: San Pedro Sula | B11: =SUM(C11,F11,I11,L11,O11) -> 78382.146 | C11: 4334.594 | D11: =IF(ISNUMBER(C11/$B11*100),C11/$B11*100,0) -> 5.5300782 | E11: 6.7317073 | F11: 4641.1872 | G11: =IF(ISNUMBER(F11/$B11*100),F11/$B11*100,0) -> 5.9212301 | H11: 8.6856492 | I11: 67566.806 | J11: =IF(ISNUMBER(I11/$B11*100),I11/$B11*100,0) -> 86.20178 | K11: 8.2503249 | L11: 253.73233 | M11: =IF(ISNUMBER(L11/$B11*100),L11/$B11*100,0) -> 0.3237119 | N11: 9 | O11: 1585.8271 | P11: =IF(ISNUMBER(O11/$B11*100),O11/$B11*100,0) -> 2.0231994 | Q11: 8.8
A12: Resto urbano | B12: =SUM(C12,F12,I12,L12,O12) -> 403383.37 | C12: 38449.336 | D12: =IF(ISNUMBER(C12/$B12*100),C12/$B12*100,0) -> 9.5317109 | E12: 8.4496999 | F12: 38434.978 | G12: =IF(ISNUMBER(F12/$B12*100),F12/$B12*100,0) -> 9.5281515 | H12: 7.4516731 | I12: 310937.57 | J12: =IF(ISNUMBER(I12/$B12*100),I12/$B12*100,0) -> 77.082399 | K12: 7.0486269 | L12: 4368.6437 | M12: =IF(ISNUMBER(L12/$B12*100),L12/$B12*100,0) -> 1.0830005 | N12: 7.3199897 | O12: 11192.834 | P12: =IF(ISNUMBER(O12/$B12*100),O12/$B12*100,0) -> 2.7747386 | Q12: 6.3013717
A13: Rural | B13: =SUM(C13,F13,I13,L13,O13) -> 502429.47 | C13: 39153.436 | D13: =IF(ISNUMBER(C13/$B13*100),C13/$B13*100,0) -> 7.7928223 | E13: 6.5858608 | F13: 95244.385 | G13: =IF(ISNUMBER(F13/$B13*100),F13/$B13*100,0) -> 18.956767 | H13: 5.3822905 | I13: 325774.81 | J13: =IF(ISNUMBER(I13/$B13*100),I13/$B13*100,0) -> 64.839909 | K13: 6.0034889 | L13: 4856.1132 | M13: =IF(ISNUMBER(L13/$B13*100),L13/$B13*100,0) -> 0.96652636 | N13: 5.6869312 | O13: 37400.727 | P13: =IF(ISNUMBER(O13/$B13*100),O13/$B13*100,0) -> 7.4439756 | Q13: 5.7904468
A15: Rango de Edad
A16: De 15 a 18 años | B16: =SUM(C16,F16,I16,L16,O16) -> 101195.34 | C16: 10762.516 | D16: =IF(ISNUMBER(C16/$B16*100),C16/$B16*100,0) -> 10.635387 | E16: 6.9668401 | F16: 14423.744 | G16: =IF(ISNUMBER(F16/$B16*100),F16/$B16*100,0) -> 14.253367 | H16: 6.6229759 | I16: 65778.218 | J16: =IF(ISNUMBER(I16/$B16*100),I16/$B16*100,0) -> 65.001233 | K16: 6.3181101 | L16: 2279.0562 | M16: =IF(ISNUMBER(L16/$B16*100),L16/$B16*100,0) -> 2.2521356 | N16: 6.3984271 | O16: 7951.8051 | P16: =IF(ISNUMBER(O16/$B16*100),O16/$B16*100,0) -> 7.8578768 | Q16: 6.1195067
A17: De 19 a 24 años | B17: =SUM(C17,F17,I17,L17,O17) -> 197994.12 | C17: 28460.311 | D17: =IF(ISNUMBER(C17/$B17*100),C17/$B17*100,0) -> 14.374322 | E17: 8.1580494 | F17: 23317.264 | G17: =IF(ISNUMBER(F17/$B17*100),F17/$B17*100,0) -> 11.776746 | H17: 7.0856463 | I17: 133390.65 | J17: =IF(ISNUMBER(I17/$B17*100),I17/$B17*100,0) -> 67.371015 | K17: 7.5236904 | L17: 3650.4144 | M17: =IF(ISNUMBER(L17/$B17*100),L17/$B17*100,0) -> 1.8436984 | N17: 8.7662562 | O17: 9175.4805 | P17: =IF(ISNUMBER(O17/$B17*100),O17/$B17*100,0) -> 4.6342188 | Q17: 8.0746766
A18: De 25 a 29 años | B18: =SUM(C18,F18,I18,L18,O18) -> 154185.26 | C18: 11360.771 | D18: =IF(ISNUMBER(C18/$B18*100),C18/$B18*100,0) -> 7.3682606 | E18: 8.2167678 | F18: 18150.349 | G18: =IF(ISNUMBER(F18/$B18*100),F18/$B18*100,0) -> 11.77178 | H18: 7.9698968 | I18: 119702.77 | J18: =IF(ISNUMBER(I18/$B18*100),I18/$B18*100,0) -> 77.63568 | K18: 7.9969647 | L18: 2331.5283 | M18: =IF(ISNUMBER(L18/$B18*100),L18/$B18*100,0) -> 1.5121604 | N18: 7.1194305 | O18: 2639.8356 | P18: =IF(ISNUMBER(O18/$B18*100),O18/$B18*100,0) -> 1.7121193 | Q18: 6.3479027
A19: De 30 a 35 años | B19: =SUM(C19,F19,I19,L19,O19) -> 142777.25 | C19: 13574.861 | D19: =IF(ISNUMBER(C19/$B19*100),C19/$B19*100,0) -> 9.5077199 | E19: 8.4038922 | F19: 20168.916 | G19: =IF(ISNUMBER(F19/$B19*100),F19/$B19*100,0) -> 14.126142 | H19: 7.9114289 | I19: 102786.53 | J19: =IF(ISNUMBER(I19/$B19*100),I19/$B19*100,0) -> 71.990831 | K19: 7.6500055 | L19: 0 | M19: =IF(ISNUMBER(L19/$B19*100),L19/$B19*100,0) -> 0 | N19: 0 | O19: 6246.9434 | P19: =IF(ISNUMBER(O19/$B19*100),O19/$B19*100,0) -> 4.3753074 | Q19: 7.5347058
A20: De 36 a 44 años | B20: =SUM(C20,F20,I20,L20,O20) -> 190138.67 | C20: 13462.873 | D20: =IF(ISNUMBER(C20/$B20*100),C20/$B20*100,0) -> 7.0805548 | E20: 8.1111865 | F20: 33306.426 | G20: =IF(ISNUMBER(F20/$B20*100),F20/$B20*100,0) -> 17.516913 | H20: 6.958206 | I20: 138522.01 | J20: =IF(ISNUMBER(I20/$B20*100),I20/$B20*100,0) -> 72.853149 | K20: 6.5758481 | L20: 0 | M20: =IF(ISNUMBER(L20/$B20*100),L20/$B20*100,0) -> 0 | N20: 0 | O20: 4847.3629 | P20: =IF(ISNUMBER(O20/$B20*100),O20/$B20*100,0) -> 2.5493829 | Q20: 6.5566893
A21: De 45 a 59 años | B21: =SUM(C21,F21,I21,L21,O21) -> 222130.1 | C21: 15519.549 | D21: =IF(ISNUMBER(C21/$B21*100),C21/$B21*100,0) -> 6.9866936 | E21: 7.039031 | F21: 36075.868 | G21: =IF(ISNUMBER(F21/$B21*100),F21/$B21*100,0) -> 16.240874 | H21: 5.2888774 | I21: 156241.64 | J21: =IF(ISNUMBER(I21/$B21*100),I21/$B21*100,0) -> 70.337898 | K21: 5.9617834 | L21: 1430.8438 | M21: =IF(ISNUMBER(L21/$B21*100),L21/$B21*100,0) -> 0.64414673 | N21: 6.277117 | O21: 12862.194 | P21: =IF(ISNUMBER(O21/$B21*100),O21/$B21*100,0) -> 5.790388 | Q21: 5.4360042
A22: De 60 años y más | B22: =SUM(C22,F22,I22,L22,O22) -> 118930.2 | C22: 9306.3406 | D22: =IF(ISNUMBER(C22/$B22*100),C22/$B22*100,0) -> 7.8250443 | E22: 8.0562041 | F22: 16089.832 | G22: =IF(ISNUMBER(F22/$B22*100),F22/$B22*100,0) -> 13.528803 | H22: 6.4579348 | I22: 78807.898 | J22: =IF(ISNUMBER(I22/$B22*100),I22/$B22*100,0) -> 66.263994 | K22: 4.8068542 | L22: 1035.0192 | M22: =IF(ISNUMBER(L22/$B22*100),L22/$B22*100,0) -> 0.87027455 | N22: 2 | O22: 13691.107 | P22: =IF(ISNUMBER(O22/$B22*100),O22/$B22*100,0) -> 11.511884 | Q22: 6.4840967
A24: ='C01'!$A$34 -> Fuente: Instituto Nacional de Estadística (INE). LXXXI Encuesta Permanente de Hogares de Propósitos Múltiples, Junio 2024.
A25: AEP: Años de Estudio Promedio
A26: 2/ Porcentaje por filas
A28: =A1 -> Cuadro No. 5 Población con problemas de empleo y Años de Estudio Promedio (AEP), según dominio, Rangos de edad, rama de actividad y ocupación
A29: Hombres
A30: ....... Continuación
A31: =A3 -> Categorías | B31: Total | C31: Desocupados | F31: Subocupados por Insuficiencia de Tiempo de Trabajo. | I31: Subocupados Por Insuficiencia De Ingresos | L31: =L3 -> Buscador no disponible | O31: =O3 -> Disponible no buscador
C32: No. | D32: % 2/ | E32: AEP | F32: No. | G32: % 2/ | H32: AEP | I32: No. | J32: % 2/ | K32: AEP | L32: No. | M32: % 2/ | N32: AEP | O32: No. | P32: % 2/ | Q32: AEP
A34: =A6 -> Total Nacional
A36: Rama de Actividad
A37: Agricultura, ganaderia, silvicultura y pesca | B37: =SUM(C37,F37,I37,L37,O37) -> 258760.7 | C37: 0 | D37: =IF(ISNUMBER(C37/$B37*100),C37/$B37*100,0) -> 0 | E37: 0 | F37: 87148.539 | G37: =IF(ISNUMBER(F37/$B37*100),F37/$B37*100,0) -> 33.679202 | H37: 5.0547892 | I37: 171612.16 | J37: =IF(ISNUMBER(I37/$B37*100),I37/$B37*100,0) -> 66.320798 | K37: 5.596752 | L37: 0 | M37: =IF(ISNUMBER(L37/$B37*100),L37/$B37*100,0) -> 0 | N37: 0 | O37: 0 | P37: =IF(ISNUMBER(O37/$B37*100),O37/$B37*100,0) -> 0 | Q37: 0
A38: Explotacion de minas y canteras | B38: =SUM(C38,F38,I38,L38,O38) -> 5573.8858 | C38: 0 | D38: =IF(ISNUMBER(C38/$B38*100),C38/$B38*100,0) -> 0 | E38: 0 | F38: 470.97738 | G38: =IF(ISNUMBER(F38/$B38*100),F38/$B38*100,0) -> 8.4497136 | H38: 8 | I38: 5102.9084 | J38: =IF(ISNUMBER(I38/$B38*100),I38/$B38*100,0) -> 91.550286 | K38: 5.9286234 | L38: 0 | M38: =IF(ISNUMBER(L38/$B38*100),L38/$B38*100,0) -> 0 | N38: 0 | O38: 0 | P38: =IF(ISNUMBER(O38/$B38*100),O38/$B38*100,0) -> 0 | Q38: 0
A39: Industria manufacturera | B39: =SUM(C39,F39,I39,L39,O39) -> 123954.3 | C39: 0 | D39: =IF(ISNUMBER(C39/$B39*100),C39/$B39*100,0) -> 0 | E39: 0 | F39: 10853.572 | G39: =IF(ISNUMBER(F39/$B39*100),F39/$B39*100,0) -> 8.756108 | H39: 8.5127971 | I39: 113100.73 | J39: =IF(ISNUMBER(I39/$B39*100),I39/$B39*100,0) -> 91.243892 | K39: 7.2928423 | L39: 0 | M39: =IF(ISNUMBER(L39/$B39*100),L39/$B39*100,0) -> 0 | N39: 0 | O39: 0 | P39: =IF(ISNUMBER(O39/$B39*100),O39/$B39*100,0) -> 0 | Q39: 0
A40: Suministro de electricidad, gas, vapor y aire acondicionado | B40: =SUM(C40,F40,I40,L40,O40) -> 3241.3924 | C40: 0 | D40: =IF(ISNUMBER(C40/$B40*100),C40/$B40*100,0) -> 0 | E40: 0 | F40: 0 | G40: =IF(ISNUMBER(F40/$B40*100),F40/$B40*100,0) -> 0 | H40: 0 | I40: 3241.3924 | J40: =IF(ISNUMBER(I40/$B40*100),I40/$B40*100,0) -> 100 | K40: 8.859128 | L40: 0 | M40: =IF(ISNUMBER(L40/$B40*100),L40/$B40*100,0) -> 0 | N40: 0 | O40: 0 | P40: =IF(ISNUMBER(O40/$B40*100),O40/$B40*100,0) -> 0 | Q40: 0
A41: Suministro de agua, evacuacion de aguas residuales, gestion de desechos y descontaminacion | B41: =SUM(C41,F41,I41,L41,O41) -> 4747.3172 | C41: 0 | D41: =IF(ISNUMBER(C41/$B41*100),C41/$B41*100,0) -> 0 | E41: 0 | F41: 928.85457 | G41: =IF(ISNUMBER(F41/$B41*100),F41/$B41*100,0) -> 19.565884 | H41: 9 | I41: 3818.4626 | J41: =IF(ISNUMBER(I41/$B41*100),I41/$B41*100,0) -> 80.434116 | K41: 6.5215843 | L41: 0 | M41: =IF(ISNUMBER(L41/$B41*100),L41/$B41*100,0) -> 0 | N41: 0 | O41: 0 | P41: =IF(ISNUMBER(O41/$B41*100),O41/$B41*100,0) -> 0 | Q41: 0
A42: Construccion | B42: =SUM(C42,F42,I42,L42,O42) -> 151267.47 | C42: 0 | D42: =IF(ISNUMBER(C42/$B42*100),C42/$B42*100,0) -> 0 | E42: 0 | F42: 13864.722 | G42: =IF(ISNUMBER(F42/$B42*100),F42/$B42*100,0) -> 9.1656996 | H42: 6.4939718 | I42: 137402.74 | J42: =IF(ISNUMBER(I42/$B42*100),I42/$B42*100,0) -> 90.8343 | K42: 6.0986653 | L42: 0 | M42: =IF(ISNUMBER(L42/$B42*100),L42/$B42*100,0) -> 0 | N42: 0 | O42: 0 | P42: =IF(ISNUMBER(O42/$B42*100),O42/$B42*100,0) -> 0 | Q42: 0
A43: Comercio al por mayor y al por menor, reparacion de vehiculos automotores y motocicletas | B43: =SUM(C43,F43,I43,L43,O43) -> 192418.09 | C43: 0 | D43: =IF(ISNUMBER(C43/$B43*100),C43/$B43*100,0) -> 0 | E43: 0 | F43: 15546.431 | G43: =IF(ISNUMBER(F43/$B43*100),F43/$B43*100,0) -> 8.0795058 | H43: 6.6523335 | I43: 176871.66 | J43: =IF(ISNUMBER(I43/$B43*100),I43/$B43*100,0) -> 91.920494 | K43: 7.132371 | L43: 0 | M43: =IF(ISNUMBER(L43/$B43*100),L43/$B43*100,0) -> 0 | N43: 0 | O43: 0 | P43: =IF(ISNUMBER(O43/$B43*100),O43/$B43*100,0) -> 0 | Q43: 0
A44: Transporte y almacenamiento | B44: =SUM(C44,F44,I44,L44,O44) -> 58651.905 | C44: 0 | D44: =IF(ISNUMBER(C44/$B44*100),C44/$B44*100,0) -> 0 | E44: 0 | F44: 7951.818 | G44: =IF(ISNUMBER(F44/$B44*100),F44/$B44*100,0) -> 13.557646 | H44: 10.671389 | I44: 50700.087 | J44: =IF(ISNUMBER(I44/$B44*100),I44/$B44*100,0) -> 86.442354 | K44: 6.586502 | L44: 0 | M44: =IF(ISNUMBER(L44/$B44*100),L44/$B44*100,0) -> 0 | N44: 0 | O44: 0 | P44: =IF(ISNUMBER(O44/$B44*100),O44/$B44*100,0) -> 0 | Q44: 0
A45: Actividades de alojamiento y de servicios de comida | B45: =SUM(C45,F45,I45,L45,O45) -> 22698.203 | C45: 0 | D45: =IF(ISNUMBER(C45/$B45*100),C45/$B45*100,0) -> 0 | E45: 0 | F45: 2241.7201 | G45: =IF(ISNUMBER(F45/$B45*100),F45/$B45*100,0) -> 9.8762007 | H45: 7.2842359 | I45: 20456.483 | J45: =IF(ISNUMBER(I45/$B45*100),I45/$B45*100,0) -> 90.123799 | K45: 7.3179305 | L45: 0 | M45: =IF(ISNUMBER(L45/$B45*100),L45/$B45*100,0) -> 0 | N45: 0 | O45: 0 | P45: =IF(ISNUMBER(O45/$B45*100),O45/$B45*100,0) -> 0 | Q45: 0
A46: Informacion y comunicaciones | B46: =SUM(C46,F46,I46,L46,O46) -> 5021.9322 | C46: 0 | D46: =IF(ISNUMBER(C46/$B46*100),C46/$B46*100,0) -> 0 | E46: 0 | F46: 795.39609 | G46: =IF(ISNUMBER(F46/$B46*100),F46/$B46*100,0) -> 15.838447 | H46: 10.351351 | I46: 4226.5362 | J46: =IF(ISNUMBER(I46/$B46*100),I46/$B46*100,0) -> 84.161553 | K46: 10.338511 | L46: 0 | M46: =IF(ISNUMBER(L46/$B46*100),L46/$B46*100,0) -> 0 | N46: 0 | O46: 0 | P46: =IF(ISNUMBER(O46/$B46*100),O46/$B46*100,0) -> 0 | Q46: 0
A47: Actividades finacieras y de seguros | B47: =SUM(C47,F47,I47,L47,O47) -> 5476.6144 | C47: 0 | D47: =IF(ISNUMBER(C47/$B47*100),C47/$B47*100,0) -> 0 | E47: 0 | F47: 737.86299 | G47: =IF(ISNUMBER(F47/$B47*100),F47/$B47*100,0) -> 13.472977 | H47: 13.778041 | I47: 4738.7514 | J47: =IF(ISNUMBER(I47/$B47*100),I47/$B47*100,0) -> 86.527023 | K47: 10.869385 | L47: 0 | M47: =IF(ISNUMBER(L47/$B47*100),L47/$B47*100,0) -> 0 | N47: 0 | O47: 0 | P47: =IF(ISNUMBER(O47/$B47*100),O47/$B47*100,0) -> 0 | Q47: 0
A48: Actividades inmobiliarias | B48: =SUM(C48,F48,I48,L48,O48) -> 2073.5119 | C48: 0 | D48: =IF(ISNUMBER(C48/$B48*100),C48/$B48*100,0) -> 0 | E48: 0 | F48: 302.77118 | G48: =IF(ISNUMBER(F48/$B48*100),F48/$B48*100,0) -> 14.601854 | H48: 6 | I48: 1770.7407 | J48: =IF(ISNUMBER(I48/$B48*100),I48/$B48*100,0) -> 85.398146 | K48: 11.657275 | L48: 0 | M48: =IF(ISNUMBER(L48/$B48*100),L48/$B48*100,0) -> 0 | N48: 0 | O48: 0 | P48: =IF(ISNUMBER(O48/$B48*100),O48/$B48*100,0) -> 0 | Q48: 0
... A60: NS/NR | B60: =SUM(C60,F60,I60,L60,O60) -> 2764.5334 | C60: 0 | D60: =IF(ISNUMBER(C60/$B60*100),C60/$B60*100,0) -> 0 | E60: 0 | F60: 0 | G60: =IF(ISNUMBER(F60/$B60*100),F60/$B60*100,0) -> 0 | H60: 0 | I60: 2764.5334 | J60: =IF(ISNUMBER(I60/$B60*100),I60/$B60*100,0) -> 100 | K60: 7.9272443 | L60: 0 | M60: =IF(ISNUMBER(L60/$B60*100),L60/$B60*100,0) -> 0 | N60: 0 | O60: 0 | P60: =IF(ISNUMBER(O60/$B60*100),O60/$B60*100,0) -> 0 | Q60: 0
A61: Ocupación
A62: Directores y gerentes | B62: =SUM(C62,F62,I62,L62,O62) -> 10121.409 | C62: 0 | D62: =IF(ISNUMBER(C62/$B62*100),C62/$B62*100,0) -> 0 | E62: 0 | F62: 2515.0768 | G62: =IF(ISNUMBER(F62/$B62*100),F62/$B62*100,0) -> 24.849077 | H62: 10.469532 | I62: 7606.3325 | J62: =IF(ISNUMBER(I62/$B62*100),I62/$B62*100,0) -> 75.150923 | K62: 9.3502225 | L62: 0 | M62: =IF(ISNUMBER(L62/$B62*100),L62/$B62*100,0) -> 0 | N62: 0 | O62: 0 | P62: =IF(ISNUMBER(O62/$B62*100),O62/$B62*100,0) -> 0 | Q62: 0
A63: Profesionales cientificos e intelectuales | B63: =SUM(C63,F63,I63,L63,O63) -> 12207.213 | C63: 0 | D63: =IF(ISNUMBER(C63/$B63*100),C63/$B63*100,0) -> 0 | E63: 0 | F63: 6240.0398 | G63: =IF(ISNUMBER(F63/$B63*100),F63/$B63*100,0) -> 51.117644 | H63: 16.456355 | I63: 5967.1734 | J63: =IF(ISNUMBER(I63/$B63*100),I63/$B63*100,0) -> 48.882356 | K63: 15.066973 | L63: 0 | M63: =IF(ISNUMBER(L63/$B63*100),L63/$B63*100,0) -> 0 | N63: 0 | O63: 0 | P63: =IF(ISNUMBER(O63/$B63*100),O63/$B63*100,0) -> 0 | Q63: 0
A64: Tecnicos y profesionales de nivel medio | B64: =SUM(C64,F64,I64,L64,O64) -> 38516.111 | C64: 0 | D64: =IF(ISNUMBER(C64/$B64*100),C64/$B64*100,0) -> 0 | E64: 0 | F64: 5771.1624 | G64: =IF(ISNUMBER(F64/$B64*100),F64/$B64*100,0) -> 14.983762 | H64: 11.222189 | I64: 32744.949 | J64: =IF(ISNUMBER(I64/$B64*100),I64/$B64*100,0) -> 85.016238 | K64: 9.0671692 | L64: 0 | M64: =IF(ISNUMBER(L64/$B64*100),L64/$B64*100,0) -> 0 | N64: 0 | O64: 0 | P64: =IF(ISNUMBER(O64/$B64*100),O64/$B64*100,0) -> 0 | Q64: 0
A65: Personal de apoyo administrativo | B65: =SUM(C65,F65,I65,L65,O65) -> 23612.067 | C65: 0 | D65: =IF(ISNUMBER(C65/$B65*100),C65/$B65*100,0) -> 0 | E65: 0 | F65: 2213.1621 | G65: =IF(ISNUMBER(F65/$B65*100),F65/$B65*100,0) -> 9.373013 | H65: 8.4004977 | I65: 21398.905 | J65: =IF(ISNUMBER(I65/$B65*100),I65/$B65*100,0) -> 90.626987 | K65: 9.4498287 | L65: 0 | M65: =IF(ISNUMBER(L65/$B65*100),L65/$B65*100,0) -> 0 | N65: 0 | O65: 0 | P65: =IF(ISNUMBER(O65/$B65*100),O65/$B65*100,0) -> 0 | Q65: 0
A66: Trabajadores de los servicios y vendedores de comercios y mercados | B66: =SUM(C66,F66,I66,L66,O66) -> 185816.03 | C66: 0 | D66: =IF(ISNUMBER(C66/$B66*100),C66/$B66*100,0) -> 0 | E66: 0 | F66: 13733.413 | G66: =IF(ISNUMBER(F66/$B66*100),F66/$B66*100,0) -> 7.3908657 | H66: 7.5113254 | I66: 172082.61 | J66: =IF(ISNUMBER(I66/$B66*100),I66/$B66*100,0) -> 92.609134 | K66: 7.0321559 | L66: 0 | M66: =IF(ISNUMBER(L66/$B66*100),L66/$B66*100,0) -> 0 | N66: 0 | O66: 0 | P66: =IF(ISNUMBER(O66/$B66*100),O66/$B66*100,0) -> 0 | Q66: 0
A67: Agricultores y trabajadores calificados agropecuarios forestales y pesqueros | B67: =SUM(C67,F67,I67,L67,O67) -> 86647.873 | C67: 0 | D67: =IF(ISNUMBER(C67/$B67*100),C67/$B67*100,0) -> 0 | E67: 0 | F67: 29861.053 | G67: =IF(ISNUMBER(F67/$B67*100),F67/$B67*100,0) -> 34.462535 | H67: 4.4918008 | I67: 56786.82 | J67: =IF(ISNUMBER(I67/$B67*100),I67/$B67*100,0) -> 65.537465 | K67: 5.6428015 | L67: 0 | M67: =IF(ISNUMBER(L67/$B67*100),L67/$B67*100,0) -> 0 | N67: 0 | O67: 0 | P67: =IF(ISNUMBER(O67/$B67*100),O67/$B67*100,0) -> 0 | Q67: 0
A68: Oficiales, operarios y artesanos de artes mecanicas y de otros oficios | B68: =SUM(C68,F68,I68,L68,O68) -> 173371.83 | C68: 0 | D68: =IF(ISNUMBER(C68/$B68*100),C68/$B68*100,0) -> 0 | E68: 0 | F68: 17373.897 | G68: =IF(ISNUMBER(F68/$B68*100),F68/$B68*100,0) -> 10.021177 | H68: 7.4133297 | I68: 155997.93 | J68: =IF(ISNUMBER(I68/$B68*100),I68/$B68*100,0) -> 89.978823 | K68: 6.8679092 | L68: 0 | M68: =IF(ISNUMBER(L68/$B68*100),L68/$B68*100,0) -> 0 | N68: 0 | O68: 0 | P68: =IF(ISNUMBER(O68/$B68*100),O68/$B68*100,0) -> 0 | Q68: 0
A69: Operadores de instalaciones y maquinas y ensambladores | B69: =SUM(C69,F69,I69,L69,O69) -> 89519.494 | C69: 0 | D69: =IF(ISNUMBER(C69/$B69*100),C69/$B69*100,0) -> 0 | E69: 0 | F69: 8320.7726 | G69: =IF(ISNUMBER(F69/$B69*100),F69/$B69*100,0) -> 9.2949281 | H69: 8.3464075 | I69: 81198.721 | J69: =IF(ISNUMBER(I69/$B69*100),I69/$B69*100,0) -> 90.705072 | K69: 7.0369147 | L69: 0 | M69: =IF(ISNUMBER(L69/$B69*100),L69/$B69*100,0) -> 0 | N69: 0 | O69: 0 | P69: =IF(ISNUMBER(O69/$B69*100),O69/$B69*100,0) -> 0 | Q69: 0
A70: Ocupaciones elementales | B70: =SUM(C70,F70,I70,L70,O70) -> 332622.4 | C70: 0 | D70: =IF(ISNUMBER(C70/$B70*100),C70/$B70*100,0) -> 0 | E70: 0 | F70: 75503.822 | G70: =IF(ISNUMBER(F70/$B70*100),F70/$B70*100,0) -> 22.69956 | H70: 5.6254247 | I70: 257118.58 | J70: =IF(ISNUMBER(I70/$B70*100),I70/$B70*100,0) -> 77.30044 | K70: 5.9373714 | L70: 0 | M70: =IF(ISNUMBER(L70/$B70*100),L70/$B70*100,0) -> 0 | N70: 0 | O70: 0 | P70: =IF(ISNUMBER(O70/$B70*100),O70/$B70*100,0) -> 0 | Q70: 0
A71: Ocupaciones militares | B71: =SUM(C71,F71,I71,L71,O71) -> 4327.6876 | C71: 0 | D71: =IF(ISNUMBER(C71/$B71*100),C71/$B71*100,0) -> 0 | E71: 0 | F71: 0 | G71: =IF(ISNUMBER(F71/$B71*100),F71/$B71*100,0) -> 0 | H71: 0 | I71: 4327.6876 | J71: =IF(ISNUMBER(I71/$B71*100),I71/$B71*100,0) -> 100 | K71: 7.8643978 | L71: 0 | M71: =IF(ISNUMBER(L71/$B71*100),L71/$B71*100,0) -> 0 | N71: 0 | O71: 0 | P71: =IF(ISNUMBER(O71/$B71*100),O71/$B71*100,0) -> 0 | Q71: 0
A72: Ocupaciones NO especificadas | B72: =SUM(C72,F72,I72,L72,O72) -> 0 | C72: 0 | D72: =IF(ISNUMBER(C72/$B72*100),C72/$B72*100,0) -> 0 | E72: 0 | F72: 0 | G72: =IF(ISNUMBER(F72/$B72*100),F72/$B72*100,0) -> 0 | H72: 0 | I72: 0 | J72: =IF(ISNUMBER(I72/$B72*100),I72/$B72*100,0) -> 0 | K72: 0 | L72: 0 | M72: =IF(ISNUMBER(L72/$B72*100),L72/$B72*100,0) -> 0 | N72: 0 | O72: 0 | P72: =IF(ISNUMBER(O72/$B72*100),O72/$B72*100,0) -> 0 | Q72: 0
A73: Busca trabajo por primera vez | B73: =SUM(C73,F73,I73,L73,O73) -> 433.1405 | C73: 433.1405 | D73: =IF(ISNUMBER(C73/$B73*100),C73/$B73*100,0) -> 100 | E73: 7 | F73: 0 | G73: =IF(ISNUMBER(F73/$B73*100),F73/$B73*100,0) -> 0 | H73: 0 | I73: 0 | J73: =IF(ISNUMBER(I73/$B73*100),I73/$B73*100,0) -> 0 | K73: 0 | L73: 0 | M73: =IF(ISNUMBER(L73/$B73*100),L73/$B73*100,0) -> 0 | N73: 0 | O73: 0 | P73: =IF(ISNUMBER(O73/$B73*100),O73/$B73*100,0) -> 0 | Q73: 0
A74: NS/NR | B74: =SUM(C74,F74,I74,L74,O74) -> 0 | C74: 0 | D74: =IF(ISNUMBER(C74/$B74*100),C74/$B74*100,0) -> 0 | E74: 0 | F74: 0 | G74: =IF(ISNUMBER(F74/$B74*100),F74/$B74*100,0) -> 0 | H74: 0 | I74: 0 | J74: =IF(ISNUMBER(I74/$B74*100),I74/$B74*100,0) -> 0 | K74: 0 | L74: 0 | M74: =IF(ISNUMBER(L74/$B74*100),L74/$B74*100,0) -> 0 | N74: 0 | O74: 0 | P74: =IF(ISNUMBER(O74/$B74*100),O74/$B74*100,0) -> 0 | Q74: 0
A76: =A24 -> Fuente: Instituto Nacional de Estadística (INE). LXXXI Encuesta Permanente de Hogares de Propósitos Múltiples, Junio 2024.
A77: AEP: Años de Estudio Promedio
A78: 2/ Porcentaje por filas

Sheet C06
A1: Cuadro No. 6. Población con problemas de empleo y Años de Estudio Promedio (AEP), según dominio, Rangos de edad, rama de actividad y ocupación
A2: Mujeres
A3: Categorías | B3: Total | C3: Desocupados | F3: Subocupados por Insuficiencia de Tiempo de Trabajo. | I3: Subocupados Por Insuficiencia De Ingresos | L3: ='C04'!L3:N3 -> Buscador no disponible | O3: ='C04'!O3:Q3 -> Disponible no buscador
C4: No. | D4: % 1/ | E4: AEP | F4: No. | G4: % 1/ | H4: AEP | I4: No. | J4: % 1/ | K4: AEP | L4: No. | M4: % 1/ | N4: AEP | O4: No. | P4: % 1/ | Q4: AEP
A6: Total Nacional/2 | B6: =SUM(C6,F6,I6,L6,O6) -> 898955.48 | C6: 103526.16 | D6: =IF(ISNUMBER(C6/$B6*100),C6/$B6*100,0) -> 11.516272 | E6: 9.4360617 | F6: 156282.38 | G6: =IF(ISNUMBER(F6/$B6*100),F6/$B6*100,0) -> 17.384885 | H6: 7.7428559 | I6: 500407.17 | J6: =IF(ISNUMBER(I6/$B6*100),I6/$B6*100,0) -> 55.6654 | K6: 7.3417769 | L6: 15931.016 | M6: =IF(ISNUMBER(L6/$B6*100),L6/$B6*100,0) -> 1.7721696 | N6: 7.8427949 | O6: 122808.76 | P6: =IF(ISNUMBER(O6/$B6*100),O6/$B6*100,0) -> 13.661273 | Q6: 6.7084254
A8: Dominio
A9: Urbano | B9: =SUM(C9,F9,I9,L9,O9) -> 566262.66 | C9: 70974.053 | D9: =IF(ISNUMBER(C9/$B9*100),C9/$B9*100,0) -> 12.533769 | E9: 10.264938 | F9: 97769.6 | G9: =IF(ISNUMBER(F9/$B9*100),F9/$B9*100,0) -> 17.265768 | H9: 8.3838136 | I9: 335386.38 | J9: =IF(ISNUMBER(I9/$B9*100),I9/$B9*100,0) -> 59.228059 | K9: 7.7489554 | L9: 12578.666 | M9: =IF(ISNUMBER(L9/$B9*100),L9/$B9*100,0) -> 2.2213484 | N9: 8.3899061 | O9: 49553.961 | P9: =IF(ISNUMBER(O9/$B9*100),O9/$B9*100,0) -> 8.7510557 | Q9: 7.5481928
A10: Distrito Central | B10: =SUM(C10,F10,I10,L10,O10) -> 137124.95 | C10: 21122.014 | D10: =IF(ISNUMBER(C10/$B10*100),C10/$B10*100,0) -> 15.40348 | E10: 11.199917 | F10: 30213.279 | G10: =IF(ISNUMBER(F10/$B10*100),F10/$B10*100,0) -> 22.033392 | H10: 9.2037498 | I10: 69999.462 | J10: =IF(ISNUMBER(I10/$B10*100),I10/$B10*100,0) -> 51.047938 | K10: 8.0767704 | L10: 2314.0191 | M10: =IF(ISNUMBER(L10/$B10*100),L10/$B10*100,0) -> 1.6875259 | N10: 11.116022 | O10: 13476.18 | P10: =IF(ISNUMBER(O10/$B10*100),O10/$B10*100,0) -> 9.8276641 | Q10: 8.5440009
A11: San Pedro Sula | B11: =SUM(C11,F11,I11,L11,O11) -> 67423.326 | C11: 9018.07 | D11: =IF(ISNUMBER(C11/$B11*100),C11/$B11*100,0) -> 13.375297 | E11: 10.427902 | F11: 9070.9309 | G11: =IF(ISNUMBER(F11/$B11*100),F11/$B11*100,0) -> 13.453698 | H11: 8.5011655 | I11: 42989.507 | J11: =IF(ISNUMBER(I11/$B11*100),I11/$B11*100,0) -> 63.760584 | K11: 7.7857848 | L11: 1238.4554 | M11: =IF(ISNUMBER(L11/$B11*100),L11/$B11*100,0) -> 1.8368353 | N11: 6.804878 | O11: 5106.3632 | P11: =IF(ISNUMBER(O11/$B11*100),O11/$B11*100,0) -> 7.5735854 | Q11: 8.2939959
A12: Resto urbano | B12: =SUM(C12,F12,I12,L12,O12) -> 361714.38 | C12: 40833.969 | D12: =IF(ISNUMBER(C12/$B12*100),C12/$B12*100,0) -> 11.289009 | E12: 9.7198816 | F12: 58485.39 | G12: =IF(ISNUMBER(F12/$B12*100),F12/$B12*100,0) -> 16.168942 | H12: 7.9483249 | I12: 222397.42 | J12: =IF(ISNUMBER(I12/$B12*100),I12/$B12*100,0) -> 61.484261 | K12: 7.6364167 | L12: 9026.1918 | M12: =IF(ISNUMBER(L12/$B12*100),L12/$B12*100,0) -> 2.495392 | N12: 8.0197987 | O12: 30971.418 | P12: =IF(ISNUMBER(O12/$B12*100),O12/$B12*100,0) -> 8.562396 | Q12: 6.9420076
A13: Rural | B13: =SUM(C13,F13,I13,L13,O13) -> 332692.82 | C13: 32552.107 | D13: =IF(ISNUMBER(C13/$B13*100),C13/$B13*100,0) -> 9.7844333 | E13: 7.619256 | F13: 58512.78 | G13: =IF(ISNUMBER(F13/$B13*100),F13/$B13*100,0) -> 17.58763 | H13: 6.5819718 | I13: 165020.78 | J13: =IF(ISNUMBER(I13/$B13*100),I13/$B13*100,0) -> 49.601546 | K13: 6.4880189 | L13: 3352.3497 | M13: =IF(ISNUMBER(L13/$B13*100),L13/$B13*100,0) -> 1.0076412 | N13: 5.7155865 | O13: 73254.798 | P13: =IF(ISNUMBER(O13/$B13*100),O13/$B13*100,0) -> 22.01875 | Q13: 6.090563
A15: Rango de Edad
A16: De 15 a 18 años | B16: =SUM(C16,F16,I16,L16,O16) -> 44596.837 | C16: 7783.5184 | D16: =IF(ISNUMBER(C16/$B16*100),C16/$B16*100,0) -> 17.453073 | E16: 7.7547685 | F16: 4004.8741 | G16: =IF(ISNUMBER(F16/$B16*100),F16/$B16*100,0) -> 8.9801751 | H16: 6.9271038 | I16: 23363.555 | J16: =IF(ISNUMBER(I16/$B16*100),I16/$B16*100,0) -> 52.388368 | K16: 6.4536471 | L16: 161.22894 | M16: =IF(ISNUMBER(L16/$B16*100),L16/$B16*100,0) -> 0.36152549 | N16: 12 | O16: 9283.6607 | P16: =IF(ISNUMBER(O16/$B16*100),O16/$B16*100,0) -> 20.816859 | Q16: 7.1594874
A17: De 19 a 24 años | B17: =SUM(C17,F17,I17,L17,O17) -> 167748.14 | C17: 30093.703 | D17: =IF(ISNUMBER(C17/$B17*100),C17/$B17*100,0) -> 17.939813 | E17: 9.8121126 | F17: 18465.972 | G17: =IF(ISNUMBER(F17/$B17*100),F17/$B17*100,0) -> 11.008153 | H17: 8.2019992 | I17: 90872.829 | J17: =IF(ISNUMBER(I17/$B17*100),I17/$B17*100,0) -> 54.172182 | K17: 8.6782281 | L17: 6726.9022 | M17: =IF(ISNUMBER(L17/$B17*100),L17/$B17*100,0) -> 4.0101202 | N17: 8.8869836 | O17: 21588.737 | P17: =IF(ISNUMBER(O17/$B17*100),O17/$B17*100,0) -> 12.869732 | Q17: 7.6878735
A18: De 25 a 29 años | B18: =SUM(C18,F18,I18,L18,O18) -> 133519.52 | C18: 22557.022 | D18: =IF(ISNUMBER(C18/$B18*100),C18/$B18*100,0) -> 16.894176 | E18: 10.619821 | F18: 25126.396 | G18: =IF(ISNUMBER(F18/$B18*100),F18/$B18*100,0) -> 18.818519 | H18: 9.0127947 | I18: 65057.888 | J18: =IF(ISNUMBER(I18/$B18*100),I18/$B18*100,0) -> 48.725377 | K18: 8.4341104 | L18: 4148.8906 | M18: =IF(ISNUMBER(L18/$B18*100),L18/$B18*100,0) -> 3.1073289 | N18: 7.0449422 | O18: 16629.322 | P18: =IF(ISNUMBER(O18/$B18*100),O18/$B18*100,0) -> 12.4546 | Q18: 7.0414999
A19: De 30 a 35 años | B19: =SUM(C19,F19,I19,L19,O19) -> 126727.84 | C19: 14338.526 | D19: =IF(ISNUMBER(C19/$B19*100),C19/$B19*100,0) -> 11.314425 | E19: 9.1294253 | F19: 20326.322 | G19: =IF(ISNUMBER(F19/$B19*100),F19/$B19*100,0) -> 16.039351 | H19: 8.8339113 | I19: 76800.873 | J19: =IF(ISNUMBER(I19/$B19*100),I19/$B19*100,0) -> 60.603002 | K19: 7.8233649 | L19: 433.1405 | M19: =IF(ISNUMBER(L19/$B19*100),L19/$B19*100,0) -> 0.34178797 | N19: 6 | O19: 14828.975 | P19: =IF(ISNUMBER(O19/$B19*100),O19/$B19*100,0) -> 11.701435 | Q19: 6.7738559
A20: De 36 a 44 años | B20: =SUM(C20,F20,I20,L20,O20) -> 174767.47 | C20: 15377.973 | D20: =IF(ISNUMBER(C20/$B20*100),C20/$B20*100,0) -> 8.7991051 | E20: 9.565019 | F20: 36249.016 | G20: =IF(ISNUMBER(F20/$B20*100),F20/$B20*100,0) -> 20.741284 | H20: 7.2046112 | I20: 94953.58 | J20: =IF(ISNUMBER(I20/$B20*100),I20/$B20*100,0) -> 54.331382 | K20: 7.0722563 | L20: 3116.5806 | M20: =IF(ISNUMBER(L20/$B20*100),L20/$B20*100,0) -> 1.7832727 | N20: 7.2236521 | O20: 25070.316 | P20: =IF(ISNUMBER(O20/$B20*100),O20/$B20*100,0) -> 14.344956 | Q20: 6.2786267
A21: De 45 a 59 años | B21: =SUM(C21,F21,I21,L21,O21) -> 187196.17 | C21: 12307.615 | D21: =IF(ISNUMBER(C21/$B21*100),C21/$B21*100,0) -> 6.5747153 | E21: 7.0153045 | F21: 44363.213 | G21: =IF(ISNUMBER(F21/$B21*100),F21/$B21*100,0) -> 23.698783 | H21: 6.8918761 | I21: 101703.45 | J21: =IF(ISNUMBER(I21/$B21*100),I21/$B21*100,0) -> 54.329878 | K21: 6.2014913 | L21: 1344.2733 | M21: =IF(ISNUMBER(L21/$B21*100),L21/$B21*100,0) -> 0.71810941 | N21: 5.674173 | O21: 27477.617 | P21: =IF(ISNUMBER(O21/$B21*100),O21/$B21*100,0) -> 14.678515 | Q21: 5.9992627
A22: De 60 años y más | B22: =SUM(C22,F22,I22,L22,O22) -> 64399.512 | C22: 1067.803 | D22: =IF(ISNUMBER(C22/$B22*100),C22/$B22*100,0) -> 1.6580917 | E22: 10.831721 | F22: 7746.5863 | G22: =IF(ISNUMBER(F22/$B22*100),F22/$B22*100,0) -> 12.028952 | H22: 7.4617568 | I22: 47654.991 | J22: =IF(ISNUMBER(I22/$B22*100),I22/$B22*100,0) -> 73.998994 | K22: 5.395272 | L22: 0 | M22: =IF(ISNUMBER(L22/$B22*100),L22/$B22*100,0) -> 0 | N22: 0 | O22: 7930.132 | P22: =IF(ISNUMBER(O22/$B22*100),O22/$B22*100,0) -> 12.313963 | Q22: 6.3608524
A25: ='C01'!$A$34 -> Fuente: Instituto Nacional de Estadística (INE). LXXXI Encuesta Permanente de Hogares de Propósitos Múltiples, Junio 2024.
A26: AEP: Años de Estudio Promedio
A27: 1/ Porcentaje por filas
A29: =A1 -> Cuadro No. 6. Población con problemas de empleo y Años de Estudio Promedio (AEP), según dominio, Rangos de edad, rama de actividad y ocupación
A30: =A2 -> Mujeres
A31: ....... Continuación
A32: =A3 -> Categorías | B32: Total | C32: Desocupados | F32: Subocupados por Insuficiencia de Tiempo de Trabajo. | I32: Subocupados Por Insuficiencia De Ingresos | L32: =L3 -> Buscador no disponible | O32: =O3 -> Disponible no buscador
C33: No. | D33: % 1/ | E33: AEP | F33: No. | G33: % 1/ | H33: AEP | I33: No. | J33: % 1/ | K33: AEP | L33: No. | M33: % 1/ | N33: AEP | O33: No. | P33: % 1/ | Q33: AEP
A35: =A6 -> Total Nacional/2
A37: Rama de Actividad
A38: Agricultura, ganaderia, silvicultura y pesca | B38: =SUM(C38,F38,I38,L38,O38) -> 20160.077 | C38: 0 | D38: =IF(ISNUMBER(C38/$B38*100),C38/$B38*100,0) -> 0 | E38: 0 | F38: 10506 | G38: =IF(ISNUMBER(F38/$B38*100),F38/$B38*100,0) -> 52.112893 | H38: 6.0887361 | I38: 9654.0778 | J38: =IF(ISNUMBER(I38/$B38*100),I38/$B38*100,0) -> 47.887107 | K38: 5.8817389 | L38: 0 | M38: =IF(ISNUMBER(L38/$B38*100),L38/$B38*100,0) -> 0 | N38: 0 | O38: 0 | P38: =IF(ISNUMBER(O38/$B38*100),O38/$B38*100,0) -> 0 | Q38: 0
A39: Explotacion de minas y canteras | B39: =SUM(C39,F39,I39,L39,O39) -> 0 | C39: 0 | D39: =IF(ISNUMBER(C39/$B39*100),C39/$B39*100,0) -> 0 | E39: 0 | F39: 0 | G39: =IF(ISNUMBER(F39/$B39*100),F39/$B39*100,0) -> 0 | H39: 0 | I39: 0 | J39: =IF(ISNUMBER(I39/$B39*100),I39/$B39*100,0) -> 0 | K39: 0 | L39: 0 | M39: =IF(ISNUMBER(L39/$B39*100),L39/$B39*100,0) -> 0 | N39: 0 | O39: 0 | P39: =IF(ISNUMBER(O39/$B39*100),O39/$B39*100,0) -> 0 | Q39: 0
A40: Industria manufacturera | B40: =SUM(C40,F40,I40,L40,O40) -> 119050.97 | C40: 0 | D40: =IF(ISNUMBER(C40/$B40*100),C40/$B40*100,0) -> 0 | E40: 0 | F40: 37909.436 | G40: =IF(ISNUMBER(F40/$B40*100),F40/$B40*100,0) -> 31.843031 | H40: 7.3005188 | I40: 81141.53 | J40: =IF(ISNUMBER(I40/$B40*100),I40/$B40*100,0) -> 68.156969 | K40: 7.2515694 | L40: 0 | M40: =IF(ISNUMBER(L40/$B40*100),L40/$B40*100,0) -> 0 | N40: 0 | O40: 0 | P40: =IF(ISNUMBER(O40/$B40*100),O40/$B40*100,0) -> 0 | Q40: 0
A41: Suministro de electricidad, gas, vapor y aire acondicionado | B41: =SUM(C41,F41,I41,L41,O41) -> 1078.0562 | C41: 0 | D41: =IF(ISNUMBER(C41/$B41*100),C41/$B41*100,0) -> 0 | E41: 0 | F41: 433.1405 | G41: =IF(ISNUMBER(F41/$B41*100),F41/$B41*100,0) -> 40.177913 | H41: 3 | I41: 644.91575 | J41: =IF(ISNUMBER(I41/$B41*100),I41/$B41*100,0) -> 59.822087 | K41: 14.333333 | L41: 0 | M41: =IF(ISNUMBER(L41/$B41*100),L41/$B41*100,0) -> 0 | N41: 0 | O41: 0 | P41: =IF(ISNUMBER(O41/$B41*100),O41/$B41*100,0) -> 0 | Q41: 0
A42: Suministro de agua, evacuacion de aguas residuales, gestion de desechos y descontaminacion | B42: =SUM(C42,F42,I42,L42,O42) -> 2311.2401 | C42: 0 | D42: =IF(ISNUMBER(C42/$B42*100),C42/$B42*100,0) -> 0 | E42: 0 | F42: 1036.5691 | G42: =IF(ISNUMBER(F42/$B42*100),F42/$B42*100,0) -> 44.849043 | H42: 6.8181818 | I42: 1274.671 | J42: =IF(ISNUMBER(I42/$B42*100),I42/$B42*100,0) -> 55.150957 | K42: 9 | L42: 0 | M42: =IF(ISNUMBER(L42/$B42*100),L42/$B42*100,0) -> 0 | N42: 0 | O42: 0 | P42: =IF(ISNUMBER(O42/$B42*100),O42/$B42*100,0) -> 0 | Q42: 0
A43: Construccion | B43: =SUM(C43,F43,I43,L43,O43) -> 794.533 | C43: 0 | D43: =IF(ISNUMBER(C43/$B43*100),C43/$B43*100,0) -> 0 | E43: 0 | F43: 0 | G43: =IF(ISNUMBER(F43/$B43*100),F43/$B43*100,0) -> 0 | H43: 0 | I43: 794.533 | J43: =IF(ISNUMBER(I43/$B43*100),I43/$B43*100,0) -> 100 | K43: 7.5 | L43: 0 | M43: =IF(ISNUMBER(L43/$B43*100),L43/$B43*100,0) -> 0 | N43: 0 | O43: 0 | P43: =IF(ISNUMBER(O43/$B43*100),O43/$B43*100,0) -> 0 | Q43: 0
A44: Comercio al por mayor y al por menor, reparacion de vehiculos automotores y motocicletas | B44: =SUM(C44,F44,I44,L44,O44) -> 215844.06 | C44: 0 | D44: =IF(ISNUMBER(C44/$B44*100),C44/$B44*100,0) -> 0 | E44: 0 | F44: 27831.405 | G44: =IF(ISNUMBER(F44/$B44*100),F44/$B44*100,0) -> 12.894219 | H44: 7.920501 | I44: 188012.65 | J44: =IF(ISNUMBER(I44/$B44*100),I44/$B44*100,0) -> 87.105781 | K44: 7.1354982 | L44: 0 | M44: =IF(ISNUMBER(L44/$B44*100),L44/$B44*100,0) -> 0 | N44: 0 | O44: 0 | P44: =IF(ISNUMBER(O44/$B44*100),O44/$B44*100,0) -> 0 | Q44: 0
A45: Transporte y almacenamiento | B45: =SUM(C45,F45,I45,L45,O45) -> 3896.0646 | C45: 0 | D45: =IF(ISNUMBER(C45/$B45*100),C45/$B45*100,0) -> 0 | E45: 0 | F45: 422.88722 | G45: =IF(ISNUMBER(F45/$B45*100),F45/$B45*100,0) -> 10.854215 | H45: 16 | I45: 3473.1774 | J45: =IF(ISNUMBER(I45/$B45*100),I45/$B45*100,0) -> 89.145785 | K45: 8.4189611 | L45: 0 | M45: =IF(ISNUMBER(L45/$B45*100),L45/$B45*100,0) -> 0 | N45: 0 | O45: 0 | P45: =IF(ISNUMBER(O45/$B45*100),O45/$B45*100,0) -> 0 | Q45: 0
A46: Actividades de alojamiento y de servicios de comida | B46: =SUM(C46,F46,I46,L46,O46) -> 77151.184 | C46: 0 | D46: =IF(ISNUMBER(C46/$B46*100),C46/$B46*100,0) -> 0 | E46: 0 | F46: 18160.058 | G46: =IF(ISNUMBER(F46/$B46*100),F46/$B46*100,0) -> 23.538275 | H46: 7.2933212 | I46: 58991.126 | J46: =IF(ISNUMBER(I46/$B46*100),I46/$B46*100,0) -> 76.461725 | K46: 6.8373482 | L46: 0 | M46: =IF(ISNUMBER(L46/$B46*100),L46/$B46*100,0) -> 0 | N46: 0 | O46: 0 | P46: =IF(ISNUMBER(O46/$B46*100),O46/$B46*100,0) -> 0 | Q46: 0
A47: Informacion y comunicaciones | B47: =SUM(C47,F47,I47,L47,O47) -> 1172.5985 | C47: 0 | D47: =IF(ISNUMBER(C47/$B47*100),C47/$B47*100,0) -> 0 | E47: 0 | F47: 0 | G47: =IF(ISNUMBER(F47/$B47*100),F47/$B47*100,0) -> 0 | H47: 0 | I47: 1172.5985 | J47: =IF(ISNUMBER(I47/$B47*100),I47/$B47*100,0) -> 100 | K47: 8.5171392 | L47: 0 | M47: =IF(ISNUMBER(L47/$B47*100),L47/$B47*100,0) -> 0 | N47: 0 | O47: 0 | P47: =IF(ISNUMBER(O47/$B47*100),O47/$B47*100,0) -> 0 | Q47: 0
A48: Actividades finacieras y de seguros | B48: =SUM(C48,F48,I48,L48,O48) -> 5146.2085 | C48: 0 | D48: =IF(ISNUMBER(C48/$B48*100),C48/$B48*100,0) -> 0 | E48: 0 | F48: 745.34509 | G48: =IF(ISNUMBER(F48/$B48*100),F48/$B48*100,0) -> 14.483383 | H48: 12.893661 | I48: 4400.8634 | J48: =IF(ISNUMBER(I48/$B48*100),I48/$B48*100,0) -> 85.516617 | K48: 10.19813 | L48: 0 | M48: =IF(ISNUMBER(L48/$B48*100),L48/$B48*100,0) -> 0 | N48: 0 | O48: 0 | P48: =IF(ISNUMBER(O48/$B48*100),O48/$B48*100,0) -> 0 | Q48: 0
A49: Actividades inmobiliarias | B49: =SUM(C49,F49,I49,L49,O49) -> 1552.5289 | C49: 0 | D49: =IF(ISNUMBER(C49/$B49*100),C49/$B49*100,0) -> 0 | E49: 0 | F49: 794.533 | G49: =IF(ISNUMBER(F49/$B49*100),F49/$B49*100,0) -> 51.176697 | H49: 11 | I49: 757.99587 | J49: =IF(ISNUMBER(I49/$B49*100),I49/$B49*100,0) -> 48.823303 | K49: 9 | L49: 0 | M49: =IF(ISNUMBER(L49/$B49*100),L49/$B49*100,0) -> 0 | N49: 0 | O49: 0 | P49: =IF(ISNUMBER(O49/$B49*100),O49/$B49*100,0) -> 0 | Q49: 0
... A61: NS/NR | B61: =SUM(C61,F61,I61,L61,O61) -> 1672.3523 | C61: 0 | D61: =IF(ISNUMBER(C61/$B61*100),C61/$B61*100,0) -> 0 | E61: 0 | F61: 0 | G61: =IF(ISNUMBER(F61/$B61*100),F61/$B61*100,0) -> 0 | H61: 0 | I61: 1672.3523 | J61: =IF(ISNUMBER(I61/$B61*100),I61/$B61*100,0) -> 100 | K61: 9.8304337 | L61: 0 | M61: =IF(ISNUMBER(L61/$B61*100),L61/$B61*100,0) -> 0 | N61: 0 | O61: 0 | P61: =IF(ISNUMBER(O61/$B61*100),O61/$B61*100,0) -> 0 | Q61: 0
A63: Ocupación
A64: Directores y gerentes | B64: =SUM(C64,F64,I64,L64,O64) -> 11835.655 | C64: 0 | D64: =IF(ISNUMBER(C64/$B64*100),C64/$B64*100,0) -> 0 | E64: 0 | F64: 1762.7697 | G64: =IF(ISNUMBER(F64/$B64*100),F64/$B64*100,0) -> 14.893724 | H64: 10.170732 | I64: 10072.885 | J64: =IF(ISNUMBER(I64/$B64*100),I64/$B64*100,0) -> 85.106276 | K64: 11.408918 | L64: 0 | M64: =IF(ISNUMBER(L64/$B64*100),L64/$B64*100,0) -> 0 | N64: 0 | O64: 0 | P64: =IF(ISNUMBER(O64/$B64*100),O64/$B64*100,0) -> 0 | Q64: 0
A65: Profesionales cientificos e intelectuales | B65: =SUM(C65,F65,I65,L65,O65) -> 10272.137 | C65: 0 | D65: =IF(ISNUMBER(C65/$B65*100),C65/$B65*100,0) -> 0 | E65: 0 | F65: 7184.9984 | G65: =IF(ISNUMBER(F65/$B65*100),F65/$B65*100,0) -> 69.946482 | H65: 15.757847 | I65: 3087.1385 | J65: =IF(ISNUMBER(I65/$B65*100),I65/$B65*100,0) -> 30.053518 | K65: 15.4555 | L65: 0 | M65: =IF(ISNUMBER(L65/$B65*100),L65/$B65*100,0) -> 0 | N65: 0 | O65: 0 | P65: =IF(ISNUMBER(O65/$B65*100),O65/$B65*100,0) -> 0 | Q65: 0
A66: Tecnicos y profesionales de nivel medio | B66: =SUM(C66,F66,I66,L66,O66) -> 26286.807 | C66: 0 | D66: =IF(ISNUMBER(C66/$B66*100),C66/$B66*100,0) -> 0 | E66: 0 | F66: 5913.3188 | G66: =IF(ISNUMBER(F66/$B66*100),F66/$B66*100,0) -> 22.495386 | H66: 9.2037282 | I66: 20373.488 | J66: =IF(ISNUMBER(I66/$B66*100),I66/$B66*100,0) -> 77.504614 | K66: 10.616957 | L66: 0 | M66: =IF(ISNUMBER(L66/$B66*100),L66/$B66*100,0) -> 0 | N66: 0 | O66: 0 | P66: =IF(ISNUMBER(O66/$B66*100),O66/$B66*100,0) -> 0 | Q66: 0
A67: Personal de apoyo administrativo | B67: =SUM(C67,F67,I67,L67,O67) -> 20793.343 | C67: 0 | D67: =IF(ISNUMBER(C67/$B67*100),C67/$B67*100,0) -> 0 | E67: 0 | F67: 422.88722 | G67: =IF(ISNUMBER(F67/$B67*100),F67/$B67*100,0) -> 2.0337625 | H67: 9 | I67: 20370.456 | J67: =IF(ISNUMBER(I67/$B67*100),I67/$B67*100,0) -> 97.966237 | K67: 9.4741937 | L67: 0 | M67: =IF(ISNUMBER(L67/$B67*100),L67/$B67*100,0) -> 0 | N67: 0 | O67: 0 | P67: =IF(ISNUMBER(O67/$B67*100),O67/$B67*100,0) -> 0 | Q67: 0
A68: Trabajadores de los servicios y vendedores de comercios y mercados | B68: =SUM(C68,F68,I68,L68,O68) -> 320708 | C68: 0 | D68: =IF(ISNUMBER(C68/$B68*100),C68/$B68*100,0) -> 0 | E68: 0 | F68: 55320.361 | G68: =IF(ISNUMBER(F68/$B68*100),F68/$B68*100,0) -> 17.249448 | H68: 7.7957783 | I68: 265387.64 | J68: =IF(ISNUMBER(I68/$B68*100),I68/$B68*100,0) -> 82.750552 | K68: 7.0871928 | L68: 0 | M68: =IF(ISNUMBER(L68/$B68*100),L68/$B68*100,0) -> 0 | N68: 0 | O68: 0 | P68: =IF(ISNUMBER(O68/$B68*100),O68/$B68*100,0) -> 0 | Q68: 0
A69: Agricultores y trabajadores calificados agropecuarios forestales y pesqueros | B69: =SUM(C69,F69,I69,L69,O69) -> 8255.2074 | C69: 0 | D69: =IF(ISNUMBER(C69/$B69*100),C69/$B69*100,0) -> 0 | E69: 0 | F69: 6363.0807 | G69: =IF(ISNUMBER(F69/$B69*100),F69/$B69*100,0) -> 77.079597 | H69: 5.3812855 | I69: 1892.1268 | J69: =IF(ISNUMBER(I69/$B69*100),I69/$B69*100,0) -> 22.920403 | K69: 4.1927711 | L69: 0 | M69: =IF(ISNUMBER(L69/$B69*100),L69/$B69*100,0) -> 0 | N69: 0 | O69: 0 | P69: =IF(ISNUMBER(O69/$B69*100),O69/$B69*100,0) -> 0 | Q69: 0
A70: Oficiales, operarios y artesanos de artes mecanicas y de otros oficios | B70: =SUM(C70,F70,I70,L70,O70) -> 73045.825 | C70: 0 | D70: =IF(ISNUMBER(C70/$B70*100),C70/$B70*100,0) -> 0 | E70: 0 | F70: 32692.131 | G70: =IF(ISNUMBER(F70/$B70*100),F70/$B70*100,0) -> 44.755646 | H70: 6.8913926 | I70: 40353.694 | J70: =IF(ISNUMBER(I70/$B70*100),I70/$B70*100,0) -> 55.244354 | K70: 6.6010932 | L70: 0 | M70: =IF(ISNUMBER(L70/$B70*100),L70/$B70*100,0) -> 0 | N70: 0 | O70: 0 | P70: =IF(ISNUMBER(O70/$B70*100),O70/$B70*100,0) -> 0 | Q70: 0
A71: Operadores de instalaciones y maquinas y ensambladores | B71: =SUM(C71,F71,I71,L71,O71) -> 30968.387 | C71: 0 | D71: =IF(ISNUMBER(C71/$B71*100),C71/$B71*100,0) -> 0 | E71: 0 | F71: 5567.4367 | G71: =IF(ISNUMBER(F71/$B71*100),F71/$B71*100,0) -> 17.977807 | H71: 8.1153521 | I71: 25400.95 | J71: =IF(ISNUMBER(I71/$B71*100),I71/$B71*100,0) -> 82.022193 | K71: 7.4715846 | L71: 0 | M71: =IF(ISNUMBER(L71/$B71*100),L71/$B71*100,0) -> 0 | N71: 0 | O71: 0 | P71: =IF(ISNUMBER(O71/$B71*100),O71/$B71*100,0) -> 0 | Q71: 0
A72: Ocupaciones elementales | B72: =SUM(C72,F72,I72,L72,O72) -> 152405.43 | C72: 0 | D72: =IF(ISNUMBER(C72/$B72*100),C72/$B72*100,0) -> 0 | E72: 0 | F72: 39996.019 | G72: =IF(ISNUMBER(F72/$B72*100),F72/$B72*100,0) -> 26.243173 | H72: 6.4072489 | I72: 112409.41 | J72: =IF(ISNUMBER(I72/$B72*100),I72/$B72*100,0) -> 73.756827 | K72: 6.5502491 | L72: 0 | M72: =IF(ISNUMBER(L72/$B72*100),L72/$B72*100,0) -> 0 | N72: 0 | O72: 0 | P72: =IF(ISNUMBER(O72/$B72*100),O72/$B72*100,0) -> 0 | Q72: 0
A73: Ocupaciones militares | B73: =SUM(C73,F73,I73,L73,O73) -> 0 | C73: 0 | D73: =IF(ISNUMBER(C73/$B73*100),C73/$B73*100,0) -> 0 | E73: 0 | F73: 0 | G73: =IF(ISNUMBER(F73/$B73*100),F73/$B73*100,0) -> 0 | H73: 0 | I73: 0 | J73: =IF(ISNUMBER(I73/$B73*100),I73/$B73*100,0) -> 0 | K73: 0 | L73: 0 | M73: =IF(ISNUMBER(L73/$B73*100),L73/$B73*100,0) -> 0 | N73: 0 | O73: 0 | P73: =IF(ISNUMBER(O73/$B73*100),O73/$B73*100,0) -> 0 | Q73: 0
A74: Ocupaciones NO especificadas | B74: =SUM(C74,F74,I74,L74,O74) -> 0 | C74: 0 | D74: =IF(ISNUMBER(C74/$B74*100),C74/$B74*100,0) -> 0 | E74: 0 | F74: 0 | G74: =IF(ISNUMBER(F74/$B74*100),F74/$B74*100,0) -> 0 | H74: 0 | I74: 0 | J74: =IF(ISNUMBER(I74/$B74*100),I74/$B74*100,0) -> 0 | K74: 0 | L74: 0 | M74: =IF(ISNUMBER(L74/$B74*100),L74/$B74*100,0) -> 0 | N74: 0 | O74: 0 | P74: =IF(ISNUMBER(O74/$B74*100),O74/$B74*100,0) -> 0 | Q74: 0
A75: Busca trabajo por primera vez | B75: =SUM(C75,F75,I75,L75,O75) -> 161.22894 | C75: 161.22894 | D75: =IF(ISNUMBER(C75/$B75*100),C75/$B75*100,0) -> 100 | E75: 17 | F75: 0 | G75: =IF(ISNUMBER(F75/$B75*100),F75/$B75*100,0) -> 0 | H75: 0 | I75: 0 | J75: =IF(ISNUMBER(I75/$B75*100),I75/$B75*100,0) -> 0 | K75: 0 | L75: 0 | M75: =IF(ISNUMBER(L75/$B75*100),L75/$B75*100,0) -> 0 | N75: 0 | O75: 0 | P75: =IF(ISNUMBER(O75/$B75*100),O75/$B75*100,0) -> 0 | Q75: 0
A76: NS/NR | B76: =SUM(C76,F76,I76,L76,O76) -> 2118.7547 | C76: 0 | D76: =IF(ISNUMBER(C76/$B76*100),C76/$B76*100,0) -> 0 | E76: 0 | F76: 1059.3773 | G76: =IF(ISNUMBER(F76/$B76*100),F76/$B76*100,0) -> 50 | H76: 17 | I76: 1059.3773 | J76: =IF(ISNUMBER(I76/$B76*100),I76/$B76*100,0) -> 50 | K76: 9 | L76: 0 | M76: =IF(ISNUMBER(L76/$B76*100),L76/$B76*100,0) -> 0 | N76: 0 | O76: 0 | P76: =IF(ISNUMBER(O76/$B76*100),O76/$B76*100,0) -> 0 | Q76: 0
A78: =A25 -> Fuente: Instituto Nacional de Estadística (INE). LXXXI Encuesta Permanente de Hogares de Propósitos Múltiples, Junio 2024.
A79: AEP: Años de Estudio Promedio
A80: 1/ Porcentaje por filas
