Workbook

Sheet Portada

Sheet C01
A2: Cuadro No. 1. Fuerza de Trabajo (FT) en condición de empleo, según dominio, Nivel educativo, Rangos de edad, rama de actividad y ocupación
A4: Categorías | B4: Fuerza de Trabajo | D4: Ocupados | F4: Desocupados | I4: Subocupados por Insuficiencia de Tiempo de Trabajo. | L4: Subocupados Por Insuficiencia De Ingresos
B5: No. | C5: AEP | D5: No. | E5: AEP | F5: No. | G5: AEP | H5: TD | I5: No. | J5: AEP | K5: TST | L5: No. | M5: AEP | N5: TSI
A7: Total Nacional | B7: 3930943.9 | C7: 7.7784835 | D7: 3724970.5 | E7: 7.7269705 | F7: 205973.38 | G7: 8.6650437 | H7: =F7/B7*100 -> 5.2397945 | I7: 317814.78 | J7: 7.2822072 | K7: =IF(ISNUMBER(I7/D7*100),I7/D7*100,0) -> 8.5320079 | L7: 1295636.9 | M7: 7.0381791 | N7: =IF(ISNUMBER(L7/D7*100),L7/D7*100,0) -> 34.782473
A9: Dominio
A10: Urbano | B10: 2359842.9 | C10: 8.726265 | D10: 2225575.1 | E10: 8.6782026 | F10: 134267.84 | G10: 9.5039783 | H10: =F10/B10*100 -> 5.6896939 | I10: 164057.61 | J10: 8.5440317 | K10: =IF(ISNUMBER(I10/D10*100),I10/D10*100,0) -> 7.3714706 | L10: 804841.29 | M10: 7.5358597 | N10: =IF(ISNUMBER(L10/D10*100),L10/D10*100,0) -> 36.163295
A11: Distrito Central | B11: 540226.98 | C11: 9.9858809 | D11: 498595.11 | E11: 9.9563303 | F11: 41631.871 | G11: 10.329046 | H11: =F11/B11*100 -> 7.7063664 | I11: 53425.127 | J11: 9.841311 | K11: =IF(ISNUMBER(I11/D11*100),I11/D11*100,0) -> 10.715133 | L11: 160949.98 | M11: 7.9416942 | N11: =IF(ISNUMBER(L11/D11*100),L11/D11*100,0) -> 32.280699
A12: San Pedro Sula | B12: 308382.95 | C12: 9.1380319 | D12: 295030.29 | E12: 9.1338019 | F12: 13352.664 | G12: 9.2280285 | H12: =F12/B12*100 -> 4.3298969 | I12: 13712.118 | J12: 8.5636083 | K12: =IF(ISNUMBER(I12/D12*100),I12/D12*100,0) -> 4.6476984 | L12: 110556.31 | M12: 8.0699573 | N12: =IF(ISNUMBER(L12/D12*100),L12/D12*100,0) -> 37.472868
A13: Resto urbano | B13: 1511233 | C13: 8.1774399 | D13: 1431949.7 | E13: 8.1253986 | F13: 79283.305 | G13: 9.1023527 | H13: =F13/B13*100 -> 5.2462661 | I13: 96920.368 | J13: 7.772454 | K13: =IF(ISNUMBER(I13/D13*100),I13/D13*100,0) -> 6.7684199 | L13: 533334.99 | M13: 7.2972982 | N13: =IF(ISNUMBER(L13/D13*100),L13/D13*100,0) -> 37.245372
A14: Rural | B14: 1571101 | C14: 6.2368063 | D14: 1499395.4 | E14: 6.1937451 | F14: 71705.542 | G14: 7.062554 | H14: =F14/B14*100 -> 4.5640314 | I14: 153757.16 | J14: 5.8466226 | K14: =IF(ISNUMBER(I14/D14*100),I14/D14*100,0) -> 10.254611 | L14: 490795.59 | M14: 6.1731323 | N14: =IF(ISNUMBER(L14/D14*100),L14/D14*100,0) -> 32.732899
A16: Nivel Educativo /1
A17: Sin Nivel | B17: 291652.1 | C17: 0 | D17: 284847.84 | E17: 0 | F17: 6804.2604 | G17: 0 | H17: =F17/B17*100 -> 2.3330058 | I17: 29781.166 | J17: 0 | K17: =IF(ISNUMBER(I17/D17*100),I17/D17*100,0) -> 10.455114 | L17: 93114.356 | M17: 0 | N17: =IF(ISNUMBER(L17/D17*100),L17/D17*100,0) -> 32.689157
A18: Básica (1-3) | B18: 432873.05 | C18: 2.343268 | D18: 418941.24 | E18: 2.3354095 | F18: 13931.813 | G18: 2.5795818 | H18: =F18/B18*100 -> 3.2184523 | I18: 40666.591 | J18: 2.3373373 | K18: =IF(ISNUMBER(I18/D18*100),I18/D18*100,0) -> 9.7069916 | L18: 139441.94 | M18: 2.3646653 | N18: =IF(ISNUMBER(L18/D18*100),L18/D18*100,0) -> 33.284367
A19: Básica (4-6) | B19: 1294162 | C19: 5.7069872 | D19: 1242017.5 | E19: 5.7051756 | F19: 52144.506 | G19: 5.7501365 | H19: =F19/B19*100 -> 4.0292101 | I19: 107954.48 | J19: 5.6931667 | K19: =IF(ISNUMBER(I19/D19*100),I19/D19*100,0) -> 8.6918649 | L19: 486049.81 | M19: 5.6823083 | N19: =IF(ISNUMBER(L19/D19*100),L19/D19*100,0) -> 39.133895
A20: Básica (7-9) | B20: 507920.48 | C20: 8.4541406 | D20: 478046.02 | E20: 8.4517957 | F20: 29874.466 | G20: 8.4916638 | H20: =F20/B20*100 -> 5.881721 | I20: 41456.527 | J20: 8.3691793 | K20: =IF(ISNUMBER(I20/D20*100),I20/D20*100,0) -> 8.6720788 | L20: 204143.09 | M20: 8.488488 | N20: =IF(ISNUMBER(L20/D20*100),L20/D20*100,0) -> 42.703647
A21: Media | B21: 872888.42 | C21: 8.6601776 | D21: 806430.33 | E21: 8.6633468 | F21: 66458.098 | G21: 8.6216704 | H21: =F21/B21*100 -> 7.6135845 | I21: 67223.548 | J21: 8.5563807 | K21: =IF(ISNUMBER(I21/D21*100),I21/D21*100,0) -> 8.33594 | L21: 290947.93 | M21: 8.6591006 | N21: =IF(ISNUMBER(L21/D21*100),L21/D21*100,0) -> 36.078496
A22: Superior | B22: 494607.14 | C22: 15.737603 | D22: 459198.12 | E22: 15.749846 | F22: 35409.021 | G22: 15.579491 | H22: =F22/B22*100 -> 7.1590195 | I22: 28841.447 | J22: 15.670084 | K22: =IF(ISNUMBER(I22/D22*100),I22/D22*100,0) -> 6.2808288 | L22: 70563.649 | M22: 14.749147 | N22: =IF(ISNUMBER(L22/D22*100),L22/D22*100,0) -> 15.366711
A23: No Sabe/No Responde | B23: 36840.74 | C23: 0 | D23: 35489.521 | E23: 0 | F23: 1351.2182 | G23: 0 | H23: =F23/B23*100 -> 3.6677281 | I23: 1891.0177 | J23: 0 | K23: =IF(ISNUMBER(I23/D23*100),I23/D23*100,0) -> 5.3283832 | L23: 11376.104 | M23: 0 | N23: =IF(ISNUMBER(L23/D23*100),L23/D23*100,0) -> 32.054824
A25: Rango de Edad
A26: De 15 a 18 años | B26: 239275.09 | C26: 6.6458619 | D26: 220729.05 | E26: 6.5929129 | F26: 18546.035 | G26: 7.2798857 | H26: =F26/B26*100 -> 7.7509259 | I26: 18428.618 | J26: 6.6900324 | K26: =IF(ISNUMBER(I26/D26*100),I26/D26*100,0) -> 8.3489768 | L26: 89141.773 | M26: 6.3525546 | N26: =IF(ISNUMBER(L26/D26*100),L26/D26*100,0) -> 40.385156
A27: De 19 a 24 años | B27: 558227.63 | C27: 8.2755585 | D27: 499673.61 | E27: 8.1870371 | F27: 58554.013 | G27: 9.0138774 | H27: =F27/B27*100 -> 10.489272 | I27: 41783.235 | J27: 7.5702347 | K27: =IF(ISNUMBER(I27/D27*100),I27/D27*100,0) -> 8.3621056 | L27: 224263.47 | M27: 8.0007199 | N27: =IF(ISNUMBER(L27/D27*100),L27/D27*100,0) -> 44.881993
A28: De 25 a 29 años | B28: 507600.12 | C28: 8.8405406 | D28: 473682.33 | E28: 8.7652855 | F28: 33917.793 | G28: 9.906112 | H28: =F28/B28*100 -> 6.6819907 | I28: 43276.745 | J28: 8.5772947 | K28: =IF(ISNUMBER(I28/D28*100),I28/D28*100,0) -> 9.1362379 | L28: 184760.66 | M28: 8.1513725 | N28: =IF(ISNUMBER(L28/D28*100),L28/D28*100,0) -> 39.005183
A29: De 30 a 35 años | B29: 537634.08 | C29: 8.8610989 | D29: 509720.69 | E29: 8.865513 | F29: 27913.386 | G29: 8.7830611 | H29: =F29/B29*100 -> 5.1918931 | I29: 40495.239 | J29: 8.3753389 | K29: =IF(ISNUMBER(I29/D29*100),I29/D29*100,0) -> 7.9445939 | L29: 179587.4 | M29: 7.7257258 | N29: =IF(ISNUMBER(L29/D29*100),L29/D29*100,0) -> 35.232511
A30: De 36 a 44 años | B30: 731939.29 | C30: 7.6610484 | D30: 703098.44 | E30: 7.6083086 | F30: 28840.846 | G30: 8.8797343 | H30: =F30/B30*100 -> 3.9403331 | I30: 69555.442 | J30: 7.0950251 | K30: =IF(ISNUMBER(I30/D30*100),I30/D30*100,0) -> 9.8927032 | L30: 233475.59 | M30: 6.7853115 | N30: =IF(ISNUMBER(L30/D30*100),L30/D30*100,0) -> 33.206672
A31: De 45 a 59 años | B31: 904355.67 | C31: 7.2346494 | D31: 876528.5 | E31: 7.2413764 | F31: 27827.164 | G31: 7.029474 | H31: =F31/B31*100 -> 3.0770155 | I31: 80439.082 | J31: 6.2309283 | K31: =IF(ISNUMBER(I31/D31*100),I31/D31*100,0) -> 9.177007 | L31: 257945.09 | M31: 6.0592016 | N31: =IF(ISNUMBER(L31/D31*100),L31/D31*100,0) -> 29.428032
A32: De 60 años y más | B32: 451912.04 | C32: 6.175245 | D32: 441537.9 | E32: 6.1165387 | F32: 10374.144 | G32: 8.3850619 | H32: =F32/B32*100 -> 2.2956112 | I32: 23836.419 | J32: 6.7958054 | K32: =IF(ISNUMBER(I32/D32*100),I32/D32*100,0) -> 5.3984989 | L32: 126462.89 | M32: 5.0470224 | N32: =IF(ISNUMBER(L32/D32*100),L32/D32*100,0) -> 28.641457
A34: Fuente: Instituto Nacional de Estadística (INE). LXXXI Encuesta Permanente de Hogares de Propósitos Múltiples, Junio 2024.
A35: AEP: Años de Estudio Promedio
A36: TD: Tasa de Desocupación
A37: TST: Tasa de subocupación por Insuficiencia de Tiempo de Trabajo.
A38: TSI: Tasa de Subocupación Por Insuficiencia De Ingresos
A39: /1 Nivel Educativo: La suma de básica (1-3), básica (4-6) y básica (7-9) es equivalente a Nivel Educativo Primaria.
A42: =A2 -> Cuadro No. 1. Fuerza de Trabajo (FT) en condición de empleo, según dominio, Nivel educativo, Rangos de edad, rama de actividad y ocupación
A43: ....... Continuación
A44: =A4 -> Categorías | B44: =B4 -> Fuerza de Trabajo | D44: =D4 -> Ocupados | F44: =F4 -> Desocupados | I44: Subocupados por Insuficiencia de Tiempo de Trabajo. | L44: Subocupados Por Insuficiencia De Ingresos
B45: =B5 -> No. | C45: =C5 -> AEP | D45: =D5 -> No. | E45: =E5 -> AEP | F45: =F5 -> No. | G45: =G5 -> AEP | H45: =H5 -> TD | I45: =I5 -> No. | ... N45: =N5 -> TSI
A47: =A7 -> Total Nacional | B47: =B7 -> 3930943.9 | C47: =C7 -> 7.7784835 | D47: =D7 -> 3724970.5 | E47: =E7 -> 7.7269705 | F47: =F7 -> 205973.38 | G47: =G7 -> 8.6650437 | H47: =H7 -> 5.2397945 | ... N47: =N7 -> 34.782473
A49: Rama de Actividad
A50: Agricultura, ganaderia, silvicultura y pesca | B50: 807483.34 | C50: 5.3411019 | D50: 807483.34 | E50: 5.3411019 | F50: 0 | G50: 0 | H50: =F50/B50*100 -> 0 | I50: 97654.538 | J50: 5.1602822 | K50: =IF(ISNUMBER(I50/D50*100),I50/D50*100,0) -> 12.093691 | L50: 181266.24 | M50: 5.6129871 | N50: =IF(ISNUMBER(L50/D50*100),L50/D50*100,0) -> 22.448295
A51: Explotacion de minas y canteras | B51: 15116.017 | C51: 7.6797363 | D51: 15116.017 | E51: 7.6797363 | F51: 0 | G51: 0 | H51: =F51/B51*100 -> 0 | I51: 470.97738 | J51: 8 | K51: =IF(ISNUMBER(I51/D51*100),I51/D51*100,0) -> 3.1157505 | L51: 5102.9084 | M51: 5.9286234 | N51: =IF(ISNUMBER(L51/D51*100),L51/D51*100,0) -> 33.758287
...

Sheet C02
A1: Cuadro No. 2. Fuerza de Trabajo (PEA) en condición de empleo, según dominio, Nivel educativo, Rangos de edad, rama de actividad y ocupación y ocupación
A2: HOMBRES
A3: Categorías | B3: Fuerza de Trabajo | D3: Ocupados | F3: Desocupados | I3: Subocupados por Insuficiencia de Tiempo de Trabajo. | L3: Subocupados Por Insuficiencia De Ingresos
B4: No. | C4: AEP | D4: No. | E4: AEP | F4: No. | G4: AEP | H4: TD | I4: No. | J4: AEP | K4: TST | L4: No. | M4: AEP | N4: TSI
A6: Total Nacional | B6: 2347645.7 | C6: 7.292724 | D6: 2245198.4 | E6: 7.2643629 | F6: 102447.22 | G6: 7.8754629 | H6: =F6/B6*100 -> 4.3638281 | I6: 161532.4 | J6: 6.804706 | K6: =IF(ISNUMBER(I6/D6*100),I6/D6*100,0) -> 7.1945711 | L6: 795229.71 | M6: 6.8391533 | N6: =IF(ISNUMBER(L6/D6*100),L6/D6*100,0) -> 35.419128
A8: Dominio
A9: Urbano | B9: 1274724.8 | C9: 8.3099312 | D9: 1211431 | E9: 8.2916336 | F9: 63293.786 | G9: 8.6481893 | H9: =F9/B9*100 -> 4.9652904 | I9: 66288.014 | J9: 8.8012205 | K9: =IF(ISNUMBER(I9/D9*100),I9/D9*100,0) -> 5.471877 | L9: 469454.9 | M9: 7.3800513 | N9: =IF(ISNUMBER(L9/D9*100),L9/D9*100,0) -> 38.752096
A10: Distrito Central | B10: 286596.46 | C10: 9.6214758 | D10: 266086.61 | E10: 9.6373582 | F10: 20509.856 | G10: 9.421624 | H10: =F10/B10*100 -> 7.1563536 | I10: 23211.848 | J10: 10.632962 | K10: =IF(ISNUMBER(I10/D10*100),I10/D10*100,0) -> 8.7234186 | L10: 90950.523 | M10: 7.8338836 | N10: =IF(ISNUMBER(L10/D10*100),L10/D10*100,0) -> 34.180797
A11: San Pedro Sula | B11: 166359.3 | C11: 8.9737793 | D11: 162024.71 | E11: 9.0363449 | F11: 4334.594 | G11: 6.7317073 | H11: =F11/B11*100 -> 2.6055616 | I11: 4641.1872 | J11: 8.6856492 | K11: =IF(ISNUMBER(I11/D11*100),I11/D11*100,0) -> 2.8644935 | L11: 67566.806 | M11: 8.2503249 | N11: =IF(ISNUMBER(L11/D11*100),L11/D11*100,0) -> 41.701545
A12: Resto urbano | B12: 821769.01 | C12: 7.6959896 | D12: 783319.68 | E12: 7.6576896 | F12: 38449.336 | G12: 8.4496999 | H12: =F12/B12*100 -> 4.6788496 | I12: 38434.978 | J12: 7.4516731 | K12: =IF(ISNUMBER(I12/D12*100),I12/D12*100,0) -> 4.9066785 | L12: 310937.57 | M12: 7.0486269 | N12: =IF(ISNUMBER(L12/D12*100),L12/D12*100,0) -> 39.69485
A13: Rural | B13: 1072920.9 | C13: 5.9687572 | D13: 1033767.5 | E13: 5.9430295 | F13: 39153.436 | G13: 6.5858608 | H13: =F13/B13*100 -> 3.6492379 | I13: 95244.385 | J13: 5.3822905 | K13: =IF(ISNUMBER(I13/D13*100),I13/D13*100,0) -> 9.2133279 | L13: 325774.81 | M13: 6.0034889 | N13: =IF(ISNUMBER(L13/D13*100),L13/D13*100,0) -> 31.513355
A15: Nivel Educativo /1
A16: Sin Nivel | B16: 215592.69 | C16: 0 | D16: 211628.5 | E16: 0 | F16: 3964.1916 | G16: 0 | H16: =F16/B16*100 -> 1.8387412 | I16: 19948.263 | J16: 0 | K16: =IF(ISNUMBER(I16/D16*100),I16/D16*100,0) -> 9.426076 | L16: 69889.879 | M16: 0 | N16: =IF(ISNUMBER(L16/D16*100),L16/D16*100,0) -> 33.024795
A17: Básica (1-3) | B17: 300378.84 | C17: 2.3529545 | D17: 290098.65 | E17: 2.3449507 | F17: 10280.185 | G17: 2.5788136 | H17: =F17/B17*100 -> 3.4224065 | I17: 29959.359 | J17: 2.3540315 | K17: =IF(ISNUMBER(I17/D17*100),I17/D17*100,0) -> 10.3273 | L17: 93794.799 | M17: 2.3992276 | N17: =IF(ISNUMBER(L17/D17*100),L17/D17*100,0) -> 32.332035
A18: Básica (4-6) | B18: 833013.15 | C18: 5.7084329 | D18: 799993.48 | E18: 5.7066124 | F18: 33019.667 | G18: 5.7525413 | H18: =F18/B18*100 -> 3.9638831 | I18: 53234.092 | J18: 5.6717412 | K18: =IF(ISNUMBER(I18/D18*100),I18/D18*100,0) -> 6.6543158 | L18: 311313.44 | M18: 5.6917 | N18: =IF(ISNUMBER(L18/D18*100),L18/D18*100,0) -> 38.914497
A19: Básica (7-9) | B19: 309012.92 | C19: 8.4620387 | D19: 295229.19 | E19: 8.4587638 | F19: 13783.735 | G19: 8.532182 | H19: =F19/B19*100 -> 4.460569 | I19: 17811.586 | J19: 8.3868026 | K19: =IF(ISNUMBER(I19/D19*100),I19/D19*100,0) -> 6.0331387 | L19: 129042.62 | M19: 8.4907932 | N19: =IF(ISNUMBER(L19/D19*100),L19/D19*100,0) -> 43.709304
A20: Media | B20: 441427.76 | C20: 8.5968793 | D20: 412888.18 | E20: 8.5946221 | F20: 28539.583 | G20: 8.6295354 | H20: =F20/B20*100 -> 6.4652895 | I20: 25304.955 | J20: 8.3663894 | K20: =IF(ISNUMBER(I20/D20*100),I20/D20*100,0) -> 6.1287672 | L20: 145666.07 | M20: 8.5890148 | N20: =IF(ISNUMBER(L20/D20*100),L20/D20*100,0) -> 35.279787
A21: Superior | B21: 222134.62 | C21: 15.758038 | D21: 210096.12 | E21: 15.762444 | F21: 12038.492 | G21: 15.681735 | H21: =F21/B21*100 -> 5.4194579 | I21: 14191.226 | J21: 15.680171 | K21: =IF(ISNUMBER(I21/D21*100),I21/D21*100,0) -> 6.754635 | L21: 39262.788 | M21: 14.623424 | N21: =IF(ISNUMBER(L21/D21*100),L21/D21*100,0) -> 18.688012
A22: No Sabe/No Responde | B22: 26085.684 | C22: 0 | D22: 25264.316 | E22: 0 | F22: 821.36861 | G22: 0 | H22: =F22/B22*100 -> 3.1487332 | I22: 1082.916 | J22: 0 | K22: =IF(ISNUMBER(I22/D22*100),I22/D22*100,0) -> 4.2863458 | L22: 6260.1123 | M22: 0 | N22: =IF(ISNUMBER(L22/D22*100),L22/D22*100,0) -> 24.778475
A24: Rango de Edad
A25: De 15 a 18 años | B25: 171882.57 | C25: 6.4553378 | D25: 161120.05 | E25: 6.4201228 | F25: 10762.516 | G25: 6.9668401 | H25: =F25/B25*100 -> 6.2615521 | I25: 14423.744 | J25: 6.6229759 | K25: =IF(ISNUMBER(I25/D25*100),I25/D25*100,0) -> 8.9521718 | L25: 65778.218 | M25: 6.3181101 | N25: =IF(ISNUMBER(L25/D25*100),L25/D25*100,0) -> 40.825595
A26: De 19 a 24 años | B26: 336318.72 | C26: 7.6994056 | D26: 307858.41 | E26: 7.6557946 | F26: 28460.311 | G26: 8.1580494 | H26: =F26/B26*100 -> 8.4623035 | I26: 23317.264 | J26: 7.0856463 | K26: =IF(ISNUMBER(I26/D26*100),I26/D26*100,0) -> 7.5740221 | L26: 133390.65 | M26: 7.5236904 | N26: =IF(ISNUMBER(L26/D26*100),L26/D26*100,0) -> 43.32857
A27: De 25 a 29 años | B27: 296860.28 | C27: 8.2125143 | D27: 285499.51 | E27: 8.212364 | F27: 11360.771 | G27: 8.2167678 | H27: =F27/B27*100 -> 3.8269759 | I27: 18150.349 | J27: 7.9698968 | K27: =IF(ISNUMBER(I27/D27*100),I27/D27*100,0) -> 6.357401 | L27: 119702.77 | M27: 7.9969647 | N27: =IF(ISNUMBER(L27/D27*100),L27/D27*100,0) -> 41.927487
A28: De 30 a 35 años | B28: 301132.69 | C28: 8.4332339 | D28: 287557.83 | E28: 8.434658 | F28: 13574.861 | G28: 8.4038922 | H28: =F28/B28*100 -> 4.5079332 | I28: 20168.916 | J28: 7.9114289 | K28: =IF(ISNUMBER(I28/D28*100),I28/D28*100,0) -> 7.0138644 | L28: 102786.53 | M28: 7.6500055 | N28: =IF(ISNUMBER(L28/D28*100),L28/D28*100,0) -> 35.744645
A29: De 36 a 44 años | B29: 417664.49 | C29: 7.0732394 | D29: 404201.61 | E29: 7.0352853 | F29: 13462.873 | G29: 8.1111865 | H29: =F29/B29*100 -> 3.2233703 | I29: 33306.426 | J29: 6.958206 | K29: =IF(ISNUMBER(I29/D29*100),I29/D29*100,0) -> 8.2400526 | L29: 138522.01 | M29: 6.5758481 | N29: =IF(ISNUMBER(L29/D29*100),L29/D29*100,0) -> 34.270524
A30: De 45 a 59 años | B30: 521392.94 | C30: 6.7515014 | D30: 505873.39 | E30: 6.7415279 | F30: 15519.549 | G30: 7.039031 | H30: =F30/B30*100 -> 2.9765553 | I30: 36075.868 | J30: 5.2888774 | K30: =IF(ISNUMBER(I30/D30*100),I30/D30*100,0) -> 7.1314026 | L30: 156241.64 | M30: 5.9617834 | N30: =IF(ISNUMBER(L30/D30*100),L30/D30*100,0) -> 30.885522
A31: De 60 años y más | B31: 302393.98 | C31: 6.2168353 | D31: 293087.64 | E31: 6.1491383 | F31: 9306.3406 | G31: 8.0562041 | H31: =F31/B31*100 -> 3.0775549 | I31: 16089.832 | J31: 6.4579348 | K31: =IF(ISNUMBER(I31/D31*100),I31/D31*100,0) -> 5.4897683 | L31: 78807.898 | M31: 4.8068542 | N31: =IF(ISNUMBER(L31/D31*100),L31/D31*100,0) -> 26.888851
A33: ='C01'!$A$34 -> Fuente: Instituto Nacional de Estadística (INE). LXXXI Encuesta Permanente de Hogares de Propósitos Múltiples, Junio 2024.
A34: AEP: Años de Estudio Promedio
A35: TD: Tasa de Desocupación
A36: TST: Tasa de subocupación por Insuficiencia de Tiempo de Trabajo.
A37: TSI: Tasa de Subocupación Por Insuficiencia De Ingresos
A38: /1 Nivel Educativo: La suma de básica (1-3), básica (4-6) y básica (7-9) es equivalente a Nivel Educativo Primaria.
A42: =A1 -> Cuadro No. 2. Fuerza de Trabajo (PEA) en condición de empleo, según dominio, Nivel educativo, Rangos de edad, rama de actividad y ocupación y ocupación
A43: Hombres
A44: ....... Continuación
A45: =A3 -> Categorías | B45: Fuerza de Trabajo | D45: Ocupados | F45: Desocupados | I45: Subocupados por Insuficiencia de Tiempo de Trabajo. | L45: Subocupados Por Insuficiencia De Ingresos
B46: =B4 -> No. | C46: =C4 -> AEP | D46: =D4 -> No. | E46: =E4 -> AEP | F46: =F4 -> No. | G46: =G4 -> AEP | H46: TD | I46: =I4 -> No. | J46: =J4 -> AEP | K46: =K4 -> TST | L46: =L4 -> No. | M46: =M4 -> AEP | N46: =N4 -> TSI
A48: =A6 -> Total Nacional | B48: =B6 -> 2347645.7 | C48: =C6 -> 7.292724 | D48: =D6 -> 2245198.4 | E48: =E6 -> 7.2643629 | F48: =F6 -> 102447.22 | G48: =G6 -> 7.8754629 | H48: =H6 -> 4.3638281 | ... N48: =N6 -> 35.419128
A50: Rama de Actividad
...

Sheet C03
A1: Cuadro No. 3. Fuerza de Trabajo (PEA) en condición de empleo, según dominio, Nivel educativo, Rangos de edad, rama de actividad y ocupación
A2: Mujeres
A3: Categorías | B3: Fuerza de Trabajo | D3: Ocupados | F3: Desocupados | I3: Subocupados por Insuficiencia de Tiempo de Trabajo. | L3: Subocupados Por Insuficiencia De Ingresos
B4: No. | C4: AEP | D4: No. | E4: AEP | F4: No. | G4: AEP | H4: TD | I4: No. | J4: AEP | K4: TST | L4: No. | M4: AEP | N4: TSI
A6: Total Nacional | B6: 1583298.2 | C6: 8.4620343 | D6: 1479772.1 | E6: 8.3922228 | F6: 103526.16 | G6: 9.4360617 | H6: =F6/B6*100 -> 6.5386392 | I6: 156282.38 | J6: 7.7428559 | K6: =IF(ISNUMBER(I6/D6*100),I6/D6*100,0) -> 10.561247 | L6: 500407.17 | M6: 7.3417769 | N6: =IF(ISNUMBER(L6/D6*100),L6/D6*100,0) -> 33.816503
A8: Dominio
A9: Urbano | B9: 1085118.2 | C9: 9.203009 | D9: 1014144.1 | E9: 9.1278633 | F9: 70974.053 | G9: 10.264938 | H9: =F9/B9*100 -> 6.5406751 | I9: 97769.6 | J9: 8.3838136 | K9: =IF(ISNUMBER(I9/D9*100),I9/D9*100,0) -> 9.6406023 | L9: 335386.38 | M9: 7.7489554 | N9: =IF(ISNUMBER(L9/D9*100),L9/D9*100,0) -> 33.070881
A10: Distrito Central | B10: 253630.52 | C10: 10.392548 | D10: 232508.51 | E10: 10.316961 | F10: 21122.014 | G10: 11.199917 | H10: =F10/B10*100 -> 8.3278678 | I10: 30213.279 | J10: 9.2037498 | K10: =IF(ISNUMBER(I10/D10*100),I10/D10*100,0) -> 12.994483 | L10: 69999.462 | M10: 8.0767704 | N10: =IF(ISNUMBER(L10/D10*100),L10/D10*100,0) -> 30.106194
A11: San Pedro Sula | B11: 142023.65 | C11: 9.3283857 | D11: 133005.58 | E11: 9.2513754 | F11: 9018.07 | G11: 10.427902 | H11: =F11/B11*100 -> 6.3496959 | I11: 9070.9309 | J11: 8.5011655 | K11: =IF(ISNUMBER(I11/D11*100),I11/D11*100,0) -> 6.8199625 | L11: 42989.507 | M11: 7.7857848 | N11: =IF(ISNUMBER(L11/D11*100),L11/D11*100,0) -> 32.321581
A12: Resto urbano | B12: 689463.98 | C12: 8.7325888 | D12: 648630.01 | E12: 8.6707622 | F12: 40833.969 | G12: 9.7198816 | H12: =F12/B12*100 -> 5.9225674 | I12: 58485.39 | J12: 7.9483249 | K12: =IF(ISNUMBER(I12/D12*100),I12/D12*100,0) -> 9.0167567 | L12: 222397.42 | M12: 7.6364167 | N12: =IF(ISNUMBER(L12/D12*100),L12/D12*100,0) -> 34.287253
A13: Rural | B13: 498180.09 | C13: 6.7740349 | D13: 465627.99 | E13: 6.7116989 | F13: 32552.107 | G13: 7.619256 | H13: =F13/B13*100 -> 6.5342046 | I13: 58512.78 | J13: 6.5819718 | K13: =IF(ISNUMBER(I13/D13*100),I13/D13*100,0) -> 12.566422 | L13: 165020.78 | M13: 6.4880189 | N13: =IF(ISNUMBER(L13/D13*100),L13/D13*100,0) -> 35.440477
A15: Nivel Educativo /1
A16: Sin Nivel | B16: 76059.405 | C16: 0 | D16: 73219.337 | E16: 0 | F16: 2840.0689 | G16: 0 | H16: =F16/B16*100 -> 3.734014 | I16: 9832.9033 | J16: 0 | K16: =IF(ISNUMBER(I16/D16*100),I16/D16*100,0) -> 13.42938 | L16: 23224.477 | M16: 0 | N16: =IF(ISNUMBER(L16/D16*100),L16/D16*100,0) -> 31.719048
A17: Básica (1-3) | B17: 132494.21 | C17: 2.3213078 | D17: 128842.59 | E17: 2.3139266 | F17: 3651.6277 | G17: 2.5817448 | H17: =F17/B17*100 -> 2.7560658 | I17: 10707.231 | J17: 2.2906261 | K17: =IF(ISNUMBER(I17/D17*100),I17/D17*100,0) -> 8.3103201 | L17: 45647.141 | M17: 2.2936475 | N17: =IF(ISNUMBER(L17/D17*100),L17/D17*100,0) -> 35.428613
A18: Básica (4-6) | B18: 461148.83 | C18: 5.7043756 | D18: 442023.99 | E18: 5.7025753 | F18: 19124.838 | G18: 5.7459845 | H18: =F18/B18*100 -> 4.147216 | I18: 54720.389 | J18: 5.7140103 | K18: =IF(ISNUMBER(I18/D18*100),I18/D18*100,0) -> 12.379506 | L18: 174736.37 | M18: 5.6655759 | N18: =IF(ISNUMBER(L18/D18*100),L18/D18*100,0) -> 39.530969
A19: Básica (7-9) | B19: 198907.56 | C19: 8.4418707 | D19: 182816.83 | E19: 8.440543 | F19: 16090.731 | G19: 8.4569549 | H19: =F19/B19*100 -> 8.0895522 | I19: 23644.941 | J19: 8.3559038 | K19: =IF(ISNUMBER(I19/D19*100),I19/D19*100,0) -> 12.933679 | L19: 75100.461 | M19: 8.484527 | N19: =IF(ISNUMBER(L19/D19*100),L19/D19*100,0) -> 41.079622
A20: Media | B20: 431460.66 | C20: 8.7250603 | D20: 393542.14 | E20: 8.7355727 | F20: 37918.515 | G20: 8.6157283 | H20: =F20/B20*100 -> 8.7884061 | I20: 41918.593 | J20: 8.6710725 | K20: =IF(ISNUMBER(I20/D20*100),I20/D20*100,0) -> 10.651615 | L20: 145281.86 | M20: 8.7296966 | N20: =IF(ISNUMBER(L20/D20*100),L20/D20*100,0) -> 36.916469
A21: Superior | B21: 272472.52 | C21: 15.721051 | D21: 249101.99 | E21: 15.739292 | F21: 23370.529 | G21: 15.526824 | H21: =F21/B21*100 -> 8.5772059 | I21: 14650.221 | J21: 15.660313 | K21: =IF(ISNUMBER(I21/D21*100),I21/D21*100,0) -> 5.8812139 | L21: 31300.861 | M21: 14.906851 | N21: =IF(ISNUMBER(L21/D21*100),L21/D21*100,0) -> 12.56548
A22: No Sabe/No Responde | B22: 10755.055 | C22: 0 | D22: 10225.206 | E22: 0 | F22: 529.84956 | G22: 0 | H22: =F22/B22*100 -> 4.9265164 | I22: 808.10175 | J22: 0 | K22: =IF(ISNUMBER(I22/D22*100),I22/D22*100,0) -> 7.9030368 | L22: 5115.9914 | M22: 0 | N22: =IF(ISNUMBER(L22/D22*100),L22/D22*100,0) -> 50.03314
A24: Rango de Edad
A25: De 15 a 18 años | B25: 67392.524 | C25: 7.1387032 | D25: 59609.006 | E25: 7.0626883 | F25: 7783.5184 | G25: 7.7547685 | H25: =F25/B25*100 -> 11.549528 | I25: 4004.8741 | J25: 6.9271038 | K25: =IF(ISNUMBER(I25/D25*100),I25/D25*100,0) -> 6.7185721 | L25: 23363.555 | M25: 6.4536471 | N25: =IF(ISNUMBER(L25/D25*100),L25/D25*100,0) -> 39.194673
A26: De 19 a 24 años | B26: 221908.91 | C26: 9.1220851 | D26: 191815.21 | E26: 9.0127457 | F26: 30093.703 | G26: 9.8121126 | H26: =F26/B26*100 -> 13.561286 | I26: 18465.972 | J26: 8.2019992 | K26: =IF(ISNUMBER(I26/D26*100),I26/D26*100,0) -> 9.6269591 | L26: 90872.829 | M26: 8.6782281 | N26: =IF(ISNUMBER(L26/D26*100),L26/D26*100,0) -> 47.375195
A27: De 25 a 29 años | B27: 210739.84 | C27: 9.6875441 | D27: 188182.82 | E27: 9.5735924 | F27: 22557.022 | G27: 10.619821 | H27: =F27/B27*100 -> 10.703729 | I27: 25126.396 | J27: 9.0127947 | K27: =IF(ISNUMBER(I27/D27*100),I27/D27*100,0) -> 13.35212 | L27: 65057.888 | M27: 8.4341104 | N27: =IF(ISNUMBER(L27/D27*100),L27/D27*100,0) -> 34.571641
A28: De 30 a 35 años | B28: 236501.39 | C28: 9.388594 | D28: 222162.86 | E28: 9.4058634 | F28: 14338.526 | G28: 9.1294253 | H28: =F28/B28*100 -> 6.0627661 | I28: 20326.322 | J28: 8.8339113 | K28: =IF(ISNUMBER(I28/D28*100),I28/D28*100,0) -> 9.1492892 | L28: 76800.873 | M28: 7.8233649 | N28: =IF(ISNUMBER(L28/D28*100),L28/D28*100,0) -> 34.569627
A29: De 36 a 44 años | B29: 314274.8 | C29: 8.3919823 | D29: 298896.83 | E29: 8.3312879 | F29: 15377.973 | G29: 9.565019 | H29: =F29/B29*100 -> 4.8931613 | I29: 36249.016 | J29: 7.2046112 | K29: =IF(ISNUMBER(I29/D29*100),I29/D29*100,0) -> 12.127601 | L29: 94953.58 | M29: 7.0722563 | N29: =IF(ISNUMBER(L29/D29*100),L29/D29*100,0) -> 31.768012
A30: De 45 a 59 años | B30: 382962.72 | C30: 7.8635246 | D30: 370655.11 | E30: 7.8892456 | F30: 12307.615 | G30: 7.0153045 | H30: =F30/B30*100 -> 3.2137893 | I30: 44363.213 | J30: 6.8918761 | K30: =IF(ISNUMBER(I30/D30*100),I30/D30*100,0) -> 11.968866 | L30: 101703.45 | M30: 6.2014913 | N30: =IF(ISNUMBER(L30/D30*100),L30/D30*100,0) -> 27.438837
A31: De 60 años y más | B31: 149518.06 | C31: 6.1004535 | D31: 148450.26 | E31: 6.0595069 | F31: 1067.803 | G31: 10.831721 | H31: =F31/B31*100 -> 0.71416319 | I31: 7746.5863 | J31: 7.4617568 | K31: =IF(ISNUMBER(I31/D31*100),I31/D31*100,0) -> 5.2183043 | L31: 47654.991 | M31: 5.395272 | N31: =IF(ISNUMBER(L31/D31*100),L31/D31*100,0) -> 32.101655
A33: ='C01'!$A$34 -> Fuente: Instituto Nacional de Estadística (INE). LXXXI Encuesta Permanente de Hogares de Propósitos Múltiples, Junio 2024.
A34: AEP: Años de Estudio Promedio
A35: TD: Tasa de Desocupación
A36: TST: Tasa de subocupación por Insuficiencia de Tiempo de Trabajo.
A37: TSI: Tasa de Subocupación Por Insuficiencia De Ingresos
A38: =+'C01'!A39 -> /1 Nivel Educativo: La suma de básica (1-3), básica (4-6) y básica (7-9) es equivalente a Nivel Educativo Primaria.
A40: =A1 -> Cuadro No. 3. Fuerza de Trabajo (PEA) en condición de empleo, según dominio, Nivel educativo, Rangos de edad, rama de actividad y ocupación
A41: =A2 -> Mujeres
A42: ....... Continuación
A43: =A3 -> Categorías | B43: Fuerza de Trabajo | D43: Ocupados | F43: Desocupados | I43: Subocupados por Insuficiencia de Tiempo de Trabajo. | L43: Subocupados Por Insuficiencia De Ingresos
B44: =B4 -> No. | C44: =C4 -> AEP | D44: =D4 -> No. | E44: =E4 -> AEP | F44: =F4 -> No. | G44: =G4 -> AEP | H44: =H4 -> TD | I44: =I4 -> No. | ... N44: =N4 -> TSI
A46: =A6 -> Total Nacional | B46: =B6 -> 1583298.2 | C46: =C6 -> 8.4620343 | D46: =D6 -> 1479772.1 | E46: =E6 -> 8.3922228 | F46: =F6 -> 103526.16 | G46: =G6 -> 9.4360617 | H46: =H6 -> 6.5386392 | ... N46: =N6 -> 33.816503
A48: Rama de Actividad
...

Sheet C04
A1: Cuadro No. 4. Población con problemas de empleo y Años de Estudio Promedio (AEP), según dominio, Rangos de edad, rama de actividad y ocupación
A3: Categorías | B3: Total | C3: Desocupados | F3: Subocupados por Insuficiencia de Tiempo de Trabajo. | I3: Subocupados Por Insuficiencia De Ingresos | L3: Buscador no disponible | O3: Disponible no buscador
C4: No. | D4: % 2/ | E4: AEP | F4: No. | G4: % 2/ | H4: AEP | I4: No. | J4: % 2/ | K4: AEP | L4: No. | M4: % 2/ | N4: AEP | O4: No. | P4: % 2/ | Q4: AEP
A6: Total Nacional | B6: =SUM(C6,F6,I6,L6,O6) -> 2026306.4 | C6: 205973.38 | D6: =IF(ISNUMBER(C6/$B6*100),C6/$B6*100,0) -> 10.164967 | E6: 8.6650437 | F6: 317814.78 | G6: =IF(ISNUMBER(F6/$B6*100),F6/$B6*100,0) -> 15.684438 | H6: 7.2822072 | I6: 1295636.9 | J6: =IF(ISNUMBER(I6/$B6*100),I6/$B6*100,0) -> 63.940817 | K6: 7.0381791 | L6: 26657.878 | M6: =IF(ISNUMBER(L6/$B6*100),L6/$B6*100,0) -> 1.3155897 | N6: 7.5690119 | O6: 180223.49 | P6: =IF(ISNUMBER(O6/$B6*100),O6/$B6*100,0) -> 8.8941873 | Q6: 6.6725771
A8: Dominio
A9: Urbano | B9: =SUM(C9,F9,I9,L9,O9) -> 1191184.1 | C9: 134267.84 | D9: =IF(ISNUMBER(C9/$B7*100),C9/$B7*100,0) -> 0 | E9: 9.5039783 | F9: 164057.61 | G9: =IF(ISNUMBER(F9/$B7*100),F9/$B7*100,0) -> 0 | H9: 8.5440317 | I9: 804841.29 | J9: =IF(ISNUMBER(I9/$B7*100),I9/$B7*100,0) -> 0 | K9: 7.5358597 | L9: 18449.415 | M9: =IF(ISNUMBER(L9/$B7*100),L9/$B7*100,0) -> 0 | N9: 8.4094819 | O9: 69567.962 | P9: =IF(ISNUMBER(O9/$B7*100),O9/$B7*100,0) -> 0 | Q9: 7.6616838
A10: Distrito Central | B10: =SUM(C10,F10,I10,L10,O10) -> 280280.89 | C10: 41631.871 | D10: =IF(ISNUMBER(C10/$B9*100),C10/$B9*100,0) -> 3.4949988 | E10: 10.329046 | F10: 53425.127 | G10: =IF(ISNUMBER(F10/$B9*100),F10/$B9*100,0) -> 4.4850436 | H10: 9.841311 | I10: 160949.98 | J10: =IF(ISNUMBER(I10/$B9*100),I10/$B9*100,0) -> 13.511764 | K10: 7.9416942 | L10: 3562.3917 | M10: =IF(ISNUMBER(L10/$B9*100),L10/$B9*100,0) -> 0.29906307 | N10: 11.300481 | O10: 20711.52 | P10: =IF(ISNUMBER(O10/$B9*100),O10/$B9*100,0) -> 1.7387338 | Q10: 9.1413073
A11: San Pedro Sula | B11: =SUM(C11,F11,I11,L11,O11) -> 145805.47 | C11: 13352.664 | D11: =IF(ISNUMBER(C11/$B10*100),C11/$B10*100,0) -> 4.7640293 | E11: 9.2280285 | F11: 13712.118 | G11: =IF(ISNUMBER(F11/$B10*100),F11/$B10*100,0) -> 4.8922771 | H11: 8.5636083 | I11: 110556.31 | J11: =IF(ISNUMBER(I11/$B10*100),I11/$B10*100,0) -> 39.444826 | K11: 8.0699573 | L11: 1492.1878 | M11: =IF(ISNUMBER(L11/$B10*100),L11/$B10*100,0) -> 0.53239011 | N11: 7.1781377 | O11: 6692.1903 | P11: =IF(ISNUMBER(O11/$B10*100),O11/$B10*100,0) -> 2.3876726 | Q11: 8.4139021
A12: Resto urbano | B12: =SUM(C12,F12,I12,L12,O12) -> 765097.75 | C12: 79283.305 | D12: =IF(ISNUMBER(C12/$B11*100),C12/$B11*100,0) -> 54.376083 | E12: 9.1023527 | F12: 96920.368 | G12: =IF(ISNUMBER(F12/$B11*100),F12/$B11*100,0) -> 66.47238 | H12: 7.772454 | I12: 533334.99 | J12: =IF(ISNUMBER(I12/$B11*100),I12/$B11*100,0) -> 365.7853 | K12: 7.2972982 | L12: 13394.836 | M12: =IF(ISNUMBER(L12/$B11*100),L12/$B11*100,0) -> 9.1867852 | N12: 7.8218534 | O12: 42164.252 | P12: =IF(ISNUMBER(O12/$B11*100),O12/$B11*100,0) -> 28.918155 | Q12: 6.7609941
A13: Rural | B13: =SUM(C13,F13,I13,L13,O13) -> 835122.28 | C13: 71705.542 | D13: =IF(ISNUMBER(C13/$B12*100),C13/$B12*100,0) -> 9.3720759 | E13: 7.062554 | F13: 153757.16 | G13: =IF(ISNUMBER(F13/$B12*100),F13/$B12*100,0) -> 20.096408 | H13: 5.8466226 | I13: 490795.59 | J13: =IF(ISNUMBER(I13/$B12*100),I13/$B12*100,0) -> 64.14809 | K13: 6.1731323 | L13: 8208.463 | M13: =IF(ISNUMBER(L13/$B12*100),L13/$B12*100,0) -> 1.0728646 | N13: 5.6985262 | O13: 110655.52 | P13: =IF(ISNUMBER(O13/$B12*100),O13/$B12*100,0) -> 14.462926 | Q13: 5.9883505
A15: Rango de Edad
A16: De 15 a 18 años | B16: =SUM(C16,F16,I16,L16,O16) -> 145792.18 | C16: 18546.035 | D16: =IF(ISNUMBER(C16/$B13*100),C16/$B13*100,0) -> 2.2207568 | E16: 7.2798857 | F16: 18428.618 | G16: =IF(ISNUMBER(F16/$B13*100),F16/$B13*100,0) -> 2.2066969 | H16: 6.6900324 | I16: 89141.773 | J16: =IF(ISNUMBER(I16/$B13*100),I16/$B13*100,0) -> 10.674098 | K16: 6.3525546 | L16: 2440.2852 | M16: =IF(ISNUMBER(L16/$B13*100),L16/$B13*100,0) -> 0.29220693 | N16: 6.7685214 | O16: 17235.466 | P16: =IF(ISNUMBER(O16/$B13*100),O16/$B13*100,0) -> 2.0638254 | Q16: 6.6784102
A17: De 19 a 24 años | B17: =SUM(C17,F17,I17,L17,O17) -> 365742.26 | C17: 58554.013 | D17: =IF(ISNUMBER(C17/$B14*100),C17/$B14*100,0) -> 0 | E17: 9.0138774 | F17: 41783.235 | G17: =IF(ISNUMBER(F17/$B14*100),F17/$B14*100,0) -> 0 | H17: 7.5702347 | I17: 224263.47 | J17: =IF(ISNUMBER(I17/$B14*100),I17/$B14*100,0) -> 0 | K17: 8.0007199 | L17: 10377.317 | M17: =IF(ISNUMBER(L17/$B14*100),L17/$B14*100,0) -> 0 | N17: 8.8468708 | O17: 30764.217 | P17: =IF(ISNUMBER(O17/$B14*100),O17/$B14*100,0) -> 0 | Q17: 7.8053546
A18: De 25 a 29 años | B18: =SUM(C18,F18,I18,L18,O18) -> 287704.77 | C18: 33917.793 | D18: =IF(ISNUMBER(C18/$B15*100),C18/$B15*100,0) -> 0 | E18: 9.906112 | F18: 43276.745 | G18: =IF(ISNUMBER(F18/$B15*100),F18/$B15*100,0) -> 0 | H18: 8.5772947 | I18: 184760.66 | J18: =IF(ISNUMBER(I18/$B15*100),I18/$B15*100,0) -> 0 | K18: 8.1513725 | L18: 6480.4189 | M18: =IF(ISNUMBER(L18/$B15*100),L18/$B15*100,0) -> 0 | N18: 7.0717416 | O18: 19269.157 | P18: =IF(ISNUMBER(O18/$B15*100),O18/$B15*100,0) -> 0 | Q18: 6.9289396
A19: De 30 a 35 años | B19: =SUM(C19,F19,I19,L19,O19) -> 269505.08 | C19: 27913.386 | D19: =IF(ISNUMBER(C19/$B16*100),C19/$B16*100,0) -> 19.146011 | E19: 8.7830611 | F19: 40495.239 | G19: =IF(ISNUMBER(F19/$B16*100),F19/$B16*100,0) -> 27.776003 | H19: 8.3753389 | I19: 179587.4 | J19: =IF(ISNUMBER(I19/$B16*100),I19/$B16*100,0) -> 123.18041 | K19: 7.7257258 | L19: 433.1405 | M19: =IF(ISNUMBER(L19/$B16*100),L19/$B16*100,0) -> 0.29709447 | N19: 6 | O19: 21075.918 | P19: =IF(ISNUMBER(O19/$B16*100),O19/$B16*100,0) -> 14.456138 | Q19: 7.017244
A20: De 36 a 44 años | B20: =SUM(C20,F20,I20,L20,O20) -> 364906.14 | C20: 28840.846 | D20: =IF(ISNUMBER(C20/$B17*100),C20/$B17*100,0) -> 7.8855657 | E20: 8.8797343 | F20: 69555.442 | G20: =IF(ISNUMBER(F20/$B17*100),F20/$B17*100,0) -> 19.017611 | H20: 7.0950251 | I20: 233475.59 | J20: =IF(ISNUMBER(I20/$B17*100),I20/$B17*100,0) -> 63.8361 | K20: 6.7853115 | L20: 3116.5806 | M20: =IF(ISNUMBER(L20/$B17*100),L20/$B17*100,0) -> 0.85212483 | N20: 7.2236521 | O20: 29917.679 | P20: =IF(ISNUMBER(O20/$B17*100),O20/$B17*100,0) -> 8.1799896 | Q20: 6.3260424
A21: De 45 a 59 años | B21: =SUM(C21,F21,I21,L21,O21) -> 409326.26 | C21: 27827.164 | D21: =IF(ISNUMBER(C21/$B18*100),C21/$B18*100,0) -> 9.6721247 | E21: 7.029474 | F21: 80439.082 | G21: =IF(ISNUMBER(F21/$B18*100),F21/$B18*100,0) -> 27.958897 | H21: 6.2309283 | I21: 257945.09 | J21: =IF(ISNUMBER(I21/$B18*100),I21/$B18*100,0) -> 89.656173 | K21: 6.0592016 | L21: 2775.1171 | M21: =IF(ISNUMBER(L21/$B18*100),L21/$B18*100,0) -> 0.96457109 | N21: 6.0420501 | O21: 40339.811 | P21: =IF(ISNUMBER(O21/$B18*100),O21/$B18*100,0) -> 14.021252 | Q21: 5.8168057
A22: De 60 años y más | B22: =SUM(C22,F22,I22,L22,O22) -> 183329.71 | C22: 10374.144 | D22: =IF(ISNUMBER(C22/$B19*100),C22/$B19*100,0) -> 3.8493313 | E22: 8.3850619 | F22: 23836.419 | G22: =IF(ISNUMBER(F22/$B19*100),F22/$B19*100,0) -> 8.8445154 | H22: 6.7958054 | I22: 126462.89 | J22: =IF(ISNUMBER(I22/$B19*100),I22/$B19*100,0) -> 46.92412 | K22: 5.0470224 | L22: 1035.0192 | M22: =IF(ISNUMBER(L22/$B19*100),L22/$B19*100,0) -> 0.38404442 | N22: 2 | O22: 21621.239 | P22: =IF(ISNUMBER(O22/$B19*100),O22/$B19*100,0) -> 8.0225718 | Q22: 6.4361177
A24: ='C01'!$A$34 -> Fuente: Instituto Nacional de Estadística (INE). LXXXI Encuesta Permanente de Hogares de Propósitos Múltiples, Junio 2024.
A25: AEP: Años de Estudio Promedio
A26: 2/ Porcentaje por filas
A29: =A1 -> Cuadro No. 4. Población con problemas de empleo y Años de Estudio Promedio (AEP), según dominio, Rangos de edad, rama de actividad y ocupación
A30: ....... Continuación
A31: =A3 -> Categorías | B31: Total | C31: Desocupados | F31: Subocupados por Insuficiencia de Tiempo de Trabajo. | I31: Subocupados Por Insuficiencia De Ingresos | L31: =L3 -> Buscador no disponible | O31: =O3 -> Disponible no buscador
C32: No. | D32: % 2/ | E32: AEP | F32: No. | G32: % 2/ | H32: AEP | I32: No. | J32: % 2/ | K32: AEP | L32: No. | M32: % 2/ | N32: AEP | O32: No. | P32: % 2/ | Q32: AEP
A34: =A6 -> Total Nacional
A36: Rama de Actividad
A37: Agricultura, ganaderia, silvicultura y pesca | B37: =SUM(C37,F37,I37,L37,O37) -> 278920.78 | C37: 0 | D37: =IF(ISNUMBER(C37/$B37*100),C37/$B37*100,0) -> 0 | E37: 0 | F37: 97654.538 | G37: =IF(ISNUMBER(F37/$B37*100),F37/$B37*100,0) -> 35.011568 | H37: 5.1602822 | I37: 181266.24 | J37: =IF(ISNUMBER(I37/$B37*100),I37/$B37*100,0) -> 64.988432 | K37: 5.6129871 | L37: 0 | M37: =IF(ISNUMBER(L37/$B34*100),L37/$B34*100,0) -> 0 | N37: 0 | O37: 0 | P37: =IF(ISNUMBER(O37/$B34*100),O37/$B34*100,0) -> 0 | Q37: 0
A38: Explotacion de minas y canteras | B38: =SUM(C38,F38,I38,L38,O38) -> 5573.8858 | C38: 0 | D38: =IF(ISNUMBER(C38/$B38*100),C38/$B38*100,0) -> 0 | E38: 0 | F38: 470.97738 | G38: =IF(ISNUMBER(F38/$B38*100),F38/$B38*100,0) -> 8.4497136 | H38: 8 | I38: 5102.9084 | J38: =IF(ISNUMBER(I38/$B38*100),I38/$B38*100,0) -> 91.550286 | K38: 5.9286234 | L38: 0 | M38: =IF(ISNUMBER(L38/$B35*100),L38/$B35*100,0) -> 0 | N38: 0 | O38: 0 | P38: =IF(ISNUMBER(O38/$B38*100),O38/$B38*100,0) -> 0 | Q38: 0
A39: Industria manufacturera | B39: =SUM(C39,F39,I39,L39,O39) -> 243005.27 | C39: 0 | D39: =IF(ISNUMBER(C39/$B39*100),C39/$B39*100,0) -> 0 | E39: 0 | F39: 48763.008 | G39: =IF(ISNUMBER(F39/$B39*100),F39/$B39*100,0) -> 20.066647 | H39: 7.5556332 | I39: 194242.26 | J39: =IF(ISNUMBER(I39/$B39*100),I39/$B39*100,0) -> 79.933353 | K39: 7.2755448 | L39: 0 | M39: =IF(ISNUMBER(L39/$B36*100),L39/$B36*100,0) -> 0 | N39: 0 | O39: 0 | P39: =IF(ISNUMBER(O39/$B39*100),O39/$B39*100,0) -> 0 | Q39: 0
A40: Suministro de electricidad, gas, vapor y aire acondicionado | B40: =SUM(C40,F40,I40,L40,O40) -> 4319.4487 | C40: 0 | D40: =IF(ISNUMBER(C40/$B40*100),C40/$B40*100,0) -> 0 | E40: 0 | F40: 433.1405 | G40: =IF(ISNUMBER(F40/$B40*100),F40/$B40*100,0) -> 10.02768 | H40: 3 | I40: 3886.3082 | J40: =IF(ISNUMBER(I40/$B40*100),I40/$B40*100,0) -> 89.97232 | K40: 9.7675483 | L40: 0 | M40: =IF(ISNUMBER(L40/$B37*100),L40/$B37*100,0) -> 0 | N40: 0 | O40: 0 | P40: =IF(ISNUMBER(O40/$B40*100),O40/$B40*100,0) -> 0 | Q40: 0
A41: Suministro de agua, evacuacion de aguas residuales, gestion de desechos y descontaminacion | B41: =SUM(C41,F41,I41,L41,O41) -> 7058.5573 | C41: 0 | D41: =IF(ISNUMBER(C41/$B41*100),C41/$B41*100,0) -> 0 | E41: 0 | F41: 1965.4236 | G41: =IF(ISNUMBER(F41/$B41*100),F41/$B41*100,0) -> 27.844552 | H41: 7.6666667 | I41: 5093.1337 | J41: =IF(ISNUMBER(I41/$B41*100),I41/$B41*100,0) -> 72.155448 | K41: 7.1418635 | L41: 0 | M41: =IF(ISNUMBER(L41/$B38*100),L41/$B38*100,0) -> 0 | N41: 0 | O41: 0 | P41: =IF(ISNUMBER(O41/$B41*100),O41/$B41*100,0) -> 0 | Q41: 0
A42: Construccion | B42: =SUM(C42,F42,I42,L42,O42) -> 152062 | C42: 0 | D42: =IF(ISNUMBER(C42/$B42*100),C42/$B42*100,0) -> 0 | E42: 0 | F42: 13864.722 | G42: =IF(ISNUMBER(F42/$B42*100),F42/$B42*100,0) -> 9.1178083 | H42: 6.4939718 | I42: 138197.28 | J42: =IF(ISNUMBER(I42/$B42*100),I42/$B42*100,0) -> 90.882192 | K42: 6.1076507 | L42: 0 | M42: =IF(ISNUMBER(L42/$B39*100),L42/$B39*100,0) -> 0 | N42: 0 | O42: 0 | P42: =IF(ISNUMBER(O42/$B42*100),O42/$B42*100,0) -> 0 | Q42: 0
A43: Comercio al por mayor y al por menor, reparacion de vehiculos automotores y motocicletas | B43: =SUM(C43,F43,I43,L43,O43) -> 408262.15 | C43: 0 | D43: =IF(ISNUMBER(C43/$B43*100),C43/$B43*100,0) -> 0 | E43: 0 | F43: 43377.836 | G43: =IF(ISNUMBER(F43/$B43*100),F43/$B43*100,0) -> 10.624996 | H43: 7.4860471 | I43: 364884.31 | J43: =IF(ISNUMBER(I43/$B43*100),I43/$B43*100,0) -> 89.375004 | K43: 7.1339906 | L43: 0 | M43: =IF(ISNUMBER(L43/$B40*100),L43/$B40*100,0) -> 0 | N43: 0 | O43: 0 | P43: =IF(ISNUMBER(O43/$B43*100),O43/$B43*100,0) -> 0 | Q43: 0
A44: Transporte y almacenamiento | B44: =SUM(C44,F44,I44,L44,O44) -> 62547.97 | C44: 0 | D44: =IF(ISNUMBER(C44/$B44*100),C44/$B44*100,0) -> 0 | E44: 0 | F44: 8374.7052 | G44: =IF(ISNUMBER(F44/$B44*100),F44/$B44*100,0) -> 13.389252 | H44: 10.966383 | I44: 54173.265 | J44: =IF(ISNUMBER(I44/$B44*100),I44/$B44*100,0) -> 86.610748 | K44: 6.7081614 | L44: 0 | M44: =IF(ISNUMBER(L44/$B41*100),L44/$B41*100,0) -> 0 | N44: 0 | O44: 0 | P44: =IF(ISNUMBER(O44/$B44*100),O44/$B44*100,0) -> 0 | Q44: 0
A45: Actividades de alojamiento y de servicios de comida | B45: =SUM(C45,F45,I45,L45,O45) -> 99849.387 | C45: 0 | D45: =IF(ISNUMBER(C45/$B45*100),C45/$B45*100,0) -> 0 | E45: 0 | F45: 20401.778 | G45: =IF(ISNUMBER(F45/$B45*100),F45/$B45*100,0) -> 20.432552 | H45: 7.292284 | I45: 79447.609 | J45: =IF(ISNUMBER(I45/$B45*100),I45/$B45*100,0) -> 79.567448 | K45: 6.9566892 | L45: 0 | M45: =IF(ISNUMBER(L45/$B42*100),L45/$B42*100,0) -> 0 | N45: 0 | O45: 0 | P45: =IF(ISNUMBER(O45/$B45*100),O45/$B45*100,0) -> 0 | Q45: 0
A46: Informacion y comunicaciones | B46: =SUM(C46,F46,I46,L46,O46) -> 6194.5308 | C46: 0 | D46: =IF(ISNUMBER(C46/$B46*100),C46/$B46*100,0) -> 0 | E46: 0 | F46: 795.39609 | G46: =IF(ISNUMBER(F46/$B46*100),F46/$B46*100,0) -> 12.840296 | H46: 10.351351 | I46: 5399.1347 | J46: =IF(ISNUMBER(I46/$B46*100),I46/$B46*100,0) -> 87.159704 | K46: 9.9429407 | L46: 0 | M46: =IF(ISNUMBER(L46/$B43*100),L46/$B43*100,0) -> 0 | N46: 0 | O46: 0 | P46: =IF(ISNUMBER(O46/$B46*100),O46/$B46*100,0) -> 0 | Q46: 0
A47: Actividades finacieras y de seguros | B47: =SUM(C47,F47,I47,L47,O47) -> 10622.823 | C47: 0 | D47: =IF(ISNUMBER(C47/$B47*100),C47/$B47*100,0) -> 0 | E47: 0 | F47: 1483.2081 | G47: =IF(ISNUMBER(F47/$B47*100),F47/$B47*100,0) -> 13.962466 | H47: 13.33362 | I47: 9139.6149 | J47: =IF(ISNUMBER(I47/$B47*100),I47/$B47*100,0) -> 86.037534 | K47: 10.546166 | L47: 0 | M47: =IF(ISNUMBER(L47/$B44*100),L47/$B44*100,0) -> 0 | N47: 0 | O47: 0 | P47: =IF(ISNUMBER(O47/$B47*100),O47/$B47*100,0) -> 0 | Q47: 0
A48: Actividades inmobiliarias | B48: =SUM(C48,F48,I48,L48,O48) -> 3626.0408 | C48: 0 | D48: =IF(ISNUMBER(C48/$B48*100),C48/$B48*100,0) -> 0 | E48: 0 | F48: 1097.3042 | G48: =IF(ISNUMBER(F48/$B48*100),F48/$B48*100,0) -> 30.261771 | H48: 9.6203863 | I48: 2528.7366 | J48: =IF(ISNUMBER(I48/$B48*100),I48/$B48*100,0) -> 69.738229 | K48: 10.860749 | L48: 0 | M48: =IF(ISNUMBER(L48/$B45*100),L48/$B45*100,0) -> 0 | N48: 0 | O48: 0 | P48: =IF(ISNUMBER(O48/$B48*100),O48/$B48*100,0) -> 0 | Q48: 0
A49: Actividades profesionales, cientificas y tecnicas | B49: =SUM(C49,F49,I49,L49,O49) -> 6510.0463 | C49: 0 | D49: =IF(ISNUMBER(C49/$B49*100),C49/$B49*100,0) -> 0 | E49: 0 | F49: 2640.8433 | G49: =IF(ISNUMBER(F49/$B49*100),F49/$B49*100,0) -> 40.565661 | H49: 14.042612 | I49: 3869.203 | J49: =IF(ISNUMBER(I49/$B49*100),I49/$B49*100,0) -> 59.434339 | K49: 12.251309 | L49: 0 | M49: =IF(ISNUMBER(L49/$B46*100),L49/$B46*100,0) -> 0 | N49: 0 | O49: 0 | P49: =IF(ISNUMBER(O49/$B49*100),O49/$B49*100,0) -> 0 | Q49: 0
...

Sheet C05
A1: Cuadro No. 5 Población con problemas de empleo y Años de Estudio Promedio (AEP), según dominio, Rangos de edad, rama de actividad y ocupación
A2: Hombres
A3: Categorías | B3: Total | C3: Desocupados | F3: Subocupados por Insuficiencia de Tiempo de Trabajo. | I3: Subocupados Por Insuficiencia De Ingresos | L3: ='C04'!L3:N3 -> Buscador no disponible | O3: ='C04'!O3:Q3 -> Disponible no buscador
C4: No. | D4: % 2/ | E4: AEP | F4: No. | G4: % 2/ | H4: AEP | I4: No. | J4: % 2/ | K4: AEP | L4: No. | M4: % 2/ | N4: AEP | O4: No. | P4: % 2/ | Q4: AEP
A6: Total Nacional | B6: =SUM(C6,F6,I6,L6,O6) -> 1127350.9 | C6: 102447.22 | D6: =IF(ISNUMBER(C6/$B6*100),C6/$B6*100,0) -> 9.0874297 | E6: 7.8754629 | F6: 161532.4 | G6: =IF(ISNUMBER(F6/$B6*100),F6/$B6*100,0) -> 14.328493 | H6: 6.804706 | I6: 795229.71 | J6: =IF(ISNUMBER(I6/$B6*100),I6/$B6*100,0) -> 70.539678 | K6: 6.8391533 | L6: 10726.862 | M6: =IF(ISNUMBER(L6/$B6*100),L6/$B6*100,0) -> 0.95151046 | N6: 7.1349741 | O6: 57414.729 | P6: =IF(ISNUMBER(O6/$B6*100),O6/$B6*100,0) -> 5.0928888 | Q6: 6.5975872
A8: Dominio
A9: Urbano | B9: =SUM(C9,F9,I9,L9,O9) -> 624921.45 | C9: 63293.786 | D9: =IF(ISNUMBER(C9/$B9*100),C9/$B9*100,0) -> 10.128279 | E9: 8.6481893 | F9: 66288.014 | G9: =IF(ISNUMBER(F9/$B9*100),F9/$B9*100,0) -> 10.607415 | H9: 8.8012205 | I9: 469454.9 | J9: =IF(ISNUMBER(I9/$B9*100),I9/$B9*100,0) -> 75.122225 | K9: 7.3800513 | L9: 5870.7487 | M9: =IF(ISNUMBER(L9/$B9*100),L9/$B9*100,0) -> 0.93943785 | N9: 8.4566991 | O9: 20014.002 | P9: =IF(ISNUMBER(O9/$B9*100),O9/$B9*100,0) -> 3.2026428 | Q9: 7.9282179
A10: Distrito Central | B10: =SUM(C10,F10,I10,L10,O10) -> 143155.94 | C10: 20509.856 | D10: =IF(ISNUMBER(C10/$B10*100),C10/$B10*100,0) -> 14.326933 | E10: 9.421624 | F10: 23211.848 | G10: =IF(ISNUMBER(F10/$B10*100),F10/$B10*100,0) -> 16.21438 | H10: 10.632962 | I10: 90950.523 | J10: =IF(ISNUMBER(I10/$B10*100),I10/$B10*100,0) -> 63.532482 | K10: 7.8338836 | L10: 1248.3726 | M10: =IF(ISNUMBER(L10/$B10*100),L10/$B10*100,0) -> 0.8720369 | N10: 11.587946 | O10: 7235.3405 | P10: =IF(ISNUMBER(O10/$B10*100),O10/$B10*100,0) -> 5.0541671 | Q10: 10.25382
A11: San Pedro Sula | B11: =SUM(C11,F11,I11,L11,O11) -> 78382.146 | C11: 4334.594 | D11: =IF(ISNUMBER(C11/$B11*100),C11/$B11*100,0) -> 5.5300782 | E11: 6.7317073 | F11: 4641.1872 | G11: =IF(ISNUMBER(F11/$B11*100),F11/$B11*100,0) -> 5.9212301 | H11: 8.6856492 | I11: 67566.806 | J11: =IF(ISNUMBER(I11/$B11*100),I11/$B11*100,0) -> 86.20178 | K11: 8.2503249 | L11: 253.73233 | M11: =IF(ISNUMBER(L11/$B11*100),L11/$B11*100,0) -> 0.3237119 | N11: 9 | O11: 1585.8271 | P11: =IF(ISNUMBER(O11/$B11*100),O11/$B11*100,0) -> 2.0231994 | Q11: 8.8
A12: Resto urbano | B12: =SUM(C12,F12,I12,L12,O12) -> 403383.37 | C12: 38449.336 | D12: =IF(ISNUMBER(C12/$B12*100),C12/$B12*100,0) -> 9.5317109 | E12: 8.4496999 | F12: 38434.978 | G12: =IF(ISNUMBER(F12/$B12*100),F12/$B12*100,0) -> 9.5281515 | H12: 7.4516731 | I12: 310937.57 | J12: =IF(ISNUMBER(I12/$B12*100),I12/$B12*100,0) -> 77.082399 | K12: 7.0486269 | L12: 4368.6437 | M12: =IF(ISNUMBER(L12/$B12*100),L12/$B12*100,0) -> 1.0830005 | N12: 7.3199897 | O12: 11192.834 | P12: =IF(ISNUMBER(O12/$B12*100),O12/$B12*100,0) -> 2.7747386 | Q12: 6.3013717
A13: Rural | B13: =SUM(C13,F13,I13,L13,O13) -> 502429.47 | C13: 39153.436 | D13: =IF(ISNUMBER(C13/$B13*100),C13/$B13*100,0) -> 7.7928223 | E13: 6.5858608 | F13: 95244.385 | G13: =IF(ISNUMBER(F13/$B13*100),F13/$B13*100,0) -> 18.956767 | H13: 5.3822905 | I13: 325774.81 | J13: =IF(ISNUMBER(I13/$B13*100),I13/$B13*100,0) -> 64.839909 | K13: 6.0034889 | L13: 4856.1132 | M13: =IF(ISNUMBER(L13/$B13*100),L13/$B13*100,0) -> 0.96652636 | N13: 5.6869312 | O13: 37400.727 | P13: =IF(ISNUMBER(O13/$B13*100),O13/$B13*100,0) -> 7.4439756 | Q13: 5.7904468
A15: Rango de Edad
A16: De 15 a 18 años | B16: =SUM(C16,F16,I16,L16,O16) -> 101195.34 | C16: 10762.516 | D16: =IF(ISNUMBER(C16/$B16*100),C16/$B16*100,0) -> 10.635387 | E16: 6.9668401 | F16: 14423.744 | G16: =IF(ISNUMBER(F16/$B16*100),F16/$B16*100,0) -> 14.253367 | H16: 6.6229759 | I16: 65778.218 | J16: =IF(ISNUMBER(I16/$B16*100),I16/$B16*100,0) -> 65.001233 | K16: 6.3181101 | L16: 2279.0562 | M16: =IF(ISNUMBER(L16/$B16*100),L16/$B16*100,0) -> 2.2521356 | N16: 6.3984271 | O16: 7951.8051 | P16: =IF(ISNUMBER(O16/$B16*100),O16/$B16*100,0) -> 7.8578768 | Q16: 6.1195067
A17: De 19 a 24 años | B17: =SUM(C17,F17,I17,L17,O17) -> 197994.12 | C17: 28460.311 | D17: =IF(ISNUMBER(C17/$B17*100),C17/$B17*100,0) -> 14.374322 | E17: 8.1580494 | F17: 23317.264 | G17: =IF(ISNUMBER(F17/$B17*100),F17/$B17*100,0) -> 11.776746 | H17: 7.0856463 | I17: 133390.65 | J17: =IF(ISNUMBER(I17/$B17*100),I17/$B17*100,0) -> 67.371015 | K17: 7.5236904 | L17: 3650.4144 | M17: =IF(ISNUMBER(L17/$B17*100),L17/$B17*100,0) -> 1.8436984 | N17: 8.7662562 | O17: 9175.4805 | P17: =IF(ISNUMBER(O17/$B17*100),O17/$B17*100,0) -> 4.6342188 | Q17: 8.0746766
A18: De 25 a 29 años | B18: =SUM(C18,F18,I18,L18,O18) -> 154185.26 | C18: 11360.771 | D18: =IF(ISNUMBER(C18/$B18*100),C18/$B18*100,0) -> 7.3682606 | E18: 8.2167678 | F18: 18150.349 | G18: =IF(ISNUMBER(F18/$B18*100),F18/$B18*100,0) -> 11.77178 | H18: 7.9698968 | I18: 119702.77 | J18: =IF(ISNUMBER(I18/$B18*100),I18/$B18*100,0) -> 77.63568 | K18: 7.9969647 | L18: 2331.5283 | M18: =IF(ISNUMBER(L18/$B18*100),L18/$B18*100,0) -> 1.5121604 | N18: 7.1194305 | O18: 2639.8356 | P18: =IF(ISNUMBER(O18/$B18*100),O18/$B18*100,0) -> 1.7121193 | Q18: 6.3479027
A19: De 30 a 35 años | B19: =SUM(C19,F19,I19,L19,O19) -> 142777.25 | C19: 13574.861 | D19: =IF(ISNUMBER(C19/$B19*100),C19/$B19*100,0) -> 9.5077199 | E19: 8.4038922 | F19: 20168.916 | G19: =IF(ISNUMBER(F19/$B19*100),F19/$B19*100,0) -> 14.126142 | H19: 7.9114289 | I19: 102786.53 | J19: =IF(ISNUMBER(I19/$B19*100),I19/$B19*100,0) -> 71.990831 | K19: 7.6500055 | L19: 0 | M19: =IF(ISNUMBER(L19/$B19*100),L19/$B19*100,0) -> 0 | N19: 0 | O19: 6246.9434 | P19: =IF(ISNUMBER(O19/$B19*100),O19/$B19*100,0) -> 4.3753074 | Q19: 7.5347058
A20: De 36 a 44 años | B20: =SUM(C20,F20,I20,L20,O20) -> 190138.67 | C20: 13462.873 | D20: =IF(ISNUMBER(C20/$B20*100),C20/$B20*100,0) -> 7.0805548 | E20: 8.1111865 | F20: 33306.426 | G20: =IF(ISNUMBER(F20/$B20*100),F20/$B20*100,0) -> 17.516913 | H20: 6.958206 | I20: 138522.01 | J20: =IF(ISNUMBER(I20/$B20*100),I20/$B20*100,0) -> 72.853149 | K20: 6.5758481 | L20: 0 | M20: =IF(ISNUMBER(L20/$B20*100),L20/$B20*100,0) -> 0 | N20: 0 | O20: 4847.3629 | P20: =IF(ISNUMBER(O20/$B20*100),O20/$B20*100,0) -> 2.5493829 | Q20: 6.5566893
A21: De 45 a 59 años | B21: =SUM(C21,F21,I21,L21,O21) -> 222130.1 | C21: 15519.549 | D21: =IF(ISNUMBER(C21/$B21*100),C21/$B21*100,0) -> 6.9866936 | E21: 7.039031 | F21: 36075.868 | G21: =IF(ISNUMBER(F21/$B21*100),F21/$B21*100,0) -> 16.240874 | H21: 5.2888774 | I21: 156241.64 | J21: =IF(ISNUMBER(I21/$B21*100),I21/$B21*100,0) -> 70.337898 | K21: 5.9617834 | L21: 1430.8438 | M21: =IF(ISNUMBER(L21/$B21*100),L21/$B21*100,0) -> 0.64414673 | N21: 6.277117 | O21: 12862.194 | P21: =IF(ISNUMBER(O21/$B21*100),O21/$B21*100,0) -> 5.790388 | Q21: 5.4360042
A22: De 60 años y más | B22: =SUM(C22,F22,I22,L22,O22) -> 118930.2 | C22: 9306.3406 | D22: =IF(ISNUMBER(C22/$B22*100),C22/$B22*100,0) -> 7.8250443 | E22: 8.0562041 | F22: 16089.832 | G22: =IF(ISNUMBER(F22/$B22*100),F22/$B22*100,0) -> 13.528803 | H22: 6.4579348 | I22: 78807.898 | J22: =IF(ISNUMBER(I22/$B22*100),I22/$B22*100,0) -> 66.263994 | K22: 4.8068542 | L22: 1035.0192 | M22: =IF(ISNUMBER(L22/$B22*100),L22/$B22*100,0) -> 0.87027455 | N22: 2 | O22: 13691.107 | P22: =IF(ISNUMBER(O22/$B22*100),O22/$B22*100,0) -> 11.511884 | Q22: 6.4840967
A24: ='C01'!$A$34 -> Fuente: Instituto Nacional de Estadística (INE). LXXXI Encuesta Permanente de Hogares de Propósitos Múltiples, Junio 2024.
A25: AEP: Años de Estudio Promedio
A26: 2/ Porcentaje por filas
A28: =A1 -> Cuadro No. 5 Población con problemas de empleo y Años de Estudio Promedio (AEP), según dominio, Rangos de edad, rama de actividad y ocupación
A29: Hombres
A30: ....... Continuación
A31: =A3 -> Categorías | B31: Total | C31: Desocupados | F31: Subocupados por Insuficiencia de Tiempo de Trabajo. | I31: Subocupados Por Insuficiencia De Ingresos | L31: =L3 -> Buscador no disponible | O31: =O3 -> Disponible no buscador
C32: No. | D32: % 2/ | E32: AEP | F32: No. | G32: % 2/ | H32: AEP | I32: No. | J32: % 2/ | K32: AEP | L32: No. | M32: % 2/ | N32: AEP | O32: No. | P32: % 2/ | Q32: AEP
A34: =A6 -> Total Nacional
A36: Rama de Actividad
A37: Agricultura, ganaderia, silvicultura y pesca | B37: =SUM(C37,F37,I37,L37,O37) -> 258760.7 | C37: 0 | D37: =IF(ISNUMBER(C37/$B37*100),C37/$B37*100,0) -> 0 | E37: 0 | F37: 87148.539 | G37: =IF(ISNUMBER(F37/$B37*100),F37/$B37*100,0) -> 33.679202 | H37: 5.0547892 | I37: 171612.16 | J37: =IF(ISNUMBER(I37/$B37*100),I37/$B37*100,0) -> 66.320798 | K37: 5.596752 | L37: 0 | M37: =IF(ISNUMBER(L37/$B37*100),L37/$B37*100,0) -> 0 | N37: 0 | O37: 0 | P37: =IF(ISNUMBER(O37/$B37*100),O37/$B37*100,0) -> 0 | Q37: 0
A38: Explotacion de minas y canteras | B38: =SUM(C38,F38,I38,L38,O38) -> 5573.8858 | C38: 0 | D38: =IF(ISNUMBER(C38/$B38*100),C38/$B38*100,0) -> 0 | E38: 0 | F38: 470.97738 | G38: =IF(ISNUMBER(F38/$B38*100),F38/$B38*100,0) -> 8.4497136 | H38: 8 | I38: 5102.9084 | J38: =IF(ISNUMBER(I38/$B38*100),I38/$B38*100,0) -> 91.550286 | K38: 5.9286234 | L38: 0 | M38: =IF(ISNUMBER(L38/$B38*100),L38/$B38*100,0) -> 0 | N38: 0 | O38: 0 | P38: =IF(ISNUMBER(O38/$B38*100),O38/$B38*100,0) -> 0 | Q38: 0
A39: Industria manufacturera | B39: =SUM(C39,F39,I39,L39,O39) -> 123954.3 | C39: 0 | D39: =IF(ISNUMBER(C39/$B39*100),C39/$B39*100,0) -> 0 | E39: 0 | F39: 10853.572 | G39: =IF(ISNUMBER(F39/$B39*100),F39/$B39*100,0) -> 8.756108 | H39: 8.5127971 | I39: 113100.73 | J39: =IF(ISNUMBER(I39/$B39*100),I39/$B39*100,0) -> 91.243892 | K39: 7.2928423 | L39: 0 | M39: =IF(ISNUMBER(L39/$B39*100),L39/$B39*100,0) -> 0 | N39: 0 | O39: 0 | P39: =IF(ISNUMBER(O39/$B39*100),O39/$B39*100,0) -> 0 | Q39: 0
A40: Suministro de electricidad, gas, vapor y aire acondicionado | B40: =SUM(C40,F40,I40,L40,O40) -> 3241.3924 | C40: 0 | D40: =IF(ISNUMBER(C40/$B40*100),C40/$B40*100,0) -> 0 | E40: 0 | F40: 0 | G40: =IF(ISNUMBER(F40/$B40*100),F40/$B40*100,0) -> 0 | H40: 0 | I40: 3241.3924 | J40: =IF(ISNUMBER(I40/$B40*100),I40/$B40*100,0) -> 100 | K40: 8.859128 | L40: 0 | M40: =IF(ISNUMBER(L40/$B40*100),L40/$B40*100,0) -> 0 | N40: 0 | O40: 0 | P40: =IF(ISNUMBER(O40/$B40*100),O40/$B40*100,0) -> 0 | Q40: 0
A41: Suministro de agua, evacuacion de aguas residuales, gestion de desechos y descontaminacion | B41: =SUM(C41,F41,I41,L41,O41) -> 4747.3172 | C41: 0 | D41: =IF(ISNUMBER(C41/$B41*100),C41/$B41*100,0) -> 0 | E41: 0 | F41: 928.85457 | G41: =IF(ISNUMBER(F41/$B41*100),F41/$B41*100,0) -> 19.565884 | H41: 9 | I41: 3818.4626 | J41: =IF(ISNUMBER(I41/$B41*100),I41/$B41*100,0) -> 80.434116 | K41: 6.5215843 | L41: 0 | M41: =IF(ISNUMBER(L41/$B41*100),L41/$B41*100,0) -> 0 | N41: 0 | O41: 0 | P41: =IF(ISNUMBER(O41/$B41*100),O41/$B41*100,0) -> 0 | Q41: 0
A42: Construccion | B42: =SUM(C42,F42,I42,L42,O42) -> 151267.47 | C42: 0 | D42: =IF(ISNUMBER(C42/$B42*100),C42/$B42*100,0) -> 0 | E42: 0 | F42: 13864.722 | G42: =IF(ISNUMBER(F42/$B42*100),F42/$B42*100,0) -> 9.1656996 | H42: 6.4939718 | I42: 137402.74 | J42: =IF(ISNUMBER(I42/$B42*100),I42/$B42*100,0) -> 90.8343 | K42: 6.0986653 | L42: 0 | M42: =IF(ISNUMBER(L42/$B42*100),L42/$B42*100,0) -> 0 | N42: 0 | O42: 0 | P42: =IF(ISNUMBER(O42/$B42*100),O42/$B42*100,0) -> 0 | Q42: 0
A43: Comercio al por mayor y al por menor, reparacion de vehiculos automotores y motocicletas | B43: =SUM(C43,F43,I43,L43,O43) -> 192418.09 | C43: 0 | D43: =IF(ISNUMBER(C43/$B43*100),C43/$B43*100,0) -> 0 | E43: 0 | F43: 15546.431 | G43: =IF(ISNUMBER(F43/$B43*100),F43/$B43*100,0) -> 8.0795058 | H43: 6.6523335 | I43: 176871.66 | J43: =IF(ISNUMBER(I43/$B43*100),I43/$B43*100,0) -> 91.920494 | K43: 7.132371 | L43: 0 | M43: =IF(ISNUMBER(L43/$B43*100),L43/$B43*100,0) -> 0 | N43: 0 | O43: 0 | P43: =IF(ISNUMBER(O43/$B43*100),O43/$B43*100,0) -> 0 | Q43: 0
A44: Transporte y almacenamiento | B44: =SUM(C44,F44,I44,L44,O44) -> 58651.905 | C44: 0 | D44: =IF(ISNUMBER(C44/$B44*100),C44/$B44*100,0) -> 0 | E44: 0 | F44: 7951.818 | G44: =IF(ISNUMBER(F44/$B44*100),F44/$B44*100,0) -> 13.557646 | H44: 10.671389 | I44: 50700.087 | J44: =IF(ISNUMBER(I44/$B44*100),I44/$B44*100,0) -> 86.442354 | K44: 6.586502 | L44: 0 | M44: =IF(ISNUMBER(L44/$B44*100),L44/$B44*100,0) -> 0 | N44: 0 | O44: 0 | P44: =IF(ISNUMBER(O44/$B44*100),O44/$B44*100,0) -> 0 | Q44: 0
A45: Actividades de alojamiento y de servicios de comida | B45: =SUM(C45,F45,I45,L45,O45) -> 22698.203 | C45: 0 | D45: =IF(ISNUMBER(C45/$B45*100),C45/$B45*100,0) -> 0 | E45: 0 | F45: 2241.7201 | G45: =IF(ISNUMBER(F45/$B45*100),F45/$B45*100,0) -> 9.8762007 | H45: 7.2842359 | I45: 20456.483 | J45: =IF(ISNUMBER(I45/$B45*100),I45/$B45*100,0) -> 90.123799 | K45: 7.3179305 | L45: 0 | M45: =IF(ISNUMBER(L45/$B45*100),L45/$B45*100,0) -> 0 | N45: 0 | O45: 0 | P45: =IF(ISNUMBER(O45/$B45*100),O45/$B45*100,0) -> 0 | Q45: 0
A46: Informacion y comunicaciones | B46: =SUM(C46,F46,I46,L46,O46) -> 5021.9322 | C46: 0 | D46: =IF(ISNUMBER(C46/$B46*100),C46/$B46*100,0) -> 0 | E46: 0 | F46: 795.39609 | G46: =IF(ISNUMBER(F46/$B46*100),F46/$B46*100,0) -> 15.838447 | H46: 10.351351 | I46: 4226.5362 | J46: =IF(ISNUMBER(I46/$B46*100),I46/$B46*100,0) -> 84.161553 | K46: 10.338511 | L46: 0 | M46: =IF(ISNUMBER(L46/$B46*100),L46/$B46*100,0) -> 0 | N46: 0 | O46: 0 | P46: =IF(ISNUMBER(O46/$B46*100),O46/$B46*100,0) -> 0 | Q46: 0
A47: Actividades finacieras y de seguros | B47: =SUM(C47,F47,I47,L47,O47) -> 5476.6144 | C47: 0 | D47: =IF(ISNUMBER(C47/$B47*100),C47/$B47*100,0) -> 0 | E47: 0 | F47: 737.86299 | G47: =IF(ISNUMBER(F47/$B47*100),F47/$B47*100,0) -> 13.472977 | H47: 13.778041 | I47: 4738.7514 | J47: =IF(ISNUMBER(I47/$B47*100),I47/$B47*100,0) -> 86.527023 | K47: 10.869385 | L47: 0 | M47: =IF(ISNUMBER(L47/$B47*100),L47/$B47*100,0) -> 0 | N47: 0 | O47: 0 | P47: =IF(ISNUMBER(O47/$B47*100),O47/$B47*100,0) -> 0 | Q47: 0
...

Sheet C06
A1: Cuadro No. 6. Población con problemas de empleo y Años de Estudio Promedio (AEP), según dominio, Rangos de edad, rama de actividad y ocupación
A2: Mujeres
A3: Categorías | B3: Total | C3: Desocupados | F3: Subocupados por Insuficiencia de Tiempo de Trabajo. | I3: Subocupados Por Insuficiencia De Ingresos | L3: ='C04'!L3:N3 -> Buscador no disponible | O3: ='C04'!O3:Q3 -> Disponible no buscador
C4: No. | D4: % 1/ | E4: AEP | F4: No. | G4: % 1/ | H4: AEP | I4: No. | J4: % 1/ | K4: AEP | L4: No. | M4: % 1/ | N4: AEP | O4: No. | P4: % 1/ | Q4: AEP
A6: Total Nacional/2 | B6: =SUM(C6,F6,I6,L6,O6) -> 898955.48 | C6: 103526.16 | D6: =IF(ISNUMBER(C6/$B6*100),C6/$B6*100,0) -> 11.516272 | E6: 9.4360617 | F6: 156282.38 | G6: =IF(ISNUMBER(F6/$B6*100),F6/$B6*100,0) -> 17.384885 | H6: 7.7428559 | I6: 500407.17 | J6: =IF(ISNUMBER(I6/$B6*100),I6/$B6*100,0) -> 55.6654 | K6: 7.3417769 | L6: 15931.016 | M6: =IF(ISNUMBER(L6/$B6*100),L6/$B6*100,0) -> 1.7721696 | N6: 7.8427949 | O6: 122808.76 | P6: =IF(ISNUMBER(O6/$B6*100),O6/$B6*100,0) -> 13.661273 | Q6: 6.7084254
A8: Dominio
A9: Urbano | B9: =SUM(C9,F9,I9,L9,O9) -> 566262.66 | C9: 70974.053 | D9: =IF(ISNUMBER(C9/$B9*100),C9/$B9*100,0) -> 12.533769 | E9: 10.264938 | F9: 97769.6 | G9: =IF(ISNUMBER(F9/$B9*100),F9/$B9*100,0) -> 17.265768 | H9: 8.3838136 | I9: 335386.38 | J9: =IF(ISNUMBER(I9/$B9*100),I9/$B9*100,0) -> 59.228059 | K9: 7.7489554 | L9: 12578.666 | M9: =IF(ISNUMBER(L9/$B9*100),L9/$B9*100,0) -> 2.2213484 | N9: 8.3899061 | O9: 49553.961 | P9: =IF(ISNUMBER(O9/$B9*100),O9/$B9*100,0) -> 8.7510557 | Q9: 7.5481928
A10: Distrito Central | B10: =SUM(C10,F10,I10,L10,O10) -> 137124.95 | C10: 21122.014 | D10: =IF(ISNUMBER(C10/$B10*100),C10/$B10*100,0) -> 15.40348 | E10: 11.199917 | F10: 30213.279 | G10: =IF(ISNUMBER(F10/$B10*100),F10/$B10*100,0) -> 22.033392 | H10: 9.2037498 | I10: 69999.462 | J10: =IF(ISNUMBER(I10/$B10*100),I10/$B10*100,0) -> 51.047938 | K10: 8.0767704 | L10: 2314.0191 | M10: =IF(ISNUMBER(L10/$B10*100),L10/$B10*100,0) -> 1.6875259 | N10: 11.116022 | O10: 13476.18 | P10: =IF(ISNUMBER(O10/$B10*100),O10/$B10*100,0) -> 9.8276641 | Q10: 8.5440009
A11: San Pedro Sula | B11: =SUM(C11,F11,I11,L11,O11) -> 67423.326 | C11: 9018.07 | D11: =IF(ISNUMBER(C11/$B11*100),C11/$B11*100,0) -> 13.375297 | E11: 10.427902 | F11: 9070.9309 | G11: =IF(ISNUMBER(F11/$B11*100),F11/$B11*100,0) -> 13.453698 | H11: 8.5011655 | I11: 42989.507 | J11: =IF(ISNUMBER(I11/$B11*100),I11/$B11*100,0) -> 63.760584 | K11: 7.7857848 | L11: 1238.4554 | M11: =IF(ISNUMBER(L11/$B11*100),L11/$B11*100,0) -> 1.8368353 | N11: 6.804878 | O11: 5106.3632 | P11: =IF(ISNUMBER(O11/$B11*100),O11/$B11*100,0) -> 7.5735854 | Q11: 8.2939959
A12: Resto urbano | B12: =SUM(C12,F12,I12,L12,O12) -> 361714.38 | C12: 40833.969 | D12: =IF(ISNUMBER(C12/$B12*100),C12/$B12*100,0) -> 11.289009 | E12: 9.7198816 | F12: 58485.39 | G12: =IF(ISNUMBER(F12/$B12*100),F12/$B12*100,0) -> 16.168942 | H12: 7.9483249 | I12: 222397.42 | J12: =IF(ISNUMBER(I12/$B12*100),I12/$B12*100,0) -> 61.484261 | K12: 7.6364167 | L12: 9026.1918 | M12: =IF(ISNUMBER(L12/$B12*100),L12/$B12*100,0) -> 2.495392 | N12: 8.0197987 | O12: 30971.418 | P12: =IF(ISNUMBER(O12/$B12*100),O12/$B12*100,0) -> 8.562396 | Q12: 6.9420076
A13: Rural | B13: =SUM(C13,F13,I13,L13,O13) -> 332692.82 | C13: 32552.107 | D13: =IF(ISNUMBER(C13/$B13*100),C13/$B13*100,0) -> 9.7844333 | E13: 7.619256 | F13: 58512.78 | G13: =IF(ISNUMBER(F13/$B13*100),F13/$B13*100,0) -> 17.58763 | H13: 6.5819718 | I13: 165020.78 | J13: =IF(ISNUMBER(I13/$B13*100),I13/$B13*100,0) -> 49.601546 | K13: 6.4880189 | L13: 3352.3497 | M13: =IF(ISNUMBER(L13/$B13*100),L13/$B13*100,0) -> 1.0076412 | N13: 5.7155865 | O13: 73254.798 | P13: =IF(ISNUMBER(O13/$B13*100),O13/$B13*100,0) -> 22.01875 | Q13: 6.090563
A15: Rango de Edad
A16: De 15 a 18 años | B16: =SUM(C16,F16,I16,L16,O16) -> 44596.837 | C16: 7783.5184 | D16: =IF(ISNUMBER(C16/$B16*100),C16/$B16*100,0) -> 17.453073 | E16: 7.7547685 | F16: 4004.8741 | G16: =IF(ISNUMBER(F16/$B16*100),F16/$B16*100,0) -> 8.9801751 | H16: 6.9271038 | I16: 23363.555 | J16: =IF(ISNUMBER(I16/$B16*100),I16/$B16*100,0) -> 52.388368 | K16: 6.4536471 | L16: 161.22894 | M16: =IF(ISNUMBER(L16/$B16*100),L16/$B16*100,0) -> 0.36152549 | N16: 12 | O16: 9283.6607 | P16: =IF(ISNUMBER(O16/$B16*100),O16/$B16*100,0) -> 20.816859 | Q16: 7.1594874
