Workbook

Sheet Portada

Sheet C01
A1: Cuadro No. 1. Población de 12 a 30 años por condición de trabajo, según dominio , sexo y rango de edad
A3: Categorías | B3: Total | D3: Trabajan | J3: Solo Estudia | L3: Ni Trabaja Ni Estudia
D4: Total | F4: Estudia y Trabaja | H4: Solo Trabaja
B5: No. | C5: % 1/ | D5: No. | E5: % 2/ | F5: No. | G5: % 2/ | H5: No. | I5: % 2/ | J5: No. | K5: % 2/ | L5: No. | M5: % 2/
A7: Total Nacional 2/ | B7: =[1]Sheet1!O7 -> 3012982.7 | C7: =+C9+C10 -> 100 | D7: =+F7+H7 -> 1348514.7 | E7: =+D7/$B7*100 -> 44.756803 | F7: =[1]Sheet1!Q7 -> 172369.58 | G7: =+F7/D7*100 -> 12.78218 | H7: =[1]Sheet1!S7 -> 1176145.2 | I7: =+H7/D7*100 -> 87.21782 | J7: =[1]Sheet1!U7 -> 695980.69 | K7: =+J7/$B7*100 -> 23.099392 | L7: =[1]Sheet1!W7 -> 968487.31 | M7: =+L7/$B7*100 -> 32.143805
A8: Sexo
A9: Hombre | B9: =[1]Sheet1!O8 -> 1516877.4 | C9: =+B9/B7*100 -> 50.344709 | D9: =+F9+H9 -> 884412.79 | E9: =+D9/D7*100 -> 65.584214 | F9: =[1]Sheet1!Q8 -> 93627.296 | G9: =+F9/F7*100 -> 54.317761 | H9: =[1]Sheet1!S8 -> 790785.5 | I9: =+H9/H7*100 -> 67.235366 | J9: =[1]Sheet1!U8 -> 318792.38 | K9: =+J9/J7*100 -> 45.804773 | L9: =[1]Sheet1!W8 -> 313672.22 | M9: =+L9/L7*100 -> 32.387851
A10: Mujer | B10: =[1]Sheet1!O9 -> 1496105.3 | C10: =+B10/B7*100 -> 49.655291 | D10: =+F10+H10 -> 464101.94 | E10: =+D10/D7*100 -> 34.415786 | F10: =[1]Sheet1!Q9 -> 78742.284 | G10: =+F10/F7*100 -> 45.682239 | H10: =[1]Sheet1!S9 -> 385359.66 | I10: =+H10/H7*100 -> 32.764634 | J10: =[1]Sheet1!U9 -> 377188.32 | K10: =+J10/J7*100 -> 54.195227 | L10: =[1]Sheet1!W9 -> 654815.08 | M10: =+L10/L7*100 -> 67.612149
A12: Rango de Edad
A13: De 12 a 14 Años | B13: =[1]Sheet1!O15 -> 491979.96 | C13: =+B13/B7*100 -> 16.328668 | D13: =+F13+H13 -> 79387.082 | E13: =+D13/D7*100 -> 5.8870014 | F13: =[1]Sheet1!Q15 -> 30112.981 | G13: =+F13/F7*100 -> 17.470009 | H13: =[1]Sheet1!S15 -> 49274.1 | I13: =+H13/H7*100 -> 4.1894574 | J13: =[1]Sheet1!U15 -> 288584.68 | K13: =+J13/J7*100 -> 41.464466 | L13: =[1]Sheet1!W15 -> 124008.2 | M13: =+L13/L7*100 -> 12.804318
A14: De 15 a 19 Años | B14: =[1]Sheet1!O16 -> 849202.3 | C14: =+B14/B7*100 -> 28.184772 | D14: =+F14+H14 -> 277986.81 | E14: =+D14/D7*100 -> 20.614295 | F14: =[1]Sheet1!Q16 -> 58937.95 | G14: =+F14/F7*100 -> 34.192779 | H14: =[1]Sheet1!S16 -> 219048.86 | I14: =+H14/H7*100 -> 18.624305 | J14: =[1]Sheet1!U16 -> 303171.05 | K14: =+J14/J7*100 -> 43.560267 | L14: =[1]Sheet1!W16 -> 268044.44 | M14: =+L14/L7*100 -> 27.676609
A15: De 20 a 24 Años | B15: =[1]Sheet1!O17 -> 902636.93 | C15: =+B15/B7*100 -> 29.958251 | D15: =+F15+H15 -> 500473.44 | E15: =+D15/D7*100 -> 37.112938 | F15: =[1]Sheet1!Q17 -> 51695.229 | G15: =+F15/F7*100 -> 29.990924 | H15: =[1]Sheet1!S17 -> 448778.21 | I15: =+H15/H7*100 -> 38.156703 | J15: =[1]Sheet1!U17 -> 83961.937 | K15: =+J15/J7*100 -> 12.063831 | L15: =[1]Sheet1!W17 -> 318201.56 | M15: =+L15/L7*100 -> 32.855522
A16: De 25 a 30 Años | B16: =[1]Sheet1!O18 -> 769163.55 | C16: =+B16/B7*100 -> 25.528309 | D16: =+F16+H16 -> 490667.41 | E16: =+D16/D7*100 -> 36.385765 | F16: =[1]Sheet1!Q18 -> 31623.42 | G16: =+F16/F7*100 -> 18.346288 | H16: =[1]Sheet1!S18 -> 459043.99 | I16: =+H16/H7*100 -> 39.029535 | J16: =[1]Sheet1!U18 -> 20263.025 | K16: =+J16/J7*100 -> 2.9114349 | L16: =[1]Sheet1!W18 -> 258233.11 | M16: =+L16/L7*100 -> 26.663551
A18: Urbano 2/
A19: Sexo | B19: =+B20+B21 -> 1724936.5 | C19: =+C20+C21 -> 100 | D19: =+D20+D21 -> 790291.09 | E19: =+E20+E21 -> 100 | F19: =+F20+F21 -> 120510.43 | G19: =+G20+G21 -> 100 | H19: =+H20+H21 -> 669780.65 | I19: =+I20+I21 -> 100 | ... M19: =+M20+M21 -> 100
A20: Hombre | B20: =[1]Sheet1!O20 -> 858730.02 | C20: =+B20/B19*100 -> 49.783284 | D20: =+F20+H20 -> 467009.91 | E20: =+D20/D19*100 -> 59.093405 | F20: =[1]Sheet1!Q20 -> 58211.294 | G20: =+F20/F19*100 -> 48.303945 | H20: =[1]Sheet1!S20 -> 408798.62 | I20: =+H20/H19*100 -> 61.034701 | J20: =[1]Sheet1!U20 -> 232782.08 | K20: =+J20/J19*100 -> 47.730504 | L20: =[1]Sheet1!W20 -> 158938.03 | M20: =+L20/L19*100 -> 35.561019
A21: Mujer | B21: =[1]Sheet1!O21 -> 866206.46 | C21: =+B21/B19*100 -> 50.216716 | D21: =+F21+H21 -> 323281.17 | E21: =+D21/D19*100 -> 40.906595 | F21: =[1]Sheet1!Q21 -> 62299.14 | G21: =+F21/F19*100 -> 51.696055 | H21: =[1]Sheet1!S21 -> 260982.03 | I21: =+H21/H19*100 -> 38.965299 | J21: =[1]Sheet1!U21 -> 254918.79 | K21: =+J21/J19*100 -> 52.269496 | L21: =[1]Sheet1!W21 -> 288006.49 | M21: =+L21/L19*100 -> 64.438981
A23: Rango de Edad
A24: De 12 a 14 Años | B24: =[1]Sheet1!O27 -> 260511.09 | C24: =+B24/B19*100 -> 15.102648 | D24: =+F24+H24 -> 27949.555 | E24: =+D24/D19*100 -> 3.5366152 | F24: =[1]Sheet1!Q27 -> 13248.219 | G24: =+F24/F19*100 -> 10.99342 | H24: =[1]Sheet1!S27 -> 14701.336 | I24: =+H24/H19*100 -> 2.1949479 | J24: =[1]Sheet1!U27 -> 184866.39 | K24: =+J24/J19*100 -> 37.905692 | L24: =[1]Sheet1!W27 -> 47695.147 | M24: =+L24/L19*100 -> 10.67138
A25: De 15 a 19 Años | B25: =[1]Sheet1!O28 -> 462999.23 | C25: =+B25/B19*100 -> 26.841524 | D25: =+F25+H25 -> 130841.75 | E25: =+D25/D19*100 -> 16.556147 | F25: =[1]Sheet1!Q28 -> 36592.139 | G25: =+F25/F19*100 -> 30.364291 | H25: =[1]Sheet1!S28 -> 94249.612 | I25: =+H25/H19*100 -> 14.071713 | J25: =[1]Sheet1!U28 -> 215052.67 | K25: =+J25/J19*100 -> 44.095198 | L25: =[1]Sheet1!W28 -> 117104.82 | M25: =+L25/L19*100 -> 26.201197
A26: De 20 a 24 Años | B26: =[1]Sheet1!O29 -> 541731.01 | C26: =+B26/B19*100 -> 31.405853 | D26: =+F26+H26 -> 314539.43 | E26: =+D26/D19*100 -> 39.800453 | F26: =[1]Sheet1!Q29 -> 42419.609 | G26: =+F26/F19*100 -> 35.199947 | H26: =[1]Sheet1!S29 -> 272119.82 | I26: =+H26/H19*100 -> 40.628199 | J26: =[1]Sheet1!U29 -> 70048.507 | K26: =+J26/J19*100 -> 14.363006 | L26: =[1]Sheet1!W29 -> 157143.07 | M26: =+L26/L19*100 -> 35.159413
A27: De 25 a 30 Años | B27: =[1]Sheet1!O30 -> 459695.15 | C27: =+B27/B19*100 -> 26.649975 | D27: =+F27+H27 -> 316960.35 | E27: =+D27/D19*100 -> 40.106786 | F27: =[1]Sheet1!Q30 -> 28250.467 | G27: =+F27/F19*100 -> 23.442341 | H27: =[1]Sheet1!S30 -> 288709.89 | I27: =+H27/H19*100 -> 43.10514 | J27: =[1]Sheet1!U30 -> 17733.311 | K27: =+J27/J19*100 -> 3.6361039 | L27: =[1]Sheet1!W30 -> 125001.48 | M27: =+L27/L19*100 -> 27.968009
A29: Rural 2/
A30: Sexo | B30: =+B31+B32 -> 1288046.3 | C30: =+C31+C32 -> 100 | D30: =+D31+D32 -> 558223.65 | E30: =+E31+E32 -> 100 | F30: =+F31+F32 -> 51859.146 | G30: =+G31+G32 -> 100 | H30: =+H31+H32 -> 506364.5 | I30: =+I31+I32 -> 100 | ... M30: =+M31+M32 -> 100
A31: Hombre | B31: =[1]Sheet1!O32 -> 658147.37 | C31: =+B31/B30*100 -> 51.096563 | D31: =+F31+H31 -> 417402.88 | E31: =+D31/D30*100 -> 74.773414 | F31: =[1]Sheet1!Q32 -> 35416.002 | G31: =+F31/F30*100 -> 68.292683 | H31: =[1]Sheet1!S32 -> 381986.88 | I31: =+H31/H30*100 -> 75.437136 | J31: =[1]Sheet1!U32 -> 86010.291 | K31: =+J31/J30*100 -> 41.295547 | L31: =[1]Sheet1!W32 -> 154734.2 | M31: =+L31/L30*100 -> 29.668553
A32: Mujer | B32: =[1]Sheet1!O33 -> 629898.89 | C32: =+B32/B30*100 -> 48.903437 | D32: =+F32+H32 -> 140820.77 | E32: =+D32/D30*100 -> 25.226586 | F32: =[1]Sheet1!Q33 -> 16443.144 | G32: =+F32/F30*100 -> 31.707317 | H32: =[1]Sheet1!S33 -> 124377.63 | I32: =+H32/H30*100 -> 24.562864 | J32: =[1]Sheet1!U33 -> 122269.53 | K32: =+J32/J30*100 -> 58.704453 | L32: =[1]Sheet1!W33 -> 366808.59 | M32: =+L32/L30*100 -> 70.331447
A34: Rango de Edad
A35: De 12 a 14 Años | B35: =[1]Sheet1!O39 -> 231468.87 | C35: =+B35/B30*100 -> 17.97054 | D35: =+F35+H35 -> 51437.527 | E35: =+D35/D30*100 -> 9.2145015 | F35: =[1]Sheet1!Q39 -> 16864.763 | G35: =+F35/F30*100 -> 32.520325 | H35: =[1]Sheet1!S39 -> 34572.764 | I35: =+H35/H30*100 -> 6.8276436 | J35: =[1]Sheet1!U39 -> 103718.29 | K35: =+J35/J30*100 -> 49.797571 | L35: =[1]Sheet1!W39 -> 76313.052 | M35: =+L35/L30*100 -> 14.632175
A36: De 15 a 19 Años | B36: =[1]Sheet1!O40 -> 386203.07 | C36: =+B36/B30*100 -> 29.983633 | D36: =+F36+H36 -> 147145.06 | E36: =+D36/D30*100 -> 26.359517 | F36: =[1]Sheet1!Q40 -> 22345.811 | G36: =+F36/F30*100 -> 43.089431 | H36: =[1]Sheet1!S40 -> 124799.25 | I36: =+H36/H30*100 -> 24.646128 | J36: =[1]Sheet1!U40 -> 88118.386 | K36: =+J36/J30*100 -> 42.307692 | L36: =[1]Sheet1!W40 -> 150939.63 | M36: =+L36/L30*100 -> 28.940986
A37: De 20 a 24 Años | B37: =[1]Sheet1!O41 -> 360905.92 | C37: =+B37/B30*100 -> 28.01964 | D37: =+F37+H37 -> 185934.01 | E37: =+D37/D30*100 -> 33.308157 | F37: =[1]Sheet1!Q41 -> 9275.6196 | G37: =+F37/F30*100 -> 17.886179 | H37: =[1]Sheet1!S41 -> 176658.39 | I37: =+H37/H30*100 -> 34.887594 | J37: =[1]Sheet1!U41 -> 13913.429 | K37: =+J37/J30*100 -> 6.6801619 | L37: =[1]Sheet1!W41 -> 161058.49 | M37: =+L37/L30*100 -> 30.881164
A38: De 25 a 30 Años | B38: =[1]Sheet1!O42 -> 309468.4 | C38: =+B38/B30*100 -> 24.026187 | D38: =+F38+H38 -> 173707.06 | E38: =+D38/D30*100 -> 31.117825 | F38: =[1]Sheet1!Q42 -> 3372.9526 | G38: =+F38/F30*100 -> 6.504065 | H38: =[1]Sheet1!S42 -> 170334.1 | I38: =+H38/H30*100 -> 33.638634 | J38: =[1]Sheet1!U42 -> 2529.7144 | K38: =+J38/J30*100 -> 1.2145749 | L38: =[1]Sheet1!W42 -> 133231.63 | M38: =+L38/L30*100 -> 25.545675
A40: =[2]Resumen!A44 -> Fuente: Instituto Nacional de Estadística (INE). LXXIII Encuesta Permanente de Hogares de Propósitos Múltiples, Otubre 2021
A41: 1/ Porcentaje por columnas
A42: 2/ Porcentaje por filas
A65: Cuadro No. 1. Población de 12 a 30 años por condición de trabajo, según dominio , sexo y rango de edad
A66: ....Continuación
A67: Categorías | B67: Total | D67: Trabajan | J67: Solo Estudia | L67: Ni Trabaja Ni Estudia
D68: Total | F68: Estudia y Trabaja | H68: Solo Trabaja
B69: No. | C69: % 1/ | D69: No. | E69: % 2/ | F69: No. | G69: % 2/ | H69: No. | I69: % 2/ | J69: No. | K69: % 2/ | L69: No. | M69: % 2/
A71: Distrito Central 2/
...

Sheet C02
A1: Cuadro No. 2. años de estudio promedio de la población de 12 a 30 años por condición de trabajo, según dominio, sexo y rango de edad
A3: Categorías | B3: Años de Estudio Promedio
B4: Total | E4: Solo Estudia | F4: Ni Trabaja Ni Estudia
C5: Estudia y Trabaja | D5: Solo Trabaja
A7: Total Nacional | B7: =[1]Sheet1!J87 -> 8.0892006 | C7: =[1]Sheet1!K87 -> 7.9103118 | D7: =[1]Sheet1!L87 -> 8.7135383 | E7: =[1]Sheet1!M87 -> 7.4836155 | F7: =[1]Sheet1!N87 -> 7.7192439
A8: Sexo
A9: Hombre | B9: =[1]Sheet1!J88 -> 7.9127761 | C9: =[1]Sheet1!K88 -> 7.668348 | D9: =[1]Sheet1!L88 -> 8.2204211 | E9: =[1]Sheet1!M88 -> 7.3928167 | F9: =[1]Sheet1!N88 -> 7.6439931
A10: Mujer | B10: =[1]Sheet1!J89 -> 8.2691359 | C10: =[1]Sheet1!K89 -> 8.303659 | D10: =[1]Sheet1!L89 -> 9.701115 | E10: =[1]Sheet1!M89 -> 7.5611323 | F10: =[1]Sheet1!N89 -> 7.754765
A12: Rango de Edad
A13: De 12 a 14 años | B13: =[1]Sheet1!J95 -> 5.8668556 | C13: =[1]Sheet1!K95 -> 5.6146293 | D13: =[1]Sheet1!L95 -> 5.3832499 | E13: =[1]Sheet1!M95 -> 6.0207753 | F13: =[1]Sheet1!N95 -> 5.7539098
A14: De 15 a 19 años | B14: =[1]Sheet1!J96 -> 8.0350612 | C14: =[1]Sheet1!K96 -> 8.9246728 | D14: =[1]Sheet1!L96 -> 7.4132046 | E14: =[1]Sheet1!M96 -> 8.9407819 | F14: =[1]Sheet1!N96 -> 7.4396137
A15: De 20 a 24 años | B15: =[1]Sheet1!J97 -> 8.6595509 | C15: =[1]Sheet1!K97 -> 9.5417329 | D15: =[1]Sheet1!L97 -> 8.7625512 | E15: =[1]Sheet1!M97 -> 9.2687846 | F15: =[1]Sheet1!N97 -> 8.4325564
A16: De 25 a 30 años | B16: =[1]Sheet1!J98 -> 9.1018964 | C16: =[1]Sheet1!K98 -> 6.0625006 | D16: =[1]Sheet1!L98 -> 9.6684643 | E16: =[1]Sheet1!M98 -> 8.1383185 | F16: =[1]Sheet1!N98 -> 8.1052196
A18: Urbano | B18: =[1]Sheet1!J99 -> 8.9662552 | C18: =[1]Sheet1!K99 -> 8.3223038 | D18: =[1]Sheet1!L99 -> 9.9160026 | E18: =[1]Sheet1!M99 -> 7.6259473 | F18: =[1]Sheet1!N99 -> 8.7947581
A19: Sexo
A20: Hombre | B20: =[1]Sheet1!J100 -> 8.826248 | C20: =[1]Sheet1!K100 -> 8.0050879 | D20: =[1]Sheet1!L100 -> 9.5443988 | E20: =[1]Sheet1!M100 -> 7.5059988 | F20: =[1]Sheet1!N100 -> 8.7135872
A21: Mujer | B21: =[1]Sheet1!J101 -> 9.1069772 | C21: =[1]Sheet1!K101 -> 8.6759841 | D21: =[1]Sheet1!L101 -> 10.486342 | E21: =[1]Sheet1!M101 -> 7.7373781 | F21: =[1]Sheet1!N101 -> 8.8393962
A23: Rango de Edad
A24: De 12 a 14 años | B24: =[1]Sheet1!J107 -> 6.0617293 | C24: =[1]Sheet1!K107 -> 5.5377784 | D24: =[1]Sheet1!L107 -> 5.4485444 | E24: =[1]Sheet1!M107 -> 6.161232 | F24: =[1]Sheet1!N107 -> 6.0112143
A25: De 15 a 19 años | B25: =[1]Sheet1!J108 -> 8.6378871 | C25: =[1]Sheet1!K108 -> 9.2636624 | D25: =[1]Sheet1!L108 -> 8.3137897 | E25: =[1]Sheet1!M108 -> 8.9719658 | F25: =[1]Sheet1!N108 -> 8.1956468
A26: De 20 a 24 años | B26: =[1]Sheet1!J109 -> 9.5982307 | C26: =[1]Sheet1!K109 -> 9.5675288 | D26: =[1]Sheet1!L109 -> 9.7176619 | E26: =[1]Sheet1!M109 -> 9.6520957 | F26: =[1]Sheet1!N109 -> 9.3803388
A27: De 25 a 30 años | B27: =[1]Sheet1!J110 -> 10.509882 | C27: =[1]Sheet1!K110 -> 4.4598503 | D27: =[1]Sheet1!L110 -> 10.882043 | E27: =[1]Sheet1!M110 -> 8.5 | F27: =[1]Sheet1!N110 -> 9.7280089
A29: Rural | B29: =[1]Sheet1!J111 -> 6.9908515 | C29: =[1]Sheet1!K111 -> 7.3469388 | D29: =[1]Sheet1!L111 -> 7.0720641 | E29: =[1]Sheet1!M111 -> 7.2065217 | F29: =[1]Sheet1!N111 -> 6.7965517
A30: Sexo
A31: Hombre | B31: =[1]Sheet1!J112 -> 6.7872928 | C31: =[1]Sheet1!K112 -> 7.3424658 | D31: =[1]Sheet1!L112 -> 6.7630332 | E31: =[1]Sheet1!M112 -> 7.1398964 | F31: =[1]Sheet1!N112 -> 6.5266272
A32: Mujer | B32: =[1]Sheet1!J113 -> 7.2022956 | C32: =[1]Sheet1!K113 -> 7.36 | D32: =[1]Sheet1!L113 -> 8.0035714 | E32: =[1]Sheet1!M113 -> 7.2546816 | F32: =[1]Sheet1!N113 -> 6.9075426
A34: Rango de Edad
A35: De 12 a 14 años | B35: =[1]Sheet1!J119 -> 5.6455224 | C35: =[1]Sheet1!K119 -> 5.675 | D35: =[1]Sheet1!L119 -> 5.3544304 | E35: =[1]Sheet1!M119 -> 5.7714286 | F35: =[1]Sheet1!N119 -> 5.5930233
A36: De 15 a 19 años | B36: =[1]Sheet1!J120 -> 7.3550974 | C36: =[1]Sheet1!K120 -> 8.44 | D36: =[1]Sheet1!L120 -> 6.7208481 | E36: =[1]Sheet1!M120 -> 8.872449 | F36: =[1]Sheet1!N120 -> 6.8546512
A37: De 20 a 24 años | B37: =[1]Sheet1!J121 -> 7.3958333 | C37: =[1]Sheet1!K121 -> 9.4 | D37: =[1]Sheet1!L121 -> 7.2067183 | E37: =[1]Sheet1!M121 -> 8.6470588 | F37: =[1]Sheet1!N121 -> 7.5125348
A38: De 25 a 30 años | B38: =[1]Sheet1!J122 -> 7.1293233 | C38: =[1]Sheet1!K122 -> 8 | D38: =[1]Sheet1!L122 -> 7.56 | E38: =[1]Sheet1!M122 -> 7.5 | F38: =[1]Sheet1!N122 -> 6.5508772
A40: ='C01'!A40 -> Fuente: Instituto Nacional de Estadística (INE). LXXIII Encuesta Permanente de Hogares de Propósitos Múltiples, Otubre 2021
A63: Cuadro No. 2. años de estudio promedio de la población de 12 a 30 años por condición de trabajo, según dominio, sexo y rango de edad
A64: ....Continuación | B64: ....Continuación
A65: Categorías | B65: Años de Estudio Promedio
B66: Total | E66: Solo Estudia | F66: Ni Trabaja Ni Estudia
C67: Estudia y Trabaja | D67: Solo Trabaja
A69: Distrito Central | B69: =[1]Sheet1!J123 -> 9.4607477 | C69: =[1]Sheet1!K123 -> 7.8214286 | D69: =[1]Sheet1!L123 -> 10.882743 | E69: =[1]Sheet1!M123 -> 7.5319149 | F69: =[1]Sheet1!N123 -> 9.605364
A70: Sexo
A71: Hombres | B71: =[1]Sheet1!J124 -> 9.2958258 | C71: =[1]Sheet1!K124 -> 7.2 | D71: =[1]Sheet1!L124 -> 10.366548 | E71: =[1]Sheet1!M124 -> 7.2891566 | F71: =[1]Sheet1!N124 -> 10.011236
...

Sheet C03
A1: Cuadro No. 3. Ingreso promedio de la población de 12 a 30 años por condición de trabajo, según dominio, sexo y rango de edad
A3: Categorías | B3: Total | C3: Ingreso Promedio de los que Trabajan | F3: Solo estudia | G3: Ni trabaja, Ni estudia
C4: Total | D4: Estudia y Trabaja | E4: Solo Trabaja
A6: Total Nacional | C6: =[1]Sheet1!J167 -> 5798.8177 | D6: =[1]Sheet1!K167 -> 6087.7813 | E6: =[1]Sheet1!L167 -> 5756.1284
A7: Sexo | B7: =[3]InfJuv!J169 -> 5798.8177 | F7: =[3]InfJuv!M169 -> 0 | G7: =[3]InfJuv!N169 -> 0
A8: Hombre | B8: =[3]InfJuv!J170 -> 5604.1281 | C8: =[1]Sheet1!J168 -> 5604.1281 | D8: =[1]Sheet1!K168 -> 5853.4698 | E8: =[1]Sheet1!L168 -> 5575.4998 | F8: =[3]InfJuv!M170 -> 0 | G8: =[3]InfJuv!N170 -> 0
A9: Mujer | B9: =[3]InfJuv!J171 -> 6148.5666 | C9: =[1]Sheet1!J169 -> 6148.5666 | D9: =[1]Sheet1!K169 -> 6335.6011 | E9: =[1]Sheet1!L169 -> 6108.9113 | F9: =[3]InfJuv!M171 -> 0 | G9: =[3]InfJuv!N171 -> 0
A11: Rango de Edad | B11: =[3]InfJuv!J176 -> 5798.8177 | F11: =[3]InfJuv!M176 -> 0 | G11: =[3]InfJuv!N176 -> 0
A12: De 12 a 14 años | B12: =[3]InfJuv!J177 -> 1786.4226 | C12: =[1]Sheet1!J175 -> 1786.4226 | D12: =[1]Sheet1!K175 -> 1500.3136 | E12: =[1]Sheet1!L175 -> 1975.9753 | F12: =[3]InfJuv!M177 -> 0 | G12: =[3]InfJuv!N177 -> 0
A13: De 15 a 19 años | B13: =[3]InfJuv!J178 -> 3653.1585 | C13: =[1]Sheet1!J176 -> 3653.1585 | D13: =[1]Sheet1!K176 -> 3987.167 | E13: =[1]Sheet1!L176 -> 3563.2196 | F13: =[3]InfJuv!M178 -> 0 | G13: =[3]InfJuv!N178 -> 0
A14: De 20 a 24 años | B14: =[3]InfJuv!J179 -> 6319.5974 | C14: =[1]Sheet1!J177 -> 6319.5974 | D14: =[1]Sheet1!K177 -> 8207.4648 | E14: =[1]Sheet1!L177 -> 6108.8037 | F14: =[3]InfJuv!M179 -> 0 | G14: =[3]InfJuv!N179 -> 0
A15: De 25 a 30 años | B15: =[3]InfJuv!J180 -> 7234.6757 | C15: =[1]Sheet1!J178 -> 7234.6757 | D15: =[1]Sheet1!K178 -> 11716.919 | E15: =[1]Sheet1!L178 -> 6936.5166 | F15: =[3]InfJuv!M180 -> 0 | G15: =[3]InfJuv!N180 -> 0
A17: Urbano | C17: =[1]Sheet1!J179 -> 7338.258 | D17: =[1]Sheet1!K179 -> 7271.4334 | E17: =[1]Sheet1!L179 -> 7350.8346
A18: Sexo | B18: =[3]InfJuv!J181 -> 7338.258
A19: Hombre | B19: =[3]InfJuv!J182 -> 7380.9728 | C19: =[1]Sheet1!J180 -> 7380.9728 | D19: =[1]Sheet1!K180 -> 7574.8725 | E19: =[1]Sheet1!L180 -> 7353.8486 | F19: =[3]InfJuv!M182 -> 0 | G19: =[3]InfJuv!N182 -> 0
A20: Mujer | B20: =[3]InfJuv!J183 -> 7281.7189 | C20: =[1]Sheet1!J181 -> 7281.7189 | D20: =[1]Sheet1!K181 -> 7031.7076 | E20: =[1]Sheet1!L181 -> 7346.429 | F20: =[3]InfJuv!M183 -> 0 | G20: =[3]InfJuv!N183 -> 0
A22: Rango de Edad | B22: =[3]InfJuv!J188 -> 7338.258
A23: De 12 a 14 años | B23: =[3]InfJuv!J189 -> 2282.5769 | C23: =[1]Sheet1!J187 -> 2282.5769 | D23: =[1]Sheet1!K187 -> 1646.3591 | E23: =[1]Sheet1!L187 -> 2936.5486 | F23: =[3]InfJuv!M189 -> 0 | G23: =[3]InfJuv!N189 -> 0
A24: De 15 a 19 años | B24: =[3]InfJuv!J190 -> 4758.5376 | C24: =[1]Sheet1!J188 -> 4758.5376 | D24: =[1]Sheet1!K188 -> 4984.5677 | E24: =[1]Sheet1!L188 -> 4671.5511 | F24: =[3]InfJuv!M190 -> 0 | G24: =[3]InfJuv!N190 -> 0
A25: De 20 a 24 años | B25: =[3]InfJuv!J191 -> 7550.1034 | C25: =[1]Sheet1!J189 -> 7550.1034 | D25: =[1]Sheet1!K189 -> 8081.4001 | E25: =[1]Sheet1!L189 -> 7466.3011 | F25: =[3]InfJuv!M191 -> 0 | G25: =[3]InfJuv!N191 -> 0
A26: De 25 a 30 años | B26: =[3]InfJuv!J192 -> 8835.4395 | C26: =[1]Sheet1!J190 -> 8835.4395 | D26: =[1]Sheet1!K190 -> 12166.732 | E26: =[1]Sheet1!L190 -> 8495.5265 | F26: =[3]InfJuv!M192 -> 0 | G26: =[3]InfJuv!N192 -> 0
A28: Rural | C28: =[1]Sheet1!J191 -> 3729.4871 | D28: =[1]Sheet1!K191 -> 3250.5699 | E28: =[1]Sheet1!L191 -> 3776.174
A29: Sexo | B29: =[3]InfJuv!J193 -> 3729.4871 | F29: =[3]InfJuv!M193 -> 0 | G29: =[3]InfJuv!N193 -> 0
A30: Hombre | B30: =[3]InfJuv!J194 -> 3766.0546 | C30: =[1]Sheet1!J192 -> 3766.0546 | D30: =[1]Sheet1!K192 -> 3207.1875 | E30: =[1]Sheet1!L192 -> 3816.3605 | F30: =[3]InfJuv!M194 -> 0 | G30: =[3]InfJuv!N194 -> 0
A31: Mujer | B31: =[3]InfJuv!J195 -> 3625.2965 | C31: =[1]Sheet1!J193 -> 3625.2965 | D31: =[1]Sheet1!K193 -> 3346.3103 | E31: =[1]Sheet1!L193 -> 3658.5912 | F31: =[3]InfJuv!M195 -> 0 | G31: =[3]InfJuv!N195 -> 0
A33: Rango de Edad | B33: =[3]InfJuv!J200 -> 3729.4871 | F33: =[3]InfJuv!M200 -> 0 | G33: =[3]InfJuv!N200 -> 0
A34: De 12 a 14 años | B34: =[3]InfJuv!J201 -> 1535.7604 | C34: =[1]Sheet1!J199 -> 1535.7604 | D34: =[1]Sheet1!K199 -> 1391.5152 | E34: =[1]Sheet1!L199 -> 1611.3175 | F34: =[3]InfJuv!M201 -> 0 | G34: =[3]InfJuv!N201 -> 0
A35: De 15 a 19 años | B35: =[3]InfJuv!J202 -> 2630.0947 | C35: =[1]Sheet1!J200 -> 2630.0947 | D35: =[1]Sheet1!K200 -> 2291.5366 | E35: =[1]Sheet1!L200 -> 2690.4463 | F35: =[3]InfJuv!M202 -> 0 | G35: =[3]InfJuv!N202 -> 0
A36: De 20 a 24 años | B36: =[3]InfJuv!J203 -> 4234.2936 | C36: =[1]Sheet1!J201 -> 4234.2936 | D36: =[1]Sheet1!K201 -> 8939.2857 | E36: =[1]Sheet1!L201 -> 4039.4122 | F36: =[3]InfJuv!M203 -> 0 | G36: =[3]InfJuv!N203 -> 0
A37: De 25 a 30 años | B37: =[3]InfJuv!J204 -> 4738.1494 | C37: =[1]Sheet1!J202 -> 4738.1494 | D37: =[1]Sheet1!K202 -> 7456 | E37: =[1]Sheet1!L202 -> 4696.0774 | F37: =[3]InfJuv!M204 -> 0 | G37: =[3]InfJuv!N204 -> 0
A39: ='C01'!A40 -> Fuente: Instituto Nacional de Estadística (INE). LXXIII Encuesta Permanente de Hogares de Propósitos Múltiples, Otubre 2021
A44: =$A$1 -> Cuadro No. 3. Ingreso promedio de la población de 12 a 30 años por condición de trabajo, según dominio, sexo y rango de edad
A45: .....Continuación
A46: Categorías | B46: Total | C46: Ingreso Promedio de los que Trabajan | F46: Solo estudia | G46: Ni trabaja, Ni estudia
C47: Total | D47: Estudia y Trabaja | E47: Solo Trabaja
A49: Distrito Central | C49: =[1]Sheet1!J203 -> 8489.9907 | D49: =[1]Sheet1!K203 -> 7337.9012 | E49: =[1]Sheet1!L203 -> 8756.6171
A50: Sexo | B50: =[3]InfJuv!J205 -> 8489.9907 | F50: =[3]InfJuv!M205 -> 0 | G50: =[3]InfJuv!N205 -> 0
A51: Hombres | B51: =[3]InfJuv!J206 -> 9043.3494 | C51: =[1]Sheet1!J204 -> 9043.3494 | D51: =[1]Sheet1!K204 -> 7881.7949 | E51: =[1]Sheet1!L204 -> 9259.0667 | F51: =[3]InfJuv!M206 -> 0 | G51: =[3]InfJuv!N206 -> 0
A52: Mujeres | B52: =[3]InfJuv!J207 -> 7732.9231 | C52: =[1]Sheet1!J205 -> 7732.9231 | D52: =[1]Sheet1!K205 -> 6832.8571 | E52: =[1]Sheet1!L205 -> 8002.9429 | F52: =[3]InfJuv!M207 -> 0 | G52: =[3]InfJuv!N207 -> 0
A54: Rango de Edad | B54: =[3]InfJuv!J212 -> 8489.9907
...

Sheet C04
A1: Cuadro No. 4. Población de 12 a 30 años por condición de trabajo y años de estudio, según dominio, nivel educativo, rango de edad, sexo, número de salarios mínimos, rama de actividad y ocupación
A3: Categorías | B3: Total ocupados | D3: Trabajan | L3: Cuenta Propia | N3: Trabajador no remunerado | P3: Contratista dependiente
D4: Total | F4: Publico | H4: Privado | J4: Domestico
B5: No. | C5: % 1/ | D5: No. | E5: % 2/ | F5: No. | G5: % 2/ | H5: No. | I5: % 2/ | J5: No. | K5: % 2/ | L5: No. | M5: % 2/ | N5: No. | O5: % 2/ | P5: No. | Q5: % 2/
A7: Total Nacional 2/ | B7: =[1]Sheet1!S246 -> 1348514.7 | C7: =+C10+C14 -> 100 | D7: =+F7+H7+J7 -> 1000331.5 | E7: =+D7/$B7*100 -> 74.180239 | F7: =[1]Sheet1!U246 -> 53695.127 | G7: =+F7/$B7*100 -> 3.9817976 | H7: =[1]Sheet1!W246 -> 898754.66 | I7: =+H7/$B7*100 -> 66.647745 | J7: =[1]Sheet1!Y246 -> 47881.661 | K7: =+J7/$B7*100 -> 3.5506961 | L7: =[1]Sheet1!AA246 -> 181234.93 | M7: =+L7/$B7*100 -> 13.439596 | N7: =[1]Sheet1!AE246 -> 30298.767 | O7: =+N7/$B7*100 -> 2.2468251 | P7: =[1]Sheet1!AG246 -> 136649.59 | Q7: =+P7/$B7*100 -> 10.13334
A9: Dominio
A10: Urbano | B10: =+B11+B12+B13 -> 790291.09 | C10: =+C11+C12+C13 -> 58.604557 | D10: =+D11+D12+D13 -> 621717.53 | E10: =+D10/$B10*100 -> 78.669434 | F10: =+F11+F12+F13 -> 38516.841 | G10: =+F10/$B10*100 -> 4.8737537 | H10: =+H11+H12+H13 -> 550075.69 | I10: =+H10/$B10*100 -> 69.604188 | J10: =+J11+J12+J13 -> 33124.993 | K10: =+J10/$B10*100 -> 4.1914927 | L10: =+L11+L12+L13 -> 102392.16 | M10: =+L10/$B10*100 -> 12.956259 | N10: =+N11+N12+N13 -> 14698.862 | O10: =+N10/$B10*100 -> 1.8599301 | P10: =+P11+P12+P13 -> 51482.537 | Q10: =+P10/$B10*100 -> 6.5143765
A11: Distrito Central | B11: =[1]Sheet1!S248 -> 152819.09 | C11: =+B11/B$7*100 -> 11.3324 | D11: =+F11+H11+J11 -> 121679.58 | E11: =+D11/$B11*100 -> 79.623288 | F11: =[1]Sheet1!U248 -> 13607.179 | G11: =+F11/$B11*100 -> 8.9041096 | H11: =[1]Sheet1!W248 -> 99960.431 | I11: =+H11/$B11*100 -> 65.410959 | J11: =[1]Sheet1!Y248 -> 8111.9721 | K11: =+J11/$B11*100 -> 5.3082192 | L11: =[1]Sheet1!AA248 -> 19887.415 | M11: =+L11/$B11*100 -> 13.013699 | N11: =[1]Sheet1!AE248 -> 2355.0887 | O11: =+N11/$B11*100 -> 1.5410959 | P11: =[1]Sheet1!AG248 -> 8897.0017 | Q11: =+P11/$B11*100 -> 5.8219178
A12: San Pedro Sula | B12: =[1]Sheet1!S249 -> 96786.001 | C12: =+B12/B$7*100 -> 7.1772297 | D12: =+F12+H12+J12 -> 79653.075 | E12: =+D12/$B12*100 -> 82.298137 | F12: =[1]Sheet1!U249 -> 601.15529 | G12: =+F12/$B12*100 -> 0.62111801 | H12: =[1]Sheet1!W249 -> 76947.877 | I12: =+H12/$B12*100 -> 79.503106 | J12: =[1]Sheet1!Y249 -> 2104.0435 | K12: =+J12/$B12*100 -> 2.173913 | L12: =[1]Sheet1!AA249 -> 11121.373 | M12: =+L12/$B12*100 -> 11.490683 | N12: =[1]Sheet1!AE249 -> 2705.1988 | O12: =+N12/$B12*100 -> 2.7950311 | P12: =[1]Sheet1!AG249 -> 3306.3541 | Q12: =+P12/$B12*100 -> 3.4161491
A13: Resto urbano | B13: =[1]Sheet1!S250 -> 540686 | C13: =+B13/B$7*100 -> 40.094927 | D13: =+F13+H13+J13 -> 420384.87 | E13: =+D13/$B13*100 -> 77.750278 | F13: =[1]Sheet1!U250 -> 24308.506 | G13: =+F13/$B13*100 -> 4.4958639 | H13: =[1]Sheet1!W250 -> 373167.38 | I13: =+H13/$B13*100 -> 69.017394 | J13: =[1]Sheet1!Y250 -> 22908.978 | K13: =+J13/$B13*100 -> 4.2370207 | L13: =[1]Sheet1!AA250 -> 71383.375 | M13: =+L13/$B13*100 -> 13.202372 | N13: =[1]Sheet1!AE250 -> 9638.5742 | O13: =+N13/$B13*100 -> 1.7826565 | P13: =[1]Sheet1!AG250 -> 39279.181 | Q13: =+P13/$B13*100 -> 7.2646936
A14: Rural | B14: =[1]Sheet1!S251 -> 558223.65 | C14: =+B14/B$7*100 -> 41.395443 | D14: =+F14+H14+J14 -> 378613.93 | E14: =+D14/$B14*100 -> 67.824773 | F14: =[1]Sheet1!U251 -> 15178.287 | G14: =+F14/$B14*100 -> 2.7190332 | H14: =[1]Sheet1!W251 -> 348678.97 | I14: =+H14/$B14*100 -> 62.462236 | J14: =[1]Sheet1!Y251 -> 14756.667 | K14: =+J14/$B14*100 -> 2.6435045 | L14: =[1]Sheet1!AA251 -> 78842.766 | M14: =+L14/$B14*100 -> 14.123867 | N14: =[1]Sheet1!AE251 -> 15599.906 | O14: =+N14/$B14*100 -> 2.7945619 | P14: =[1]Sheet1!AG251 -> 85167.052 | Q14: =+P14/$B14*100 -> 15.256798
A16: Nivel Educativo
A17: Sin Nivel | B17: =[1]Sheet1!S253 -> 26949.14 | C17: =+B17/B$7*100 -> 1.9984312 | D17: =+F17+H17+J17 -> 18293.415 | E17: =+D17/$B17*100 -> 67.881259 | F17: =[1]Sheet1!U253 -> 261.67652 | G17: =+F17/$B17*100 -> 0.97100138 | H17: =[1]Sheet1!W253 -> 16766.882 | I17: =+H17/$B17*100 -> 62.21676 | J17: =[1]Sheet1!Y253 -> 1264.8572 | K17: =+J17/$B17*100 -> 4.6934975 | L17: =[1]Sheet1!AA253 -> 1686.4763 | M17: =+L17/$B17*100 -> 6.2579967 | N17: =[1]Sheet1!AE253 -> 843.23814 | O17: =+N17/$B17*100 -> 3.1289984 | P17: =[1]Sheet1!AG253 -> 6126.0101 | Q17: =+P17/$B17*100 -> 22.731746
A18: Primaria | B18: =[1]Sheet1!S254 -> 613900.86 | C18: =+B18/B$7*100 -> 45.524223 | D18: =+F18+H18+J18 -> 426637.59 | E18: =+D18/$B18*100 -> 69.496171 | F18: =[1]Sheet1!U254 -> 4419.6586 | G18: =+F18/$B18*100 -> 0.71993036 | H18: =[1]Sheet1!W254 -> 397879.36 | I18: =+H18/$B18*100 -> 64.811663 | J18: =[1]Sheet1!Y254 -> 24338.576 | K18: =+J18/$B18*100 -> 3.9645776 | L18: =[1]Sheet1!AA254 -> 81194.885 | M18: =+L18/$B18*100 -> 13.226058 | N18: =[1]Sheet1!AE254 -> 18590.058 | O18: =+N18/$B18*100 -> 3.0281857 | P18: =[1]Sheet1!AG254 -> 87478.324 | Q18: =+P18/$B18*100 -> 14.249585
A19: Secundaria | B19: =[1]Sheet1!S255 -> 514832.49 | C19: =+B19/B$7*100 -> 38.177743 | D19: =+F19+H19+J19 -> 401637.44 | E19: =+D19/$B19*100 -> 78.013227 | F19: =[1]Sheet1!U255 -> 23111.281 | G19: =+F19/$B19*100 -> 4.4890874 | H19: =[1]Sheet1!W255 -> 360848.1 | I19: =+H19/$B19*100 -> 70.09039 | J19: =[1]Sheet1!Y255 -> 17678.062 | K19: =+J19/$B19*100 -> 3.4337503 | L19: =[1]Sheet1!AA255 -> 68094.435 | M19: =+L19/$B19*100 -> 13.226522 | N19: =[1]Sheet1!AE255 -> 9198.3026 | O19: =+N19/$B19*100 -> 1.7866593 | P19: =[1]Sheet1!AG255 -> 35902.312 | Q19: =+P19/$B19*100 -> 6.973591
A20: Superior | B20: =[1]Sheet1!S256 -> 162562.97 | C20: =+B20/B$7*100 -> 12.054964 | D20: =+F20+H20+J20 -> 131536.21 | E20: =+D20/$B20*100 -> 80.914003 | F20: =[1]Sheet1!U256 -> 25219.216 | G20: =+F20/$B20*100 -> 15.513506 | H20: =[1]Sheet1!W256 -> 105231.38 | I20: =+H20/$B20*100 -> 64.73269 | J20: =[1]Sheet1!Y256 -> 1085.6072 | K20: =+J20/$B20*100 -> 0.6678072 | L20: =[1]Sheet1!AA256 -> 27086.364 | M20: =+L20/$B20*100 -> 16.662075 | N20: =[1]Sheet1!AE256 -> 944.97211 | O20: =+N20/$B20*100 -> 0.58129605 | P20: =[1]Sheet1!AG256 -> 2995.4266 | Q20: =+P20/$B20*100 -> 1.8426254
A21: No sabe, no responde | B21: =[1]Sheet1!S257 -> 30269.28 | C21: =IFERROR((B21/B$7*100),0) -> 2.2446384 | D21: =+F21+H21+J21 -> 22226.797 | E21: =IFERROR((D21/$B21*100),0) -> 73.430216 | F21: =[1]Sheet1!U257 -> 683.29559 | G21: =IFERROR((F21/$B21*100),0) -> 2.2573897 | H21: =[1]Sheet1!W257 -> 18028.944 | I21: =IFERROR((H21/$B21*100),0) -> 59.561853 | J21: =[1]Sheet1!Y257 -> 3514.5582 | K21: =IFERROR((J21/$B21*100),0) -> 11.610974 | L21: =[1]Sheet1!AA257 -> 3172.7697 | M21: =IFERROR((L21/$B21*100),0) -> 10.481814 | N21: =[1]Sheet1!AE257 -> 722.19671 | O21: =IFERROR((N21/$B21*100),0) -> 2.3859065 | P21: =[1]Sheet1!AG257 -> 4147.5157 | Q21: =IFERROR((P21/$B21*100),0) -> 13.702063
A23: Rango de Edad
A24: De 12 a 14 años | B24: =[1]Sheet1!S263 -> 79387.082 | C24: =+B24/B$7*100 -> 5.8870014 | D24: =+F24+H24+J24 -> 52644.088 | E24: =+D24/$B24*100 -> 66.313167 | F24: =[1]Sheet1!U263 -> 0 | G24: =+F24/$B24*100 -> 0 | H24: =[1]Sheet1!W263 -> 49140.967 | I24: =+H24/$B24*100 -> 61.900458 | J24: =[1]Sheet1!Y263 -> 3503.1212 | K24: =+J24/$B24*100 -> 4.4127094 | L24: =[1]Sheet1!AA263 -> 6485.4854 | M24: =+L24/$B24*100 -> 8.1694468 | N24: =[1]Sheet1!AE263 -> 9203.577 | O24: =+N24/$B24*100 -> 11.593293 | P24: =[1]Sheet1!AG263 -> 11053.931 | Q24: =+P24/$B24*100 -> 13.924093
A25: De 15 a 19 años | B25: =[1]Sheet1!S264 -> 277986.81 | C25: =+B25/B$7*100 -> 20.614295 | D25: =+F25+H25+J25 -> 207602.83 | E25: =+D25/$B25*100 -> 74.680821 | F25: =[1]Sheet1!U264 -> 1526.5337 | G25: =+F25/$B25*100 -> 0.54913891 | H25: =[1]Sheet1!W264 -> 189183.15 | I25: =+H25/$B25*100 -> 68.054721 | J25: =[1]Sheet1!Y264 -> 16893.149 | K25: =+J25/$B25*100 -> 6.0769608 | L25: =[1]Sheet1!AA264 -> 23352.359 | M25: =+L25/$B25*100 -> 8.4005277 | N25: =[1]Sheet1!AE264 -> 14044.855 | O25: =+N25/$B25*100 -> 5.0523458 | P25: =[1]Sheet1!AG264 -> 32986.765 | Q25: =+P25/$B25*100 -> 11.866306
A26: De 20 a 24 años | B26: =[1]Sheet1!S265 -> 500473.44 | C26: =+B26/B$7*100 -> 37.112938 | D26: =+F26+H26+J26 -> 391575.3 | E26: =+D26/$B26*100 -> 78.240976 | F26: =[1]Sheet1!U265 -> 17661.554 | G26: =+F26/$B26*100 -> 3.5289694 | H26: =[1]Sheet1!W265 -> 355522.62 | I26: =+H26/$B26*100 -> 71.03726 | J26: =[1]Sheet1!Y265 -> 18391.132 | K26: =+J26/$B26*100 -> 3.6747468 | L26: =[1]Sheet1!AA265 -> 51240.502 | M26: =+L26/$B26*100 -> 10.238406 | N26: =[1]Sheet1!AE265 -> 3594.3888 | O26: =+N26/$B26*100 -> 0.7181977 | P26: =[1]Sheet1!AG265 -> 54063.245 | Q26: =+P26/$B26*100 -> 10.80242
A27: De 25 a 30 años | B27: =[1]Sheet1!S266 -> 490667.41 | C27: =+B27/B$7*100 -> 36.385765 | D27: =+F27+H27+J27 -> 348509.23 | E27: =+D27/$B27*100 -> 71.027589 | F27: =[1]Sheet1!U266 -> 34507.039 | G27: =+F27/$B27*100 -> 7.0326739 | H27: =[1]Sheet1!W266 -> 304907.93 | I27: =+H27/$B27*100 -> 62.141468 | J27: =[1]Sheet1!Y266 -> 9094.2587 | K27: =+J27/$B27*100 -> 1.8534467 | L27: =[1]Sheet1!AA266 -> 100156.58 | M27: =+L27/$B27*100 -> 20.412316 | N27: =[1]Sheet1!AE266 -> 3455.9468 | O27: =+N27/$B27*100 -> 0.70433591 | P27: =[1]Sheet1!AG266 -> 38545.649 | Q27: =+P27/$B27*100 -> 7.8557589
A29: Sexo
A30: Hombre | B30: =[1]Sheet1!S268 -> 884412.79 | C30: =+B30/B$7*100 -> 65.584214 | D30: =+F30+H30+J30 -> 651785 | E30: =+D30/$B30*100 -> 73.696921 | F30: =[1]Sheet1!U268 -> 23945.231 | G30: =+F30/$B30*100 -> 2.7074723 | H30: =[1]Sheet1!W268 -> 624896.3 | I30: =+H30/$B30*100 -> 70.656633 | J30: =[1]Sheet1!Y268 -> 2943.463 | K30: =+J30/$B30*100 -> 0.33281552 | L30: =[1]Sheet1!AA268 -> 99801.979 | M30: =+L30/$B30*100 -> 11.284547 | N30: =[1]Sheet1!AE268 -> 22095.775 | O30: =+N30/$B30*100 -> 2.4983554 | P30: =[1]Sheet1!AG268 -> 110730.04 | Q30: =+P30/$B30*100 -> 12.520176
A31: Mujer | B31: =[1]Sheet1!S269 -> 464101.94 | C31: =+B31/B$7*100 -> 34.415786 | D31: =+F31+H31+J31 -> 348546.45 | E31: =+D31/$B31*100 -> 75.10127 | F31: =[1]Sheet1!U269 -> 29749.896 | G31: =+F31/$B31*100 -> 6.4102071 | H31: =[1]Sheet1!W269 -> 273858.36 | I31: =+H31/$B31*100 -> 59.008234 | J31: =[1]Sheet1!Y269 -> 44938.198 | K31: =+J31/$B31*100 -> 9.682829 | L31: =[1]Sheet1!AA269 -> 81432.95 | M31: =+L31/$B31*100 -> 17.54635 | N31: =[1]Sheet1!AE269 -> 8202.9923 | O31: =+N31/$B31*100 -> 1.7674979 | P31: =[1]Sheet1!AG269 -> 25919.548 | Q31: =+P31/$B31*100 -> 5.5848824
A33: Numero de salarios mínimos /3 | B33: =SUM(B35:B42) -> 1269127.7 | C33: =SUM(C35:C42) -> 100 | D33: =SUM(D35:D42) -> 947687.36 | E33: =IF(ISNUMBER(D33/$B33*100),D33/$B33*100,0) -> 74.672344 | F33: =SUM(F35:F42) -> 53695.127 | G33: =IF(ISNUMBER(F33/$B33*100),F33/$B33*100,0) -> 4.2308689 | H33: =SUM(H35:H42) -> 849613.7 | I33: =IF(ISNUMBER(H33/$B33*100),H33/$B33*100,0) -> 66.9447 | J33: =SUM(J35:J42) -> 44378.54 | K33: =IF(ISNUMBER(J33/$B33*100),J33/$B33*100,0) -> 3.4967751 | L33: =SUM(L35:L42) -> 174749.44 | M33: =IF(ISNUMBER(L33/$B33*100),L33/$B33*100,0) -> 13.769257 | N33: =SUM(N35:N42) -> 21095.19 | O33: =IF(ISNUMBER(N33/$B33*100),N33/$B33*100,0) -> 1.6621803 | P33: =SUM(P35:P42) -> 125595.66 | Q33: =IF(ISNUMBER(P33/$B33*100),P33/$B33*100,0) -> 9.8962195
A34: Menos de un salario | B34: =B35+B36+B37 -> 836120.6 | C34: =+B34/B$33*100 -> 65.88152 | D34: =D35+D36+D37 -> 678142.29 | E34: =IF(ISNUMBER(D34/$B34*100),D34/$B34*100,0) -> 81.105799 | F34: =F35+F36+F37 -> 25728.128 | G34: =IF(ISNUMBER(F34/$B34*100),F34/$B34*100,0) -> 3.0770834 | H34: =H35+H36+H37 -> 611580.24 | I34: =IF(ISNUMBER(H34/$B34*100),H34/$B34*100,0) -> 73.14498 | J34: =J35+J36+J37 -> 40833.921 | K34: =IF(ISNUMBER(J34/$B34*100),J34/$B34*100,0) -> 4.8837358 | L34: =L35+L36+L37 -> 100856.15 | M34: =IF(ISNUMBER(L34/$B34*100),L34/$B34*100,0) -> 12.062393 | N34: =N35+N36+N37 -> 0 | O34: =IF(ISNUMBER(N34/$B34*100),N34/$B34*100,0) -> 0 | P34: =P35+P36+P37 -> 57122.154 | Q34: =IF(ISNUMBER(P34/$B34*100),P34/$B34*100,0) -> 6.831808
A35: Menos de 1 salario y trabaja menos de una jornada laboral | B35: =[1]Sheet1!S271 -> 342983.57 | C35: =+B35/B$33*100 -> 27.025143 | D35: =+F35+H35+J35 -> 257942.71 | E35: =IF(ISNUMBER(D35/$B35*100),D35/$B35*100,0) -> 75.205559 | F35: =[1]Sheet1!U271 -> 10812.537 | G35: =IF(ISNUMBER(F35/$B35*100),F35/$B35*100,0) -> 3.1524942 | H35: =[1]Sheet1!W271 -> 230137.6 | I35: =IF(ISNUMBER(H35/$B35*100),H35/$B35*100,0) -> 67.098725 | J35: =[1]Sheet1!Y271 -> 16992.573 | K35: =IF(ISNUMBER(J35/$B35*100),J35/$B35*100,0) -> 4.9543404 | L35: =[1]Sheet1!AA271 -> 58180.957 | M35: =IF(ISNUMBER(L35/$B35*100),L35/$B35*100,0) -> 16.963191 | N35: =[1]Sheet1!AE271 -> 0 | O35: =IF(ISNUMBER(N35/$B35*100),N35/$B35*100,0) -> 0 | P35: =[1]Sheet1!AG271 -> 26859.901 | Q35: =IF(ISNUMBER(P35/$B35*100),P35/$B35*100,0) -> 7.83125
A36: Menos de 1 salario y trabaja mas de una jornada laboral | B36: =[1]Sheet1!S272 -> 492715.41 | C36: =+B36/B$33*100 -> 38.823156 | D36: =+F36+H36+J36 -> 419777.97 | E36: =IF(ISNUMBER(D36/$B36*100),D36/$B36*100,0) -> 85.196841 | F36: =[1]Sheet1!U272 -> 14493.972 | G36: =IF(ISNUMBER(F36/$B36*100),F36/$B36*100,0) -> 2.9416519 | H36: =[1]Sheet1!W272 -> 381442.65 | I36: =IF(ISNUMBER(H36/$B36*100),H36/$B36*100,0) -> 77.416423 | J36: =[1]Sheet1!Y272 -> 23841.348 | K36: =IF(ISNUMBER(J36/$B36*100),J36/$B36*100,0) -> 4.8387664 | L36: =[1]Sheet1!AA272 -> 42675.192 | M36: =IF(ISNUMBER(L36/$B36*100),L36/$B36*100,0) -> 8.6612252 | N36: =[1]Sheet1!AE272 -> 0 | O36: =IF(ISNUMBER(N36/$B36*100),N36/$B36*100,0) -> 0 | P36: =[1]Sheet1!AG272 -> 30262.254 | Q36: =IF(ISNUMBER(P36/$B36*100),P36/$B36*100,0) -> 6.1419336
A37: Menos de 1 salario y no declaran horas | B37: =[1]Sheet1!S273 -> 421.61907 | C37: =+B37/B$33*100 -> 0.033221171 | D37: =+F37+H37+J37 -> 421.61907 | E37: =IF(ISNUMBER(D37/$B37*100),D37/$B37*100,0) -> 100 | F37: =[1]Sheet1!U273 -> 421.61907 | G37: =IF(ISNUMBER(F37/$B37*100),F37/$B37*100,0) -> 100 | H37: =[1]Sheet1!W273 -> 0 | I37: =IF(ISNUMBER(H37/$B37*100),H37/$B37*100,0) -> 0 | J37: =[1]Sheet1!Y273 -> 0 | K37: =IF(ISNUMBER(J37/$B37*100),J37/$B37*100,0) -> 0 | L37: =[1]Sheet1!AA273 -> 0 | M37: =IF(ISNUMBER(L37/$B37*100),L37/$B37*100,0) -> 0 | N37: =[1]Sheet1!AE273 -> 0 | O37: =IF(ISNUMBER(N37/$B37*100),N37/$B37*100,0) -> 0 | P37: =[1]Sheet1!AG273 -> 0 | Q37: =IF(ISNUMBER(P37/$B37*100),P37/$B37*100,0) -> 0
A38: De 1 a 2 salarios | B38: =[1]Sheet1!S274 -> 118751.81 | C38: =+B38/B$33*100 -> 9.3569636 | D38: =+F38+H38+J38 -> 102518.95 | E38: =IF(ISNUMBER(D38/$B38*100),D38/$B38*100,0) -> 86.330429 | F38: =[1]Sheet1!U274 -> 8977.2739 | G38: =IF(ISNUMBER(F38/$B38*100),F38/$B38*100,0) -> 7.5596942 | H38: =[1]Sheet1!W274 -> 92146.65 | I38: =IF(ISNUMBER(H38/$B38*100),H38/$B38*100,0) -> 77.595994 | J38: =[1]Sheet1!Y274 -> 1395.0259 | K38: =IF(ISNUMBER(J38/$B38*100),J38/$B38*100,0) -> 1.1747407 | L38: =[1]Sheet1!AA274 -> 13683.555 | M38: =IF(ISNUMBER(L38/$B38*100),L38/$B38*100,0) -> 11.522818 | N38: =[1]Sheet1!AE274 -> 0 | O38: =IF(ISNUMBER(N38/$B38*100),N38/$B38*100,0) -> 0 | P38: =[1]Sheet1!AG274 -> 2549.3081 | Q38: =IF(ISNUMBER(P38/$B38*100),P38/$B38*100,0) -> 2.146753
A39: De 2 a 3 salarios | B39: =[1]Sheet1!S275 -> 9151.9043 | C39: =+B39/B$33*100 -> 0.72111771 | D39: =+F39+H39+J39 -> 7121.325 | E39: =IF(ISNUMBER(D39/$B39*100),D39/$B39*100,0) -> 77.812494 | F39: =[1]Sheet1!U275 -> 0 | G39: =IF(ISNUMBER(F39/$B39*100),F39/$B39*100,0) -> 0 | H39: =[1]Sheet1!W275 -> 7121.325 | I39: =IF(ISNUMBER(H39/$B39*100),H39/$B39*100,0) -> 77.812494 | J39: =[1]Sheet1!Y275 -> 0 | K39: =IF(ISNUMBER(J39/$B39*100),J39/$B39*100,0) -> 0 | L39: =[1]Sheet1!AA275 -> 2030.5793 | M39: =IF(ISNUMBER(L39/$B39*100),L39/$B39*100,0) -> 22.187506 | N39: =[1]Sheet1!AE275 -> 0 | O39: =IF(ISNUMBER(N39/$B39*100),N39/$B39*100,0) -> 0 | P39: =[1]Sheet1!AG275 -> 0 | Q39: =IF(ISNUMBER(P39/$B39*100),P39/$B39*100,0) -> 0
A40: De 3 a 4 salarios | B40: =[1]Sheet1!S276 -> 4156.6429 | C40: =+B40/B$33*100 -> 0.32751969 | D40: =+F40+H40+J40 -> 3473.3473 | E40: =IF(ISNUMBER(D40/$B40*100),D40/$B40*100,0) -> 83.561359 | F40: =[1]Sheet1!U276 -> 1094.4482 | G40: =IF(ISNUMBER(F40/$B40*100),F40/$B40*100,0) -> 26.3301 | H40: =[1]Sheet1!W276 -> 2378.8991 | I40: =IF(ISNUMBER(H40/$B40*100),H40/$B40*100,0) -> 57.23126 | J40: =[1]Sheet1!Y276 -> 0 | K40: =IF(ISNUMBER(J40/$B40*100),J40/$B40*100,0) -> 0 | L40: =[1]Sheet1!AA276 -> 683.29559 | M40: =IF(ISNUMBER(L40/$B40*100),L40/$B40*100,0) -> 16.438641 | N40: =[1]Sheet1!AE276 -> 0 | O40: =IF(ISNUMBER(N40/$B40*100),N40/$B40*100,0) -> 0 | P40: =[1]Sheet1!AG276 -> 0 | Q40: =IF(ISNUMBER(P40/$B40*100),P40/$B40*100,0) -> 0
A41: De 4 salarios y más | B41: =[1]Sheet1!S277 -> 5711.6113 | C41: =+B41/B$33*100 -> 0.4500423 | D41: =+F41+H41+J41 -> 2489.4741 | E41: =IF(ISNUMBER(D41/$B41*100),D41/$B41*100,0) -> 43.586196 | F41: =[1]Sheet1!U277 -> 0 | G41: =IF(ISNUMBER(F41/$B41*100),F41/$B41*100,0) -> 0 | H41: =[1]Sheet1!W277 -> 2489.4741 | I41: =IF(ISNUMBER(H41/$B41*100),H41/$B41*100,0) -> 43.586196 | J41: =[1]Sheet1!Y277 -> 0 | K41: =IF(ISNUMBER(J41/$B41*100),J41/$B41*100,0) -> 0 | L41: =[1]Sheet1!AA277 -> 3222.1372 | M41: =IF(ISNUMBER(L41/$B41*100),L41/$B41*100,0) -> 56.413804 | N41: =[1]Sheet1!AE277 -> 0 | O41: =IF(ISNUMBER(N41/$B41*100),N41/$B41*100,0) -> 0 | P41: =[1]Sheet1!AG277 -> 0 | Q41: =IF(ISNUMBER(P41/$B41*100),P41/$B41*100,0) -> 0
A42: No declara Ingresos | B42: =[1]Sheet1!S278 -> 295235.09 | C42: =+B42/B$33*100 -> 23.262836 | D42: =+F42+H42+J42 -> 153941.97 | E42: =IF(ISNUMBER(D42/$B42*100),D42/$B42*100,0) -> 52.142167 | F42: =[1]Sheet1!U278 -> 17895.277 | G42: =IF(ISNUMBER(F42/$B42*100),F42/$B42*100,0) -> 6.0613652 | H42: =[1]Sheet1!W278 -> 133897.1 | I42: =IF(ISNUMBER(H42/$B42*100),H42/$B42*100,0) -> 45.352707 | J42: =[1]Sheet1!Y278 -> 2149.5925 | K42: =IF(ISNUMBER(J42/$B42*100),J42/$B42*100,0) -> 0.72809518 | L42: =[1]Sheet1!AA278 -> 54273.729 | M42: =IF(ISNUMBER(L42/$B42*100),L42/$B42*100,0) -> 18.383224 | N42: =[1]Sheet1!AE278 -> 21095.19 | O42: =IF(ISNUMBER(N42/$B42*100),N42/$B42*100,0) -> 7.1452179 | P42: =[1]Sheet1!AG278 -> 65924.196 | Q42: =IF(ISNUMBER(P42/$B42*100),P42/$B42*100,0) -> 22.329391
A44: ='C01'!A40 -> Fuente: Instituto Nacional de Estadística (INE). LXXIII Encuesta Permanente de Hogares de Propósitos Múltiples, Otubre 2021
A45: 1/ Porcentaje por columna
A46: 2/ Porcentaje por filas
A47: 3/ No. de salarios mínimos (personas que declaran ingresos) y trabajan 40 Hrs.en ele sector Publico y 44 Hrs.en el sector Privado
A51: Cuadro No. 4. Población de 12 a 30 años por condición de trabajo y años de estudio, según dominio, nivel educativo, rango de edad, sexo, número de salarios mínimos, rama de actividad y ocupación
...

Sheet C05
A1: Cuadro No. 5. Población de 12 a 30 años por condición de trabajo, según nivel educativo del jefe, rango de edad del jefe, sexo del jefe de hogar, condición de actividad del jefe de hogar y conformación del hogar
A3: Categorías | B3: Total ocupados | D3: Trabajan | L3: Cuenta Propia | N3: Trabajador no remunerado | P3: Contratista Dependiente
D4: Total | F4: Publico | H4: Privado | J4: Domestico
B5: No. | C5: % 1/ | D5: No. | E5: % 2/ | F5: No. | G5: % 2/ | H5: No. | I5: % 2/ | J5: No. | K5: % 2/ | L5: No. | M5: % 2/ | N5: No. | O5: % 2/ | P5: No. | Q5: % 2/
A7: Total Nacional 2/ | B7: =[1]Sheet1!S325 -> 1348514.7 | C7: =SUM(C10:C14) -> 100 | D7: =+F7+H7+J7 -> 1000331.5 | E7: =+D7/$B7*100 -> 74.180239 | F7: =[1]Sheet1!U325 -> 53695.127 | G7: =+F7/$B7*100 -> 3.9817976 | H7: =[1]Sheet1!W325 -> 898754.66 | I7: =+H7/$B7*100 -> 66.647745 | J7: =[1]Sheet1!Y325 -> 47881.661 | K7: =+J7/$B7*100 -> 3.5506961 | L7: =[1]Sheet1!AA325 -> 181234.93 | M7: =+L7/$B7*100 -> 13.439596 | N7: =[1]Sheet1!AE325 -> 30298.767 | O7: =+N7/$B7*100 -> 2.2468251 | P7: =[1]Sheet1!AG325 -> 136649.59 | Q7: =+P7/$B7*100 -> 10.13334
A9: Nivel Educativo del jefe del Hogar
A10: Sin Nivel | B10: =[1]Sheet1!S326 -> 81186.676 | C10: =+B10/$B$7*100 -> 6.0204515 | D10: =+F10+H10+J10 -> 66313.674 | E10: =+D10/$B10*100 -> 81.680489 | F10: =[1]Sheet1!U326 -> 523.35304 | G10: =+F10/$B10*100 -> 0.64462923 | H10: =[1]Sheet1!W326 -> 63009.396 | I10: =+H10/$B10*100 -> 77.610514 | J10: =[1]Sheet1!Y326 -> 2780.9245 | K10: =+J10/$B10*100 -> 3.4253459 | L10: =[1]Sheet1!AA326 -> 4307.4582 | M10: =+L10/$B10*100 -> 5.3056221 | N10: =[1]Sheet1!AE326 -> 843.23814 | O10: =+N10/$B10*100 -> 1.0386411 | P10: =[1]Sheet1!AG326 -> 9722.3057 | Q10: =+P10/$B10*100 -> 11.975248
A11: Primaria | B11: =[1]Sheet1!S327 -> 695657.1 | C11: =+B11/$B$7*100 -> 51.586912 | D11: =+F11+H11+J11 -> 511607.41 | E11: =+D11/$B11*100 -> 73.543045 | F11: =[1]Sheet1!U327 -> 20347.839 | G11: =+F11/$B11*100 -> 2.9249812 | H11: =[1]Sheet1!W327 -> 467981.45 | I11: =+H11/$B11*100 -> 67.271857 | J11: =[1]Sheet1!Y327 -> 23278.123 | K11: =+J11/$B11*100 -> 3.3462065 | L11: =[1]Sheet1!AA327 -> 81255.122 | M11: =+L11/$B11*100 -> 11.680341 | N11: =[1]Sheet1!AE327 -> 19174.215 | O11: =+N11/$B11*100 -> 2.7562739 | P11: =[1]Sheet1!AG327 -> 83620.352 | Q11: =+P11/$B11*100 -> 12.02034
A12: Secundaria | B12: =[1]Sheet1!S328 -> 424579.39 | C12: =+B12/$B$7*100 -> 31.484965 | D12: =+F12+H12+J12 -> 313968.05 | E12: =+D12/$B12*100 -> 73.948019 | F12: =[1]Sheet1!U328 -> 22813.017 | G12: =+F12/$B12*100 -> 5.3730863 | H12: =[1]Sheet1!W328 -> 276023.97 | I12: =+H12/$B12*100 -> 65.011155 | J12: =[1]Sheet1!Y328 -> 15131.064 | K12: =+J12/$B12*100 -> 3.5637772 | L12: =[1]Sheet1!AA328 -> 65102.172 | M12: =+L12/$B12*100 -> 15.333333 | N12: =[1]Sheet1!AE328 -> 8352.4684 | O12: =+N12/$B12*100 -> 1.9672336 | P12: =[1]Sheet1!AG328 -> 37156.703 | Q12: =+P12/$B12*100 -> 8.7514146
A13: Superior | B13: =[1]Sheet1!S329 -> 115435.13 | C13: =+B13/$B$7*100 -> 8.560168 | D13: =+F13+H13+J13 -> 84518.94 | E13: =+D13/$B13*100 -> 73.217695 | F13: =[1]Sheet1!U329 -> 8654.7928 | G13: =+F13/$B13*100 -> 7.4975382 | H13: =[1]Sheet1!W329 -> 71854.384 | I13: =+H13/$B13*100 -> 62.24655 | J13: =[1]Sheet1!Y329 -> 4009.7628 | K13: =+J13/$B13*100 -> 3.4736071 | L13: =[1]Sheet1!AA329 -> 26975.789 | M13: =+L13/$B13*100 -> 23.368787 | N13: =[1]Sheet1!AE329 -> 944.97211 | O13: =+N13/$B13*100 -> 0.81861746 | P13: =[1]Sheet1!AG329 -> 2995.4266 | Q13: =+P13/$B13*100 -> 2.5949004
A14: No sabe, no responde | B14: =[1]Sheet1!S330 -> 31656.435 | C14: =+B14/$B$7*100 -> 2.3475038 | D14: =+F14+H14+J14 -> 23923.372 | E14: =+D14/$B14*100 -> 75.571907 | F14: =[1]Sheet1!U330 -> 1356.1247 | G14: =+F14/$B14*100 -> 4.2838833 | H14: =[1]Sheet1!W330 -> 19885.46 | I14: =+H14/$B14*100 -> 62.816487 | J14: =[1]Sheet1!Y330 -> 2681.7865 | K14: =+J14/$B14*100 -> 8.4715367 | L14: =[1]Sheet1!AA330 -> 3594.3888 | M14: =+L14/$B14*100 -> 11.35437 | N14: =[1]Sheet1!AE330 -> 983.87323 | O14: =+N14/$B14*100 -> 3.1079723 | P14: =[1]Sheet1!AG330 -> 3154.8014 | Q14: =+P14/$B14*100 -> 9.9657508
A16: Rango de Edad del Jefe del Hogar
A17: Jefe menor e igual a 25 años | B17: =[1]Sheet1!S332 -> 593250.2 | C17: =+B17/$B$7*100 -> 43.99286 | D17: =+F17+H17+J17 -> 394238.92 | E17: =+D17/$B17*100 -> 66.454073 | F17: =[1]Sheet1!U332 -> 23166.612 | G17: =+F17/$B17*100 -> 3.9050322 | H17: =[1]Sheet1!W332 -> 347567.85 | I17: =+H17/$B17*100 -> 58.587059 | J17: =[1]Sheet1!Y332 -> 23504.465 | K17: =+J17/$B17*100 -> 3.9619818 | L17: =[1]Sheet1!AA332 -> 86696.293 | M17: =+L17/$B17*100 -> 14.613782 | N17: =[1]Sheet1!AE332 -> 21492.31 | O17: =+N17/$B17*100 -> 3.622807 | P17: =[1]Sheet1!AG332 -> 90822.677 | Q17: =+P17/$B17*100 -> 15.309338
A18: Jefe 26 a 30 años | B18: =[1]Sheet1!S333 -> 283171.62 | C18: =+B18/$B$7*100 -> 20.998778 | D18: =+F18+H18+J18 -> 189800.08 | E18: =+D18/$B18*100 -> 67.026519 | F18: =[1]Sheet1!U333 -> 16789.794 | G18: =+F18/$B18*100 -> 5.929194 | H18: =[1]Sheet1!W333 -> 164811.22 | I18: =+H18/$B18*100 -> 58.201887 | J18: =[1]Sheet1!Y333 -> 8199.0571 | K18: =+J18/$B18*100 -> 2.8954375 | L18: =[1]Sheet1!AA333 -> 60277.164 | M18: =+L18/$B18*100 -> 21.286443 | N18: =[1]Sheet1!AE333 -> 2270.6339 | O18: =+N18/$B18*100 -> 0.80185787 | P18: =[1]Sheet1!AG333 -> 30823.741 | Q18: =+P18/$B18*100 -> 10.88518
A19: Jefe 31 a 40 años | B19: =[1]Sheet1!S334 -> 125969.74 | C19: =+B19/$B$7*100 -> 9.3413694 | D19: =+F19+H19+J19 -> 103757.92 | E19: =+D19/$B19*100 -> 82.367335 | F19: =[1]Sheet1!U334 -> 5747.9164 | G19: =+F19/$B19*100 -> 4.5629341 | H19: =[1]Sheet1!W334 -> 94424.456 | I19: =+H19/$B19*100 -> 74.958044 | J19: =[1]Sheet1!Y334 -> 3585.5477 | K19: =+J19/$B19*100 -> 2.8463563 | L19: =[1]Sheet1!AA334 -> 10434.725 | M19: =+L19/$B19*100 -> 8.283517 | N19: =[1]Sheet1!AE334 -> 3996.9819 | O19: =+N19/$B19*100 -> 3.1729697 | P19: =[1]Sheet1!AG334 -> 7780.1165 | Q19: =+P19/$B19*100 -> 6.1761787
A20: Jefe 41 a 50 años | B20: =[1]Sheet1!S335 -> 169341.24 | C20: =+B20/$B$7*100 -> 12.557612 | D20: =+F20+H20+J20 -> 155608.77 | E20: =+D20/$B20*100 -> 91.890652 | F20: =[1]Sheet1!U335 -> 2110.6913 | G20: =+F20/$B20*100 -> 1.246413 | H20: =[1]Sheet1!W335 -> 149220.4 | I20: =+H20/$B20*100 -> 88.118165 | J20: =[1]Sheet1!Y335 -> 4277.6843 | K20: =+J20/$B20*100 -> 2.5260735 | L20: =[1]Sheet1!AA335 -> 9035.1963 | M20: =+L20/$B20*100 -> 5.3354966 | N20: =[1]Sheet1!AE335 -> 1855.5461 | O20: =+N20/$B20*100 -> 1.0957437 | P20: =[1]Sheet1!AG335 -> 2841.7291 | Q20: =+P20/$B20*100 -> 1.6781081
A21: Jefe de 51 años y más | B21: =[1]Sheet1!S336 -> 176781.93 | C21: =+B21/$B$7*100 -> 13.109381 | D21: =+F21+H21+J21 -> 156925.76 | E21: =+D21/$B21*100 -> 88.767986 | F21: =[1]Sheet1!U336 -> 5880.1133 | G21: =+F21/$B21*100 -> 3.3261959 | H21: =[1]Sheet1!W336 -> 142730.74 | I21: =+H21/$B21*100 -> 80.738308 | J21: =[1]Sheet1!Y336 -> 8314.9065 | K21: =+J21/$B21*100 -> 4.7034821 | L21: =[1]Sheet1!AA336 -> 14791.551 | M21: =+L21/$B21*100 -> 8.3671169 | N21: =[1]Sheet1!AE336 -> 683.29559 | O21: =+N21/$B21*100 -> 0.38651891 | P21: =[1]Sheet1!AG336 -> 4381.3252 | Q21: =+P21/$B21*100 -> 2.4783784
A23: Sexo del jefe del hogar
A24: Hombre | B24: =[1]Sheet1!S338 -> 777434.15 | C24: =+B24/$B$7*100 -> 57.651142 | D24: =+F24+H24+J24 -> 561936.72 | E24: =+D24/$B24*100 -> 72.280942 | F24: =[1]Sheet1!U338 -> 31648.113 | G24: =+F24/$B24*100 -> 4.0708417 | H24: =[1]Sheet1!W338 -> 514641.41 | I24: =+H24/$B24*100 -> 66.197428 | J24: =[1]Sheet1!Y338 -> 15647.197 | K24: =+J24/$B24*100 -> 2.0126716 | L24: =[1]Sheet1!AA338 -> 92887.208 | M24: =+L24/$B24*100 -> 11.94792 | N24: =[1]Sheet1!AE338 -> 19299.478 | O24: =+N24/$B24*100 -> 2.4824583 | P24: =[1]Sheet1!AG338 -> 103310.74 | Q24: =+P24/$B24*100 -> 13.28868
A25: Mujer | B25: =[1]Sheet1!S339 -> 571080.59 | C25: =+B25/$B$7*100 -> 42.348858 | D25: =+F25+H25+J25 -> 438394.73 | E25: =+D25/$B25*100 -> 76.765826 | F25: =[1]Sheet1!U339 -> 22047.014 | G25: =+F25/$B25*100 -> 3.8605784 | H25: =[1]Sheet1!W339 -> 384113.25 | I25: =+H25/$B25*100 -> 67.260779 | J25: =[1]Sheet1!Y339 -> 32234.464 | K25: =+J25/$B25*100 -> 5.6444685 | L25: =[1]Sheet1!AA339 -> 88347.721 | M25: =+L25/$B25*100 -> 15.470272 | N25: =[1]Sheet1!AE339 -> 10999.289 | O25: =+N25/$B25*100 -> 1.9260485 | P25: =[1]Sheet1!AG339 -> 33338.85 | Q25: =+P25/$B25*100 -> 5.8378538
A27: Condición de actividad del jefe del hogar
A28: Ocupado | B28: =[1]Sheet1!S341 -> 1343069.4 | C28: =+B28/$B$7*100 -> 99.596199 | D28: =+F28+H28+J28 -> 996151 | E28: =+D28/$B28*100 -> 74.169732 | F28: =[1]Sheet1!U341 -> 53695.127 | G28: =+F28/$B28*100 -> 3.9979413 | H28: =[1]Sheet1!W341 -> 894574.21 | I28: =+H28/$B28*100 -> 66.606699 | J28: =[1]Sheet1!Y341 -> 47881.661 | K28: =+J28/$B28*100 -> 3.565092 | L28: =[1]Sheet1!AA341 -> 180813.31 | M28: =+L28/$B28*100 -> 13.462693 | N28: =[1]Sheet1!AE341 -> 29877.148 | O28: =+N28/$B28*100 -> 2.2245424 | P28: =[1]Sheet1!AG341 -> 136227.97 | Q28: =+P28/$B28*100 -> 10.143033
A29: Desocupado | B29: =[1]Sheet1!S342 -> 0 | C29: =+B29/$B$7*100 -> 0 | D29: =+F29+H29+J29 -> 0 | E29: =+D29/$B29*100 -> #DIV/0! | F29: =[1]Sheet1!U342 -> 0 | G29: =+F29/$B29*100 -> #DIV/0! | H29: =[1]Sheet1!W342 -> 0 | I29: =+H29/$B29*100 -> #DIV/0! | J29: =[1]Sheet1!Y342 -> 0 | K29: =+J29/$B29*100 -> #DIV/0! | L29: =[1]Sheet1!AA342 -> 0 | M29: =+L29/$B29*100 -> #DIV/0! | N29: =[1]Sheet1!AE342 -> 0 | O29: =+N29/$B29*100 -> #DIV/0! | P29: =[1]Sheet1!AG342 -> 0 | Q29: =+P29/$B29*100 -> #DIV/0!
A30: Inactivo | B30: =[1]Sheet1!S343 -> 5445.3105 | C30: =+B30/$B$7*100 -> 0.40380059 | D30: =+F30+H30+J30 -> 4180.4533 | E30: =+D30/$B30*100 -> 76.771624 | F30: =[1]Sheet1!U343 -> 0 | G30: =+F30/$B30*100 -> 0 | H30: =[1]Sheet1!W343 -> 4180.4533 | I30: =+H30/$B30*100 -> 76.771624 | J30: =[1]Sheet1!Y343 -> 0 | K30: =+J30/$B30*100 -> 0 | L30: =[1]Sheet1!AA343 -> 421.61907 | M30: =+L30/$B30*100 -> 7.7427921 | N30: =[1]Sheet1!AE343 -> 421.61907 | O30: =+N30/$B30*100 -> 7.7427921 | P30: =[1]Sheet1!AG343 -> 421.61907 | Q30: =+P30/$B30*100 -> 7.7427921
A32: Conformación del Hogar
A33: Vive con ambos padres | B33: =[1]Sheet1!S345 -> 449398.76 | C33: =+B33/$B$7*100 -> 33.325462 | D33: =+F33+H33+J33 -> 341291.81 | E33: =+D33/$B33*100 -> 75.944092 | F33: =[1]Sheet1!U345 -> 18308.424 | G33: =+F33/$B33*100 -> 4.0739817 | H33: =[1]Sheet1!W345 -> 310274.09 | I33: =+H33/$B33*100 -> 69.042044 | J33: =[1]Sheet1!Y345 -> 12709.294 | K33: =+J33/$B33*100 -> 2.8280661 | L33: =[1]Sheet1!AA345 -> 45590.026 | M33: =+L33/$B33*100 -> 10.144671 | N33: =[1]Sheet1!AE345 -> 20056.758 | O33: =+N33/$B33*100 -> 4.4630202 | P33: =[1]Sheet1!AG345 -> 42460.17 | Q33: =+P33/$B33*100 -> 9.4482169
A34: Vive solo con el padre | B34: =[1]Sheet1!S346 -> 134827.22 | C34: =+B34/$B$7*100 -> 9.9982014 | D34: =+F34+H34+J34 -> 89494.129 | E34: =+D34/$B34*100 -> 66.3769 | F34: =[1]Sheet1!U346 -> 8932.1231 | G34: =+F34/$B34*100 -> 6.6248664 | H34: =[1]Sheet1!W346 -> 78572.356 | I34: =+H34/$B34*100 -> 58.276331 | J34: =[1]Sheet1!Y346 -> 1989.6499 | K34: =+J34/$B34*100 -> 1.4757034 | L34: =[1]Sheet1!AA346 -> 18011.781 | M34: =+L34/$B34*100 -> 13.359158 | N34: =[1]Sheet1!AE346 -> 1507.2263 | O34: =+N34/$B34*100 -> 1.1178947 | P34: =[1]Sheet1!AG346 -> 25814.083 | Q34: =+P34/$B34*100 -> 19.146047
A35: Vive solo con la madre | B35: =[1]Sheet1!S347 -> 152478.74 | C35: =+B35/$B$7*100 -> 11.307162 | D35: =+F35+H35+J35 -> 126621.63 | E35: =+D35/$B35*100 -> 83.042149 | F35: =[1]Sheet1!U347 -> 5417.5649 | G35: =+F35/$B35*100 -> 3.5529968 | H35: =[1]Sheet1!W347 -> 112778.29 | I35: =+H35/$B35*100 -> 73.963289 | J35: =[1]Sheet1!Y347 -> 8425.7677 | K35: =+J35/$B35*100 -> 5.5258638 | L35: =[1]Sheet1!AA347 -> 16300.029 | M35: =+L35/$B35*100 -> 10.690034 | N35: =[1]Sheet1!AE347 -> 1165.7192 | O35: =+N35/$B35*100 -> 0.76451261 | P35: =[1]Sheet1!AG347 -> 8391.3695 | Q35: =+P35/$B35*100 -> 5.5033045
A36: No es hijo del jefe | B36: =[1]Sheet1!S348 -> 611810.01 | C36: =+B36/$B$7*100 -> 45.369175 | D36: =+F36+H36+J36 -> 442923.89 | E36: =+D36/$B36*100 -> 72.395658 | F36: =[1]Sheet1!U348 -> 21037.016 | G36: =+F36/$B36*100 -> 3.4384883 | H36: =[1]Sheet1!W348 -> 397129.92 | I36: =+H36/$B36*100 -> 64.910661 | J36: =[1]Sheet1!Y348 -> 24756.949 | K36: =+J36/$B36*100 -> 4.0465093 | L36: =[1]Sheet1!AA348 -> 101333.09 | M36: =+L36/$B36*100 -> 16.562837 | N36: =[1]Sheet1!AE348 -> 7569.0643 | O36: =+N36/$B36*100 -> 1.2371593 | P36: =[1]Sheet1!AG348 -> 59983.967 | Q36: =+P36/$B36*100 -> 9.8043454
A38: ='C01'!A40 -> Fuente: Instituto Nacional de Estadística (INE). LXXIII Encuesta Permanente de Hogares de Propósitos Múltiples, Otubre 2021
A39: 1/ Porcentaje por columna
A40: 2/ Porcentaje por filas

Sheet C06
A1: Cuadro No. 6. Población de 12 a 30 años por condición de actual, según dominio, nivel educativo, rango de edad y sexo
A3: Categorías | B3: Total población | D3: Total que no estudian | F3: Condición actual
F4: Solo trabaja | H4: Realiza quehaceres del hogar | J4: Discapacitado | L4: Menor de edad | N4: Otro
B5: No. | C5: % 1/ | D5: No. | E5: % 1/ | F5: No. | G5: % 1/ | H5: No. | I5: % 1/ | J5: No. | K5: % 1/ | L5: No. | M5: % 1/ | N5: No. | O5: % 1/
A7: Total Nacional 2/ | B7: =[1]Sheet1!Q356 -> 3354108.1 | C7: =SUM(C11:C14) -> 100 | D7: =[1]Sheet1!S356 -> 2314440.7 | E7: =+D7/$B7*100 -> 69.003163 | F7: =[1]Sheet1!U356 -> 1288773.3 | G7: =+F7/$D7*100 -> 55.684008 | H7: =[1]Sheet1!W356 -> 534252.25 | I7: =+H7/$D7*100 -> 23.083428 | J7: =[1]Sheet1!Y356 -> 24287.151 | K7: =+J7/$D7*100 -> 1.0493745 | L7: =[1]Sheet1!AA356 -> 20785.563 | M7: =+L7/$D7*100 -> 0.89808147 | N7: =[1]Sheet1!AC356 -> 446342.4 | O7: =+N7/$D7*100 -> 19.285108
A9: Dominio
A10: Urbano
A11: Distrito Central | B11: =[1]Sheet1!Q357 -> 388327.96 | C11: =+B11/B$7*100 -> 11.577682 | D11: =[1]Sheet1!S357 -> 210387.92 | E11: =+D11/D$7*100 -> 9.0902274 | F11: =[1]Sheet1!U357 -> 128221.49 | G11: =+F11/F$7*100 -> 9.9491114 | H11: =[1]Sheet1!W357 -> 30877.829 | I11: =+H11/H$7*100 -> 5.7796349 | J11: =[1]Sheet1!Y357 -> 3925.1478 | K11: =+J11/J$7*100 -> 16.161417 | L11: =[1]Sheet1!AA357 -> 1046.7061 | M11: =+L11/L$7*100 -> 5.035736 | N11: =[1]Sheet1!AC357 -> 46316.744 | O11: =+N11/N$7*100 -> 10.376954
A12: San Pedro Sula | B12: =[1]Sheet1!Q358 -> 221225.14 | C12: =+B12/B$7*100 -> 6.5956474 | D12: =[1]Sheet1!S358 -> 141572.07 | E12: =+D12/D$7*100 -> 6.116902 | F12: =[1]Sheet1!U358 -> 82959.429 | G12: =+F12/F$7*100 -> 6.4370846 | H12: =[1]Sheet1!W358 -> 24346.789 | I12: =+H12/H$7*100 -> 4.5571711 | J12: =[1]Sheet1!Y358 -> 2104.0435 | K12: =+J12/J$7*100 -> 8.6631961 | L12: =[1]Sheet1!AA358 -> 300.57764 | M12: =+L12/L$7*100 -> 1.4460885 | N12: =[1]Sheet1!AC358 -> 31861.23 | O12: =+N12/N$7*100 -> 7.1382935
A13: Resto urbano | B13: =[1]Sheet1!Q359 -> 1289126 | C13: =+B13/B$7*100 -> 38.43424 | D13: =[1]Sheet1!S359 -> 836336.16 | E13: =+D13/D$7*100 -> 36.135562 | F13: =[1]Sheet1!U359 -> 498287.8 | G13: =+F13/F$7*100 -> 38.663727 | H13: =[1]Sheet1!W359 -> 140889.14 | I13: =+H13/H$7*100 -> 26.371276 | J13: =[1]Sheet1!Y359 -> 6874.2445 | K13: =+J13/J$7*100 -> 28.304038 | L13: =[1]Sheet1!AA359 -> 11427.517 | M13: =+L13/L$7*100 -> 54.978145 | N13: =[1]Sheet1!AC359 -> 178857.46 | O13: =+N13/N$7*100 -> 40.071806
A14: Rural | B14: =[1]Sheet1!Q360 -> 1455429 | C14: =+B14/B$7*100 -> 43.392431 | D14: =[1]Sheet1!S360 -> 1126144.5 | E14: =+D14/D$7*100 -> 48.657308 | F14: =[1]Sheet1!U360 -> 579304.6 | G14: =+F14/F$7*100 -> 44.950077 | H14: =[1]Sheet1!W360 -> 338138.5 | I14: =+H14/H$7*100 -> 63.291918 | J14: =[1]Sheet1!Y360 -> 11383.715 | K14: =+J14/J$7*100 -> 46.871348 | L14: =[1]Sheet1!AA360 -> 8010.7624 | M14: =+L14/L$7*100 -> 38.540031 | N14: =[1]Sheet1!AC360 -> 189306.96 | O14: =+N14/N$7*100 -> 42.412947
A16: Nivel Educativo
A17: Sin Nivel | B17: =[1]Sheet1!Q362 -> 144448.65 | C17: =+B17/B$7*100 -> 4.3066188 | D17: =[1]Sheet1!S362 -> 76630.744 | E17: =+D17/D$7*100 -> 3.3109832 | F17: =[1]Sheet1!U362 -> 29641.393 | G17: =+F17/F$7*100 -> 2.2999694 | H17: =[1]Sheet1!W362 -> 20988.546 | I17: =+H17/H$7*100 -> 3.9285835 | J17: =[1]Sheet1!Y362 -> 14713.346 | K17: =+J17/J$7*100 -> 60.580782 | L17: =[1]Sheet1!AA362 -> 1587.3383 | M17: =+L17/L$7*100 -> 7.6367347 | N17: =[1]Sheet1!AC362 -> 9700.1208 | O17: =+N17/N$7*100 -> 2.1732466
A18: Primaria | B18: =[1]Sheet1!Q363 -> 1702925.4 | C18: =+B18/B$7*100 -> 50.771334 | D18: =[1]Sheet1!S363 -> 1261466.2 | E18: =+D18/D$7*100 -> 54.504149 | F18: =[1]Sheet1!U363 -> 646192.8 | G18: =+F18/F$7*100 -> 50.140144 | H18: =[1]Sheet1!W363 -> 359427.56 | I18: =+H18/H$7*100 -> 67.276752 | J18: =[1]Sheet1!Y363 -> 7434.6789 | K18: =+J18/J$7*100 -> 30.611573 | L18: =[1]Sheet1!AA363 -> 16464.475 | M18: =+L18/L$7*100 -> 79.211107 | N18: =[1]Sheet1!AC363 -> 231946.69 | O18: =+N18/N$7*100 -> 51.96609
A19: Secundaria | B19: =[1]Sheet1!Q364 -> 1122422.6 | C19: =+B19/B$7*100 -> 33.464117 | D19: =[1]Sheet1!S364 -> 807922.04 | E19: =+D19/D$7*100 -> 34.907874 | F19: =[1]Sheet1!U364 -> 490435.75 | G19: =+F19/F$7*100 -> 38.054461 | H19: =[1]Sheet1!W364 -> 135092.19 | I19: =+H19/H$7*100 -> 25.286218 | J19: =[1]Sheet1!Y364 -> 1877.4495 | K19: =+J19/J$7*100 -> 7.7302172 | L19: =[1]Sheet1!AA364 -> 2433.1724 | M19: =+L19/L$7*100 -> 11.706069 | N19: =[1]Sheet1!AC364 -> 178083.49 | O19: =+N19/N$7*100 -> 39.898403
A20: Superior | B20: =[1]Sheet1!Q365 -> 335438.5 | C20: =+B20/B$7*100 -> 10.000825 | D20: =[1]Sheet1!S365 -> 124775.97 | E20: =+D20/D$7*100 -> 5.3911931 | F20: =[1]Sheet1!U365 -> 92958.333 | G20: =+F20/F$7*100 -> 7.2129312 | H20: =[1]Sheet1!W365 -> 11641.941 | I20: =+H20/H$7*100 -> 2.1791095 | J20: =[1]Sheet1!Y365 -> 0 | K20: =+J20/J$7*100 -> 0 | L20: =[1]Sheet1!AA365 -> 0 | M20: =+L20/L$7*100 -> 0 | N20: =[1]Sheet1!AC365 -> 20175.693 | O20: =+N20/N$7*100 -> 4.5202277
A21: No sabe, no responde | B21: =[1]Sheet1!Q366 -> 48872.885 | C21: =+B21/B$7*100 -> 1.4571052 | D21: =[1]Sheet1!S366 -> 43645.726 | E21: =+D21/D$7*100 -> 1.8858001 | F21: =[1]Sheet1!U366 -> 29545.055 | G21: =+F21/F$7*100 -> 2.2924943 | H21: =[1]Sheet1!W366 -> 7102.0129 | I21: =+H21/H$7*100 -> 1.329337 | J21: =[1]Sheet1!Y366 -> 261.67652 | K21: =+J21/J$7*100 -> 1.0774278 | L21: =[1]Sheet1!AA366 -> 300.57764 | M21: =+L21/L$7*100 -> 1.4460885 | N21: =[1]Sheet1!AC366 -> 6436.404 | O21: =+N21/N$7*100 -> 1.4420329
A23: Rango de Edad
A24: De 12 a 14 años | B24: =[1]Sheet1!Q372 -> 565358.83 | C24: =+B24/B$7*100 -> 16.855713 | D24: =[1]Sheet1!S372 -> 199659.29 | E24: =+D24/D$7*100 -> 8.6266754 | F24: =[1]Sheet1!U372 -> 72175.833 | G24: =+F24/F$7*100 -> 5.6003512 | H24: =[1]Sheet1!W372 -> 61337.093 | I24: =+H24/H$7*100 -> 11.480924 | J24: =[1]Sheet1!Y372 -> 3053.6352 | K24: =+J24/J$7*100 -> 12.573048 | L24: =[1]Sheet1!AA372 -> 12556.732 | M24: =+L24/L$7*100 -> 60.410834 | N24: =[1]Sheet1!AC372 -> 50535.993 | O24: =+N24/N$7*100 -> 11.322248
A25: De 15 a 19 años | B25: =[1]Sheet1!Q373 -> 970848.99 | C25: =+B25/B$7*100 -> 28.945072 | D25: =[1]Sheet1!S373 -> 540873.74 | E25: =+D25/D$7*100 -> 23.369522 | F25: =[1]Sheet1!U373 -> 258052.55 | G25: =+F25/F$7*100 -> 20.023114 | H25: =[1]Sheet1!W373 -> 141705.7 | I25: =+H25/H$7*100 -> 26.524119 | J25: =[1]Sheet1!Y373 -> 5475.7734 | K25: =+J25/J$7*100 -> 22.545969 | L25: =[1]Sheet1!AA373 -> 6219.8736 | M25: =+L25/L$7*100 -> 29.924008 | N25: =[1]Sheet1!AC373 -> 129419.84 | O25: =+N25/N$7*100 -> 28.995641
A26: De 20 a 24 años | B26: =[1]Sheet1!Q374 -> 987744.99 | C26: =+B26/B$7*100 -> 29.448812 | D26: =[1]Sheet1!S374 -> 817191.86 | E26: =+D26/D$7*100 -> 35.308395 | F26: =[1]Sheet1!U374 -> 476533.91 | G26: =+F26/F$7*100 -> 36.975774 | H26: =[1]Sheet1!W374 -> 178510.67 | I26: =+H26/H$7*100 -> 33.41318 | J26: =[1]Sheet1!Y374 -> 7360.8119 | K26: =+J26/J$7*100 -> 30.307433 | L26: =[1]Sheet1!AA374 -> 1165.7192 | M26: =+L26/L$7*100 -> 5.608312 | N26: =[1]Sheet1!AC374 -> 153620.74 | O26: =+N26/N$7*100 -> 34.41769
