Workbook

Sheet Portada

Sheet C01
A1: Cuadro No. 1. Población en Edad de Trabajar (PET), Población Económicamente Activa (PEA) y Tasa de Participación (TP)
A2: según dominio, quintil del ingreso de hogar, nivel educativo y rango de edad
A4: Categorías | B4: Población en Edad de Trabajar (PET) | H4: Población Económicamente Activa (PEA) | N4: Tasa de Participación (TP)
B5: Total | C5: % 1/ | D5: Hombre | E5: % 1/ | F5: Mujer | G5: % 1/ | H5: Total | I5: % 1/ | J5: Hombre | K5: % 1/ | L5: Mujer | M5: % 1/ | N5: Total | O5: Hombre | P5: Mujer
A7: Total Nacional 2/ | B7: =[1]MercLab!C7 -> 6748693.5 | C7: =SUM(E7,G7) -> 100 | D7: =[1]MercLab!D7 -> 3169731.4 | E7: =IF(ISNUMBER(D7/$B$7*100),D7/$B$7*100,0) -> 46.968074 | F7: =[1]MercLab!E7 -> 3578962.1 | G7: =IF(ISNUMBER(F7/$B$7*100),F7/$B$7*100,0) -> 53.031926 | H7: =[1]MercLab!F7 -> 3935335.4 | I7: =SUM(K7,M7) -> 100 | J7: =[1]MercLab!G7 -> 2358246.8 | K7: =IF(ISNUMBER(J7/$H$7*100),J7/$H$7*100,0) -> 59.924926 | L7: =[1]MercLab!H7 -> 1577088.6 | M7: =IF(ISNUMBER(L7/$H$7*100),L7/$H$7*100,0) -> 40.075074 | N7: =IF(ISNUMBER(H7/B7*100),H7/B7*100,0) -> 58.312552 | O7: =IF(ISNUMBER(J7/D7*100),J7/D7*100,0) -> 74.398949 | P7: =IF(ISNUMBER(L7/F7*100),L7/F7*100,0) -> 44.065529
A9: Dominio
A10: Urbano | B10: =SUM(B11:B13) -> 3716493.6 | C10: =IF(ISNUMBER(B10/B$7*100),B10/B$7*100,0) -> 55.069824 | D10: =SUM(D11:D13) -> 1662791.2 | E10: =IF(ISNUMBER(D10/D$7*100),D10/D$7*100,0) -> 52.458427 | F10: =SUM(F11:F13) -> 2053702.4 | G10: =IF(ISNUMBER(F10/F$7*100),F10/F$7*100,0) -> 57.382624 | H10: =SUM(H11:H13) -> 2121726.4 | I10: =IF(ISNUMBER(H10/H$7*100),H10/H$7*100,0) -> 53.914753 | J10: =SUM(J11:J13) -> 1134919.5 | K10: =IF(ISNUMBER(J10/J$7*100),J10/J$7*100,0) -> 48.125562 | L10: =SUM(L11:L13) -> 986806.83 | M10: =IF(ISNUMBER(L10/L$7*100),L10/L$7*100,0) -> 62.571427 | N10: =IF(ISNUMBER(H10/B10*100),H10/B10*100,0) -> 57.089467 | O10: =IF(ISNUMBER(J10/D10*100),J10/D10*100,0) -> 68.253881 | P10: =IF(ISNUMBER(L10/F10*100),L10/F10*100,0) -> 48.050138
A11: Distrito Central | B11: =[1]MercLab!C8 -> 887883.24 | C11: =IF(ISNUMBER(B11/B$7*100),B11/B$7*100,0) -> 13.156372 | D11: =[1]MercLab!D8 -> 393979.95 | E11: =IF(ISNUMBER(D11/D$7*100),D11/D$7*100,0) -> 12.429443 | F11: =[1]MercLab!E8 -> 493903.28 | G11: =IF(ISNUMBER(F11/F$7*100),F11/F$7*100,0) -> 13.800182 | H11: =[1]MercLab!F8 -> 496872.85 | I11: =IF(ISNUMBER(H11/H$7*100),H11/H$7*100,0) -> 12.625934 | J11: =[1]MercLab!G8 -> 263093.24 | K11: =IF(ISNUMBER(J11/J$7*100),J11/J$7*100,0) -> 11.156306 | L11: =[1]MercLab!H8 -> 233779.61 | M11: =IF(ISNUMBER(L11/L$7*100),L11/L$7*100,0) -> 14.823493 | N11: =IF(ISNUMBER(H11/B11*100),H11/B11*100,0) -> 55.961508 | O11: =IF(ISNUMBER(J11/D11*100),J11/D11*100,0) -> 66.778331 | P11: =IF(ISNUMBER(L11/F11*100),L11/F11*100,0) -> 47.333075
A12: San Pedro Sula | B12: =[1]MercLab!C9 -> 572739.64 | C12: =IF(ISNUMBER(B12/B$7*100),B12/B$7*100,0) -> 8.4866745 | D12: =[1]MercLab!D9 -> 262414.63 | E12: =IF(ISNUMBER(D12/D$7*100),D12/D$7*100,0) -> 8.2787656 | F12: =[1]MercLab!E9 -> 310325.01 | G12: =IF(ISNUMBER(F12/F$7*100),F12/F$7*100,0) -> 8.6708103 | H12: =[1]MercLab!F9 -> 348184.55 | I12: =IF(ISNUMBER(H12/H$7*100),H12/H$7*100,0) -> 8.8476461 | J12: =[1]MercLab!G9 -> 182007.82 | K12: =IF(ISNUMBER(J12/J$7*100),J12/J$7*100,0) -> 7.7179291 | L12: =[1]MercLab!H9 -> 166176.73 | M12: =IF(ISNUMBER(L12/L$7*100),L12/L$7*100,0) -> 10.536931 | N12: =IF(ISNUMBER(H12/B12*100),H12/B12*100,0) -> 60.792814 | O12: =IF(ISNUMBER(J12/D12*100),J12/D12*100,0) -> 69.358868 | P12: =IF(ISNUMBER(L12/F12*100),L12/F12*100,0) -> 53.549254
A13: Resto urbano | B13: =[1]MercLab!C10 -> 2255870.7 | C13: =IF(ISNUMBER(B13/B$7*100),B13/B$7*100,0) -> 33.426777 | D13: =[1]MercLab!D10 -> 1006396.6 | E13: =IF(ISNUMBER(D13/D$7*100),D13/D$7*100,0) -> 31.750218 | F13: =[1]MercLab!E10 -> 1249474.1 | G13: =IF(ISNUMBER(F13/F$7*100),F13/F$7*100,0) -> 34.911632 | H13: =[1]MercLab!F10 -> 1276669 | I13: =IF(ISNUMBER(H13/H$7*100),H13/H$7*100,0) -> 32.441173 | J13: =[1]MercLab!G10 -> 689818.47 | K13: =IF(ISNUMBER(J13/J$7*100),J13/J$7*100,0) -> 29.251327 | L13: =[1]MercLab!H10 -> 586850.49 | M13: =IF(ISNUMBER(L13/L$7*100),L13/L$7*100,0) -> 37.211004 | N13: =IF(ISNUMBER(H13/B13*100),H13/B13*100,0) -> 56.59318 | O13: =IF(ISNUMBER(J13/D13*100),J13/D13*100,0) -> 68.543402 | P13: =IF(ISNUMBER(L13/F13*100),L13/F13*100,0) -> 46.9678
A14: Rural | B14: =[1]MercLab!C11 -> 3032199.9 | C14: =IF(ISNUMBER(B14/B$7*100),B14/B$7*100,0) -> 44.930176 | D14: =[1]MercLab!D11 -> 1506940.2 | E14: =IF(ISNUMBER(D14/D$7*100),D14/D$7*100,0) -> 47.541573 | F14: =[1]MercLab!E11 -> 1525259.7 | G14: =IF(ISNUMBER(F14/F$7*100),F14/F$7*100,0) -> 42.617376 | H14: =[1]MercLab!F11 -> 1813609 | I14: =IF(ISNUMBER(H14/H$7*100),H14/H$7*100,0) -> 46.085247 | J14: =[1]MercLab!G11 -> 1223327.3 | K14: =IF(ISNUMBER(J14/J$7*100),J14/J$7*100,0) -> 51.874438 | L14: =[1]MercLab!H11 -> 590281.74 | M14: =IF(ISNUMBER(L14/L$7*100),L14/L$7*100,0) -> 37.428573 | N14: =IF(ISNUMBER(H14/B14*100),H14/B14*100,0) -> 59.811658 | O14: =IF(ISNUMBER(J14/D14*100),J14/D14*100,0) -> 81.179552 | P14: =IF(ISNUMBER(L14/F14*100),L14/F14*100,0) -> 38.700409
A16: Quintil de Ingreso
A17: Quintil 1 | B17: =[1]MercLab!C13 -> 1430686.3 | C17: =IF(ISNUMBER(B17/B$7*100),B17/B$7*100,0) -> 21.199456 | D17: =[1]MercLab!D13 -> 680555.41 | E17: =IF(ISNUMBER(D17/D$7*100),D17/D$7*100,0) -> 21.470445 | F17: =[1]MercLab!E13 -> 750130.89 | G17: =IF(ISNUMBER(F17/F$7*100),F17/F$7*100,0) -> 20.959453 | H17: =[1]MercLab!F13 -> 750267.1 | I17: =IF(ISNUMBER(H17/H$7*100),H17/H$7*100,0) -> 19.064883 | J17: =[1]MercLab!G13 -> 523030.51 | K17: =IF(ISNUMBER(J17/J$7*100),J17/J$7*100,0) -> 22.178786 | L17: =[1]MercLab!H13 -> 227236.6 | M17: =IF(ISNUMBER(L17/L$7*100),L17/L$7*100,0) -> 14.408613 | N17: =IF(ISNUMBER(H17/B17*100),H17/B17*100,0) -> 52.441063 | O17: =IF(ISNUMBER(J17/D17*100),J17/D17*100,0) -> 76.853478 | P17: =IF(ISNUMBER(L17/F17*100),L17/F17*100,0) -> 30.292926
A18: Quintil 2 | B18: =[1]MercLab!C14 -> 1429097.9 | C18: =IF(ISNUMBER(B18/B$7*100),B18/B$7*100,0) -> 21.17592 | D18: =[1]MercLab!D14 -> 678390.54 | E18: =IF(ISNUMBER(D18/D$7*100),D18/D$7*100,0) -> 21.402146 | F18: =[1]MercLab!E14 -> 750707.37 | G18: =IF(ISNUMBER(F18/F$7*100),F18/F$7*100,0) -> 20.975561 | H18: =[1]MercLab!F14 -> 797012.77 | I18: =IF(ISNUMBER(H18/H$7*100),H18/H$7*100,0) -> 20.252728 | J18: =[1]MercLab!G14 -> 497824.74 | K18: =IF(ISNUMBER(J18/J$7*100),J18/J$7*100,0) -> 21.109951 | L18: =[1]MercLab!H14 -> 299188.03 | M18: =IF(ISNUMBER(L18/L$7*100),L18/L$7*100,0) -> 18.970909 | N18: =IF(ISNUMBER(H18/B18*100),H18/B18*100,0) -> 55.770341 | O18: =IF(ISNUMBER(J18/D18*100),J18/D18*100,0) -> 73.383208 | P18: =IF(ISNUMBER(L18/F18*100),L18/F18*100,0) -> 39.854149
A19: Quintil 3 | B19: =[1]MercLab!C15 -> 1332788.2 | C19: =IF(ISNUMBER(B19/B$7*100),B19/B$7*100,0) -> 19.748833 | D19: =[1]MercLab!D15 -> 619657.26 | E19: =IF(ISNUMBER(D19/D$7*100),D19/D$7*100,0) -> 19.549204 | F19: =[1]MercLab!E15 -> 713130.91 | G19: =IF(ISNUMBER(F19/F$7*100),F19/F$7*100,0) -> 19.925635 | H19: =[1]MercLab!F15 -> 775379.82 | I19: =IF(ISNUMBER(H19/H$7*100),H19/H$7*100,0) -> 19.703018 | J19: =[1]MercLab!G15 -> 464088.87 | K19: =IF(ISNUMBER(J19/J$7*100),J19/J$7*100,0) -> 19.679402 | L19: =[1]MercLab!H15 -> 311290.95 | M19: =IF(ISNUMBER(L19/L$7*100),L19/L$7*100,0) -> 19.73833 | N19: =IF(ISNUMBER(H19/B19*100),H19/B19*100,0) -> 58.177274 | O19: =IF(ISNUMBER(J19/D19*100),J19/D19*100,0) -> 74.894445 | P19: =IF(ISNUMBER(L19/F19*100),L19/F19*100,0) -> 43.651305
A20: Quintil 4 | B20: =[1]MercLab!C16 -> 1332828.5 | C20: =IF(ISNUMBER(B20/B$7*100),B20/B$7*100,0) -> 19.74943 | D20: =[1]MercLab!D16 -> 620139.53 | E20: =IF(ISNUMBER(D20/D$7*100),D20/D$7*100,0) -> 19.564419 | F20: =[1]MercLab!E16 -> 712688.93 | G20: =IF(ISNUMBER(F20/F$7*100),F20/F$7*100,0) -> 19.913285 | H20: =[1]MercLab!F16 -> 816635.08 | I20: =IF(ISNUMBER(H20/H$7*100),H20/H$7*100,0) -> 20.751347 | J20: =[1]MercLab!G16 -> 453178.9 | K20: =IF(ISNUMBER(J20/J$7*100),J20/J$7*100,0) -> 19.216772 | L20: =[1]MercLab!H16 -> 363456.18 | M20: =IF(ISNUMBER(L20/L$7*100),L20/L$7*100,0) -> 23.046022 | N20: =IF(ISNUMBER(H20/B20*100),H20/B20*100,0) -> 61.270832 | O20: =IF(ISNUMBER(J20/D20*100),J20/D20*100,0) -> 73.076925 | P20: =IF(ISNUMBER(L20/F20*100),L20/F20*100,0) -> 50.997871
A21: Quintil 5 | B21: =[1]MercLab!C17 -> 1192414.2 | C21: =IF(ISNUMBER(B21/B$7*100),B21/B$7*100,0) -> 17.668816 | D21: =[1]MercLab!D17 -> 558295.49 | E21: =IF(ISNUMBER(D21/D$7*100),D21/D$7*100,0) -> 17.613338 | F21: =[1]MercLab!E17 -> 634118.72 | G21: =IF(ISNUMBER(F21/F$7*100),F21/F$7*100,0) -> 17.71795 | H21: =[1]MercLab!F17 -> 784437.06 | I21: =IF(ISNUMBER(H21/H$7*100),H21/H$7*100,0) -> 19.933169 | J21: =[1]MercLab!G17 -> 413196.36 | K21: =IF(ISNUMBER(J21/J$7*100),J21/J$7*100,0) -> 17.521337 | L21: =[1]MercLab!H17 -> 371240.69 | M21: =IF(ISNUMBER(L21/L$7*100),L21/L$7*100,0) -> 23.539622 | N21: =IF(ISNUMBER(H21/B21*100),H21/B21*100,0) -> 65.785618 | O21: =IF(ISNUMBER(J21/D21*100),J21/D21*100,0) -> 74.010335 | P21: =IF(ISNUMBER(L21/F21*100),L21/F21*100,0) -> 58.544352
A22: No Declaran Ingresos | B22: =[1]MercLab!C18 -> 30878.406 | C22: =IF(ISNUMBER(B22/B$7*100),B22/B$7*100,0) -> 0.45754642 | D22: =[1]MercLab!D18 -> 12693.124 | E22: =IF(ISNUMBER(D22/D$7*100),D22/D$7*100,0) -> 0.40044795 | F22: =[1]MercLab!E18 -> 18185.281 | G22: =IF(ISNUMBER(F22/F$7*100),F22/F$7*100,0) -> 0.50811606 | H22: =[1]MercLab!F18 -> 11603.538 | I22: =IF(ISNUMBER(H22/H$7*100),H22/H$7*100,0) -> 0.29485513 | J22: =[1]MercLab!G18 -> 6927.4253 | K22: =IF(ISNUMBER(J22/J$7*100),J22/J$7*100,0) -> 0.29375319 | L22: =[1]MercLab!H18 -> 4676.1129 | M22: =IF(ISNUMBER(L22/L$7*100),L22/L$7*100,0) -> 0.29650287 | N22: =IF(ISNUMBER(H22/B22*100),H22/B22*100,0) -> 37.578165 | O22: =IF(ISNUMBER(J22/D22*100),J22/D22*100,0) -> 54.576203 | P22: =IF(ISNUMBER(L22/F22*100),L22/F22*100,0) -> 25.713723
A24: Nivel Educativo
A25: Sin Nivel | B25: =[1]MercLab!C20 -> 650117.89 | C25: =IF(ISNUMBER(B25/B$7*100),B25/B$7*100,0) -> 9.6332408 | D25: =[1]MercLab!D20 -> 302679.64 | E25: =IF(ISNUMBER(D25/D$7*100),D25/D$7*100,0) -> 9.5490628 | F25: =[1]MercLab!E20 -> 347438.25 | G25: =IF(ISNUMBER(F25/F$7*100),F25/F$7*100,0) -> 9.7077935 | H25: =[1]MercLab!F20 -> 366119.76 | I25: =IF(ISNUMBER(H25/H$7*100),H25/H$7*100,0) -> 9.3033942 | J25: =[1]MercLab!G20 -> 241443.08 | K25: =IF(ISNUMBER(J25/J$7*100),J25/J$7*100,0) -> 10.238245 | L25: =[1]MercLab!H20 -> 124676.68 | M25: =IF(ISNUMBER(L25/L$7*100),L25/L$7*100,0) -> 7.9054962 | N25: =IF(ISNUMBER(H25/B25*100),H25/B25*100,0) -> 56.315904 | O25: =IF(ISNUMBER(J25/D25*100),J25/D25*100,0) -> 79.768526 | P25: =IF(ISNUMBER(L25/F25*100),L25/F25*100,0) -> 35.884557
A26: Primaria | B26: =[1]MercLab!C21 -> 3548814.2 | C26: =IF(ISNUMBER(B26/B$7*100),B26/B$7*100,0) -> 52.585203 | D26: =[1]MercLab!D21 -> 1746827.9 | E26: =IF(ISNUMBER(D26/D$7*100),D26/D$7*100,0) -> 55.109651 | F26: =[1]MercLab!E21 -> 1801986.3 | G26: =IF(ISNUMBER(F26/F$7*100),F26/F$7*100,0) -> 50.34941 | H26: =[1]MercLab!F21 -> 2035428.3 | I26: =IF(ISNUMBER(H26/H$7*100),H26/H$7*100,0) -> 51.721852 | J26: =[1]MercLab!G21 -> 1331601.8 | K26: =IF(ISNUMBER(J26/J$7*100),J26/J$7*100,0) -> 56.46575 | L26: =[1]MercLab!H21 -> 703826.58 | M26: =IF(ISNUMBER(L26/L$7*100),L26/L$7*100,0) -> 44.628221 | N26: =IF(ISNUMBER(H26/B26*100),H26/B26*100,0) -> 57.355168 | O26: =IF(ISNUMBER(J26/D26*100),J26/D26*100,0) -> 76.229706 | P26: =IF(ISNUMBER(L26/F26*100),L26/F26*100,0) -> 39.058376
A27: Secundaria | B27: =[1]MercLab!C22 -> 1964496.1 | C27: =IF(ISNUMBER(B27/B$7*100),B27/B$7*100,0) -> 29.109281 | D27: =[1]MercLab!D22 -> 862583.31 | E27: =IF(ISNUMBER(D27/D$7*100),D27/D$7*100,0) -> 27.213136 | F27: =[1]MercLab!E22 -> 1101912.8 | G27: =IF(ISNUMBER(F27/F$7*100),F27/F$7*100,0) -> 30.788613 | H27: =[1]MercLab!F22 -> 1130542.3 | I27: =IF(ISNUMBER(H27/H$7*100),H27/H$7*100,0) -> 28.727979 | J27: =[1]MercLab!G22 -> 597475.65 | K27: =IF(ISNUMBER(J27/J$7*100),J27/J$7*100,0) -> 25.335586 | L27: =[1]MercLab!H22 -> 533066.68 | M27: =IF(ISNUMBER(L27/L$7*100),L27/L$7*100,0) -> 33.800681 | N27: =IF(ISNUMBER(H27/B27*100),H27/B27*100,0) -> 57.548718 | O27: =IF(ISNUMBER(J27/D27*100),J27/D27*100,0) -> 69.265848 | P27: =IF(ISNUMBER(L27/F27*100),L27/F27*100,0) -> 48.376484
A28: Superior | B28: =[1]MercLab!C23 -> 563760.34 | C28: =IF(ISNUMBER(B28/B$7*100),B28/B$7*100,0) -> 8.353622 | D28: =[1]MercLab!D23 -> 241733.63 | E28: =IF(ISNUMBER(D28/D$7*100),D28/D$7*100,0) -> 7.6263129 | F28: =[1]MercLab!E23 -> 322026.71 | G28: =IF(ISNUMBER(F28/F$7*100),F28/F$7*100,0) -> 8.9977681 | H28: =[1]MercLab!F23 -> 388368.06 | I28: =IF(ISNUMBER(H28/H$7*100),H28/H$7*100,0) -> 9.8687412 | J28: =[1]MercLab!G23 -> 175795.41 | K28: =IF(ISNUMBER(J28/J$7*100),J28/J$7*100,0) -> 7.454496 | L28: =[1]MercLab!H23 -> 212572.65 | M28: =IF(ISNUMBER(L28/L$7*100),L28/L$7*100,0) -> 13.478802 | N28: =IF(ISNUMBER(H28/B28*100),H28/B28*100,0) -> 68.888858 | O28: =IF(ISNUMBER(J28/D28*100),J28/D28*100,0) -> 72.722779 | P28: =IF(ISNUMBER(L28/F28*100),L28/F28*100,0) -> 66.010875
A29: No sabe, no responde | B29: =[1]MercLab!C24 -> 21504.935 | C29: =IF(ISNUMBER(B29/B$7*100),B29/B$7*100,0) -> 0.31865331 | D29: =[1]MercLab!D24 -> 15906.892 | E29: =IF(ISNUMBER(D29/D$7*100),D29/D$7*100,0) -> 0.50183722 | F29: =[1]MercLab!E24 -> 5598.0431 | G29: =IF(ISNUMBER(F29/F$7*100),F29/F$7*100,0) -> 0.15641527 | H29: =[1]MercLab!F24 -> 14876.889 | I29: =IF(ISNUMBER(H29/H$7*100),H29/H$7*100,0) -> 0.37803356 | J29: =[1]MercLab!G24 -> 11930.899 | K29: =IF(ISNUMBER(J29/J$7*100),J29/J$7*100,0) -> 0.5059224 | L29: =[1]MercLab!H24 -> 2945.9899 | M29: =IF(ISNUMBER(L29/L$7*100),L29/L$7*100,0) -> 0.18679927 | N29: =IF(ISNUMBER(H29/B29*100),H29/B29*100,0) -> 69.178952 | O29: =IF(ISNUMBER(J29/D29*100),J29/D29*100,0) -> 75.004589 | P29: =IF(ISNUMBER(L29/F29*100),L29/F29*100,0) -> 52.625351
A31: Rango de edad
A32: De 10 a 11 años | B32: =[1]MercLab!C26 -> 364755.55 | C32: =IF(ISNUMBER(B32/B$7*100),B32/B$7*100,0) -> 5.4048321 | D32: =[1]MercLab!D26 -> 185519.47 | E32: =IF(ISNUMBER(D32/D$7*100),D32/D$7*100,0) -> 5.8528453 | F32: =[1]MercLab!E26 -> 179236.08 | G32: =IF(ISNUMBER(F32/F$7*100),F32/F$7*100,0) -> 5.0080462 | H32: =[1]MercLab!F26 -> 25683.493 | I32: =IF(ISNUMBER(H32/H$7*100),H32/H$7*100,0) -> 0.65263798 | J32: =[1]MercLab!G26 -> 17542.371 | K32: =IF(ISNUMBER(J32/J$7*100),J32/J$7*100,0) -> 0.74387341 | L32: =[1]MercLab!H26 -> 8141.1222 | M32: =IF(ISNUMBER(L32/L$7*100),L32/L$7*100,0) -> 0.51621211 | N32: =IF(ISNUMBER(H32/B32*100),H32/B32*100,0) -> 7.0412892 | O32: =IF(ISNUMBER(J32/D32*100),J32/D32*100,0) -> 9.4558111 | P32: =IF(ISNUMBER(L32/F32*100),L32/F32*100,0) -> 4.5421226
A33: De 12 a 14 años | B33: =[1]MercLab!C27 -> 604744.3 | C33: =IF(ISNUMBER(B33/B$7*100),B33/B$7*100,0) -> 8.9609093 | D33: =[1]MercLab!D27 -> 310166.94 | E33: =IF(ISNUMBER(D33/D$7*100),D33/D$7*100,0) -> 9.7852752 | F33: =[1]MercLab!E27 -> 294577.36 | G33: =IF(ISNUMBER(F33/F$7*100),F33/F$7*100,0) -> 8.2308042 | H33: =[1]MercLab!F27 -> 139896.4 | I33: =IF(ISNUMBER(H33/H$7*100),H33/H$7*100,0) -> 3.5548788 | J33: =[1]MercLab!G27 -> 101560.68 | K33: =IF(ISNUMBER(J33/J$7*100),J33/J$7*100,0) -> 4.3066178 | L33: =[1]MercLab!H27 -> 38335.725 | M33: =IF(ISNUMBER(L33/L$7*100),L33/L$7*100,0) -> 2.4307909 | N33: =IF(ISNUMBER(H33/B33*100),H33/B33*100,0) -> 23.133149 | O33: =IF(ISNUMBER(J33/D33*100),J33/D33*100,0) -> 32.743876 | P33: =IF(ISNUMBER(L33/F33*100),L33/F33*100,0) -> 13.013805
A34: De 15 a 18 años | B34: =[1]MercLab!C28 -> 867163.07 | C34: =IF(ISNUMBER(B34/B$7*100),B34/B$7*100,0) -> 12.849347 | D34: =[1]MercLab!D28 -> 452981.14 | E34: =IF(ISNUMBER(D34/D$7*100),D34/D$7*100,0) -> 14.290837 | F34: =[1]MercLab!E28 -> 414181.93 | G34: =IF(ISNUMBER(F34/F$7*100),F34/F$7*100,0) -> 11.572683 | H34: =[1]MercLab!F28 -> 398658.64 | I34: =IF(ISNUMBER(H34/H$7*100),H34/H$7*100,0) -> 10.130233 | J34: =[1]MercLab!G28 -> 268286.61 | K34: =IF(ISNUMBER(J34/J$7*100),J34/J$7*100,0) -> 11.376528 | L34: =[1]MercLab!H28 -> 130372.04 | M34: =IF(ISNUMBER(L34/L$7*100),L34/L$7*100,0) -> 8.2666276 | N34: =IF(ISNUMBER(H34/B34*100),H34/B34*100,0) -> 45.972742 | O34: =IF(ISNUMBER(J34/D34*100),J34/D34*100,0) -> 59.226881 | P34: =IF(ISNUMBER(L34/F34*100),L34/F34*100,0) -> 31.476998
A35: De 19 a 24 años | B35: =[1]MercLab!C29 -> 1031396.6 | C35: =IF(ISNUMBER(B35/B$7*100),B35/B$7*100,0) -> 15.282908 | D35: =[1]MercLab!D29 -> 485812.82 | E35: =IF(ISNUMBER(D35/D$7*100),D35/D$7*100,0) -> 15.326624 | F35: =[1]MercLab!E29 -> 545583.79 | G35: =IF(ISNUMBER(F35/F$7*100),F35/F$7*100,0) -> 15.24419 | H35: =[1]MercLab!F29 -> 675742.07 | I35: =IF(ISNUMBER(H35/H$7*100),H35/H$7*100,0) -> 17.171143 | J35: =[1]MercLab!G29 -> 412646.43 | K35: =IF(ISNUMBER(J35/J$7*100),J35/J$7*100,0) -> 17.498017 | L35: =[1]MercLab!H29 -> 263095.64 | M35: =IF(ISNUMBER(L35/L$7*100),L35/L$7*100,0) -> 16.682363 | N35: =IF(ISNUMBER(H35/B35*100),H35/B35*100,0) -> 65.51719 | O35: =IF(ISNUMBER(J35/D35*100),J35/D35*100,0) -> 84.939388 | P35: =IF(ISNUMBER(L35/F35*100),L35/F35*100,0) -> 48.222774
A36: De 25 a 29 años | B36: =[1]MercLab!C30 -> 633036.34 | C36: =IF(ISNUMBER(B36/B$7*100),B36/B$7*100,0) -> 9.3801318 | D36: =[1]MercLab!D30 -> 291692.71 | E36: =IF(ISNUMBER(D36/D$7*100),D36/D$7*100,0) -> 9.2024426 | F36: =[1]MercLab!E30 -> 341343.63 | G36: =IF(ISNUMBER(F36/F$7*100),F36/F$7*100,0) -> 9.5375034 | H36: =[1]MercLab!F30 -> 463179.21 | I36: =IF(ISNUMBER(H36/H$7*100),H36/H$7*100,0) -> 11.769752 | J36: =[1]MercLab!G30 -> 271482.45 | K36: =IF(ISNUMBER(J36/J$7*100),J36/J$7*100,0) -> 11.512046 | L36: =[1]MercLab!H30 -> 191696.75 | M36: =IF(ISNUMBER(L36/L$7*100),L36/L$7*100,0) -> 12.155104 | N36: =IF(ISNUMBER(H36/B36*100),H36/B36*100,0) -> 73.16787 | O36: =IF(ISNUMBER(J36/D36*100),J36/D36*100,0) -> 93.071388 | P36: =IF(ISNUMBER(L36/F36*100),L36/F36*100,0) -> 56.159464
A37: De 30 a 34 años | B37: =[1]MercLab!C31 -> 553140.01 | C37: =IF(ISNUMBER(B37/B$7*100),B37/B$7*100,0) -> 8.1962533 | D37: =[1]MercLab!D31 -> 234949.93 | E37: =IF(ISNUMBER(D37/D$7*100),D37/D$7*100,0) -> 7.4122978 | F37: =[1]MercLab!E31 -> 318190.08 | G37: =IF(ISNUMBER(F37/F$7*100),F37/F$7*100,0) -> 8.8905686 | H37: =[1]MercLab!F31 -> 406424.21 | I37: =IF(ISNUMBER(H37/H$7*100),H37/H$7*100,0) -> 10.327562 | J37: =[1]MercLab!G31 -> 223419.44 | K37: =IF(ISNUMBER(J37/J$7*100),J37/J$7*100,0) -> 9.4739635 | L37: =[1]MercLab!H31 -> 183004.77 | M37: =IF(ISNUMBER(L37/L$7*100),L37/L$7*100,0) -> 11.603963 | N37: =IF(ISNUMBER(H37/B37*100),H37/B37*100,0) -> 73.47583 | O37: =IF(ISNUMBER(J37/D37*100),J37/D37*100,0) -> 95.092365 | P37: =IF(ISNUMBER(L37/F37*100),L37/F37*100,0) -> 57.514291
A38: De 35 a 39 años | B38: =[1]MercLab!C32 -> 533516.51 | C38: =IF(ISNUMBER(B38/B$7*100),B38/B$7*100,0) -> 7.9054785 | D38: =[1]MercLab!D32 -> 225544.91 | E38: =IF(ISNUMBER(D38/D$7*100),D38/D$7*100,0) -> 7.1155843 | F38: =[1]MercLab!E32 -> 307971.61 | G38: =IF(ISNUMBER(F38/F$7*100),F38/F$7*100,0) -> 8.6050536 | H38: =[1]MercLab!F32 -> 407865.4 | I38: =IF(ISNUMBER(H38/H$7*100),H38/H$7*100,0) -> 10.364184 | J38: =[1]MercLab!G32 -> 218431.42 | K38: =IF(ISNUMBER(J38/J$7*100),J38/J$7*100,0) -> 9.2624496 | L38: =[1]MercLab!H32 -> 189433.98 | M38: =IF(ISNUMBER(L38/L$7*100),L38/L$7*100,0) -> 12.011626 | N38: =IF(ISNUMBER(H38/B38*100),H38/B38*100,0) -> 76.448506 | O38: =IF(ISNUMBER(J38/D38*100),J38/D38*100,0) -> 96.84609 | P38: =IF(ISNUMBER(L38/F38*100),L38/F38*100,0) -> 61.51021
A39: De 40 a 44 años | B39: =[1]MercLab!C33 -> 421600.13 | C39: =IF(ISNUMBER(B39/B$7*100),B39/B$7*100,0) -> 6.2471371 | D39: =[1]MercLab!D33 -> 192474.44 | E39: =IF(ISNUMBER(D39/D$7*100),D39/D$7*100,0) -> 6.0722635 | F39: =[1]MercLab!E33 -> 229125.69 | G39: =IF(ISNUMBER(F39/F$7*100),F39/F$7*100,0) -> 6.402015 | H39: =[1]MercLab!F33 -> 329769.28 | I39: =IF(ISNUMBER(H39/H$7*100),H39/H$7*100,0) -> 8.3796994 | J39: =[1]MercLab!G33 -> 186719.03 | K39: =IF(ISNUMBER(J39/J$7*100),J39/J$7*100,0) -> 7.9177053 | L39: =[1]MercLab!H33 -> 143050.24 | M39: =IF(ISNUMBER(L39/L$7*100),L39/L$7*100,0) -> 9.0705269 | N39: =IF(ISNUMBER(H39/B39*100),H39/B39*100,0) -> 78.218495 | O39: =IF(ISNUMBER(J39/D39*100),J39/D39*100,0) -> 97.00978 | P39: =IF(ISNUMBER(L39/F39*100),L39/F39*100,0) -> 62.433088
A40: De 45 a 49 años | B40: =[1]MercLab!C34 -> 370812.35 | C40: =IF(ISNUMBER(B40/B$7*100),B40/B$7*100,0) -> 5.4945799 | D40: =[1]MercLab!D34 -> 169329.8 | E40: =IF(ISNUMBER(D40/D$7*100),D40/D$7*100,0) -> 5.3420868 | F40: =[1]MercLab!E34 -> 201482.55 | G40: =IF(ISNUMBER(F40/F$7*100),F40/F$7*100,0) -> 5.6296364 | H40: =[1]MercLab!F34 -> 284335.61 | I40: =IF(ISNUMBER(H40/H$7*100),H40/H$7*100,0) -> 7.2251938 | J40: =[1]MercLab!G34 -> 161093.8 | K40: =IF(ISNUMBER(J40/J$7*100),J40/J$7*100,0) -> 6.8310832 | L40: =[1]MercLab!H34 -> 123241.81 | M40: =IF(ISNUMBER(L40/L$7*100),L40/L$7*100,0) -> 7.8145138 | N40: =IF(ISNUMBER(H40/B40*100),H40/B40*100,0) -> 76.679109 | O40: =IF(ISNUMBER(J40/D40*100),J40/D40*100,0) -> 95.136119 | P40: =IF(ISNUMBER(L40/F40*100),L40/F40*100,0) -> 61.167483
A41: De 50 a 54 años | B41: =[1]MercLab!C35 -> 330376.82 | C41: =IF(ISNUMBER(B41/B$7*100),B41/B$7*100,0) -> 4.8954189 | D41: =[1]MercLab!D35 -> 145879.11 | E41: =IF(ISNUMBER(D41/D$7*100),D41/D$7*100,0) -> 4.6022547 | F41: =[1]MercLab!E35 -> 184497.71 | G41: =IF(ISNUMBER(F41/F$7*100),F41/F$7*100,0) -> 5.1550617 | H41: =[1]MercLab!F35 -> 243227.55 | I41: =IF(ISNUMBER(H41/H$7*100),H41/H$7*100,0) -> 6.1806054 | J41: =[1]MercLab!G35 -> 136099.4 | K41: =IF(ISNUMBER(J41/J$7*100),J41/J$7*100,0) -> 5.771211 | L41: =[1]MercLab!H35 -> 107128.15 | M41: =IF(ISNUMBER(L41/L$7*100),L41/L$7*100,0) -> 6.7927796 | N41: =IF(ISNUMBER(H41/B41*100),H41/B41*100,0) -> 73.621253 | O41: =IF(ISNUMBER(J41/D41*100),J41/D41*100,0) -> 93.296017 | P41: =IF(ISNUMBER(L41/F41*100),L41/F41*100,0) -> 58.064761
A42: De 55 a 59 años | B42: =[1]MercLab!C36 -> 277114.6 | C42: =IF(ISNUMBER(B42/B$7*100),B42/B$7*100,0) -> 4.1061962 | D42: =[1]MercLab!D36 -> 124292.28 | E42: =IF(ISNUMBER(D42/D$7*100),D42/D$7*100,0) -> 3.9212246 | F42: =[1]MercLab!E36 -> 152822.31 | G42: =IF(ISNUMBER(F42/F$7*100),F42/F$7*100,0) -> 4.2700176 | H42: =[1]MercLab!F36 -> 185597.27 | I42: =IF(ISNUMBER(H42/H$7*100),H42/H$7*100,0) -> 4.7161741 | J42: =[1]MercLab!G36 -> 110135.33 | K42: =IF(ISNUMBER(J42/J$7*100),J42/J$7*100,0) -> 4.6702208 | L42: =[1]MercLab!H36 -> 75461.933 | M42: =IF(ISNUMBER(L42/L$7*100),L42/L$7*100,0) -> 4.7848887 | N42: =IF(ISNUMBER(H42/B42*100),H42/B42*100,0) -> 66.974916 | O42: =IF(ISNUMBER(J42/D42*100),J42/D42*100,0) -> 88.609952 | P42: =IF(ISNUMBER(L42/F42*100),L42/F42*100,0) -> 49.378872
A43: De 60 a 64 años | B43: =[1]MercLab!C37 -> 239882.19 | C43: =IF(ISNUMBER(B43/B$7*100),B43/B$7*100,0) -> 3.5544983 | D43: =[1]MercLab!D37 -> 109570.82 | E43: =IF(ISNUMBER(D43/D$7*100),D43/D$7*100,0) -> 3.4567858 | F43: =[1]MercLab!E37 -> 130311.37 | G43: =IF(ISNUMBER(F43/F$7*100),F43/F$7*100,0) -> 3.6410379 | H43: =[1]MercLab!F37 -> 148823.85 | I43: =IF(ISNUMBER(H43/H$7*100),H43/H$7*100,0) -> 3.7817325 | J43: =[1]MercLab!G37 -> 91601.331 | K43: =IF(ISNUMBER(J43/J$7*100),J43/J$7*100,0) -> 3.8842979 | L43: =[1]MercLab!H37 -> 57222.524 | M43: =IF(ISNUMBER(L43/L$7*100),L43/L$7*100,0) -> 3.6283646 | N43: =IF(ISNUMBER(H43/B43*100),H43/B43*100,0) -> 62.040393 | O43: =IF(ISNUMBER(J43/D43*100),J43/D43*100,0) -> 83.600112 | P43: =IF(ISNUMBER(L43/F43*100),L43/F43*100,0) -> 43.91215
A44: De 65 años y más | B44: =[1]MercLab!C38 -> 521154.98 | C44: =IF(ISNUMBER(B44/B$7*100),B44/B$7*100,0) -> 7.7223093 | D44: =[1]MercLab!D38 -> 241516.98 | E44: =IF(ISNUMBER(D44/D$7*100),D44/D$7*100,0) -> 7.6194779 | F44: =[1]MercLab!E38 -> 279638 | G44: =IF(ISNUMBER(F44/F$7*100),F44/F$7*100,0) -> 7.8133826 | H44: =[1]MercLab!F38 -> 209500.77 | I44: =IF(ISNUMBER(H44/H$7*100),H44/H$7*100,0) -> 5.323581 | J44: =[1]MercLab!G38 -> 147709 | K44: =IF(ISNUMBER(J44/J$7*100),J44/J$7*100,0) -> 6.2635088 | L44: =[1]MercLab!H38 -> 61791.769 | M44: =IF(ISNUMBER(L44/L$7*100),L44/L$7*100,0) -> 3.9180912 | N44: =IF(ISNUMBER(H44/B44*100),H44/B44*100,0) -> 40.199321 | O44: =IF(ISNUMBER(J44/D44*100),J44/D44*100,0) -> 61.158846 | P44: =IF(ISNUMBER(L44/F44*100),L44/F44*100,0) -> 22.097057
A46: =[2]Resumen!A49 -> Fuente: Instituto Nacional de Estadística (INE). L Encuesta Permanente de Hogares de Propósitos Múltiples, Junio 2015.
A47: 1/ Porcentaje por columnas
A48: 2/ Porcentaje por filas

Sheet C02
A1: Cuadro No. 2. Tasa de Desempleo Abierto (TDA), Población en Edad de Trabajar (PET) y Población Económicamente Activa (PEA),
A2: según dominio, nivel educativo, rango de edad, sexo, rama de actividad y ocupación
A3: Categorías | B3: Población Total | E3: Población en Edad de Trabajar (PET) | H3: Población Económicamente Activa (PEA) | Q3: TDA | R3: MBT
H4: Total | K4: Ocupados | N4: Desocupados
B5: No. | C5: % 1/ | D5: AEP | E5: No. | F5: % 1/ | G5: AEP | H5: No. | I5: % 1/ | J5: AEP | K5: No. | L5: % 1/ | M5: AEP | N5: No. | O5: % 1/ | P5: AEP
A7: Total Nacional | B7: =[1]MercLab!C48 -> 8570153.5 | C7: =SUM(C10,C14) -> 100 | D7: =[1]MercLab!D48 -> 6.7354405 | E7: =[1]MercLab!E48 -> 6748693.5 | F7: =SUM(F10,F14) -> 100 | G7: =[1]MercLab!F48 -> 7.3559642 | H7: =[1]MercLab!G48 -> 3935335.4 | I7: =SUM(I10,I14) -> 100 | J7: =[1]MercLab!H48 -> 7.6757381 | K7: =[1]MercLab!I48 -> 3647637 | L7: =SUM(L10,L14) -> 100 | M7: =[1]MercLab!J48 -> 7.5524057 | N7: =[1]MercLab!K48 -> 287698.34 | O7: =SUM(O10,O14) -> 100 | P7: =[1]MercLab!L48 -> 9.1454204 | Q7: =IF(ISNUMBER(N7/H7*100),N7/H7*100,0) -> 7.3106436 | R7: =[1]MercLab!M48 -> 2.9382173
A9: Dominio
A10: Urbano | B10: =SUM(B11:B13) -> 4617756.5 | C10: =IF(ISNUMBER(B10/B$7*100),B10/B$7*100,0) -> 53.881842 | D10: =[3]Sheet1!D4 -> 7.8009411 | E10: =SUM(E11:E13) -> 3716493.6 | F10: =IF(ISNUMBER(E10/E$7*100),E10/E$7*100,0) -> 55.069824 | G10: =[3]Sheet1!E4 -> 8.4410416 | H10: =SUM(H11:H13) -> 2121726.4 | I10: =IF(ISNUMBER(H10/H$7*100),H10/H$7*100,0) -> 53.914753 | J10: =[3]Sheet1!F4 -> 8.9939138 | K10: =SUM(K11:K13) -> 1934935.3 | L10: =IF(ISNUMBER(K10/K$7*100),K10/K$7*100,0) -> 53.046268 | M10: =[3]Sheet1!G4 -> 8.863154 | N10: =SUM(N11:N13) -> 186791.06 | O10: =IF(ISNUMBER(N10/N$7*100),N10/N$7*100,0) -> 64.926012 | P10: =[3]Sheet1!H4 -> 10.111712 | Q10: =IF(ISNUMBER(N10/H10*100),N10/H10*100,0) -> 8.80373 | R10: =[3]Sheet1!H5 -> 3.4317476
A11: Distrito Central | B11: =[1]MercLab!C49 -> 1083319 | C11: =IF(ISNUMBER(B11/B$7*100),B11/B$7*100,0) -> 12.640602 | D11: =[1]MercLab!D49 -> 8.9762703 | E11: =[1]MercLab!E49 -> 887883.24 | F11: =IF(ISNUMBER(E11/E$7*100),E11/E$7*100,0) -> 13.156372 | G11: =[1]MercLab!F49 -> 9.6085067 | H11: =[1]MercLab!G49 -> 496872.85 | I11: =IF(ISNUMBER(H11/H$7*100),H11/H$7*100,0) -> 12.625934 | J11: =[1]MercLab!H49 -> 10.218108 | K11: =[1]MercLab!I49 -> 441909.81 | L11: =IF(ISNUMBER(K11/K$7*100),K11/K$7*100,0) -> 12.114961 | M11: =[1]MercLab!J49 -> 10.113779 | N11: =[1]MercLab!K49 -> 54963.043 | O11: =IF(ISNUMBER(N11/N$7*100),N11/N$7*100,0) -> 19.1044 | P11: =[1]MercLab!L49 -> 11.048503 | Q11: =IF(ISNUMBER(N11/H11*100),N11/H11*100,0) -> 11.061792 | R11: =[1]MercLab!M49 -> 3.7838166
A12: San Pedro Sula | B12: =[1]MercLab!C50 -> 700321.9 | C12: =IF(ISNUMBER(B12/B$7*100),B12/B$7*100,0) -> 8.1716377 | D12: =[1]MercLab!D50 -> 8.1767565 | E12: =[1]MercLab!E50 -> 572739.64 | F12: =IF(ISNUMBER(E12/E$7*100),E12/E$7*100,0) -> 8.4866745 | G12: =[1]MercLab!F50 -> 8.8312683 | H12: =[1]MercLab!G50 -> 348184.55 | I12: =IF(ISNUMBER(H12/H$7*100),H12/H$7*100,0) -> 8.8476461 | J12: =[1]MercLab!H50 -> 9.3515239 | K12: =[1]MercLab!I50 -> 323534.14 | L12: =IF(ISNUMBER(K12/K$7*100),K12/K$7*100,0) -> 8.8696911 | M12: =[1]MercLab!J50 -> 9.263223 | N12: =[1]MercLab!K50 -> 24650.409 | O12: =IF(ISNUMBER(N12/N$7*100),N12/N$7*100,0) -> 8.5681443 | P12: =[1]MercLab!L50 -> 10.454102 | Q12: =IF(ISNUMBER(N12/H12*100),N12/H12*100,0) -> 7.0796965 | R12: =[1]MercLab!M50 -> 3.0194663
A13: Resto urbano | B13: =[1]MercLab!C51 -> 2834115.7 | C13: =IF(ISNUMBER(B13/B$7*100),B13/B$7*100,0) -> 33.069602 | D13: =[1]MercLab!D51 -> 7.25672 | E13: =[1]MercLab!E51 -> 2255870.7 | F13: =IF(ISNUMBER(E13/E$7*100),E13/E$7*100,0) -> 33.426777 | G13: =[1]MercLab!F51 -> 7.8763449 | H13: =[1]MercLab!G51 -> 1276669 | I13: =IF(ISNUMBER(H13/H$7*100),H13/H$7*100,0) -> 32.441173 | J13: =[1]MercLab!H51 -> 8.4085642 | K13: =[1]MercLab!I51 -> 1169491.4 | L13: =IF(ISNUMBER(K13/K$7*100),K13/K$7*100,0) -> 32.061615 | M13: =[1]MercLab!J51 -> 8.2956117 | N13: =[1]MercLab!K51 -> 107177.61 | O13: =IF(ISNUMBER(N13/N$7*100),N13/N$7*100,0) -> 37.253467 | P13: =[1]MercLab!L51 -> 9.5858009 | Q13: =IF(ISNUMBER(N13/H13*100),N13/H13*100,0) -> 8.3950978 | R13: =[1]MercLab!M51 -> 2.9318769
A14: Rural | B14: =[1]MercLab!C52 -> 3952397 | C14: =IF(ISNUMBER(B14/B$7*100),B14/B$7*100,0) -> 46.118158 | D14: =[1]MercLab!D52 -> 5.3315149 | E14: =[1]MercLab!E52 -> 3032199.9 | F14: =IF(ISNUMBER(E14/E$7*100),E14/E$7*100,0) -> 44.930176 | G14: =[1]MercLab!F52 -> 5.8856275 | H14: =[1]MercLab!G52 -> 1813609 | I14: =IF(ISNUMBER(H14/H$7*100),H14/H$7*100,0) -> 46.085247 | J14: =[1]MercLab!H52 -> 5.9755623 | K14: =[1]MercLab!I52 -> 1712701.7 | L14: =IF(ISNUMBER(K14/K$7*100),K14/K$7*100,0) -> 46.953732 | M14: =[1]MercLab!J52 -> 5.8967374 | N14: =[1]MercLab!K52 -> 100907.28 | O14: =IF(ISNUMBER(N14/N$7*100),N14/N$7*100,0) -> 35.073988 | P14: =[1]MercLab!L52 -> 7.2143485 | Q14: =IF(ISNUMBER(N14/H14*100),N14/H14*100,0) -> 5.563894 | R14: =[1]MercLab!M52 -> 2.0178574
A16: Nivel educativo 2/
A17: Sin Nivel | B17: =[1]MercLab!C54 -> 1781930.8 | C17: =IF(ISNUMBER(B17/B$7*100),B17/B$7*100,0) -> 20.792285 | D17: =[1]MercLab!D54 -> 0 | E17: =[1]MercLab!E54 -> 650117.89 | F17: =IF(ISNUMBER(E17/E$7*100),E17/E$7*100,0) -> 9.6332408 | G17: =[1]MercLab!F54 -> 0 | H17: =[1]MercLab!G54 -> 366119.76 | I17: =IF(ISNUMBER(H17/H$7*100),H17/H$7*100,0) -> 9.3033942 | J17: =[1]MercLab!H54 -> 0 | K17: =[1]MercLab!I54 -> 354564.92 | L17: =IF(ISNUMBER(K17/K$7*100),K17/K$7*100,0) -> 9.7204004 | M17: =[1]MercLab!J54 -> 0 | N17: =[1]MercLab!K54 -> 11554.838 | O17: =IF(ISNUMBER(N17/N$7*100),N17/N$7*100,0) -> 4.0163034 | P17: =[1]MercLab!L54 -> 0 | Q17: =IF(ISNUMBER(N17/H17*100),N17/H17*100,0) -> 3.1560269 | R17: =[1]MercLab!M54 -> 2.3996265
A18: Primaria | B18: =[1]MercLab!C55 -> 4238461.4 | C18: =IF(ISNUMBER(B18/B$7*100),B18/B$7*100,0) -> 49.456073 | D18: =[1]MercLab!D55 -> 4.1885921 | E18: =[1]MercLab!E55 -> 3548814.2 | F18: =IF(ISNUMBER(E18/E$7*100),E18/E$7*100,0) -> 52.585203 | G18: =[1]MercLab!F55 -> 4.7562575 | H18: =[1]MercLab!G55 -> 2035428.3 | I18: =IF(ISNUMBER(H18/H$7*100),H18/H$7*100,0) -> 51.721852 | J18: =[1]MercLab!H55 -> 4.7743409 | K18: =[1]MercLab!I55 -> 1927868.6 | L18: =IF(ISNUMBER(K18/K$7*100),K18/K$7*100,0) -> 52.852533 | M18: =[1]MercLab!J55 -> 4.7460407 | N18: =[1]MercLab!K55 -> 107559.76 | O18: =IF(ISNUMBER(N18/N$7*100),N18/N$7*100,0) -> 37.386298 | P18: =[1]MercLab!L55 -> 5.2815856 | Q18: =IF(ISNUMBER(N18/H18*100),N18/H18*100,0) -> 5.2843796 | R18: =[1]MercLab!M55 -> 2.0242935
A19: Secundaria | B19: =[1]MercLab!C56 -> 1964496.1 | C19: =IF(ISNUMBER(B19/B$7*100),B19/B$7*100,0) -> 22.922531 | D19: =[1]MercLab!D56 -> 9.8728118 | E19: =[1]MercLab!E56 -> 1964496.1 | F19: =IF(ISNUMBER(E19/E$7*100),E19/E$7*100,0) -> 29.109281 | G19: =[1]MercLab!F56 -> 9.8728118 | H19: =[1]MercLab!G56 -> 1130542.3 | I19: =IF(ISNUMBER(H19/H$7*100),H19/H$7*100,0) -> 28.727979 | J19: =[1]MercLab!H56 -> 10.316593 | K19: =[1]MercLab!I56 -> 1001493.4 | L19: =IF(ISNUMBER(K19/K$7*100),K19/K$7*100,0) -> 27.45595 | M19: =[1]MercLab!J56 -> 10.266392 | N19: =[1]MercLab!K56 -> 129048.91 | O19: =IF(ISNUMBER(N19/N$7*100),N19/N$7*100,0) -> 44.855634 | P19: =[1]MercLab!L56 -> 10.706186 | Q19: =IF(ISNUMBER(N19/H19*100),N19/H19*100,0) -> 11.41478 | R19: =[1]MercLab!M56 -> 3.3443388
A20: Superior | B20: =[1]MercLab!C57 -> 563760.34 | C20: =IF(ISNUMBER(B20/B$7*100),B20/B$7*100,0) -> 6.5781825 | D20: =[1]MercLab!D57 -> 14.950571 | E20: =[1]MercLab!E57 -> 563760.34 | F20: =IF(ISNUMBER(E20/E$7*100),E20/E$7*100,0) -> 8.353622 | G20: =[1]MercLab!F57 -> 14.950571 | H20: =[1]MercLab!G57 -> 388368.06 | I20: =IF(ISNUMBER(H20/H$7*100),H20/H$7*100,0) -> 9.8687412 | J20: =[1]MercLab!H57 -> 15.194347 | K20: =[1]MercLab!I57 -> 349797.25 | L20: =IF(ISNUMBER(K20/K$7*100),K20/K$7*100,0) -> 9.5896947 | M20: =[1]MercLab!J57 -> 15.249047 | N20: =[1]MercLab!K57 -> 38570.809 | O20: =IF(ISNUMBER(N20/N$7*100),N20/N$7*100,0) -> 13.406685 | P20: =[1]MercLab!L57 -> 14.698274 | Q20: =IF(ISNUMBER(N20/H20*100),N20/H20*100,0) -> 9.9315091 | R20: =[1]MercLab!M57 -> 3.5970301
A21: No sabe, no responde | B21: =[1]MercLab!C58 -> 21504.935 | C21: =IF(ISNUMBER(B21/B$7*100),B21/B$7*100,0) -> 0.25092823 | D21: =[1]MercLab!D58 -> 0 | E21: =[1]MercLab!E58 -> 21504.935 | F21: =IF(ISNUMBER(E21/E$7*100),E21/E$7*100,0) -> 0.31865331 | G21: =[1]MercLab!F58 -> 0 | H21: =[1]MercLab!G58 -> 14876.889 | I21: =IF(ISNUMBER(H21/H$7*100),H21/H$7*100,0) -> 0.37803356 | J21: =[1]MercLab!H58 -> 0 | K21: =[1]MercLab!I58 -> 13912.869 | L21: =IF(ISNUMBER(K21/K$7*100),K21/K$7*100,0) -> 0.38142142 | M21: =[1]MercLab!J58 -> 0 | N21: =[1]MercLab!K58 -> 964.01959 | O21: =IF(ISNUMBER(N21/N$7*100),N21/N$7*100,0) -> 0.33507999 | P21: =[1]MercLab!L58 -> 0 | Q21: =IF(ISNUMBER(N21/H21*100),N21/H21*100,0) -> 6.4799812 | R21: =[1]MercLab!M58 -> 0.508022
A23: Rango de Edad
A24: De 10 a 11 años | B24: =[1]MercLab!C60 -> 364755.55 | C24: =IF(ISNUMBER(B24/B$7*100),B24/B$7*100,0) -> 4.2561145 | D24: =[1]MercLab!D60 -> 3.7982981 | E24: =[1]MercLab!E60 -> 364755.55 | F24: =IF(ISNUMBER(E24/E$7*100),E24/E$7*100,0) -> 5.4048321 | G24: =[1]MercLab!F60 -> 3.7982981 | H24: =[1]MercLab!G60 -> 25683.493 | I24: =IF(ISNUMBER(H24/H$7*100),H24/H$7*100,0) -> 0.65263798 | J24: =[1]MercLab!H60 -> 3.5872601 | K24: =[1]MercLab!I60 -> 25356.844 | L24: =IF(ISNUMBER(K24/K$7*100),K24/K$7*100,0) -> 0.6951581 | M24: =[1]MercLab!J60 -> 3.5818477 | N24: =[1]MercLab!K60 -> 326.64888 | O24: =IF(ISNUMBER(N24/N$7*100),N24/N$7*100,0) -> 0.11353867 | P24: =[1]MercLab!L60 -> 4 | Q24: =IF(ISNUMBER(N24/H24*100),N24/H24*100,0) -> 1.2718242 | R24: =[1]MercLab!M60 -> 0
A25: De 12 a 14 años | B25: =[1]MercLab!C61 -> 604744.3 | C25: =IF(ISNUMBER(B25/B$7*100),B25/B$7*100,0) -> 7.0563998 | D25: =[1]MercLab!D61 -> 5.7886818 | E25: =[1]MercLab!E61 -> 604744.3 | F25: =IF(ISNUMBER(E25/E$7*100),E25/E$7*100,0) -> 8.9609093 | G25: =[1]MercLab!F61 -> 5.7886818 | H25: =[1]MercLab!G61 -> 139896.4 | I25: =IF(ISNUMBER(H25/H$7*100),H25/H$7*100,0) -> 3.5548788 | J25: =[1]MercLab!H61 -> 5.4165696 | K25: =[1]MercLab!I61 -> 129812.46 | L25: =IF(ISNUMBER(K25/K$7*100),K25/K$7*100,0) -> 3.5588097 | M25: =[1]MercLab!J61 -> 5.438916 | N25: =[1]MercLab!K61 -> 10083.943 | O25: =IF(ISNUMBER(N25/N$7*100),N25/N$7*100,0) -> 3.5050402 | P25: =[1]MercLab!L61 -> 5.1429807 | Q25: =IF(ISNUMBER(N25/H25*100),N25/H25*100,0) -> 7.2081501 | R25: =[1]MercLab!M61 -> 0.43634318
A26: De 15 a 18 años | B26: =[1]MercLab!C62 -> 867163.07 | C26: =IF(ISNUMBER(B26/B$7*100),B26/B$7*100,0) -> 10.118408 | D26: =[1]MercLab!D62 -> 7.7279299 | E26: =[1]MercLab!E62 -> 867163.07 | F26: =IF(ISNUMBER(E26/E$7*100),E26/E$7*100,0) -> 12.849347 | G26: =[1]MercLab!F62 -> 7.7279299 | H26: =[1]MercLab!G62 -> 398658.64 | I26: =IF(ISNUMBER(H26/H$7*100),H26/H$7*100,0) -> 10.130233 | J26: =[1]MercLab!H62 -> 7.0634301 | K26: =[1]MercLab!I62 -> 350729.85 | L26: =IF(ISNUMBER(K26/K$7*100),K26/K$7*100,0) -> 9.6152618 | M26: =[1]MercLab!J62 -> 6.9191547 | N26: =[1]MercLab!K62 -> 47928.796 | O26: =IF(ISNUMBER(N26/N$7*100),N26/N$7*100,0) -> 16.659392 | P26: =[1]MercLab!L62 -> 8.1115808 | Q26: =IF(ISNUMBER(N26/H26*100),N26/H26*100,0) -> 12.022515 | R26: =[1]MercLab!M62 -> 1.5930935
A27: De 19 a 24 años | B27: =[1]MercLab!C63 -> 1031396.6 | C27: =IF(ISNUMBER(B27/B$7*100),B27/B$7*100,0) -> 12.034751 | D27: =[1]MercLab!D63 -> 9.1120146 | E27: =[1]MercLab!E63 -> 1031396.6 | F27: =IF(ISNUMBER(E27/E$7*100),E27/E$7*100,0) -> 15.282908 | G27: =[1]MercLab!F63 -> 9.1120146 | H27: =[1]MercLab!G63 -> 675742.07 | I27: =IF(ISNUMBER(H27/H$7*100),H27/H$7*100,0) -> 17.171143 | J27: =[1]MercLab!H63 -> 8.9691283 | K27: =[1]MercLab!I63 -> 571390.12 | L27: =IF(ISNUMBER(K27/K$7*100),K27/K$7*100,0) -> 15.664665 | M27: =[1]MercLab!J63 -> 8.6929341 | N27: =[1]MercLab!K63 -> 104351.95 | O27: =IF(ISNUMBER(N27/N$7*100),N27/N$7*100,0) -> 36.271309 | P27: =[1]MercLab!L63 -> 10.47195 | Q27: =IF(ISNUMBER(N27/H27*100),N27/H27*100,0) -> 15.442572 | R27: =[1]MercLab!M63 -> 3.2346169
A28: De 25 a 29 años | B28: =[1]MercLab!C64 -> 633036.34 | C28: =IF(ISNUMBER(B28/B$7*100),B28/B$7*100,0) -> 7.3865228 | D28: =[1]MercLab!D64 -> 8.9220656 | E28: =[1]MercLab!E64 -> 633036.34 | F28: =IF(ISNUMBER(E28/E$7*100),E28/E$7*100,0) -> 9.3801318 | G28: =[1]MercLab!F64 -> 8.9220656 | H28: =[1]MercLab!G64 -> 463179.21 | I28: =IF(ISNUMBER(H28/H$7*100),H28/H$7*100,0) -> 11.769752 | J28: =[1]MercLab!H64 -> 9.0190216 | K28: =[1]MercLab!I64 -> 425510.96 | L28: =IF(ISNUMBER(K28/K$7*100),K28/K$7*100,0) -> 11.665387 | M28: =[1]MercLab!J64 -> 8.9427951 | N28: =[1]MercLab!K64 -> 37668.244 | O28: =IF(ISNUMBER(N28/N$7*100),N28/N$7*100,0) -> 13.092965 | P28: =[1]MercLab!L64 -> 9.8546711 | Q28: =IF(ISNUMBER(N28/H28*100),N28/H28*100,0) -> 8.132542 | R28: =[1]MercLab!M64 -> 3.0849795
A29: De 30 a 35 años | B29: =[1]MercLab!C65 -> 665341.69 | C29: =IF(ISNUMBER(B29/B$7*100),B29/B$7*100,0) -> 7.7634746 | D29: =[1]MercLab!D65 -> 7.9403233 | E29: =[1]MercLab!E65 -> 665341.69 | F29: =IF(ISNUMBER(E29/E$7*100),E29/E$7*100,0) -> 9.8588222 | G29: =[1]MercLab!F65 -> 7.9403233 | H29: =[1]MercLab!G65 -> 488555.7 | I29: =IF(ISNUMBER(H29/H$7*100),H29/H$7*100,0) -> 12.414589 | J29: =[1]MercLab!H65 -> 8.1593524 | K29: =[1]MercLab!I65 -> 463516.03 | L29: =IF(ISNUMBER(K29/K$7*100),K29/K$7*100,0) -> 12.707296 | M29: =[1]MercLab!J65 -> 8.0808587 | N29: =[1]MercLab!K65 -> 25039.665 | O29: =IF(ISNUMBER(N29/N$7*100),N29/N$7*100,0) -> 8.7034442 | P29: =[1]MercLab!L65 -> 9.5620366 | Q29: =IF(ISNUMBER(N29/H29*100),N29/H29*100,0) -> 5.1252426 | R29: =[1]MercLab!M65 -> 3.1954193
A30: De 36 a 44 años | B30: =[1]MercLab!C66 -> 842914.96 | C30: =IF(ISNUMBER(B30/B$7*100),B30/B$7*100,0) -> 9.8354709 | D30: =[1]MercLab!D66 -> 7.2709832 | E30: =[1]MercLab!E66 -> 842914.96 | F30: =IF(ISNUMBER(E30/E$7*100),E30/E$7*100,0) -> 12.490047 | G30: =[1]MercLab!F66 -> 7.2709832 | H30: =[1]MercLab!G66 -> 655503.19 | I30: =IF(ISNUMBER(H30/H$7*100),H30/H$7*100,0) -> 16.656857 | J30: =[1]MercLab!H66 -> 7.5269967 | K30: =[1]MercLab!I66 -> 632008.86 | L30: =IF(ISNUMBER(K30/K$7*100),K30/K$7*100,0) -> 17.326528 | M30: =[1]MercLab!J66 -> 7.498606 | N30: =[1]MercLab!K66 -> 23494.337 | O30: =IF(ISNUMBER(N30/N$7*100),N30/N$7*100,0) -> 8.1663096 | P30: =[1]MercLab!L66 -> 8.2889776 | Q30: =IF(ISNUMBER(N30/H30*100),N30/H30*100,0) -> 3.5841683 | R30: =[1]MercLab!M66 -> 2.4491747
A31: De 45 a 59 años | B31: =[1]MercLab!C67 -> 978303.76 | C31: =IF(ISNUMBER(B31/B$7*100),B31/B$7*100,0) -> 11.415242 | D31: =[1]MercLab!D67 -> 6.8155001 | E31: =[1]MercLab!E67 -> 978303.76 | F31: =IF(ISNUMBER(E31/E$7*100),E31/E$7*100,0) -> 14.496195 | G31: =[1]MercLab!F67 -> 6.8155001 | H31: =[1]MercLab!G67 -> 713160.42 | I31: =IF(ISNUMBER(H31/H$7*100),H31/H$7*100,0) -> 18.121973 | J31: =[1]MercLab!H67 -> 7.0619663 | K31: =[1]MercLab!I67 -> 681809.29 | L31: =IF(ISNUMBER(K31/K$7*100),K31/K$7*100,0) -> 18.691807 | M31: =[1]MercLab!J67 -> 7.0393502 | N31: =[1]MercLab!K67 -> 31351.134 | O31: =IF(ISNUMBER(N31/N$7*100),N31/N$7*100,0) -> 10.897224 | P31: =[1]MercLab!L67 -> 7.5175561 | Q31: =IF(ISNUMBER(N31/H31*100),N31/H31*100,0) -> 4.3960844 | R31: =[1]MercLab!M67 -> 2.9460534
A32: De 60 años y más | B32: =[1]MercLab!C68 -> 761037.17 | C32: =IF(ISNUMBER(B32/B$7*100),B32/B$7*100,0) -> 8.880088 | D32: =[1]MercLab!D68 -> 6.0224512 | E32: =[1]MercLab!E68 -> 761037.17 | F32: =IF(ISNUMBER(E32/E$7*100),E32/E$7*100,0) -> 11.276808 | G32: =[1]MercLab!F68 -> 6.0224512 | H32: =[1]MercLab!G68 -> 358324.62 | I32: =IF(ISNUMBER(H32/H$7*100),H32/H$7*100,0) -> 9.1053134 | J32: =[1]MercLab!H68 -> 5.6876227 | K32: =[1]MercLab!I68 -> 351318.04 | L32: =IF(ISNUMBER(K32/K$7*100),K32/K$7*100,0) -> 9.631387 | M32: =[1]MercLab!J68 -> 5.678852 | N32: =[1]MercLab!K68 -> 7006.5818 | O32: =IF(ISNUMBER(N32/N$7*100),N32/N$7*100,0) -> 2.4353918 | P32: =[1]MercLab!L68 -> 6.0867051 | Q32: =IF(ISNUMBER(N32/H32*100),N32/H32*100,0) -> 1.9553727 | R32: =[1]MercLab!M68 -> 3.659568
A34: Sexo
A35: Hombre | B35: =[1]MercLab!C70 -> 4102079.2 | C35: =IF(ISNUMBER(B35/B$7*100),B35/B$7*100,0) -> 47.864711 | D35: =[1]MercLab!D70 -> 6.460591 | E35: =[1]MercLab!E70 -> 3169731.4 | F35: =IF(ISNUMBER(E35/E$7*100),E35/E$7*100,0) -> 46.968074 | G35: =[1]MercLab!F70 -> 7.1010039 | H35: =[1]MercLab!G70 -> 2358246.8 | I35: =IF(ISNUMBER(H35/H$7*100),H35/H$7*100,0) -> 59.924926 | J35: =[1]MercLab!H70 -> 7.1582724 | K35: =[1]MercLab!I70 -> 2255445.9 | L35: =IF(ISNUMBER(K35/K$7*100),K35/K$7*100,0) -> 61.833068 | M35: =[1]MercLab!J70 -> 7.0681846 | N35: =[1]MercLab!K70 -> 102800.93 | O35: =IF(ISNUMBER(N35/N$7*100),N35/N$7*100,0) -> 35.732193 | P35: =[1]MercLab!L70 -> 9.0002627 | Q35: =IF(ISNUMBER(N35/H35*100),N35/H35*100,0) -> 4.3592099 | R35: =[1]MercLab!M70 -> 2.9197151
A36: Mujer | B36: =[1]MercLab!C71 -> 4468074.3 | C36: =IF(ISNUMBER(B36/B$7*100),B36/B$7*100,0) -> 52.135289 | D36: =[1]MercLab!D71 -> 6.9823287 | E36: =[1]MercLab!E71 -> 3578962.1 | F36: =IF(ISNUMBER(E36/E$7*100),E36/E$7*100,0) -> 53.031926 | G36: =[1]MercLab!F71 -> 7.5813037 | H36: =[1]MercLab!G71 -> 1577088.6 | I36: =IF(ISNUMBER(H36/H$7*100),H36/H$7*100,0) -> 40.075074 | J36: =[1]MercLab!H71 -> 8.4271869 | K36: =[1]MercLab!I71 -> 1392191.2 | L36: =IF(ISNUMBER(K36/K$7*100),K36/K$7*100,0) -> 38.166932 | M36: =[1]MercLab!J71 -> 8.3160621 | N36: =[1]MercLab!K71 -> 184897.41 | O36: =IF(ISNUMBER(N36/N$7*100),N36/N$7*100,0) -> 64.267807 | P36: =[1]MercLab!L71 -> 9.2258931 | Q36: =IF(ISNUMBER(N36/H36*100),N36/H36*100,0) -> 11.723971 | R36: =[1]MercLab!M71 -> 2.9523085
A38: Rama de Actividad
A39: Primaria | B39: =[1]MercLab!C73 -> 1101198 | C39: =IF(ISNUMBER(B39/B$7*100),B39/B$7*100,0) -> 12.849222 | D39: =[1]MercLab!D73 -> 5.2923263 | E39: =[1]MercLab!E73 -> 1093743.8 | F39: =IF(ISNUMBER(E39/E$7*100),E39/E$7*100,0) -> 16.206748 | G39: =[1]MercLab!F73 -> 5.3165883 | H39: =[1]MercLab!G73 -> 1101198 | I39: =IF(ISNUMBER(H39/H$7*100),H39/H$7*100,0) -> 27.982318 | J39: =[1]MercLab!H73 -> 5.2923263 | K39: =[1]MercLab!I73 -> 1101198 | L39: =IF(ISNUMBER(K39/K$7*100),K39/K$7*100,0) -> 30.189354 | M39: =[1]MercLab!J73 -> 5.2923263 | N39: =[1]MercLab!K73 -> 0 | O39: =IF(ISNUMBER(N39/N$7*100),N39/N$7*100,0) -> 0 | P39: =[1]MercLab!L73 -> 0 | Q39: =IF(ISNUMBER(N39/H39*100),N39/H39*100,0) -> 0 | R39: =[1]MercLab!M73 -> 0
A40: Secundaria | B40: =[1]MercLab!C74 -> 541005.33 | C40: =IF(ISNUMBER(B40/B$7*100),B40/B$7*100,0) -> 6.3126678 | D40: =[1]MercLab!D74 -> 7.7055482 | E40: =[1]MercLab!E74 -> 539178.53 | F40: =IF(ISNUMBER(E40/E$7*100),E40/E$7*100,0) -> 7.9893765 | G40: =[1]MercLab!F74 -> 7.7278168 | H40: =[1]MercLab!G74 -> 541005.33 | I40: =IF(ISNUMBER(H40/H$7*100),H40/H$7*100,0) -> 13.747375 | J40: =[1]MercLab!H74 -> 7.7055482 | K40: =[1]MercLab!I74 -> 541005.33 | L40: =IF(ISNUMBER(K40/K$7*100),K40/K$7*100,0) -> 14.831666 | M40: =[1]MercLab!J74 -> 7.7055482 | N40: =[1]MercLab!K74 -> 0 | O40: =IF(ISNUMBER(N40/N$7*100),N40/N$7*100,0) -> 0 | P40: =[1]MercLab!L74 -> 0 | Q40: =IF(ISNUMBER(N40/H40*100),N40/H40*100,0) -> 0 | R40: =[1]MercLab!M74 -> 0
A41: Terciaria | B41: =[1]MercLab!C75 -> 2004519.9 | C41: =IF(ISNUMBER(B41/B$7*100),B41/B$7*100,0) -> 23.389545 | D41: =[1]MercLab!D75 -> 8.5941337 | E41: =[1]MercLab!E75 -> 1997616.4 | F41: =IF(ISNUMBER(E41/E$7*100),E41/E$7*100,0) -> 29.600046 | G41: =[1]MercLab!F75 -> 8.6180036 | H41: =[1]MercLab!G75 -> 2004519.9 | I41: =IF(ISNUMBER(H41/H$7*100),H41/H$7*100,0) -> 50.936443 | J41: =[1]MercLab!H75 -> 8.5941337 | K41: =[1]MercLab!I75 -> 2004519.9 | L41: =IF(ISNUMBER(K41/K$7*100),K41/K$7*100,0) -> 54.953929 | M41: =[1]MercLab!J75 -> 8.5941337 | N41: =[1]MercLab!K75 -> 0 | O41: =IF(ISNUMBER(N41/N$7*100),N41/N$7*100,0) -> 0 | P41: =[1]MercLab!L75 -> 0 | Q41: =IF(ISNUMBER(N41/H41*100),N41/H41*100,0) -> 0 | R41: =[1]MercLab!M75 -> 0
A42: No sabe, no responde | B42: =[1]MercLab!C76 -> 913.78611 | C42: =IF(ISNUMBER(B42/B$7*100),B42/B$7*100,0) -> 0.010662424 | D42: =[1]MercLab!D76 -> 10.57013 | E42: =[1]MercLab!E76 -> 913.78611 | F42: =IF(ISNUMBER(E42/E$7*100),E42/E$7*100,0) -> 0.013540193 | G42: =[1]MercLab!F76 -> 10.57013 | H42: =[1]MercLab!G76 -> 913.78611 | I42: =IF(ISNUMBER(H42/H$7*100),H42/H$7*100,0) -> 0.023220031 | J42: =[1]MercLab!H76 -> 10.57013 | K42: =[1]MercLab!I76 -> 913.78611 | L42: =IF(ISNUMBER(K42/K$7*100),K42/K$7*100,0) -> 0.025051454 | M42: =[1]MercLab!J76 -> 10.57013 | N42: =[1]MercLab!K76 -> 0 | O42: =IF(ISNUMBER(N42/N$7*100),N42/N$7*100,0) -> 0 | P42: =[1]MercLab!L76 -> 0 | Q42: =IF(ISNUMBER(N42/H42*100),N42/H42*100,0) -> 0 | R42: =[1]MercLab!M76 -> 0
A43: Busca trabajo por primera vez | B43: =[1]MercLab!C77 -> 158771.3 | C43: =IF(ISNUMBER(B43/B$7*100),B43/B$7*100,0) -> 1.8526074 | D43: =[1]MercLab!D77 -> 8.72366 | E43: =[1]MercLab!E77 -> 158324.26 | F43: =IF(ISNUMBER(E43/E$7*100),E43/E$7*100,0) -> 2.3459987 | G43: =[1]MercLab!F77 -> 8.72366 | H43: =[1]MercLab!G77 -> 158771.3 | I43: =IF(ISNUMBER(H43/H$7*100),H43/H$7*100,0) -> 4.034505 | J43: =[1]MercLab!H77 -> 8.72366 | K43: =[1]MercLab!I77 -> 0 | L43: =IF(ISNUMBER(K43/K$7*100),K43/K$7*100,0) -> 0 | M43: =[1]MercLab!J77 -> 0 | N43: =[1]MercLab!K77 -> 158771.3 | O43: =IF(ISNUMBER(N43/N$7*100),N43/N$7*100,0) -> 55.186728 | P43: =[1]MercLab!L77 -> 8.72366 | Q43: =IF(ISNUMBER(N43/H43*100),N43/H43*100,0) -> 100 | R43: =[1]MercLab!M77 -> 3.5719747
A45: ='C01'!A46 -> Fuente: Instituto Nacional de Estadística (INE). L Encuesta Permanente de Hogares de Propósitos Múltiples, Junio 2015.
A46: (Promedio de salarios mínimos por rama)
A47: AEP= Años de Estudio Promedio
A48: TDA= Tasa de Desempleo Abierto
A49: MBT= Meses promedio en Busca de Trabajo
A50: 1/ Porcentaje por columna
A51: 2/ El nivel educativo incluye la población menor de cinco años

Sheet C02.
A1: Cuadro No. 2. Tasa de Desempleo Abierto (TDA), Población en Edad de Trabajar (PET) y Población Económicamente Activa (PEA),
A2: según dominio, nivel educativo, rango de edad, sexo, rama de actividad y ocupación
A3: Continuación………….
A4: Categorías | B4: Población Económicamente Activa (PEA) | K4: TDA | L4: MBT
B5: Total | E5: Ocupados | H5: Desocupados
B6: No. | C6: % 1/ | D6: AEP | E6: No. | F6: % 1/ | G6: AEP | H6: No. | I6: % 1/ | J6: AEP
A8: Total Nacional | B8: =SUM(B11:B34) -> 3935335.4 | C8: ='C02'!I7 -> 100 | D8: ='C02'!J7 -> 7.6757381 | E8: =SUM(E11:E34) -> 3647637 | F8: ='C02'!L7 -> 100 | G8: ='C02'!M7 -> 7.5524057 | H8: =SUM(H11:H34) -> 287698.34 | I8: ='C02'!O7 -> 100 | J8: ='C02'!P7 -> 9.1454204 | K8: ='C02'!Q7 -> 7.3106436 | L8: ='C02'!R7 -> 2.9382173
A10: Rama de Actividad
A11: Agricultura, ganaderia, silvicultura y pesca | B11: =[1]MercLab!G79 -> 1100711.8 | C11: =IF(ISNUMBER(B11/B$8*100),B11/B$8*100,0) -> 27.969961 | D11: =[1]MercLab!H79 -> 5.3203901 | E11: =[1]MercLab!I79 -> 1092253.3 | F11: =IF(ISNUMBER(E11/E$8*100),E11/E$8*100,0) -> 29.944132 | G11: =[1]MercLab!J79 -> 5.2942366 | H11: =[1]MercLab!K79 -> 8458.5177 | I11: =IF(ISNUMBER(H11/H$8*100),H11/H$8*100,0) -> 2.9400648 | J11: =[1]MercLab!L79 -> 9.0057361 | K11: =IF(ISNUMBER(H11/B11*100),H11/B11*100,0) -> 0.76845891 | L11: =[1]MercLab!M79 -> 1.8386171
A12: Explotacion de minas y canteras | B12: =[1]MercLab!G80 -> 9739.1345 | C12: =IF(ISNUMBER(B12/B$8*100),B12/B$8*100,0) -> 0.24747915 | D12: =[1]MercLab!H80 -> 5.2981508 | E12: =[1]MercLab!I80 -> 8944.7777 | F12: =IF(ISNUMBER(E12/E$8*100),E12/E$8*100,0) -> 0.24522116 | G12: =[1]MercLab!J80 -> 5.0555207 | H12: =[1]MercLab!K80 -> 794.35683 | I12: =IF(ISNUMBER(H12/H$8*100),H12/H$8*100,0) -> 0.27610755 | J12: =[1]MercLab!L80 -> 7.4978517 | K12: =IF(ISNUMBER(H12/B12*100),H12/B12*100,0) -> 8.1563391 | L12: =[1]MercLab!M80 -> 0.78138427
A13: Industria manufacturera | B13: =[1]MercLab!G81 -> 561565.42 | C13: =IF(ISNUMBER(B13/B$8*100),B13/B$8*100,0) -> 14.269824 | D13: =[1]MercLab!H81 -> 7.7592429 | E13: =[1]MercLab!I81 -> 541005.33 | F13: =IF(ISNUMBER(E13/E$8*100),E13/E$8*100,0) -> 14.831666 | G13: =[1]MercLab!J81 -> 7.7055482 | H13: =[1]MercLab!K81 -> 20560.096 | I13: =IF(ISNUMBER(H13/H$8*100),H13/H$8*100,0) -> 7.1464075 | J13: =[1]MercLab!L81 -> 9.1040354 | K13: =IF(ISNUMBER(H13/B13*100),H13/B13*100,0) -> 3.6612112 | L13: =[1]MercLab!M81 -> 2.6812926
A14: Suministro de electricidad, gas, vapor y aire acondicionado | B14: =[1]MercLab!G82 -> 13077.148 | C14: =IF(ISNUMBER(B14/B$8*100),B14/B$8*100,0) -> 0.33230072 | D14: =[1]MercLab!H82 -> 10.964692 | E14: =[1]MercLab!I82 -> 12009.411 | F14: =IF(ISNUMBER(E14/E$8*100),E14/E$8*100,0) -> 0.3292381 | G14: =[1]MercLab!J82 -> 10.847683 | H14: =[1]MercLab!K82 -> 1067.737 | I14: =IF(ISNUMBER(H14/H$8*100),H14/H$8*100,0) -> 0.37113073 | J14: =[1]MercLab!L82 -> 12.231889 | K14: =IF(ISNUMBER(H14/B14*100),H14/B14*100,0) -> 8.1649071 | L14: =[1]MercLab!M82 -> 6
A15: Suministro de agua, evacuacion de aguas residuales, gestion de desechos y descontaminacion | B15: =[1]MercLab!G83 -> 21676.78 | C15: =IF(ISNUMBER(B15/B$8*100),B15/B$8*100,0) -> 0.55082421 | D15: =[1]MercLab!H83 -> 6.6943222 | E15: =[1]MercLab!I83 -> 20693.595 | F15: =IF(ISNUMBER(E15/E$8*100),E15/E$8*100,0) -> 0.56731508 | G15: =[1]MercLab!J83 -> 6.5039436 | H15: =[1]MercLab!K83 -> 983.18498 | I15: =IF(ISNUMBER(H15/H$8*100),H15/H$8*100,0) -> 0.34174162 | J15: =[1]MercLab!L83 -> 10.130638 | K15: =IF(ISNUMBER(H15/B15*100),H15/B15*100,0) -> 4.5356597 | L15: =[1]MercLab!M83 -> 1.6234477
A16: Construccion | B16: =[1]MercLab!G84 -> 217886.18 | C16: =IF(ISNUMBER(B16/B$8*100),B16/B$8*100,0) -> 5.5366611 | D16: =[1]MercLab!H84 -> 6.6498209 | E16: =[1]MercLab!I84 -> 203284.56 | F16: =IF(ISNUMBER(E16/E$8*100),E16/E$8*100,0) -> 5.573048 | G16: =[1]MercLab!J84 -> 6.6574617 | H16: =[1]MercLab!K84 -> 14601.618 | I16: =IF(ISNUMBER(H16/H$8*100),H16/H$8*100,0) -> 5.0753222 | J16: =[1]MercLab!L84 -> 6.546304 | K16: =IF(ISNUMBER(H16/B16*100),H16/B16*100,0) -> 6.7014887 | L16: =[1]MercLab!M84 -> 2.4808633
A17: Comercio al por mayor y al por menor, reparacion de vehiculos automotores y motocicletas | B17: =[1]MercLab!G85 -> 726271.84 | C17: =IF(ISNUMBER(B17/B$8*100),B17/B$8*100,0) -> 18.455145 | D17: =[1]MercLab!H85 -> 7.9713488 | E17: =[1]MercLab!I85 -> 700131.05 | F17: =IF(ISNUMBER(E17/E$8*100),E17/E$8*100,0) -> 19.194099 | G17: =[1]MercLab!J85 -> 7.8910047 | H17: =[1]MercLab!K85 -> 26140.788 | I17: =IF(ISNUMBER(H17/H$8*100),H17/H$8*100,0) -> 9.0861795 | J17: =[1]MercLab!L85 -> 10.034038 | K17: =IF(ISNUMBER(H17/B17*100),H17/B17*100,0) -> 3.5993118 | L17: =[1]MercLab!M85 -> 3.1109288
A18: Transporte y almacenamiento | B18: =[1]MercLab!G86 -> 110275.31 | C18: =IF(ISNUMBER(B18/B$8*100),B18/B$8*100,0) -> 2.8021832 | D18: =[1]MercLab!H86 -> 7.46994 | E18: =[1]MercLab!I86 -> 104782.19 | F18: =IF(ISNUMBER(E18/E$8*100),E18/E$8*100,0) -> 2.8726046 | G18: =[1]MercLab!J86 -> 7.2755396 | H18: =[1]MercLab!K86 -> 5493.118 | I18: =IF(ISNUMBER(H18/H$8*100),H18/H$8*100,0) -> 1.9093325 | J18: =[1]MercLab!L86 -> 11.203907 | K18: =IF(ISNUMBER(H18/B18*100),H18/B18*100,0) -> 4.9812765 | L18: =[1]MercLab!M86 -> 4.9500724
A19: Actividades de alojamiento y de servicios de comida | B19: =[1]MercLab!G87 -> 170537.8 | C19: =IF(ISNUMBER(B19/B$8*100),B19/B$8*100,0) -> 4.3335011 | D19: =[1]MercLab!H87 -> 7.8592303 | E19: =[1]MercLab!I87 -> 164424.18 | F19: =IF(ISNUMBER(E19/E$8*100),E19/E$8*100,0) -> 4.5076903 | G19: =[1]MercLab!J87 -> 7.8348581 | H19: =[1]MercLab!K87 -> 6113.6218 | I19: =IF(ISNUMBER(H19/H$8*100),H19/H$8*100,0) -> 2.1250111 | J19: =[1]MercLab!L87 -> 8.4840803 | K19: =IF(ISNUMBER(H19/B19*100),H19/B19*100,0) -> 3.5849071 | L19: =[1]MercLab!M87 -> 3.7852963
A20: Informacion y comunicaciones | B20: =[1]MercLab!G88 -> 25151.42 | C20: =IF(ISNUMBER(B20/B$8*100),B20/B$8*100,0) -> 0.63911758 | D20: =[1]MercLab!H88 -> 12.763525 | E20: =[1]MercLab!I88 -> 21745.058 | F20: =IF(ISNUMBER(E20/E$8*100),E20/E$8*100,0) -> 0.59614094 | G20: =[1]MercLab!J88 -> 12.718913 | H20: =[1]MercLab!K88 -> 3406.3627 | I20: =IF(ISNUMBER(H20/H$8*100),H20/H$8*100,0) -> 1.184005 | J20: =[1]MercLab!L88 -> 13.04571 | K20: =IF(ISNUMBER(H20/B20*100),H20/B20*100,0) -> 13.543421 | L20: =[1]MercLab!M88 -> 5.9668478
A21: Actividades finacieras y de seguros | B21: =[1]MercLab!G89 -> 49121.807 | C21: =IF(ISNUMBER(B21/B$8*100),B21/B$8*100,0) -> 1.2482242 | D21: =[1]MercLab!H89 -> 13.030052 | E21: =[1]MercLab!I89 -> 45810.363 | F21: =IF(ISNUMBER(E21/E$8*100),E21/E$8*100,0) -> 1.2558915 | G21: =[1]MercLab!J89 -> 12.958556 | H21: =[1]MercLab!K89 -> 3311.4442 | I21: =IF(ISNUMBER(H21/H$8*100),H21/H$8*100,0) -> 1.1510126 | J21: =[1]MercLab!L89 -> 13.999822 | K21: =IF(ISNUMBER(H21/B21*100),H21/B21*100,0) -> 6.7412915 | L21: =[1]MercLab!M89 -> 3.1268308
A22: Actividades inmobiliarias | B22: =[1]MercLab!G90 -> 5924.7061 | C22: =IF(ISNUMBER(B22/B$8*100),B22/B$8*100,0) -> 0.15055149 | D22: =[1]MercLab!H90 -> 11.105285 | E22: =[1]MercLab!I90 -> 5924.7061 | F22: =IF(ISNUMBER(E22/E$8*100),E22/E$8*100,0) -> 0.16242587 | G22: =[1]MercLab!J90 -> 11.105285 | H22: =[1]MercLab!K90 -> 0 | I22: =IF(ISNUMBER(H22/H$8*100),H22/H$8*100,0) -> 0 | J22: =[1]MercLab!L90 -> 0 | K22: =IF(ISNUMBER(H22/B22*100),H22/B22*100,0) -> 0 | L22: =[1]MercLab!M90 -> 0
... A34: NS/NR | B34: =[1]MercLab!G102 -> 913.78611 | C34: =IF(ISNUMBER(B34/B$8*100),B34/B$8*100,0) -> 0.023220031 | D34: =[1]MercLab!H102 -> 10.57013 | E34: =[1]MercLab!I102 -> 913.78611 | F34: =IF(ISNUMBER(E34/E$8*100),E34/E$8*100,0) -> 0.025051454 | G34: =[1]MercLab!J102 -> 10.57013 | H34: =[1]MercLab!K102 -> 0 | I34: =IF(ISNUMBER(H34/H$8*100),H34/H$8*100,0) -> 0 | J34: =[1]MercLab!L102 -> 0 | K34: =IF(ISNUMBER(H34/B34*100),H34/B34*100,0) -> 0 | L34: =[1]MercLab!M102 -> 0
A36: Ocupación
A37: Directores y gerentes | B37: =[1]MercLab!G104 -> 101950.37 | C37: =IF(ISNUMBER(B37/B$8*100),B37/B$8*100,0) -> 2.5906399 | D37: =[1]MercLab!H104 -> 12.815442 | E37: =[1]MercLab!I104 -> 96154.107 | F37: =IF(ISNUMBER(E37/E$8*100),E37/E$8*100,0) -> 2.6360656 | G37: =[1]MercLab!J104 -> 12.819086 | H37: =[1]MercLab!K104 -> 5796.2602 | I37: =IF(ISNUMBER(H37/H$8*100),H37/H$8*100,0) -> 2.0147006 | J37: =[1]MercLab!L104 -> 12.755722 | K37: =IF(ISNUMBER(H37/B37*100),H37/B37*100,0) -> 5.6853746 | L37: =[1]MercLab!M104 -> 3.0101985
A38: Profesionales cientificos e intelectuales | B38: =[1]MercLab!G105 -> 129507.91 | C38: =IF(ISNUMBER(B38/B$8*100),B38/B$8*100,0) -> 3.2908991 | D38: =[1]MercLab!H105 -> 15.396737 | E38: =[1]MercLab!I105 -> 123446.06 | F38: =IF(ISNUMBER(E38/E$8*100),E38/E$8*100,0) -> 3.3842749 | G38: =[1]MercLab!J105 -> 15.408862 | H38: =[1]MercLab!K105 -> 6061.8516 | I38: =IF(ISNUMBER(H38/H$8*100),H38/H$8*100,0) -> 2.1070165 | J38: =[1]MercLab!L105 -> 15.149826 | K38: =IF(ISNUMBER(H38/B38*100),H38/B38*100,0) -> 4.6806805 | L38: =[1]MercLab!M105 -> 3.7760368
A39: Tecnicos y profesionales de nivel medio | B39: =[1]MercLab!G106 -> 232115.41 | C39: =IF(ISNUMBER(B39/B$8*100),B39/B$8*100,0) -> 5.8982372 | D39: =[1]MercLab!H106 -> 11.388578 | E39: =[1]MercLab!I106 -> 218637.43 | F39: =IF(ISNUMBER(E39/E$8*100),E39/E$8*100,0) -> 5.9939469 | G39: =[1]MercLab!J106 -> 11.299167 | H39: =[1]MercLab!K106 -> 13477.987 | I39: =IF(ISNUMBER(H39/H$8*100),H39/H$8*100,0) -> 4.6847634 | J39: =[1]MercLab!L106 -> 12.824039 | K39: =IF(ISNUMBER(H39/B39*100),H39/B39*100,0) -> 5.8065884 | L39: =[1]MercLab!M106 -> 4.2258165
A40: Personal de apoyo administrativo | B40: =[1]MercLab!G107 -> 120740.27 | C40: =IF(ISNUMBER(B40/B$8*100),B40/B$8*100,0) -> 3.0681063 | D40: =[1]MercLab!H107 -> 11.882308 | E40: =[1]MercLab!I107 -> 112217.41 | F40: =IF(ISNUMBER(E40/E$8*100),E40/E$8*100,0) -> 3.0764412 | G40: =[1]MercLab!J107 -> 11.860923 | H40: =[1]MercLab!K107 -> 8522.8627 | I40: =IF(ISNUMBER(H40/H$8*100),H40/H$8*100,0) -> 2.9624303 | J40: =[1]MercLab!L107 -> 12.159109 | K40: =IF(ISNUMBER(H40/B40*100),H40/B40*100,0) -> 7.0588401 | L40: =[1]MercLab!M107 -> 4.9273408
A41: Trabajadores de los servicios y vendedores de comercios y mercados | B41: =[1]MercLab!G108 -> 833160.93 | C41: =IF(ISNUMBER(B41/B$8*100),B41/B$8*100,0) -> 21.171281 | D41: =[1]MercLab!H108 -> 7.656058 | E41: =[1]MercLab!I108 -> 801258.95 | F41: =IF(ISNUMBER(E41/E$8*100),E41/E$8*100,0) -> 21.966521 | G41: =[1]MercLab!J108 -> 7.5559246 | H41: =[1]MercLab!K108 -> 31901.979 | I41: =IF(ISNUMBER(H41/H$8*100),H41/H$8*100,0) -> 11.088691 | J41: =[1]MercLab!L108 -> 10.042096 | K41: =IF(ISNUMBER(H41/B41*100),H41/B41*100,0) -> 3.8290297 | L41: =[1]MercLab!M108 -> 3.116219
A42: Agricultores y trabajadores calificados agropecuarios forestales y pesqueros | B42: =[1]MercLab!G109 -> 638563.43 | C42: =IF(ISNUMBER(B42/B$8*100),B42/B$8*100,0) -> 16.226404 | D42: =[1]MercLab!H109 -> 5.0985824 | E42: =[1]MercLab!I109 -> 636305.44 | F42: =IF(ISNUMBER(E42/E$8*100),E42/E$8*100,0) -> 17.444319 | G42: =[1]MercLab!J109 -> 5.080054 | H42: =[1]MercLab!K109 -> 2257.9918 | I42: =IF(ISNUMBER(H42/H$8*100),H42/H$8*100,0) -> 0.78484702 | J42: =[1]MercLab!L109 -> 12.032385 | K42: =IF(ISNUMBER(H42/B42*100),H42/B42*100,0) -> 0.35360494 | L42: =[1]MercLab!M109 -> 1.4711785
A43: Oficiales, operarios y artesanos de artes mecanicas y de otros oficios | B43: =[1]MercLab!G110 -> 588224.25 | C43: =IF(ISNUMBER(B43/B$8*100),B43/B$8*100,0) -> 14.947246 | D43: =[1]MercLab!H110 -> 7.1126805 | E43: =[1]MercLab!I110 -> 564550.62 | F43: =IF(ISNUMBER(E43/E$8*100),E43/E$8*100,0) -> 15.47716 | G43: =[1]MercLab!J110 -> 7.0858862 | H43: =[1]MercLab!K110 -> 23673.627 | I43: =IF(ISNUMBER(H43/H$8*100),H43/H$8*100,0) -> 8.2286284 | J43: =[1]MercLab!L110 -> 7.7256207 | K43: =IF(ISNUMBER(H43/B43*100),H43/B43*100,0) -> 4.0245922 | L43: =[1]MercLab!M110 -> 2.5923332
A44: Operadores de instalaciones y maquinas y ensambladores | B44: =[1]MercLab!G111 -> 189987.73 | C44: =IF(ISNUMBER(B44/B$8*100),B44/B$8*100,0) -> 4.8277394 | D44: =[1]MercLab!H111 -> 7.5123299 | E44: =[1]MercLab!I111 -> 180233.74 | F44: =IF(ISNUMBER(E44/E$8*100),E44/E$8*100,0) -> 4.9411096 | G44: =[1]MercLab!J111 -> 7.4720285 | H44: =[1]MercLab!K111 -> 9753.9919 | I44: =IF(ISNUMBER(H44/H$8*100),H44/H$8*100,0) -> 3.3903539 | J44: =[1]MercLab!L111 -> 8.2187962 | K44: =IF(ISNUMBER(H44/B44*100),H44/B44*100,0) -> 5.1340114 | L44: =[1]MercLab!M111 -> 2.5950163
A45: Ocupaciones elementales | B45: =[1]MercLab!G112 -> 938776.88 | C45: =IF(ISNUMBER(B45/B$8*100),B45/B$8*100,0) -> 23.855067 | D45: =[1]MercLab!H112 -> 5.9818519 | E45: =[1]MercLab!I112 -> 911296.39 | F45: =IF(ISNUMBER(E45/E$8*100),E45/E$8*100,0) -> 24.983198 | G45: =[1]MercLab!J112 -> 5.9576899 | H45: =[1]MercLab!K112 -> 27480.489 | I45: =IF(ISNUMBER(H45/H$8*100),H45/H$8*100,0) -> 9.5518412 | J45: =[1]MercLab!L112 -> 6.7553394 | K45: =IF(ISNUMBER(H45/B45*100),H45/B45*100,0) -> 2.9272652 | L45: =[1]MercLab!M112 -> 1.5559364
A46: Ocupaciones militares | B46: =[1]MercLab!G113 -> 555.70849 | C46: =IF(ISNUMBER(B46/B$8*100),B46/B$8*100,0) -> 0.014120994 | D46: =[1]MercLab!H113 -> 14.75 | E46: =[1]MercLab!I113 -> 555.70849 | F46: =IF(ISNUMBER(E46/E$8*100),E46/E$8*100,0) -> 0.015234753 | G46: =[1]MercLab!J113 -> 14.75 | H46: =[1]MercLab!K113 -> 0 | I46: =IF(ISNUMBER(H46/H$8*100),H46/H$8*100,0) -> 0 | J46: =[1]MercLab!L113 -> 0 | K46: =IF(ISNUMBER(H46/B46*100),H46/B46*100,0) -> 0 | L46: =[1]MercLab!M113 -> 0
A47: Ocupaciones NO especificadas | B47: =[1]MercLab!G114 -> 2720.6894 | C47: =IF(ISNUMBER(B47/B$8*100),B47/B$8*100,0) -> 0.06913488 | D47: =[1]MercLab!H114 -> 4.9086532 | E47: =[1]MercLab!I114 -> 2720.6894 | F47: =IF(ISNUMBER(E47/E$8*100),E47/E$8*100,0) -> 0.074587723 | G47: =[1]MercLab!J114 -> 4.9086532 | H47: =[1]MercLab!K114 -> 0 | I47: =IF(ISNUMBER(H47/H$8*100),H47/H$8*100,0) -> 0 | J47: =[1]MercLab!L114 -> 0 | K47: =IF(ISNUMBER(H47/B47*100),H47/B47*100,0) -> 0 | L47: =[1]MercLab!M114 -> 0
A48: Busca trabajo por primera vez | B48: =[1]MercLab!G115 -> 158771.3 | C48: =IF(ISNUMBER(B48/B$8*100),B48/B$8*100,0) -> 4.034505 | D48: =[1]MercLab!H115 -> 8.72366 | E48: =[1]MercLab!I115 -> 0 | F48: =IF(ISNUMBER(E48/E$8*100),E48/E$8*100,0) -> 0 | G48: =[1]MercLab!J115 -> 0 | H48: =[1]MercLab!K115 -> 158771.3 | I48: =IF(ISNUMBER(H48/H$8*100),H48/H$8*100,0) -> 55.186728 | J48: =[1]MercLab!L115 -> 8.72366 | K48: =IF(ISNUMBER(H48/B48*100),H48/B48*100,0) -> 100 | L48: =[1]MercLab!M115 -> 3.5719747
A49: NS/NR | B49: =[1]MercLab!G116 -> 260.48835 | D49: =[1]MercLab!H116 -> 12 | E49: =[1]MercLab!I116 -> 260.48835 | F49: =IF(ISNUMBER(E49/E$8*100),E49/E$8*100,0) -> 0.0071412904 | G49: =[1]MercLab!J116 -> 12 | H49: =[1]MercLab!K116 -> 0 | I49: =IF(ISNUMBER(H49/H$8*100),H49/H$8*100,0) -> 0 | J49: =[1]MercLab!L116 -> 0 | K49: =IF(ISNUMBER(H49/B49*100),H49/B49*100,0) -> 0 | L49: =[1]MercLab!M116 -> 0
A50: ='C02'!A45 -> Fuente: Instituto Nacional de Estadística (INE). L Encuesta Permanente de Hogares de Propósitos Múltiples, Junio 2015.
A51: (Promedio de salarios mínimos por rama)
A52: AEP= Años de Estudio Promedio
A53: TDA= Tasa de Desempleo Abierto
A54: MBT= Meses promedio en Busca de Trabajo
A55: 1/ Porcentaje por columna
A56: 2/ El nivel educativo incluye la población menor de cinco años
A57: Clasificación industrial Internacional Uniforme CIIU REV IV)
A58: Clasificación internacional uniforme de ocupaciones CIUO-08

Sheet C03
A1: Cuadro No. 3. Personas ocupadas por categoría ocupacional, según dominio, nivel educativo, rango de edad, sexo.
A2: número de salarios mínimos, rama de actividad y ocupación
A3: Ocupación Principal
A4: Categorías | B4: Total Ocupados | D4: Asalariados | L4: Cuenta propia | N4: Trab. fam. no remu.
D5: Total Asalariados | F5: Público | H5: Privado | J5: Doméstico
B6: No. | C6: % 1/ | D6: No. | E6: % 1/ | F6: No. | G6: % 1/ | H6: No. | I6: % 1/ | J6: No. | K6: % 1/ | L6: No. | M6: % 1/ | N6: No. | O6: % 1/
A8: Total Nacional 2/ | B8: =[1]MercLab!C126 -> 3647637 | C8: =SUM(E8,M8,O8) -> 100 | D8: =F8+H8+J8 -> 1695791.6 | E8: =IF(ISNUMBER(D8/$B$8*100),D8/$B$8*100,0) -> 46.49014 | F8: =[1]MercLab!D126 -> 231670.58 | G8: =IF(ISNUMBER(F8/$B$8*100),F8/$B$8*100,0) -> 6.351251 | H8: =[1]MercLab!E126 -> 1364755 | I8: =IF(ISNUMBER(H8/$B$8*100),H8/$B$8*100,0) -> 37.41477 | J8: =[1]MercLab!F126 -> 99365.959 | K8: =IF(ISNUMBER(J8/$B$8*100),J8/$B$8*100,0) -> 2.7241186 | L8: =[1]MercLab!G126 -> 1468477.3 | M8: =IF(ISNUMBER(L8/$B$8*100),L8/$B$8*100,0) -> 40.258318 | N8: =[1]MercLab!H126 -> 483368.14 | O8: =IF(ISNUMBER(N8/$B$8*100),N8/$B$8*100,0) -> 13.251542
A10: Dominio
A11: Urbano | B11: =SUM(B12:B14) -> 1934935.3 | C11: =IF(ISNUMBER(B11/B$8*100),B11/B$8*100,0) -> 53.046268 | D11: =SUM(D12:D14) -> 1072327.7 | E11: =IF(ISNUMBER(D11/D$8*100),D11/D$8*100,0) -> 63.234643 | F11: =SUM(F12:F14) -> 188825.14 | G11: =IF(ISNUMBER(F11/F$8*100),F11/F$8*100,0) -> 81.505876 | H11: =SUM(H12:H14) -> 814705.53 | I11: =IF(ISNUMBER(H11/H$8*100),H11/H$8*100,0) -> 59.696101 | J11: =SUM(J12:J14) -> 68797.068 | K11: =IF(ISNUMBER(J11/J$8*100),J11/J$8*100,0) -> 69.236053 | L11: =SUM(L12:L14) -> 692604.57 | M11: =IF(ISNUMBER(L11/L$8*100),L11/L$8*100,0) -> 47.164812 | N11: =SUM(N12:N14) -> 170002.99 | O11: =IF(ISNUMBER(N11/N$8*100),N11/N$8*100,0) -> 35.170499
A12: Distrito Central | B12: =[1]MercLab!C127 -> 441909.81 | C12: =IF(ISNUMBER(B12/B$8*100),B12/B$8*100,0) -> 12.114961 | D12: =F12+H12+J12 -> 272557.65 | E12: =IF(ISNUMBER(D12/D$8*100),D12/D$8*100,0) -> 16.072591 | F12: =[1]MercLab!D127 -> 65851.456 | G12: =IF(ISNUMBER(F12/F$8*100),F12/F$8*100,0) -> 28.424608 | H12: =[1]MercLab!E127 -> 186995.91 | I12: =IF(ISNUMBER(H12/H$8*100),H12/H$8*100,0) -> 13.701793 | J12: =[1]MercLab!F127 -> 19710.285 | K12: =IF(ISNUMBER(J12/J$8*100),J12/J$8*100,0) -> 19.836054 | L12: =[1]MercLab!G127 -> 139361.27 | M12: =IF(ISNUMBER(L12/L$8*100),L12/L$8*100,0) -> 9.4901887 | N12: =[1]MercLab!H127 -> 29990.892 | O12: =IF(ISNUMBER(N12/N$8*100),N12/N$8*100,0) -> 6.2045654
A13: San Pedro Sula | B13: =[1]MercLab!C128 -> 323534.14 | C13: =IF(ISNUMBER(B13/B$8*100),B13/B$8*100,0) -> 8.8696911 | D13: =F13+H13+J13 -> 185761.99 | E13: =IF(ISNUMBER(D13/D$8*100),D13/D$8*100,0) -> 10.954294 | F13: =[1]MercLab!D128 -> 16764.662 | G13: =IF(ISNUMBER(F13/F$8*100),F13/F$8*100,0) -> 7.2364223 | H13: =[1]MercLab!E128 -> 156940.28 | I13: =IF(ISNUMBER(H13/H$8*100),H13/H$8*100,0) -> 11.49952 | J13: =[1]MercLab!F128 -> 12057.049 | K13: =IF(ISNUMBER(J13/J$8*100),J13/J$8*100,0) -> 12.133984 | L13: =[1]MercLab!G128 -> 106427.79 | M13: =IF(ISNUMBER(L13/L$8*100),L13/L$8*100,0) -> 7.2474932 | N13: =[1]MercLab!H128 -> 31344.356 | O13: =IF(ISNUMBER(N13/N$8*100),N13/N$8*100,0) -> 6.4845721
A14: Resto urbano | B14: =[1]MercLab!C129 -> 1169491.4 | C14: =IF(ISNUMBER(B14/B$8*100),B14/B$8*100,0) -> 32.061615 | D14: =F14+H14+J14 -> 614008.11 | E14: =IF(ISNUMBER(D14/D$8*100),D14/D$8*100,0) -> 36.207758 | F14: =[1]MercLab!D129 -> 106209.02 | G14: =IF(ISNUMBER(F14/F$8*100),F14/F$8*100,0) -> 45.844846 | H14: =[1]MercLab!E129 -> 470769.35 | I14: =IF(ISNUMBER(H14/H$8*100),H14/H$8*100,0) -> 34.494788 | J14: =[1]MercLab!F129 -> 37029.733 | K14: =IF(ISNUMBER(J14/J$8*100),J14/J$8*100,0) -> 37.266015 | L14: =[1]MercLab!G129 -> 446815.51 | M14: =IF(ISNUMBER(L14/L$8*100),L14/L$8*100,0) -> 30.42713 | N14: =[1]MercLab!H129 -> 108667.74 | O14: =IF(ISNUMBER(N14/N$8*100),N14/N$8*100,0) -> 22.481361
A15: Rural | B15: =[1]MercLab!C130 -> 1712701.7 | C15: =IF(ISNUMBER(B15/B$8*100),B15/B$8*100,0) -> 46.953732 | D15: =F15+H15+J15 -> 623463.83 | E15: =IF(ISNUMBER(D15/D$8*100),D15/D$8*100,0) -> 36.765357 | F15: =[1]MercLab!D130 -> 42845.445 | G15: =IF(ISNUMBER(F15/F$8*100),F15/F$8*100,0) -> 18.494124 | H15: =[1]MercLab!E130 -> 550049.49 | I15: =IF(ISNUMBER(H15/H$8*100),H15/H$8*100,0) -> 40.303899 | J15: =[1]MercLab!F130 -> 30568.891 | K15: =IF(ISNUMBER(J15/J$8*100),J15/J$8*100,0) -> 30.763947 | L15: =[1]MercLab!G130 -> 775872.75 | M15: =IF(ISNUMBER(L15/L$8*100),L15/L$8*100,0) -> 52.835188 | N15: =[1]MercLab!H130 -> 313365.16 | O15: =IF(ISNUMBER(N15/N$8*100),N15/N$8*100,0) -> 64.829501
D16: =F16+H16+J16 -> 0
A17: Nivel Educativo
A18: Sin Nivel | B18: =[1]MercLab!C132 -> 354564.92 | C18: =IF(ISNUMBER(B18/B$8*100),B18/B$8*100,0) -> 9.7204004 | D18: =F18+H18+J18 -> 110964.8 | E18: =IF(ISNUMBER(D18/D$8*100),D18/D$8*100,0) -> 6.5435403 | F18: =[1]MercLab!D132 -> 4626.1737 | G18: =IF(ISNUMBER(F18/F$8*100),F18/F$8*100,0) -> 1.9968757 | H18: =[1]MercLab!E132 -> 96158.032 | I18: =IF(ISNUMBER(H18/H$8*100),H18/H$8*100,0) -> 7.045809 | J18: =[1]MercLab!F132 -> 10180.599 | K18: =IF(ISNUMBER(J18/J$8*100),J18/J$8*100,0) -> 10.24556 | L18: =[1]MercLab!G132 -> 217640.4 | M18: =IF(ISNUMBER(L18/L$8*100),L18/L$8*100,0) -> 14.820821 | N18: =[1]MercLab!H132 -> 25959.719 | O18: =IF(ISNUMBER(N18/N$8*100),N18/N$8*100,0) -> 5.3705896
A19: Primaria | B19: =[1]MercLab!C133 -> 1927868.6 | C19: =IF(ISNUMBER(B19/B$8*100),B19/B$8*100,0) -> 52.852533 | D19: =F19+H19+J19 -> 740313.47 | E19: =IF(ISNUMBER(D19/D$8*100),D19/D$8*100,0) -> 43.655924 | F19: =[1]MercLab!D133 -> 33338.383 | G19: =IF(ISNUMBER(F19/F$8*100),F19/F$8*100,0) -> 14.390425 | H19: =[1]MercLab!E133 -> 647305.61 | I19: =IF(ISNUMBER(H19/H$8*100),H19/H$8*100,0) -> 47.430169 | J19: =[1]MercLab!F133 -> 59669.479 | K19: =IF(ISNUMBER(J19/J$8*100),J19/J$8*100,0) -> 60.050222 | L19: =[1]MercLab!G133 -> 887293.39 | M19: =IF(ISNUMBER(L19/L$8*100),L19/L$8*100,0) -> 60.422682 | N19: =[1]MercLab!H133 -> 300261.71 | O19: =IF(ISNUMBER(N19/N$8*100),N19/N$8*100,0) -> 62.118638
A20: Secundaria | B20: =[1]MercLab!C134 -> 1001493.4 | C20: =IF(ISNUMBER(B20/B$8*100),B20/B$8*100,0) -> 27.45595 | D20: =F20+H20+J20 -> 572741.88 | E20: =IF(ISNUMBER(D20/D$8*100),D20/D$8*100,0) -> 33.774309 | F20: =[1]MercLab!D134 -> 86672.91 | G20: =IF(ISNUMBER(F20/F$8*100),F20/F$8*100,0) -> 37.412134 | H20: =[1]MercLab!E134 -> 459354.75 | I20: =IF(ISNUMBER(H20/H$8*100),H20/H$8*100,0) -> 33.658403 | J20: =[1]MercLab!F134 -> 26714.219 | K20: =IF(ISNUMBER(J20/J$8*100),J20/J$8*100,0) -> 26.884679 | L20: =[1]MercLab!G134 -> 290339.46 | M20: =IF(ISNUMBER(L20/L$8*100),L20/L$8*100,0) -> 19.771464 | N20: =[1]MercLab!H134 -> 138412.08 | O20: =IF(ISNUMBER(N20/N$8*100),N20/N$8*100,0) -> 28.634919
A21: Superior | B21: =[1]MercLab!C135 -> 349797.25 | C21: =IF(ISNUMBER(B21/B$8*100),B21/B$8*100,0) -> 9.5896947 | D21: =F21+H21+J21 -> 264343.25 | E21: =IF(ISNUMBER(D21/D$8*100),D21/D$8*100,0) -> 15.588192 | F21: =[1]MercLab!D135 -> 105991.17 | G21: =IF(ISNUMBER(F21/F$8*100),F21/F$8*100,0) -> 45.750808 | H21: =[1]MercLab!E135 -> 156344.96 | I21: =IF(ISNUMBER(H21/H$8*100),H21/H$8*100,0) -> 11.455899 | J21: =[1]MercLab!F135 -> 2007.1282 | K21: =IF(ISNUMBER(J21/J$8*100),J21/J$8*100,0) -> 2.0199354 | L21: =[1]MercLab!G135 -> 67116.631 | M21: =IF(ISNUMBER(L21/L$8*100),L21/L$8*100,0) -> 4.5704915 | N21: =[1]MercLab!H135 -> 18337.373 | O21: =IF(ISNUMBER(N21/N$8*100),N21/N$8*100,0) -> 3.7936661
A22: No sabe, no responde | B22: =[1]MercLab!C136 -> 13912.869 | C22: =IF(ISNUMBER(B22/B$8*100),B22/B$8*100,0) -> 0.38142142 | D22: =F22+H22+J22 -> 7428.1626 | E22: =IF(ISNUMBER(D22/D$8*100),D22/D$8*100,0) -> 0.43803512 | F22: =[1]MercLab!D136 -> 1041.9534 | G22: =IF(ISNUMBER(F22/F$8*100),F22/F$8*100,0) -> 0.44975646 | H22: =[1]MercLab!E136 -> 5591.6755 | I22: =IF(ISNUMBER(H22/H$8*100),H22/H$8*100,0) -> 0.40972009 | J22: =[1]MercLab!F136 -> 794.53374 | K22: =IF(ISNUMBER(J22/J$8*100),J22/J$8*100,0) -> 0.79960355 | L22: =[1]MercLab!G136 -> 6087.4395 | M22: =IF(ISNUMBER(L22/L$8*100),L22/L$8*100,0) -> 0.41454093 | N22: =[1]MercLab!H136 -> 397.26687 | O22: =IF(ISNUMBER(N22/N$8*100),N22/N$8*100,0) -> 0.082187226
D23: =F23+H23+J23 -> 0
A24: Rango de Edad
A25: De 10 a 11 años | B25: =[1]MercLab!C138 -> 25356.844 | C25: =IF(ISNUMBER(B25/B$8*100),B25/B$8*100,0) -> 0.6951581 | D25: =F25+H25+J25 -> 1649.707 | E25: =IF(ISNUMBER(D25/D$8*100),D25/D$8*100,0) -> 0.097282413 | F25: =[1]MercLab!D138 -> 0 | G25: =IF(ISNUMBER(F25/F$8*100),F25/F$8*100,0) -> 0 | H25: =[1]MercLab!E138 -> 1649.707 | I25: =IF(ISNUMBER(H25/H$8*100),H25/H$8*100,0) -> 0.12087935 | J25: =[1]MercLab!F138 -> 0 | K25: =IF(ISNUMBER(J25/J$8*100),J25/J$8*100,0) -> 0 | L25: =[1]MercLab!G138 -> 3285.1517 | M25: =IF(ISNUMBER(L25/L$8*100),L25/L$8*100,0) -> 0.22371144 | N25: =[1]MercLab!H138 -> 20421.986 | O25: =IF(ISNUMBER(N25/N$8*100),N25/N$8*100,0) -> 4.2249341
A26: De 12 a 14 años | B26: =[1]MercLab!C139 -> 129812.46 | C26: =IF(ISNUMBER(B26/B$8*100),B26/B$8*100,0) -> 3.5588097 | D26: =F26+H26+J26 -> 28150.436 | E26: =IF(ISNUMBER(D26/D$8*100),D26/D$8*100,0) -> 1.6600174 | F26: =[1]MercLab!D139 -> 0 | G26: =IF(ISNUMBER(F26/F$8*100),F26/F$8*100,0) -> 0 | H26: =[1]MercLab!E139 -> 25534.967 | I26: =IF(ISNUMBER(H26/H$8*100),H26/H$8*100,0) -> 1.8710294 | J26: =[1]MercLab!F139 -> 2615.4681 | K26: =IF(ISNUMBER(J26/J$8*100),J26/J$8*100,0) -> 2.6321571 | L26: =[1]MercLab!G139 -> 8200.6004 | M26: =IF(ISNUMBER(L26/L$8*100),L26/L$8*100,0) -> 0.55844243 | N26: =[1]MercLab!H139 -> 93461.423 | O26: =IF(ISNUMBER(N26/N$8*100),N26/N$8*100,0) -> 19.335454
A27: De 15 a 18 años | B27: =[1]MercLab!C140 -> 350729.85 | C27: =IF(ISNUMBER(B27/B$8*100),B27/B$8*100,0) -> 9.6152618 | D27: =F27+H27+J27 -> 150400.67 | E27: =IF(ISNUMBER(D27/D$8*100),D27/D$8*100,0) -> 8.8690538 | F27: =[1]MercLab!D140 -> 2395.2133 | G27: =IF(ISNUMBER(F27/F$8*100),F27/F$8*100,0) -> 1.0338875 | H27: =[1]MercLab!E140 -> 133172.76 | I27: =IF(ISNUMBER(H27/H$8*100),H27/H$8*100,0) -> 9.7579976 | J27: =[1]MercLab!F140 -> 14832.691 | K27: =IF(ISNUMBER(J27/J$8*100),J27/J$8*100,0) -> 14.927337 | L27: =[1]MercLab!G140 -> 49701.105 | M27: =IF(ISNUMBER(L27/L$8*100),L27/L$8*100,0) -> 3.3845334 | N27: =[1]MercLab!H140 -> 150628.08 | O27: =IF(ISNUMBER(N27/N$8*100),N27/N$8*100,0) -> 31.162185
A28: De 19 a 24 años | B28: =[1]MercLab!C141 -> 571390.12 | C28: =IF(ISNUMBER(B28/B$8*100),B28/B$8*100,0) -> 15.664665 | D28: =F28+H28+J28 -> 365829.74 | E28: =IF(ISNUMBER(D28/D$8*100),D28/D$8*100,0) -> 21.572801 | F28: =[1]MercLab!D141 -> 23109.27 | G28: =IF(ISNUMBER(F28/F$8*100),F28/F$8*100,0) -> 9.9750558 | H28: =[1]MercLab!E141 -> 323312.98 | I28: =IF(ISNUMBER(H28/H$8*100),H28/H$8*100,0) -> 23.690184 | J28: =[1]MercLab!F141 -> 19407.485 | K28: =IF(ISNUMBER(J28/J$8*100),J28/J$8*100,0) -> 19.531321 | L28: =[1]MercLab!G141 -> 116072.08 | M28: =IF(ISNUMBER(L28/L$8*100),L28/L$8*100,0) -> 7.9042472 | N28: =[1]MercLab!H141 -> 89488.304 | O28: =IF(ISNUMBER(N28/N$8*100),N28/N$8*100,0) -> 18.513488
A29: De 25 a 29 años | B29: =[1]MercLab!C142 -> 425510.96 | C29: =IF(ISNUMBER(B29/B$8*100),B29/B$8*100,0) -> 11.665387 | D29: =F29+H29+J29 -> 268169.83 | E29: =IF(ISNUMBER(D29/D$8*100),D29/D$8*100,0) -> 15.813844 | F29: =[1]MercLab!D142 -> 29376.038 | G29: =IF(ISNUMBER(F29/F$8*100),F29/F$8*100,0) -> 12.68009 | H29: =[1]MercLab!E142 -> 227320.61 | I29: =IF(ISNUMBER(H29/H$8*100),H29/H$8*100,0) -> 16.656514 | J29: =[1]MercLab!F142 -> 11473.182 | K29: =IF(ISNUMBER(J29/J$8*100),J29/J$8*100,0) -> 11.546391 | L29: =[1]MercLab!G142 -> 129056.62 | M29: =IF(ISNUMBER(L29/L$8*100),L29/L$8*100,0) -> 8.7884655 | N29: =[1]MercLab!H142 -> 28284.508 | O29: =IF(ISNUMBER(N29/N$8*100),N29/N$8*100,0) -> 5.8515458
A30: De 30 a 35 años | B30: =[1]MercLab!C143 -> 463516.03 | C30: =IF(ISNUMBER(B30/B$8*100),B30/B$8*100,0) -> 12.707296 | D30: =F30+H30+J30 -> 244720.9 | E30: =IF(ISNUMBER(D30/D$8*100),D30/D$8*100,0) -> 14.431072 | F30: =[1]MercLab!D143 -> 31494.762 | G30: =IF(ISNUMBER(F30/F$8*100),F30/F$8*100,0) -> 13.594631 | H30: =[1]MercLab!E143 -> 202313.77 | I30: =IF(ISNUMBER(H30/H$8*100),H30/H$8*100,0) -> 14.824182 | J30: =[1]MercLab!F143 -> 10912.363 | K30: =IF(ISNUMBER(J30/J$8*100),J30/J$8*100,0) -> 10.981994 | L30: =[1]MercLab!G143 -> 192088.46 | M30: =IF(ISNUMBER(L30/L$8*100),L30/L$8*100,0) -> 13.080792 | N30: =[1]MercLab!H143 -> 26706.671 | O30: =IF(ISNUMBER(N30/N$8*100),N30/N$8*100,0) -> 5.5251203
A31: De 36 a 44 años | B31: =[1]MercLab!C144 -> 632008.86 | C31: =IF(ISNUMBER(B31/B$8*100),B31/B$8*100,0) -> 17.326528 | D31: =F31+H31+J31 -> 310614.69 | E31: =IF(ISNUMBER(D31/D$8*100),D31/D$8*100,0) -> 18.316797 | F31: =[1]MercLab!D144 -> 57663.677 | G31: =IF(ISNUMBER(F31/F$8*100),F31/F$8*100,0) -> 24.890375 | H31: =[1]MercLab!E144 -> 236232.11 | I31: =IF(ISNUMBER(H31/H$8*100),H31/H$8*100,0) -> 17.309488 | J31: =[1]MercLab!F144 -> 16718.909 | K31: =IF(ISNUMBER(J31/J$8*100),J31/J$8*100,0) -> 16.82559 | L31: =[1]MercLab!G144 -> 300443.82 | M31: =IF(ISNUMBER(L31/L$8*100),L31/L$8*100,0) -> 20.459548 | N31: =[1]MercLab!H144 -> 20950.342 | O31: =IF(ISNUMBER(N31/N$8*100),N31/N$8*100,0) -> 4.3342414
A32: De 45 a 59 años | B32: =[1]MercLab!C145 -> 681809.29 | C32: =IF(ISNUMBER(B32/B$8*100),B32/B$8*100,0) -> 18.691807 | D32: =F32+H32+J32 -> 250432.85 | E32: =IF(ISNUMBER(D32/D$8*100),D32/D$8*100,0) -> 14.767903 | F32: =[1]MercLab!D145 -> 71741.517 | G32: =IF(ISNUMBER(F32/F$8*100),F32/F$8*100,0) -> 30.967038 | H32: =[1]MercLab!E145 -> 162990.17 | I32: =IF(ISNUMBER(H32/H$8*100),H32/H$8*100,0) -> 11.942815 | J32: =[1]MercLab!F145 -> 15701.169 | K32: =IF(ISNUMBER(J32/J$8*100),J32/J$8*100,0) -> 15.801356 | L32: =[1]MercLab!G145 -> 406805.93 | M32: =IF(ISNUMBER(L32/L$8*100),L32/L$8*100,0) -> 27.702568 | N32: =[1]MercLab!H145 -> 24570.511 | O32: =IF(ISNUMBER(N32/N$8*100),N32/N$8*100,0) -> 5.083188
A33: De 60 años y más | B33: =[1]MercLab!C146 -> 351318.04 | C33: =IF(ISNUMBER(B33/B$8*100),B33/B$8*100,0) -> 9.631387 | D33: =F33+H33+J33 -> 75550.538 | E33: =IF(ISNUMBER(D33/D$8*100),D33/D$8*100,0) -> 4.4551783 | F33: =[1]MercLab!D146 -> 15890.107 | G33: =IF(ISNUMBER(F33/F$8*100),F33/F$8*100,0) -> 6.8589229 | H33: =[1]MercLab!E146 -> 51955.739 | I33: =IF(ISNUMBER(H33/H$8*100),H33/H$8*100,0) -> 3.8069645 | J33: =[1]MercLab!F146 -> 7704.6918 | K33: =IF(ISNUMBER(J33/J$8*100),J33/J$8*100,0) -> 7.7538544 | L33: =[1]MercLab!G146 -> 261632.62 | M33: =IF(ISNUMBER(L33/L$8*100),L33/L$8*100,0) -> 17.816593 | N33: =[1]MercLab!H146 -> 14134.878 | O33: =IF(ISNUMBER(N33/N$8*100),N33/N$8*100,0) -> 2.924247
A35: Sexo
A36: Hombre | B36: =[1]MercLab!C148 -> 2255445.9 | C36: =IF(ISNUMBER(B36/B$8*100),B36/B$8*100,0) -> 61.833068 | D36: =F36+H36+J36 -> 1108975.1 | E36: =IF(ISNUMBER(D36/D$8*100),D36/D$8*100,0) -> 65.395719 | F36: =[1]MercLab!D148 -> 106970.89 | G36: =IF(ISNUMBER(F36/F$8*100),F36/F$8*100,0) -> 46.173702 | H36: =[1]MercLab!E148 -> 994177.22 | I36: =IF(ISNUMBER(H36/H$8*100),H36/H$8*100,0) -> 72.84657 | J36: =[1]MercLab!F148 -> 7826.975 | K36: =IF(ISNUMBER(J36/J$8*100),J36/J$8*100,0) -> 7.8769179 | L36: =[1]MercLab!G148 -> 862530.38 | M36: =IF(ISNUMBER(L36/L$8*100),L36/L$8*100,0) -> 58.736378 | N36: =[1]MercLab!H148 -> 283940.41 | O36: =IF(ISNUMBER(N36/N$8*100),N36/N$8*100,0) -> 58.74206
A37: Mujer | B37: =[1]MercLab!C149 -> 1392191.2 | C37: =IF(ISNUMBER(B37/B$8*100),B37/B$8*100,0) -> 38.166932 | D37: =F37+H37+J37 -> 586816.49 | E37: =IF(ISNUMBER(D37/D$8*100),D37/D$8*100,0) -> 34.604281 | F37: =[1]MercLab!D149 -> 124699.7 | G37: =IF(ISNUMBER(F37/F$8*100),F37/F$8*100,0) -> 53.826298 | H37: =[1]MercLab!E149 -> 370577.8 | I37: =IF(ISNUMBER(H37/H$8*100),H37/H$8*100,0) -> 27.15343 | J37: =[1]MercLab!F149 -> 91538.984 | K37: =IF(ISNUMBER(J37/J$8*100),J37/J$8*100,0) -> 92.123082 | L37: =[1]MercLab!G149 -> 605946.94 | M37: =IF(ISNUMBER(L37/L$8*100),L37/L$8*100,0) -> 41.263622 | N37: =[1]MercLab!H149 -> 199427.74 | O37: =IF(ISNUMBER(N37/N$8*100),N37/N$8*100,0) -> 41.25794
A39: No. de Salarios Mínimos 3/ | B39: =[1]MercLab!C150 -> 3040491.3 | C39: =IF(ISNUMBER(B39/B$8*100),B39/B$8*100,0) -> 83.355095 | D39: =F39+H39+J39 -> 1679356.7 | E39: =IF(ISNUMBER(D39/D$8*100),D39/D$8*100,0) -> 99.030845 | F39: =[1]MercLab!D150 -> 224444.53 | G39: =IF(ISNUMBER(F39/F$8*100),F39/F$8*100,0) -> 96.880891 | H39: =[1]MercLab!E150 -> 1355806.7 | I39: =IF(ISNUMBER(H39/H$8*100),H39/H$8*100,0) -> 99.344329 | J39: =[1]MercLab!F150 -> 99105.47 | K39: =IF(ISNUMBER(J39/J$8*100),J39/J$8*100,0) -> 99.73785 | L39: =[1]MercLab!G150 -> 1361134.6 | M39: =IF(ISNUMBER(L39/L$8*100),L39/L$8*100,0) -> 92.690202 | N39: =[1]MercLab!H150 -> 0 | O39: =IF(ISNUMBER(N39/N$8*100),N39/N$8*100,0) -> 0
A40: Menos de un salario | B40: =SUM(B41:B43) -> 2373938.7 | C40: =IF(ISNUMBER(B40/B$8*100),B40/B$8*100,0) -> 65.081549 | D40: =F40+H40+J40 -> 1230403.9 | E40: =IF(ISNUMBER(D40/D$8*100),D40/D$8*100,0) -> 72.556318 | F40: =SUM(F41:F43) -> 84843.291 | G40: =IF(ISNUMBER(F40/F$8*100),F40/F$8*100,0) -> 36.622384 | H40: =SUM(H41:H43) -> 1051956.6 | I40: =IF(ISNUMBER(H40/H$8*100),H40/H$8*100,0) -> 77.080251 | J40: =SUM(J41:J43) -> 93604.029 | K40: =IF(ISNUMBER(J40/J$8*100),J40/J$8*100,0) -> 94.201304 | L40: =SUM(L41:L43) -> 1143534.8 | M40: =IF(ISNUMBER(L40/L$8*100),L40/L$8*100,0) -> 77.872143 | N40: =SUM(N41:N43) -> 0 | O40: =IF(ISNUMBER(N40/N$8*100),N40/N$8*100,0) -> 0
A41: Menos de 1 salario y trab <36 horas | B41: =[1]MercLab!C151 -> 1081274.9 | C41: =IF(ISNUMBER(B41/B$8*100),B41/B$8*100,0) -> 29.643159 | D41: =F41+H41+J41 -> 384883.21 | E41: =IF(ISNUMBER(D41/D$8*100),D41/D$8*100,0) -> 22.696375 | F41: =[1]MercLab!D151 -> 30746.584 | G41: =IF(ISNUMBER(F41/F$8*100),F41/F$8*100,0) -> 13.271682 | H41: =[1]MercLab!E151 -> 329639.06 | I41: =IF(ISNUMBER(H41/H$8*100),H41/H$8*100,0) -> 24.153717 | J41: =[1]MercLab!F151 -> 24497.564 | K41: =IF(ISNUMBER(J41/J$8*100),J41/J$8*100,0) -> 24.65388 | L41: =[1]MercLab!G151 -> 696391.64 | M41: =IF(ISNUMBER(L41/L$8*100),L41/L$8*100,0) -> 47.422703 | N41: =[1]MercLab!H151 -> 0 | O41: =IF(ISNUMBER(N41/N$8*100),N41/N$8*100,0) -> 0
A42: Menos de 1 salario y trab >=36 horas | B42: =[1]MercLab!C152 -> 1286334.6 | C42: =IF(ISNUMBER(B42/B$8*100),B42/B$8*100,0) -> 35.264874 | D42: =F42+H42+J42 -> 842658.39 | E42: =IF(ISNUMBER(D42/D$8*100),D42/D$8*100,0) -> 49.691153 | F42: =[1]MercLab!D152 -> 53537.909 | G42: =IF(ISNUMBER(F42/F$8*100),F42/F$8*100,0) -> 23.109498 | H42: =[1]MercLab!E152 -> 720014.01 | I42: =IF(ISNUMBER(H42/H$8*100),H42/H$8*100,0) -> 52.757748 | J42: =[1]MercLab!F152 -> 69106.465 | K42: =IF(ISNUMBER(J42/J$8*100),J42/J$8*100,0) -> 69.547425 | L42: =[1]MercLab!G152 -> 443676.23 | M42: =IF(ISNUMBER(L42/L$8*100),L42/L$8*100,0) -> 30.213352 | N42: =[1]MercLab!H152 -> 0 | O42: =IF(ISNUMBER(N42/N$8*100),N42/N$8*100,0) -> 0
A43: Menos de 1 salario y no decl. horas | B43: =[1]MercLab!C153 -> 6329.2122 | C43: =IF(ISNUMBER(B43/B$8*100),B43/B$8*100,0) -> 0.17351541 | D43: =F43+H43+J43 -> 2862.3176 | E43: =IF(ISNUMBER(D43/D$8*100),D43/D$8*100,0) -> 0.16878947 | F43: =[1]MercLab!D153 -> 558.79879 | G43: =IF(ISNUMBER(F43/F$8*100),F43/F$8*100,0) -> 0.24120403 | H43: =[1]MercLab!E153 -> 2303.5188 | I43: =IF(ISNUMBER(H43/H$8*100),H43/H$8*100,0) -> 0.16878625 | J43: =[1]MercLab!F153 -> 0 | K43: =IF(ISNUMBER(J43/J$8*100),J43/J$8*100,0) -> 0 | L43: =[1]MercLab!G153 -> 3466.8946 | M43: =IF(ISNUMBER(L43/L$8*100),L43/L$8*100,0) -> 0.23608772 | N43: =[1]MercLab!H153 -> 0 | O43: =IF(ISNUMBER(N43/N$8*100),N43/N$8*100,0) -> 0
A44: De 1 a 2 salarios | B44: =[1]MercLab!C154 -> 507403.14 | C44: =IF(ISNUMBER(B44/B$8*100),B44/B$8*100,0) -> 13.910461 | D44: =F44+H44+J44 -> 355422.3 | E44: =IF(ISNUMBER(D44/D$8*100),D44/D$8*100,0) -> 20.95908 | F44: =[1]MercLab!D154 -> 92586.411 | G44: =IF(ISNUMBER(F44/F$8*100),F44/F$8*100,0) -> 39.964682 | H44: =[1]MercLab!E154 -> 257334.45 | I44: =IF(ISNUMBER(H44/H$8*100),H44/H$8*100,0) -> 18.855725 | J44: =[1]MercLab!F154 -> 5501.4414 | K44: =IF(ISNUMBER(J44/J$8*100),J44/J$8*100,0) -> 5.5365454 | L44: =[1]MercLab!G154 -> 151980.84 | M44: =IF(ISNUMBER(L44/L$8*100),L44/L$8*100,0) -> 10.349553 | N44: =[1]MercLab!H154 -> 0 | O44: =IF(ISNUMBER(N44/N$8*100),N44/N$8*100,0) -> 0
A45: De 2 a 3 salarios | B45: =[1]MercLab!C155 -> 96841.215 | C45: =IF(ISNUMBER(B45/B$8*100),B45/B$8*100,0) -> 2.6549027 | D45: =F45+H45+J45 -> 57183.456 | E45: =IF(ISNUMBER(D45/D$8*100),D45/D$8*100,0) -> 3.3720805 | F45: =[1]MercLab!D155 -> 29170.713 | G45: =IF(ISNUMBER(F45/F$8*100),F45/F$8*100,0) -> 12.591462 | H45: =[1]MercLab!E155 -> 28012.743 | I45: =IF(ISNUMBER(H45/H$8*100),H45/H$8*100,0) -> 2.052584 | J45: =[1]MercLab!F155 -> 0 | K45: =IF(ISNUMBER(J45/J$8*100),J45/J$8*100,0) -> 0 | L45: =[1]MercLab!G155 -> 39657.759 | M45: =IF(ISNUMBER(L45/L$8*100),L45/L$8*100,0) -> 2.7006041 | N45: =[1]MercLab!H155 -> 0 | O45: =IF(ISNUMBER(N45/N$8*100),N45/N$8*100,0) -> 0
A46: De 3 a 4 salarios | B46: =[1]MercLab!C156 -> 28167.124 | C46: =IF(ISNUMBER(B46/B$8*100),B46/B$8*100,0) -> 0.77220195 | D46: =F46+H46+J46 -> 20719.212 | E46: =IF(ISNUMBER(D46/D$8*100),D46/D$8*100,0) -> 1.2218018 | F46: =[1]MercLab!D156 -> 12423.224 | G46: =IF(ISNUMBER(F46/F$8*100),F46/F$8*100,0) -> 5.3624519 | H46: =[1]MercLab!E156 -> 8295.9888 | I46: =IF(ISNUMBER(H46/H$8*100),H46/H$8*100,0) -> 0.60787384 | J46: =[1]MercLab!F156 -> 0 | K46: =IF(ISNUMBER(J46/J$8*100),J46/J$8*100,0) -> 0 | L46: =[1]MercLab!G156 -> 7447.9119 | M46: =IF(ISNUMBER(L46/L$8*100),L46/L$8*100,0) -> 0.50718603 | N46: =[1]MercLab!H156 -> 0 | O46: =IF(ISNUMBER(N46/N$8*100),N46/N$8*100,0) -> 0
A47: De 4 salarios y más | B47: =[1]MercLab!C157 -> 34141.141 | C47: =IF(ISNUMBER(B47/B$8*100),B47/B$8*100,0) -> 0.93597968 | D47: =F47+H47+J47 -> 15627.826 | E47: =IF(ISNUMBER(D47/D$8*100),D47/D$8*100,0) -> 0.92156528 | F47: =[1]MercLab!D157 -> 5420.8878 | G47: =IF(ISNUMBER(F47/F$8*100),F47/F$8*100,0) -> 2.339912 | H47: =[1]MercLab!E157 -> 10206.939 | I47: =IF(ISNUMBER(H47/H$8*100),H47/H$8*100,0) -> 0.74789529 | J47: =[1]MercLab!F157 -> 0 | K47: =IF(ISNUMBER(J47/J$8*100),J47/J$8*100,0) -> 0 | L47: =[1]MercLab!G157 -> 18513.315 | M47: =IF(ISNUMBER(L47/L$8*100),L47/L$8*100,0) -> 1.2607151 | N47: =[1]MercLab!H157 -> 0 | O47: =IF(ISNUMBER(N47/N$8*100),N47/N$8*100,0) -> 0
D48: =F48+H48+J48 -> 0
A49: Rama de Actividad
A50: Primaria | B50: =[1]MercLab!C159 -> 1101198 | C50: =IF(ISNUMBER(B50/B$8*100),B50/B$8*100,0) -> 30.189354 | D50: =F50+H50+J50 -> 343471.78 | E50: =IF(ISNUMBER(D50/D$8*100),D50/D$8*100,0) -> 20.254363 | F50: =[1]MercLab!D159 -> 0 | G50: =IF(ISNUMBER(F50/F$8*100),F50/F$8*100,0) -> 0 | H50: =[1]MercLab!E159 -> 343471.78 | I50: =IF(ISNUMBER(H50/H$8*100),H50/H$8*100,0) -> 25.167285 | J50: =[1]MercLab!F159 -> 0 | K50: =IF(ISNUMBER(J50/J$8*100),J50/J$8*100,0) -> 0 | L50: =[1]MercLab!G159 -> 524829.19 | M50: =IF(ISNUMBER(L50/L$8*100),L50/L$8*100,0) -> 35.739686 | N50: =[1]MercLab!H159 -> 232897.07 | O50: =IF(ISNUMBER(N50/N$8*100),N50/N$8*100,0) -> 48.182132
A51: Secundaria | B51: =[1]MercLab!C160 -> 541005.33 | C51: =IF(ISNUMBER(B51/B$8*100),B51/B$8*100,0) -> 14.831666 | D51: =F51+H51+J51 -> 278139.29 | E51: =IF(ISNUMBER(D51/D$8*100),D51/D$8*100,0) -> 16.401738 | F51: =[1]MercLab!D160 -> 272.2074 | G51: =IF(ISNUMBER(F51/F$8*100),F51/F$8*100,0) -> 0.11749761 | H51: =[1]MercLab!E160 -> 277867.09 | I51: =IF(ISNUMBER(H51/H$8*100),H51/H$8*100,0) -> 20.360217 | J51: =[1]MercLab!F160 -> 0 | K51: =IF(ISNUMBER(J51/J$8*100),J51/J$8*100,0) -> 0 | L51: =[1]MercLab!G160 -> 205823.15 | M51: =IF(ISNUMBER(L51/L$8*100),L51/L$8*100,0) -> 14.016093 | N51: =[1]MercLab!H160 -> 57042.877 | O51: =IF(ISNUMBER(N51/N$8*100),N51/N$8*100,0) -> 11.801125
A52: Terciaria | B52: =[1]MercLab!C161 -> 2004519.9 | C52: =IF(ISNUMBER(B52/B$8*100),B52/B$8*100,0) -> 54.953929 | D52: =F52+H52+J52 -> 1073527.2 | E52: =IF(ISNUMBER(D52/D$8*100),D52/D$8*100,0) -> 63.305374 | F52: =[1]MercLab!D161 -> 231398.38 | G52: =IF(ISNUMBER(F52/F$8*100),F52/F$8*100,0) -> 99.882502 | H52: =[1]MercLab!E161 -> 742762.86 | I52: =IF(ISNUMBER(H52/H$8*100),H52/H$8*100,0) -> 54.424629 | J52: =[1]MercLab!F161 -> 99365.959 | K52: =IF(ISNUMBER(J52/J$8*100),J52/J$8*100,0) -> 100 | L52: =[1]MercLab!G161 -> 737564.49 | M52: =IF(ISNUMBER(L52/L$8*100),L52/L$8*100,0) -> 50.226482 | N52: =[1]MercLab!H161 -> 193428.19 | O52: =IF(ISNUMBER(N52/N$8*100),N52/N$8*100,0) -> 40.016744
A53: No sabe, no responde | B53: =[1]MercLab!C162 -> 913.78611 | C53: =IF(ISNUMBER(B53/B$8*100),B53/B$8*100,0) -> 0.025051454 | D53: =F53+H53+J53 -> 653.29776 | E53: =IF(ISNUMBER(D53/D$8*100),D53/D$8*100,0) -> 0.038524649 | F53: =[1]MercLab!D162 -> 0 | G53: =IF(ISNUMBER(F53/F$8*100),F53/F$8*100,0) -> 0 | H53: =[1]MercLab!E162 -> 653.29776 | I53: =IF(ISNUMBER(H53/H$8*100),H53/H$8*100,0) -> 0.047869233 | J53: =[1]MercLab!F162 -> 0 | K53: =IF(ISNUMBER(J53/J$8*100),J53/J$8*100,0) -> 0 | L53: =[1]MercLab!G162 -> 260.48835 | M53: =IF(ISNUMBER(L53/L$8*100),L53/L$8*100,0) -> 0.01773867 | N53: =[1]MercLab!H162 -> 0 | O53: =IF(ISNUMBER(N53/N$8*100),N53/N$8*100,0) -> 0
A55: ='C01'!$A$46 -> Fuente: Instituto Nacional de Estadística (INE). L Encuesta Permanente de Hogares de Propósitos Múltiples, Junio 2015.
A56: ='C02'!A46 -> (Promedio de salarios mínimos por rama)
A57: 1/ Porcentaje por columnas
A58: 2/ Porcentaje por filas
A59: 3/ No. de salarios mínimos (personas que declaran ingresos) y trabajan 36 Hrs. o mas
A61: Cuadro No. 3. Personas ocupadas por categoría ocupacional, según dominio, nivel educativo, rango de edad, sexo,
A62: número de salarios mínimos, rama de actividad y ocupación
A63: Ocupación Principal
A64: ....... Continuación
A65: Categorías | B65: Total Ocupados | D65: Asalariados | L65: Cuenta propia | N65: Trab. fam. no remu.
D66: Total Asalariados | F66: Público | H66: Privado | J66: Doméstico
B67: No. | C67: % 1/ | D67: No. | E67: % 1/ | F67: No. | G67: % 1/ | H67: No. | I67: % 1/ | J67: No. | K67: % 1/ | L67: No. | M67: % 1/ | N67: No. | O67: % 1/
A69: Total Nacional 2/ | B69: =B8 -> 3647637 | C69: =C8 -> 100 | D69: =D8 -> 1695791.6 | E69: =E8 -> 46.49014 | F69: =F8 -> 231670.58 | G69: =G8 -> 6.351251 | H69: =H8 -> 1364755 | I69: =I8 -> 37.41477 | ... O69: =O8 -> 13.251542
A71: Rama de Actividad (1 dig.)
A72: Agricultura, ganaderia, silvicultura y pesca | B72: =[1]MercLab!C165 -> 1092253.3 | C72: =IF(ISNUMBER(B72/B$69*100),B72/B$69*100,0) -> 29.944132 | D72: =F72+H72+J72 -> 339375.39 | E72: =IF(ISNUMBER(D72/D$69*100),D72/D$69*100,0) -> 20.012801 | F72: =[1]MercLab!D165 -> 0 | G72: =IF(ISNUMBER(F72/F$69*100),F72/F$69*100,0) -> 0 | H72: =[1]MercLab!E165 -> 339375.39 | I72: =IF(ISNUMBER(H72/H$69*100),H72/H$69*100,0) -> 24.867129 | J72: =[1]MercLab!F165 -> 0 | K72: =IF(ISNUMBER(J72/J$69*100),J72/J$69*100,0) -> 0 | L72: =[1]MercLab!G165 -> 519980.8 | M72: =IF(ISNUMBER(L72/L$69*100),L72/L$69*100,0) -> 35.409522 | N72: =[1]MercLab!H165 -> 232897.07 | O72: =IF(ISNUMBER(N72/N$69*100),N72/N$69*100,0) -> 48.182132
A73: Explotacion de minas y canteras | B73: =[1]MercLab!C166 -> 8944.7777 | C73: =IF(ISNUMBER(B73/B$69*100),B73/B$69*100,0) -> 0.24522116 | D73: =F73+H73+J73 -> 4096.3948 | E73: =IF(ISNUMBER(D73/D$69*100),D73/D$69*100,0) -> 0.2415624 | F73: =[1]MercLab!D166 -> 0 | G73: =IF(ISNUMBER(F73/F$69*100),F73/F$69*100,0) -> 0 | H73: =[1]MercLab!E166 -> 4096.3948 | I73: =IF(ISNUMBER(H73/H$69*100),H73/H$69*100,0) -> 0.30015605 | J73: =[1]MercLab!F166 -> 0 | K73: =IF(ISNUMBER(J73/J$69*100),J73/J$69*100,0) -> 0 | L73: =[1]MercLab!G166 -> 4848.3829 | M73: =IF(ISNUMBER(L73/L$69*100),L73/L$69*100,0) -> 0.33016396 | N73: =[1]MercLab!H166 -> 0 | O73: =IF(ISNUMBER(N73/N$69*100),N73/N$69*100,0) -> 0
A74: Industria manufacturera | B74: =[1]MercLab!C167 -> 541005.33 | C74: =IF(ISNUMBER(B74/B$69*100),B74/B$69*100,0) -> 14.831666 | D74: =F74+H74+J74 -> 278139.29 | E74: =IF(ISNUMBER(D74/D$69*100),D74/D$69*100,0) -> 16.401738 | F74: =[1]MercLab!D167 -> 272.2074 | G74: =IF(ISNUMBER(F74/F$69*100),F74/F$69*100,0) -> 0.11749761 | H74: =[1]MercLab!E167 -> 277867.09 | I74: =IF(ISNUMBER(H74/H$69*100),H74/H$69*100,0) -> 20.360217 | J74: =[1]MercLab!F167 -> 0 | K74: =IF(ISNUMBER(J74/J$69*100),J74/J$69*100,0) -> 0 | L74: =[1]MercLab!G167 -> 205823.15 | M74: =IF(ISNUMBER(L74/L$69*100),L74/L$69*100,0) -> 14.016093 | N74: =[1]MercLab!H167 -> 57042.877 | O74: =IF(ISNUMBER(N74/N$69*100),N74/N$69*100,0) -> 11.801125
A75: Suministro de electricidad, gas, vapor y aire acondicionado | B75: =[1]MercLab!C168 -> 12009.411 | C75: =IF(ISNUMBER(B75/B$69*100),B75/B$69*100,0) -> 0.3292381 | D75: =F75+H75+J75 -> 10356.752 | E75: =IF(ISNUMBER(D75/D$69*100),D75/D$69*100,0) -> 0.61073258 | F75: =[1]MercLab!D168 -> 7499.2902 | G75: =IF(ISNUMBER(F75/F$69*100),F75/F$69*100,0) -> 3.2370489 | H75: =[1]MercLab!E168 -> 2857.4613 | I75: =IF(ISNUMBER(H75/H$69*100),H75/H$69*100,0) -> 0.2093754 | J75: =[1]MercLab!F168 -> 0 | K75: =IF(ISNUMBER(J75/J$69*100),J75/J$69*100,0) -> 0 | L75: =[1]MercLab!G168 -> 1652.6592 | M75: =IF(ISNUMBER(L75/L$69*100),L75/L$69*100,0) -> 0.11254237 | N75: =[1]MercLab!H168 -> 0 | O75: =IF(ISNUMBER(N75/N$69*100),N75/N$69*100,0) -> 0
A76: Suministro de agua, evacuacion de aguas residuales, gestion de desechos y descontaminacion | B76: =[1]MercLab!C169 -> 20693.595 | C76: =IF(ISNUMBER(B76/B$69*100),B76/B$69*100,0) -> 0.56731508 | D76: =F76+H76+J76 -> 9768.3154 | E76: =IF(ISNUMBER(D76/D$69*100),D76/D$69*100,0) -> 0.57603278 | F76: =[1]MercLab!D169 -> 3174.5131 | G76: =IF(ISNUMBER(F76/F$69*100),F76/F$69*100,0) -> 1.3702702 | H76: =[1]MercLab!E169 -> 6593.8023 | I76: =IF(ISNUMBER(H76/H$69*100),H76/H$69*100,0) -> 0.48314915 | J76: =[1]MercLab!F169 -> 0 | K76: =IF(ISNUMBER(J76/J$69*100),J76/J$69*100,0) -> 0 | L76: =[1]MercLab!G169 -> 9871.2962 | M76: =IF(ISNUMBER(L76/L$69*100),L76/L$69*100,0) -> 0.67221305 | N76: =[1]MercLab!H169 -> 1053.9836 | O76: =IF(ISNUMBER(N76/N$69*100),N76/N$69*100,0) -> 0.21804986
A77: Construccion | B77: =[1]MercLab!C170 -> 203284.56 | C77: =IF(ISNUMBER(B77/B$69*100),B77/B$69*100,0) -> 5.573048 | D77: =F77+H77+J77 -> 156320.7 | E77: =IF(ISNUMBER(D77/D$69*100),D77/D$69*100,0) -> 9.218155 | F77: =[1]MercLab!D170 -> 272.2074 | G77: =IF(ISNUMBER(F77/F$69*100),F77/F$69*100,0) -> 0.11749761 | H77: =[1]MercLab!E170 -> 156048.49 | I77: =IF(ISNUMBER(H77/H$69*100),H77/H$69*100,0) -> 11.434176 | J77: =[1]MercLab!F170 -> 0 | K77: =IF(ISNUMBER(J77/J$69*100),J77/J$69*100,0) -> 0 | L77: =[1]MercLab!G170 -> 41263.693 | M77: =IF(ISNUMBER(L77/L$69*100),L77/L$69*100,0) -> 2.8099646 | N77: =[1]MercLab!H170 -> 5700.1764 | O77: =IF(ISNUMBER(N77/N$69*100),N77/N$69*100,0) -> 1.1792619
A78: Comercio al por mayor y al por menor, reparacion de vehiculos automotores y motocicletas | B78: =[1]MercLab!C171 -> 700131.05 | C78: =IF(ISNUMBER(B78/B$69*100),B78/B$69*100,0) -> 19.194099 | D78: =F78+H78+J78 -> 219980.58 | E78: =IF(ISNUMBER(D78/D$69*100),D78/D$69*100,0) -> 12.972147 | F78: =[1]MercLab!D171 -> 916.70713 | G78: =IF(ISNUMBER(F78/F$69*100),F78/F$69*100,0) -> 0.39569423 | H78: =[1]MercLab!E171 -> 219063.87 | I78: =IF(ISNUMBER(H78/H$69*100),H78/H$69*100,0) -> 16.051516 | J78: =[1]MercLab!F171 -> 0 | K78: =IF(ISNUMBER(J78/J$69*100),J78/J$69*100,0) -> 0 | L78: =[1]MercLab!G171 -> 350482.88 | M78: =IF(ISNUMBER(L78/L$69*100),L78/L$69*100,0) -> 23.867095 | N78: =[1]MercLab!H171 -> 129667.6 | O78: =IF(ISNUMBER(N78/N$69*100),N78/N$69*100,0) -> 26.825847
A79: Transporte y almacenamiento | B79: =[1]MercLab!C172 -> 104782.19 | C79: =IF(ISNUMBER(B79/B$69*100),B79/B$69*100,0) -> 2.8726046 | D79: =F79+H79+J79 -> 45391.734 | E79: =IF(ISNUMBER(D79/D$69*100),D79/D$69*100,0) -> 2.6767284 | F79: =[1]MercLab!D172 -> 581.97 | G79: =IF(ISNUMBER(F79/F$69*100),F79/F$69*100,0) -> 0.25120582 | H79: =[1]MercLab!E172 -> 44809.764 | I79: =IF(ISNUMBER(H79/H$69*100),H79/H$69*100,0) -> 3.2833558 | J79: =[1]MercLab!F172 -> 0 | K79: =IF(ISNUMBER(J79/J$69*100),J79/J$69*100,0) -> 0 | L79: =[1]MercLab!G172 -> 59390.456 | M79: =IF(ISNUMBER(L79/L$69*100),L79/L$69*100,0) -> 4.0443564 | N79: =[1]MercLab!H172 -> 0 | O79: =IF(ISNUMBER(N79/N$69*100),N79/N$69*100,0) -> 0
A80: Actividades de alojamiento y de servicios de comida | B80: =[1]MercLab!C173 -> 164424.18 | C80: =IF(ISNUMBER(B80/B$69*100),B80/B$69*100,0) -> 4.5076903 | D80: =F80+H80+J80 -> 59962.713 | E80: =IF(ISNUMBER(D80/D$69*100),D80/D$69*100,0) -> 3.5359719 | F80: =[1]MercLab!D173 -> 0 | G80: =IF(ISNUMBER(F80/F$69*100),F80/F$69*100,0) -> 0 | H80: =[1]MercLab!E173 -> 59962.713 | I80: =IF(ISNUMBER(H80/H$69*100),H80/H$69*100,0) -> 4.3936613 | J80: =[1]MercLab!F173 -> 0 | K80: =IF(ISNUMBER(J80/J$69*100),J80/J$69*100,0) -> 0 | L80: =[1]MercLab!G173 -> 69239.137 | M80: =IF(ISNUMBER(L80/L$69*100),L80/L$69*100,0) -> 4.7150294 | N80: =[1]MercLab!H173 -> 35222.33 | O80: =IF(ISNUMBER(N80/N$69*100),N80/N$69*100,0) -> 7.2868538
A81: Informacion y comunicaciones | B81: =[1]MercLab!C174 -> 21745.058 | C81: =IF(ISNUMBER(B81/B$69*100),B81/B$69*100,0) -> 0.59614094 | D81: =F81+H81+J81 -> 20156.632 | E81: =IF(ISNUMBER(D81/D$69*100),D81/D$69*100,0) -> 1.1886267 | F81: =[1]MercLab!D174 -> 1970.1944 | G81: =IF(ISNUMBER(F81/F$69*100),F81/F$69*100,0) -> 0.85042925 | H81: =[1]MercLab!E174 -> 18186.438 | I81: =IF(ISNUMBER(H81/H$69*100),H81/H$69*100,0) -> 1.3325789 | J81: =[1]MercLab!F174 -> 0 | K81: =IF(ISNUMBER(J81/J$69*100),J81/J$69*100,0) -> 0 | L81: =[1]MercLab!G174 -> 1588.4254 | M81: =IF(ISNUMBER(L81/L$69*100),L81/L$69*100,0) -> 0.1081682 | N81: =[1]MercLab!H174 -> 0 | O81: =IF(ISNUMBER(N81/N$69*100),N81/N$69*100,0) -> 0
A82: Actividades finacieras y de seguros | B82: =[1]MercLab!C175 -> 45810.363 | C82: =IF(ISNUMBER(B82/B$69*100),B82/B$69*100,0) -> 1.2558915 | D82: =F82+H82+J82 -> 42844.54 | E82: =IF(ISNUMBER(D82/D$69*100),D82/D$69*100,0) -> 2.5265216 | F82: =[1]MercLab!D175 -> 3242.9474 | G82: =IF(ISNUMBER(F82/F$69*100),F82/F$69*100,0) -> 1.3998097 | H82: =[1]MercLab!E175 -> 39601.593 | I82: =IF(ISNUMBER(H82/H$69*100),H82/H$69*100,0) -> 2.9017364 | J82: =[1]MercLab!F175 -> 0 | K82: =IF(ISNUMBER(J82/J$69*100),J82/J$69*100,0) -> 0 | L82: =[1]MercLab!G175 -> 2384.8989 | M82: =IF(ISNUMBER(L82/L$69*100),L82/L$69*100,0) -> 0.16240624 | N82: =[1]MercLab!H175 -> 580.92321 | O82: =IF(ISNUMBER(N82/N$69*100),N82/N$69*100,0) -> 0.12018235
A83: Actividades inmobiliarias | B83: =[1]MercLab!C176 -> 5924.7061 | C83: =IF(ISNUMBER(B83/B$69*100),B83/B$69*100,0) -> 0.16242587 | D83: =F83+H83+J83 -> 5031.4371 | E83: =IF(ISNUMBER(D83/D$69*100),D83/D$69*100,0) -> 0.29670139 | F83: =[1]MercLab!D176 -> 0 | G83: =IF(ISNUMBER(F83/F$69*100),F83/F$69*100,0) -> 0 | H83: =[1]MercLab!E176 -> 5031.4371 | I83: =IF(ISNUMBER(H83/H$69*100),H83/H$69*100,0) -> 0.36866961 | J83: =[1]MercLab!F176 -> 0 | K83: =IF(ISNUMBER(J83/J$69*100),J83/J$69*100,0) -> 0 | L83: =[1]MercLab!G176 -> 893.26904 | M83: =IF(ISNUMBER(L83/L$69*100),L83/L$69*100,0) -> 0.060829611 | N83: =[1]MercLab!H176 -> 0 | O83: =IF(ISNUMBER(N83/N$69*100),N83/N$69*100,0) -> 0
... A95: NS/NR | B95: =[1]MercLab!C188 -> 913.78611 | C95: =IF(ISNUMBER(B95/B$69*100),B95/B$69*100,0) -> 0.025051454 | D95: =F95+H95+J95 -> 653.29776 | E95: =IF(ISNUMBER(D95/D$69*100),D95/D$69*100,0) -> 0.038524649 | F95: =[1]MercLab!D188 -> 0 | G95: =IF(ISNUMBER(F95/F$69*100),F95/F$69*100,0) -> 0 | H95: =[1]MercLab!E188 -> 653.29776 | I95: =IF(ISNUMBER(H95/H$69*100),H95/H$69*100,0) -> 0.047869233 | J95: =[1]MercLab!F188 -> 0 | K95: =IF(ISNUMBER(J95/J$69*100),J95/J$69*100,0) -> 0 | L95: =[1]MercLab!G188 -> 260.48835 | M95: =IF(ISNUMBER(L95/L$69*100),L95/L$69*100,0) -> 0.01773867 | N95: =[1]MercLab!H188 -> 0 | O95: =IF(ISNUMBER(N95/N$69*100),N95/N$69*100,0) -> 0
D97: =F97+H97+J97 -> 0
A98: Ocupación (1 Dig.)
A99: Directores y gerentes | B99: =[1]MercLab!C190 -> 96154.107 | C99: =IF(ISNUMBER(B99/B$69*100),B99/B$69*100,0) -> 2.6360656 | D99: =F99+H99+J99 -> 54380.358 | E99: =IF(ISNUMBER(D99/D$69*100),D99/D$69*100,0) -> 3.2067831 | F99: =[1]MercLab!D190 -> 16353.821 | G99: =IF(ISNUMBER(F99/F$69*100),F99/F$69*100,0) -> 7.0590841 | H99: =[1]MercLab!E190 -> 38026.537 | I99: =IF(ISNUMBER(H99/H$69*100),H99/H$69*100,0) -> 2.7863269 | J99: =[1]MercLab!F190 -> 0 | K99: =IF(ISNUMBER(J99/J$69*100),J99/J$69*100,0) -> 0 | L99: =[1]MercLab!G190 -> 39987.067 | M99: =IF(ISNUMBER(L99/L$69*100),L99/L$69*100,0) -> 2.7230293 | N99: =[1]MercLab!H190 -> 1786.6814 | O99: =IF(ISNUMBER(N99/N$69*100),N99/N$69*100,0) -> 0.36963161
A100: Profesionales cientificos e intelectuales | B100: =[1]MercLab!C191 -> 123446.06 | C100: =IF(ISNUMBER(B100/B$69*100),B100/B$69*100,0) -> 3.3842749 | D100: =F100+H100+J100 -> 102638.99 | E100: =IF(ISNUMBER(D100/D$69*100),D100/D$69*100,0) -> 6.0525709 | F100: =[1]MercLab!D191 -> 62028.414 | G100: =IF(ISNUMBER(F100/F$69*100),F100/F$69*100,0) -> 26.774402 | H100: =[1]MercLab!E191 -> 40610.573 | I100: =IF(ISNUMBER(H100/H$69*100),H100/H$69*100,0) -> 2.9756676 | J100: =[1]MercLab!F191 -> 0 | K100: =IF(ISNUMBER(J100/J$69*100),J100/J$69*100,0) -> 0 | L100: =[1]MercLab!G191 -> 20459.759 | M100: =IF(ISNUMBER(L100/L$69*100),L100/L$69*100,0) -> 1.3932635 | N100: =[1]MercLab!H191 -> 347.3178 | O100: =IF(ISNUMBER(N100/N$69*100),N100/N$69*100,0) -> 0.071853681
A101: Tecnicos y profesionales de nivel medio | B101: =[1]MercLab!C192 -> 218637.43 | C101: =IF(ISNUMBER(B101/B$69*100),B101/B$69*100,0) -> 5.9939469 | D101: =F101+H101+J101 -> 181329.73 | E101: =IF(ISNUMBER(D101/D$69*100),D101/D$69*100,0) -> 10.692926 | F101: =[1]MercLab!D192 -> 71722.659 | G101: =IF(ISNUMBER(F101/F$69*100),F101/F$69*100,0) -> 30.958897 | H101: =[1]MercLab!E192 -> 109607.07 | I101: =IF(ISNUMBER(H101/H$69*100),H101/H$69*100,0) -> 8.0312637 | J101: =[1]MercLab!F192 -> 0 | K101: =IF(ISNUMBER(J101/J$69*100),J101/J$69*100,0) -> 0 | L101: =[1]MercLab!G192 -> 27890.162 | M101: =IF(ISNUMBER(L101/L$69*100),L101/L$69*100,0) -> 1.8992572 | N101: =[1]MercLab!H192 -> 9417.5334 | O101: =IF(ISNUMBER(N101/N$69*100),N101/N$69*100,0) -> 1.9483149
A102: Personal de apoyo administrativo | B102: =[1]MercLab!C193 -> 112217.41 | C102: =IF(ISNUMBER(B102/B$69*100),B102/B$69*100,0) -> 3.0764412 | D102: =F102+H102+J102 -> 102539.25 | E102: =IF(ISNUMBER(D102/D$69*100),D102/D$69*100,0) -> 6.0466897 | F102: =[1]MercLab!D193 -> 27470.738 | G102: =IF(ISNUMBER(F102/F$69*100),F102/F$69*100,0) -> 11.857672 | H102: =[1]MercLab!E193 -> 75068.517 | I102: =IF(ISNUMBER(H102/H$69*100),H102/H$69*100,0) -> 5.5005122 | J102: =[1]MercLab!F193 -> 0 | K102: =IF(ISNUMBER(J102/J$69*100),J102/J$69*100,0) -> 0 | L102: =[1]MercLab!G193 -> 8014.2772 | M102: =IF(ISNUMBER(L102/L$69*100),L102/L$69*100,0) -> 0.54575424 | N102: =[1]MercLab!H193 -> 1663.8775 | O102: =IF(ISNUMBER(N102/N$69*100),N102/N$69*100,0) -> 0.34422572
A103: Trabajadores de los servicios y vendedores de comercios y mercados | B103: =[1]MercLab!C194 -> 801258.95 | C103: =IF(ISNUMBER(B103/B$69*100),B103/B$69*100,0) -> 21.966521 | D103: =F103+H103+J103 -> 267299.98 | E103: =IF(ISNUMBER(D103/D$69*100),D103/D$69*100,0) -> 15.762549 | F103: =[1]MercLab!D194 -> 16690.79 | G103: =IF(ISNUMBER(F103/F$69*100),F103/F$69*100,0) -> 7.2045358 | H103: =[1]MercLab!E194 -> 232183.74 | I103: =IF(ISNUMBER(H103/H$69*100),H103/H$69*100,0) -> 17.012851 | J103: =[1]MercLab!F194 -> 18425.447 | K103: =IF(ISNUMBER(J103/J$69*100),J103/J$69*100,0) -> 18.543017 | L103: =[1]MercLab!G194 -> 399042.29 | M103: =IF(ISNUMBER(L103/L$69*100),L103/L$69*100,0) -> 27.173881 | N103: =[1]MercLab!H194 -> 134916.68 | O103: =IF(ISNUMBER(N103/N$69*100),N103/N$69*100,0) -> 27.911786
A104: Agricultores y trabajadores calificados agropecuarios forestales y pesqueros | B104: =[1]MercLab!C195 -> 636305.44 | C104: =IF(ISNUMBER(B104/B$69*100),B104/B$69*100,0) -> 17.444319 | D104: =F104+H104+J104 -> 105714.44 | E104: =IF(ISNUMBER(D104/D$69*100),D104/D$69*100,0) -> 6.2339287 | F104: =[1]MercLab!D195 -> 0 | G104: =IF(ISNUMBER(F104/F$69*100),F104/F$69*100,0) -> 0 | H104: =[1]MercLab!E195 -> 105714.44 | I104: =IF(ISNUMBER(H104/H$69*100),H104/H$69*100,0) -> 7.7460376 | J104: =[1]MercLab!F195 -> 0 | K104: =IF(ISNUMBER(J104/J$69*100),J104/J$69*100,0) -> 0 | L104: =[1]MercLab!G195 -> 480432.26 | M104: =IF(ISNUMBER(L104/L$69*100),L104/L$69*100,0) -> 32.716356 | N104: =[1]MercLab!H195 -> 50158.739 | O104: =IF(ISNUMBER(N104/N$69*100),N104/N$69*100,0) -> 10.376923
A105: Oficiales, operarios y artesanos de artes mecanicas y de otros oficios | B105: =[1]MercLab!C196 -> 564550.62 | C105: =IF(ISNUMBER(B105/B$69*100),B105/B$69*100,0) -> 15.47716 | D105: =F105+H105+J105 -> 229888.74 | E105: =IF(ISNUMBER(D105/D$69*100),D105/D$69*100,0) -> 13.556427 | F105: =[1]MercLab!D196 -> 6654.9259 | G105: =IF(ISNUMBER(F105/F$69*100),F105/F$69*100,0) -> 2.8725813 | H105: =[1]MercLab!E196 -> 223233.82 | I105: =IF(ISNUMBER(H105/H$69*100),H105/H$69*100,0) -> 16.357061 | J105: =[1]MercLab!F196 -> 0 | K105: =IF(ISNUMBER(J105/J$69*100),J105/J$69*100,0) -> 0 | L105: =[1]MercLab!G196 -> 274033.01 | M105: =IF(ISNUMBER(L105/L$69*100),L105/L$69*100,0) -> 18.661031 | N105: =[1]MercLab!H196 -> 60628.869 | O105: =IF(ISNUMBER(N105/N$69*100),N105/N$69*100,0) -> 12.543001
A106: Operadores de instalaciones y maquinas y ensambladores | B106: =[1]MercLab!C197 -> 180233.74 | C106: =IF(ISNUMBER(B106/B$69*100),B106/B$69*100,0) -> 4.9411096 | D106: =F106+H106+J106 -> 122556.49 | E106: =IF(ISNUMBER(D106/D$69*100),D106/D$69*100,0) -> 7.2270964 | F106: =[1]MercLab!D197 -> 6324.094 | G106: =IF(ISNUMBER(F106/F$69*100),F106/F$69*100,0) -> 2.7297786 | H106: =[1]MercLab!E197 -> 116232.4 | I106: =IF(ISNUMBER(H106/H$69*100),H106/H$69*100,0) -> 8.5167224 | J106: =[1]MercLab!F197 -> 0 | K106: =IF(ISNUMBER(J106/J$69*100),J106/J$69*100,0) -> 0 | L106: =[1]MercLab!G197 -> 55393.442 | M106: =IF(ISNUMBER(L106/L$69*100),L106/L$69*100,0) -> 3.7721687 | N106: =[1]MercLab!H197 -> 2283.8105 | O106: =IF(ISNUMBER(N106/N$69*100),N106/N$69*100,0) -> 0.47247848
A107: Ocupaciones elementales | B107: =[1]MercLab!C198 -> 911296.39 | C107: =IF(ISNUMBER(B107/B$69*100),B107/B$69*100,0) -> 24.983198 | D107: =F107+H107+J107 -> 528289.02 | E107: =IF(ISNUMBER(D107/D$69*100),D107/D$69*100,0) -> 31.152946 | F107: =[1]MercLab!D198 -> 23869.435 | G107: =IF(ISNUMBER(F107/F$69*100),F107/F$69*100,0) -> 10.303179 | H107: =[1]MercLab!E198 -> 423479.08 | I107: =IF(ISNUMBER(H107/H$69*100),H107/H$69*100,0) -> 31.029677 | J107: =[1]MercLab!F198 -> 80940.512 | K107: =IF(ISNUMBER(J107/J$69*100),J107/J$69*100,0) -> 81.456983 | L107: =[1]MercLab!G198 -> 161114.94 | M107: =IF(ISNUMBER(L107/L$69*100),L107/L$69*100,0) -> 10.971565 | N107: =[1]MercLab!H198 -> 221892.42 | O107: =IF(ISNUMBER(N107/N$69*100),N107/N$69*100,0) -> 45.905471
A108: Ocupaciones militares | B108: =[1]MercLab!C199 -> 555.70849 | C108: =IF(ISNUMBER(B108/B$69*100),B108/B$69*100,0) -> 0.015234753 | D108: =F108+H108+J108 -> 555.70849 | E108: =IF(ISNUMBER(D108/D$69*100),D108/D$69*100,0) -> 0.032769858 | F108: =[1]MercLab!D199 -> 555.70849 | G108: =IF(ISNUMBER(F108/F$69*100),F108/F$69*100,0) -> 0.23987011 | H108: =[1]MercLab!E199 -> 0 | I108: =IF(ISNUMBER(H108/H$69*100),H108/H$69*100,0) -> 0 | J108: =[1]MercLab!F199 -> 0 | K108: =IF(ISNUMBER(J108/J$69*100),J108/J$69*100,0) -> 0 | L108: =[1]MercLab!G199 -> 0 | M108: =IF(ISNUMBER(L108/L$69*100),L108/L$69*100,0) -> 0 | N108: =[1]MercLab!H199 -> 0 | O108: =IF(ISNUMBER(N108/N$69*100),N108/N$69*100,0) -> 0
A109: Ocupaciones NO especificadas | B109: =[1]MercLab!C200 -> 2720.6894 | C109: =IF(ISNUMBER(B109/B$69*100),B109/B$69*100,0) -> 0.074587723 | D109: =F109+H109+J109 -> 598.85628 | E109: =IF(ISNUMBER(D109/D$69*100),D109/D$69*100,0) -> 0.035314262 | F109: =[1]MercLab!D200 -> 0 | G109: =IF(ISNUMBER(F109/F$69*100),F109/F$69*100,0) -> 0 | H109: =[1]MercLab!E200 -> 598.85628 | I109: =IF(ISNUMBER(H109/H$69*100),H109/H$69*100,0) -> 0.04388013 | J109: =[1]MercLab!F200 -> 0 | K109: =IF(ISNUMBER(J109/J$69*100),J109/J$69*100,0) -> 0 | L109: =[1]MercLab!G200 -> 1849.6257 | M109: =IF(ISNUMBER(L109/L$69*100),L109/L$69*100,0) -> 0.12595535 | N109: =[1]MercLab!H200 -> 272.2074 | O109: =IF(ISNUMBER(N109/N$69*100),N109/N$69*100,0) -> 0.056314716
A110: Busca trabajo por primera vez | B110: =[1]MercLab!C201 -> 0 | C110: =IF(ISNUMBER(B110/B$69*100),B110/B$69*100,0) -> 0 | D110: =F110+H110+J110 -> 0 | E110: =IF(ISNUMBER(D110/D$69*100),D110/D$69*100,0) -> 0 | F110: =[1]MercLab!D201 -> 0 | G110: =IF(ISNUMBER(F110/F$69*100),F110/F$69*100,0) -> 0 | H110: =[1]MercLab!E201 -> 0 | I110: =IF(ISNUMBER(H110/H$69*100),H110/H$69*100,0) -> 0 | J110: =[1]MercLab!F201 -> 0 | K110: =IF(ISNUMBER(J110/J$69*100),J110/J$69*100,0) -> 0 | L110: =[1]MercLab!G201 -> 0 | M110: =IF(ISNUMBER(L110/L$69*100),L110/L$69*100,0) -> 0 | N110: =[1]MercLab!H201 -> 0 | O110: =IF(ISNUMBER(N110/N$69*100),N110/N$69*100,0) -> 0
A111: NS/NR | B111: =[1]MercLab!C202 -> 260.48835 | C111: =IF(ISNUMBER(B111/B$69*100),B111/B$69*100,0) -> 0.0071412904 | D111: =F111+H111+J111 -> 0 | E111: =IF(ISNUMBER(D111/D$69*100),D111/D$69*100,0) -> 0 | F111: =[1]MercLab!D202 -> 0 | G111: =IF(ISNUMBER(F111/F$69*100),F111/F$69*100,0) -> 0 | H111: =[1]MercLab!E202 -> 0 | I111: =IF(ISNUMBER(H111/H$69*100),H111/H$69*100,0) -> 0 | J111: =[1]MercLab!F202 -> 0 | K111: =IF(ISNUMBER(J111/J$69*100),J111/J$69*100,0) -> 0 | L111: =[1]MercLab!G202 -> 260.48835 | M111: =IF(ISNUMBER(L111/L$69*100),L111/L$69*100,0) -> 0.01773867 | N111: =[1]MercLab!H202 -> 0 | O111: =IF(ISNUMBER(N111/N$69*100),N111/N$69*100,0) -> 0
A113: ='C01'!$A$46 -> Fuente: Instituto Nacional de Estadística (INE). L Encuesta Permanente de Hogares de Propósitos Múltiples, Junio 2015.
A114: (Promedio de salarios mínimos por rama)
A115: 1/ Porcentaje por columnas
A116: 2/ Porcentaje por filas
A117: Clasificación industrial Internacional Uniforme CIIU REV IV)
A118: Clasificación internacional uniforme de ocupaciones CIUO-08

Sheet C04
A1: Cuadro No. 4. Personas ocupadas y que declaran ingresos por categoría ocupacional, según dominio, nivel educativo, rango de edad,
A2: sexo, número de salarios mínimos devengados, rama de actividad y ocupación
A3: Ocupación Principal
A4: Categorías | B4: Total Pers. Ocupadas | D4: Pers. que declaran Ing. | F4: Asalariados | N4: Cuenta propia | P4: Trab. fam. no remu. | R4: No Declaran Ingresos
F5: Total | H5: Público | J5: Privado | L5: Doméstico
B6: No. | C6: % 1/ | D6: No. | E6: % 1/ | F6: No. | G6: % 1/ | H6: No. | I6: % 1/ | J6: No. | K6: % 1/ | L6: No. | M6: % 1/ | N6: No. | O6: % 1/ | P6: No. | Q6: % 1/ | R6: No. | S6: % 1/
A8: Total Nacional 2/ | B8: ='C03'!B8 -> 3647637 | C8: =SUM(G8,O8,Q8,S8) -> 100 | D8: =[1]MercLab!C211 -> 3041078.4 | E8: =IF(ISNUMBER(D8/$B$8*100),D8/$B$8*100,0) -> 83.371191 | F8: =H8+J8+L8 -> 1679683.4 | G8: =IF(ISNUMBER(F8/$B$8*100),F8/$B$8*100,0) -> 46.048534 | H8: =[1]MercLab!D211 -> 224444.53 | I8: =IF(ISNUMBER(H8/$B$8*100),H8/$B$8*100,0) -> 6.1531486 | J8: =[1]MercLab!E211 -> 1356133.4 | K8: =IF(ISNUMBER(J8/$B$8*100),J8/$B$8*100,0) -> 37.178408 | L8: =[1]MercLab!F211 -> 99105.47 | M8: =IF(ISNUMBER(L8/$B$8*100),L8/$B$8*100,0) -> 2.7169773 | N8: =[1]MercLab!G211 -> 1361395.1 | O8: =IF(ISNUMBER(N8/$B$8*100),N8/$B$8*100,0) -> 37.322658 | P8: ='C03'!N8 -> 483368.14 | Q8: =IF(ISNUMBER(P8/$B$8*100),P8/$B$8*100,0) -> 13.251542 | R8: =B8-(D8+P8) -> 123190.45 | S8: =IF(ISNUMBER(R8/$B$8*100),R8/$B$8*100,0) -> 3.3772671
A10: Dominio
A11: Urbano | B11: ='C03'!B11 -> 1934935.3 | C11: =IF(ISNUMBER(B11/B$8*100),B11/B$8*100,0) -> 53.046268 | D11: =SUM(D12:D14) -> 1721770.8 | E11: =IF(ISNUMBER(D11/D$8*100),D11/D$8*100,0) -> 56.617114 | F11: =SUM(F12:F14) -> 1057771.1 | G11: =IF(ISNUMBER(F11/F$8*100),F11/F$8*100,0) -> 62.974436 | H11: =SUM(H12:H14) -> 182415.7 | I11: =IF(ISNUMBER(H11/H$8*100),H11/H$8*100,0) -> 81.274294 | J11: =SUM(J12:J14) -> 806818.84 | K11: =IF(ISNUMBER(J11/J$8*100),J11/J$8*100,0) -> 59.494063 | L11: =SUM(L12:L14) -> 68536.579 | M11: =IF(ISNUMBER(L11/L$8*100),L11/L$8*100,0) -> 69.155193 | N11: =SUM(N12:N14) -> 663999.72 | O11: =IF(ISNUMBER(N11/N$8*100),N11/N$8*100,0) -> 48.773477 | P11: ='C03'!N11 -> 170002.99 | Q11: =IF(ISNUMBER(P11/P$8*100),P11/P$8*100,0) -> 35.170499 | R11: =B11-(D11+P11) -> 43161.47 | S11: =IF(ISNUMBER(R11/R$8*100),R11/R$8*100,0) -> 35.036378
A12: Distrito Central | B12: ='C03'!B12 -> 441909.81 | C12: =IF(ISNUMBER(B12/B$8*100),B12/B$8*100,0) -> 12.114961 | D12: =[1]MercLab!C212 -> 394882.98 | E12: =IF(ISNUMBER(D12/D$8*100),D12/D$8*100,0) -> 12.984965 | F12: =H12+J12+L12 -> 262051.28 | G12: =IF(ISNUMBER(F12/F$8*100),F12/F$8*100,0) -> 15.601231 | H12: =[1]MercLab!D212 -> 60745.884 | I12: =IF(ISNUMBER(H12/H$8*100),H12/H$8*100,0) -> 27.064988 | J12: =[1]MercLab!E212 -> 181855.6 | K12: =IF(ISNUMBER(J12/J$8*100),J12/J$8*100,0) -> 13.409861 | L12: =[1]MercLab!F212 -> 19449.797 | M12: =IF(ISNUMBER(L12/L$8*100),L12/L$8*100,0) -> 19.625352 | N12: =[1]MercLab!G212 -> 132831.69 | O12: =IF(ISNUMBER(N12/N$8*100),N12/N$8*100,0) -> 9.7570277 | P12: ='C03'!N12 -> 29990.892 | Q12: =IF(ISNUMBER(P12/P$8*100),P12/P$8*100,0) -> 6.2045654 | R12: =B12-(D12+P12) -> 17035.938 | S12: =IF(ISNUMBER(R12/R$8*100),R12/R$8*100,0) -> 13.828945
A13: San Pedro Sula | B13: ='C03'!B13 -> 323534.14 | C13: =IF(ISNUMBER(B13/B$8*100),B13/B$8*100,0) -> 8.8696911 | D13: =[1]MercLab!C213 -> 286628.05 | E13: =IF(ISNUMBER(D13/D$8*100),D13/D$8*100,0) -> 9.4252105 | F13: =H13+J13+L13 -> 184133.19 | G13: =IF(ISNUMBER(F13/F$8*100),F13/F$8*100,0) -> 10.962375 | H13: =[1]MercLab!D213 -> 16764.662 | I13: =IF(ISNUMBER(H13/H$8*100),H13/H$8*100,0) -> 7.469401 | J13: =[1]MercLab!E213 -> 155311.48 | K13: =IF(ISNUMBER(J13/J$8*100),J13/J$8*100,0) -> 11.452523 | L13: =[1]MercLab!F213 -> 12057.049 | M13: =IF(ISNUMBER(L13/L$8*100),L13/L$8*100,0) -> 12.165877 | N13: =[1]MercLab!G213 -> 102494.85 | O13: =IF(ISNUMBER(N13/N$8*100),N13/N$8*100,0) -> 7.5286633 | P13: ='C03'!N13 -> 31344.356 | Q13: =IF(ISNUMBER(P13/P$8*100),P13/P$8*100,0) -> 6.4845721 | R13: =B13-(D13+P13) -> 5561.7362 | S13: =IF(ISNUMBER(R13/R$8*100),R13/R$8*100,0) -> 4.5147464
A14: Resto urbano | B14: ='C03'!B14 -> 1169491.4 | C14: =IF(ISNUMBER(B14/B$8*100),B14/B$8*100,0) -> 32.061615 | D14: =[1]MercLab!C214 -> 1040259.8 | E14: =IF(ISNUMBER(D14/D$8*100),D14/D$8*100,0) -> 34.206938 | F14: =H14+J14+L14 -> 611586.64 | G14: =IF(ISNUMBER(F14/F$8*100),F14/F$8*100,0) -> 36.410829 | H14: =[1]MercLab!D214 -> 104905.16 | I14: =IF(ISNUMBER(H14/H$8*100),H14/H$8*100,0) -> 46.739905 | J14: =[1]MercLab!E214 -> 469651.75 | K14: =IF(ISNUMBER(J14/J$8*100),J14/J$8*100,0) -> 34.631679 | L14: =[1]MercLab!F214 -> 37029.733 | M14: =IF(ISNUMBER(L14/L$8*100),L14/L$8*100,0) -> 37.363965 | N14: =[1]MercLab!G214 -> 428673.18 | O14: =IF(ISNUMBER(N14/N$8*100),N14/N$8*100,0) -> 31.487786 | P14: ='C03'!N14 -> 108667.74 | Q14: =IF(ISNUMBER(P14/P$8*100),P14/P$8*100,0) -> 22.481361 | R14: =B14-(D14+P14) -> 20563.795 | S14: =IF(ISNUMBER(R14/R$8*100),R14/R$8*100,0) -> 16.692687
A15: Rural | B15: ='C03'!B15 -> 1712701.7 | C15: =IF(ISNUMBER(B15/B$8*100),B15/B$8*100,0) -> 46.953732 | D15: =[1]MercLab!C215 -> 1319307.6 | E15: =IF(ISNUMBER(D15/D$8*100),D15/D$8*100,0) -> 43.382886 | F15: =H15+J15+L15 -> 621912.24 | G15: =IF(ISNUMBER(F15/F$8*100),F15/F$8*100,0) -> 37.025564 | H15: =[1]MercLab!D215 -> 42028.822 | I15: =IF(ISNUMBER(H15/H$8*100),H15/H$8*100,0) -> 18.725706 | J15: =[1]MercLab!E215 -> 549314.53 | K15: =IF(ISNUMBER(J15/J$8*100),J15/J$8*100,0) -> 40.505937 | L15: =[1]MercLab!F215 -> 30568.891 | M15: =IF(ISNUMBER(L15/L$8*100),L15/L$8*100,0) -> 30.844807 | N15: =[1]MercLab!G215 -> 697395.36 | O15: =IF(ISNUMBER(N15/N$8*100),N15/N$8*100,0) -> 51.226523 | P15: ='C03'!N15 -> 313365.16 | Q15: =IF(ISNUMBER(P15/P$8*100),P15/P$8*100,0) -> 64.829501 | R15: =B15-(D15+P15) -> 80028.975 | S15: =IF(ISNUMBER(R15/R$8*100),R15/R$8*100,0) -> 64.963622
B16: ='C03'!B16 -> 0 | F16: =H16+J16+L16 -> 0
A17: Nivel Educativo
A18: Sin Nivel | B18: ='C03'!B18 -> 354564.92 | C18: =IF(ISNUMBER(B18/B$8*100),B18/B$8*100,0) -> 9.7204004 | D18: =[1]MercLab!C217 -> 306734.05 | E18: =IF(ISNUMBER(D18/D$8*100),D18/D$8*100,0) -> 10.086358 | F18: =H18+J18+L18 -> 110348.1 | G18: =IF(ISNUMBER(F18/F$8*100),F18/F$8*100,0) -> 6.5695776 | H18: =[1]MercLab!D217 -> 4626.1737 | I18: =IF(ISNUMBER(H18/H$8*100),H18/H$8*100,0) -> 2.0611657 | J18: =[1]MercLab!E217 -> 95541.33 | K18: =IF(ISNUMBER(J18/J$8*100),J18/J$8*100,0) -> 7.0451279 | L18: =[1]MercLab!F217 -> 10180.599 | M18: =IF(ISNUMBER(L18/L$8*100),L18/L$8*100,0) -> 10.272489 | N18: =[1]MercLab!G217 -> 196385.95 | O18: =IF(ISNUMBER(N18/N$8*100),N18/N$8*100,0) -> 14.425346 | P18: ='C03'!N18 -> 25959.719 | Q18: =IF(ISNUMBER(P18/P$8*100),P18/P$8*100,0) -> 5.3705896 | R18: =B18-(D18+P18) -> 21871.152 | S18: =IF(ISNUMBER(R18/R$8*100),R18/R$8*100,0) -> 17.753936
A19: Primaria | B19: ='C03'!B19 -> 1927868.6 | C19: =IF(ISNUMBER(B19/B$8*100),B19/B$8*100,0) -> 52.852533 | D19: =[1]MercLab!C218 -> 1560820.2 | E19: =IF(ISNUMBER(D19/D$8*100),D19/D$8*100,0) -> 51.324561 | F19: =H19+J19+L19 -> 739705.67 | G19: =IF(ISNUMBER(F19/F$8*100),F19/F$8*100,0) -> 44.038399 | H19: =[1]MercLab!D218 -> 32991.065 | I19: =IF(ISNUMBER(H19/H$8*100),H19/H$8*100,0) -> 14.698984 | J19: =[1]MercLab!E218 -> 647045.12 | K19: =IF(ISNUMBER(J19/J$8*100),J19/J$8*100,0) -> 47.712499 | L19: =[1]MercLab!F218 -> 59669.479 | M19: =IF(ISNUMBER(L19/L$8*100),L19/L$8*100,0) -> 60.208058 | N19: =[1]MercLab!G218 -> 821114.48 | O19: =IF(ISNUMBER(N19/N$8*100),N19/N$8*100,0) -> 60.314195 | P19: ='C03'!N19 -> 300261.71 | Q19: =IF(ISNUMBER(P19/P$8*100),P19/P$8*100,0) -> 62.118638 | R19: =B19-(D19+P19) -> 66786.71 | S19: =IF(ISNUMBER(R19/R$8*100),R19/R$8*100,0) -> 54.214197
A20: Secundaria | B20: ='C03'!B20 -> 1001493.4 | C20: =IF(ISNUMBER(B20/B$8*100),B20/B$8*100,0) -> 27.45595 | D20: =[1]MercLab!C219 -> 844331 | E20: =IF(ISNUMBER(D20/D$8*100),D20/D$8*100,0) -> 27.764197 | F20: =H20+J20+L20 -> 567221.76 | G20: =IF(ISNUMBER(F20/F$8*100),F20/F$8*100,0) -> 33.769565 | H20: =[1]MercLab!D219 -> 84764.33 | I20: =IF(ISNUMBER(H20/H$8*100),H20/H$8*100,0) -> 37.766272 | J20: =[1]MercLab!E219 -> 456003.7 | K20: =IF(ISNUMBER(J20/J$8*100),J20/J$8*100,0) -> 33.625285 | L20: =[1]MercLab!F219 -> 26453.731 | M20: =IF(ISNUMBER(L20/L$8*100),L20/L$8*100,0) -> 26.692503 | N20: =[1]MercLab!G219 -> 277109.24 | O20: =IF(ISNUMBER(N20/N$8*100),N20/N$8*100,0) -> 20.354799 | P20: ='C03'!N20 -> 138412.08 | Q20: =IF(ISNUMBER(P20/P$8*100),P20/P$8*100,0) -> 28.634919 | R20: =B20-(D20+P20) -> 18750.338 | S20: =IF(ISNUMBER(R20/R$8*100),R20/R$8*100,0) -> 15.22061
A21: Superior | B21: ='C03'!B21 -> 349797.25 | C21: =IF(ISNUMBER(B21/B$8*100),B21/B$8*100,0) -> 9.5896947 | D21: =[1]MercLab!C220 -> 317622.95 | E21: =IF(ISNUMBER(D21/D$8*100),D21/D$8*100,0) -> 10.444418 | F21: =H21+J21+L21 -> 255500.64 | G21: =IF(ISNUMBER(F21/F$8*100),F21/F$8*100,0) -> 15.211239 | H21: =[1]MercLab!D220 -> 101541.98 | I21: =IF(ISNUMBER(H21/H$8*100),H21/H$8*100,0) -> 45.24146 | J21: =[1]MercLab!E220 -> 151951.53 | K21: =IF(ISNUMBER(J21/J$8*100),J21/J$8*100,0) -> 11.204763 | L21: =[1]MercLab!F220 -> 2007.1282 | M21: =IF(ISNUMBER(L21/L$8*100),L21/L$8*100,0) -> 2.0252446 | N21: =[1]MercLab!G220 -> 62122.303 | O21: =IF(ISNUMBER(N21/N$8*100),N21/N$8*100,0) -> 4.5631356 | P21: ='C03'!N21 -> 18337.373 | Q21: =IF(ISNUMBER(P21/P$8*100),P21/P$8*100,0) -> 3.7936661 | R21: =B21-(D21+P21) -> 13836.933 | S21: =IF(ISNUMBER(R21/R$8*100),R21/R$8*100,0) -> 11.232148
A22: No sabe, no responde | B22: ='C03'!B22 -> 13912.869 | C22: =IF(ISNUMBER(B22/B$8*100),B22/B$8*100,0) -> 0.38142142 | D22: =[1]MercLab!C221 -> 11570.29 | E22: =IF(ISNUMBER(D22/D$8*100),D22/D$8*100,0) -> 0.38046669 | F22: =H22+J22+L22 -> 6907.1859 | G22: =IF(ISNUMBER(F22/F$8*100),F22/F$8*100,0) -> 0.41121952 | H22: =[1]MercLab!D221 -> 520.97671 | I22: =IF(ISNUMBER(H22/H$8*100),H22/H$8*100,0) -> 0.23211825 | J22: =[1]MercLab!E221 -> 5591.6755 | K22: =IF(ISNUMBER(J22/J$8*100),J22/J$8*100,0) -> 0.41232489 | L22: =[1]MercLab!F221 -> 794.53374 | M22: =IF(ISNUMBER(L22/L$8*100),L22/L$8*100,0) -> 0.80170523 | N22: =[1]MercLab!G221 -> 4663.1046 | O22: =IF(ISNUMBER(N22/N$8*100),N22/N$8*100,0) -> 0.34252398 | P22: ='C03'!N22 -> 397.26687 | Q22: =IF(ISNUMBER(P22/P$8*100),P22/P$8*100,0) -> 0.082187226 | R22: =B22-(D22+P22) -> 1945.3117 | S22: =IF(ISNUMBER(R22/R$8*100),R22/R$8*100,0) -> 1.5791092
F23: =H23+J23+L23 -> 0 | P23: ='C03'!N23 -> 0 | R23: =B23-(D23+P23) -> 0
A24: Rango de Edad
A25: De 10 a 11 años | B25: ='C03'!B25 -> 25356.844 | C25: =IF(ISNUMBER(B25/B$8*100),B25/B$8*100,0) -> 0.6951581 | D25: =[1]MercLab!C223 -> 4934.8587 | E25: =IF(ISNUMBER(D25/D$8*100),D25/D$8*100,0) -> 0.16227331 | F25: =H25+J25+L25 -> 1649.707 | G25: =IF(ISNUMBER(F25/F$8*100),F25/F$8*100,0) -> 0.098215354 | H25: =[1]MercLab!D223 -> 0 | I25: =IF(ISNUMBER(H25/H$8*100),H25/H$8*100,0) -> 0 | J25: =[1]MercLab!E223 -> 1649.707 | K25: =IF(ISNUMBER(J25/J$8*100),J25/J$8*100,0) -> 0.12164784 | L25: =[1]MercLab!F223 -> 0 | M25: =IF(ISNUMBER(L25/L$8*100),L25/L$8*100,0) -> 0 | N25: =[1]MercLab!G223 -> 3285.1517 | O25: =IF(ISNUMBER(N25/N$8*100),N25/N$8*100,0) -> 0.24130774 | P25: ='C03'!N25 -> 20421.986 | Q25: =IF(ISNUMBER(P25/P$8*100),P25/P$8*100,0) -> 4.2249341 | R25: =B25-(D25+P25) -> 0 | S25: =IF(ISNUMBER(R25/R$8*100),R25/R$8*100,0) -> 0
A26: De 12 a 14 años | B26: ='C03'!B26 -> 129812.46 | C26: =IF(ISNUMBER(B26/B$8*100),B26/B$8*100,0) -> 3.5588097 | D26: =[1]MercLab!C224 -> 35752.18 | E26: =IF(ISNUMBER(D26/D$8*100),D26/D$8*100,0) -> 1.1756415 | F26: =H26+J26+L26 -> 28150.436 | G26: =IF(ISNUMBER(F26/F$8*100),F26/F$8*100,0) -> 1.675937 | H26: =[1]MercLab!D224 -> 0 | I26: =IF(ISNUMBER(H26/H$8*100),H26/H$8*100,0) -> 0 | J26: =[1]MercLab!E224 -> 25534.967 | K26: =IF(ISNUMBER(J26/J$8*100),J26/J$8*100,0) -> 1.8829245 | L26: =[1]MercLab!F224 -> 2615.4681 | M26: =IF(ISNUMBER(L26/L$8*100),L26/L$8*100,0) -> 2.6390754 | N26: =[1]MercLab!G224 -> 7601.7442 | O26: =IF(ISNUMBER(N26/N$8*100),N26/N$8*100,0) -> 0.55837899 | P26: ='C03'!N26 -> 93461.423 | Q26: =IF(ISNUMBER(P26/P$8*100),P26/P$8*100,0) -> 19.335454 | R26: =B26-(D26+P26) -> 598.85628 | S26: =IF(ISNUMBER(R26/R$8*100),R26/R$8*100,0) -> 0.48612234
A27: De 15 a 18 años | B27: ='C03'!B27 -> 350729.85 | C27: =IF(ISNUMBER(B27/B$8*100),B27/B$8*100,0) -> 9.6152618 | D27: =[1]MercLab!C225 -> 195447.5 | E27: =IF(ISNUMBER(D27/D$8*100),D27/D$8*100,0) -> 6.426914 | F27: =H27+J27+L27 -> 150400.67 | G27: =IF(ISNUMBER(F27/F$8*100),F27/F$8*100,0) -> 8.9541083 | H27: =[1]MercLab!D225 -> 2395.2133 | I27: =IF(ISNUMBER(H27/H$8*100),H27/H$8*100,0) -> 1.0671738 | J27: =[1]MercLab!E225 -> 133172.76 | K27: =IF(ISNUMBER(J27/J$8*100),J27/J$8*100,0) -> 9.8200343 | L27: =[1]MercLab!F225 -> 14832.691 | M27: =IF(ISNUMBER(L27/L$8*100),L27/L$8*100,0) -> 14.966572 | N27: =[1]MercLab!G225 -> 45046.828 | O27: =IF(ISNUMBER(N27/N$8*100),N27/N$8*100,0) -> 3.3088726 | P27: ='C03'!N27 -> 150628.08 | Q27: =IF(ISNUMBER(P27/P$8*100),P27/P$8*100,0) -> 31.162185 | R27: =B27-(D27+P27) -> 4654.2769 | S27: =IF(ISNUMBER(R27/R$8*100),R27/R$8*100,0) -> 3.7781152
A28: De 19 a 24 años | B28: ='C03'!B28 -> 571390.12 | C28: =IF(ISNUMBER(B28/B$8*100),B28/B$8*100,0) -> 15.664665 | D28: =[1]MercLab!C226 -> 466359.78 | E28: =IF(ISNUMBER(D28/D$8*100),D28/D$8*100,0) -> 15.335342 | F28: =H28+J28+L28 -> 364241.83 | G28: =IF(ISNUMBER(F28/F$8*100),F28/F$8*100,0) -> 21.685148 | H28: =[1]MercLab!D226 -> 22067.317 | I28: =IF(ISNUMBER(H28/H$8*100),H28/H$8*100,0) -> 9.8319691 | J28: =[1]MercLab!E226 -> 322767.03 | K28: =IF(ISNUMBER(J28/J$8*100),J28/J$8*100,0) -> 23.800537 | L28: =[1]MercLab!F226 -> 19407.485 | M28: =IF(ISNUMBER(L28/L$8*100),L28/L$8*100,0) -> 19.582657 | N28: =[1]MercLab!G226 -> 102117.95 | O28: =IF(ISNUMBER(N28/N$8*100),N28/N$8*100,0) -> 7.5009785 | P28: ='C03'!N28 -> 89488.304 | Q28: =IF(ISNUMBER(P28/P$8*100),P28/P$8*100,0) -> 18.513488 | R28: =B28-(D28+P28) -> 15542.03 | S28: =IF(ISNUMBER(R28/R$8*100),R28/R$8*100,0) -> 12.616263
A29: De 25 a 29 años | B29: ='C03'!B29 -> 425510.96 | C29: =IF(ISNUMBER(B29/B$8*100),B29/B$8*100,0) -> 11.665387 | D29: =[1]MercLab!C227 -> 387012.51 | E29: =IF(ISNUMBER(D29/D$8*100),D29/D$8*100,0) -> 12.72616 | F29: =H29+J29+L29 -> 266972.45 | G29: =IF(ISNUMBER(F29/F$8*100),F29/F$8*100,0) -> 15.894213 | H29: =[1]MercLab!D227 -> 29167.648 | I29: =IF(ISNUMBER(H29/H$8*100),H29/H$8*100,0) -> 12.995482 | J29: =[1]MercLab!E227 -> 226331.62 | K29: =IF(ISNUMBER(J29/J$8*100),J29/J$8*100,0) -> 16.689481 | L29: =[1]MercLab!F227 -> 11473.182 | M29: =IF(ISNUMBER(L29/L$8*100),L29/L$8*100,0) -> 11.576739 | N29: =[1]MercLab!G227 -> 120040.07 | O29: =IF(ISNUMBER(N29/N$8*100),N29/N$8*100,0) -> 8.8174305 | P29: ='C03'!N29 -> 28284.508 | Q29: =IF(ISNUMBER(P29/P$8*100),P29/P$8*100,0) -> 5.8515458 | R29: =B29-(D29+P29) -> 10213.942 | S29: =IF(ISNUMBER(R29/R$8*100),R29/R$8*100,0) -> 8.29118
A30: De 30 a 35 años | B30: ='C03'!B30 -> 463516.03 | C30: =IF(ISNUMBER(B30/B$8*100),B30/B$8*100,0) -> 12.707296 | D30: =[1]MercLab!C228 -> 421620.27 | E30: =IF(ISNUMBER(D30/D$8*100),D30/D$8*100,0) -> 13.864169 | F30: =H30+J30+L30 -> 241965.58 | G30: =IF(ISNUMBER(F30/F$8*100),F30/F$8*100,0) -> 14.405428 | H30: =[1]MercLab!D228 -> 30403.267 | I30: =IF(ISNUMBER(H30/H$8*100),H30/H$8*100,0) -> 13.546005 | J30: =[1]MercLab!E228 -> 200910.44 | K30: =IF(ISNUMBER(J30/J$8*100),J30/J$8*100,0) -> 14.814947 | L30: =[1]MercLab!F228 -> 10651.875 | M30: =IF(ISNUMBER(L30/L$8*100),L30/L$8*100,0) -> 10.748019 | N30: =[1]MercLab!G228 -> 179654.69 | O30: =IF(ISNUMBER(N30/N$8*100),N30/N$8*100,0) -> 13.196367 | P30: ='C03'!N30 -> 26706.671 | Q30: =IF(ISNUMBER(P30/P$8*100),P30/P$8*100,0) -> 5.5251203 | R30: =B30-(D30+P30) -> 15189.093 | S30: =IF(ISNUMBER(R30/R$8*100),R30/R$8*100,0) -> 12.329765
A31: De 36 a 44 años | B31: ='C03'!B31 -> 632008.86 | C31: =IF(ISNUMBER(B31/B$8*100),B31/B$8*100,0) -> 17.326528 | D31: =[1]MercLab!C229 -> 589304.05 | E31: =IF(ISNUMBER(D31/D$8*100),D31/D$8*100,0) -> 19.378127 | F31: =H31+J31+L31 -> 305764.38 | G31: =IF(ISNUMBER(F31/F$8*100),F31/F$8*100,0) -> 18.203692 | H31: =[1]MercLab!D229 -> 56337.798 | I31: =IF(ISNUMBER(H31/H$8*100),H31/H$8*100,0) -> 25.10099 | J31: =[1]MercLab!E229 -> 232707.68 | K31: =IF(ISNUMBER(J31/J$8*100),J31/J$8*100,0) -> 17.159645 | L31: =[1]MercLab!F229 -> 16718.909 | M31: =IF(ISNUMBER(L31/L$8*100),L31/L$8*100,0) -> 16.869814 | N31: =[1]MercLab!G229 -> 283539.67 | O31: =IF(ISNUMBER(N31/N$8*100),N31/N$8*100,0) -> 20.82714 | P31: ='C03'!N31 -> 20950.342 | Q31: =IF(ISNUMBER(P31/P$8*100),P31/P$8*100,0) -> 4.3342414 | R31: =B31-(D31+P31) -> 21754.463 | S31: =IF(ISNUMBER(R31/R$8*100),R31/R$8*100,0) -> 17.659213
A32: De 45 a 59 años | B32: ='C03'!B32 -> 681809.29 | C32: =IF(ISNUMBER(B32/B$8*100),B32/B$8*100,0) -> 18.691807 | D32: =[1]MercLab!C230 -> 629164.47 | E32: =IF(ISNUMBER(D32/D$8*100),D32/D$8*100,0) -> 20.68886 | F32: =H32+J32+L32 -> 245879.08 | G32: =IF(ISNUMBER(F32/F$8*100),F32/F$8*100,0) -> 14.638418 | H32: =[1]MercLab!D230 -> 68877.813 | I32: =IF(ISNUMBER(H32/H$8*100),H32/H$8*100,0) -> 30.688123 | J32: =[1]MercLab!E230 -> 161300.1 | K32: =IF(ISNUMBER(J32/J$8*100),J32/J$8*100,0) -> 11.894118 | L32: =[1]MercLab!F230 -> 15701.169 | M32: =IF(ISNUMBER(L32/L$8*100),L32/L$8*100,0) -> 15.842888 | N32: =[1]MercLab!G230 -> 383285.39 | O32: =IF(ISNUMBER(N32/N$8*100),N32/N$8*100,0) -> 28.153869 | P32: ='C03'!N32 -> 24570.511 | Q32: =IF(ISNUMBER(P32/P$8*100),P32/P$8*100,0) -> 5.083188 | R32: =B32-(D32+P32) -> 28074.312 | S32: =IF(ISNUMBER(R32/R$8*100),R32/R$8*100,0) -> 22.789358
A33: De 60 años y más | B33: ='C03'!B33 -> 351318.04 | C33: =IF(ISNUMBER(B33/B$8*100),B33/B$8*100,0) -> 9.631387 | D33: =[1]MercLab!C231 -> 310019.69 | E33: =IF(ISNUMBER(D33/D$8*100),D33/D$8*100,0) -> 10.1944 | F33: =H33+J33+L33 -> 74387.023 | G33: =IF(ISNUMBER(F33/F$8*100),F33/F$8*100,0) -> 4.4286337 | H33: =[1]MercLab!D231 -> 15195.471 | I33: =IF(ISNUMBER(H33/H$8*100),H33/H$8*100,0) -> 6.7702569 | J33: =[1]MercLab!E231 -> 51486.86 | K33: =IF(ISNUMBER(J33/J$8*100),J33/J$8*100,0) -> 3.7965927 | L33: =[1]MercLab!F231 -> 7704.6918 | M33: =IF(ISNUMBER(L33/L$8*100),L33/L$8*100,0) -> 7.7742346 | N33: =[1]MercLab!G231 -> 235632.67 | O33: =IF(ISNUMBER(N33/N$8*100),N33/N$8*100,0) -> 17.308177 | P33: ='C03'!N33 -> 14134.878 | Q33: =IF(ISNUMBER(P33/P$8*100),P33/P$8*100,0) -> 2.924247 | R33: =B33-(D33+P33) -> 27163.472 | S33: =IF(ISNUMBER(R33/R$8*100),R33/R$8*100,0) -> 22.049983
A35: Sexo
A36: Hombre | B36: ='C03'!B36 -> 2255445.9 | C36: =IF(ISNUMBER(B36/B$8*100),B36/B$8*100,0) -> 61.833068 | D36: =[1]MercLab!C233 -> 1875599.2 | E36: =IF(ISNUMBER(D36/D$8*100),D36/D$8*100,0) -> 61.675464 | F36: =H36+J36+L36 -> 1102903.8 | G36: =IF(ISNUMBER(F36/F$8*100),F36/F$8*100,0) -> 65.661408 | H36: =[1]MercLab!D233 -> 105621.99 | I36: =IF(ISNUMBER(H36/H$8*100),H36/H$8*100,0) -> 47.059287 | J36: =[1]MercLab!E233 -> 989715.28 | K36: =IF(ISNUMBER(J36/J$8*100),J36/J$8*100,0) -> 72.980674 | L36: =[1]MercLab!F233 -> 7566.4866 | M36: =IF(ISNUMBER(L36/L$8*100),L36/L$8*100,0) -> 7.634782 | N36: =[1]MercLab!G233 -> 772695.48 | O36: =IF(ISNUMBER(N36/N$8*100),N36/N$8*100,0) -> 56.757622 | P36: ='C03'!N36 -> 283940.41 | Q36: =IF(ISNUMBER(P36/P$8*100),P36/P$8*100,0) -> 58.74206 | R36: =B36-(D36+P36) -> 95906.232 | S36: =IF(ISNUMBER(R36/R$8*100),R36/R$8*100,0) -> 77.852005
A37: Mujer | B37: ='C03'!B37 -> 1392191.2 | C37: =IF(ISNUMBER(B37/B$8*100),B37/B$8*100,0) -> 38.166932 | D37: =[1]MercLab!C234 -> 1165479.2 | E37: =IF(ISNUMBER(D37/D$8*100),D37/D$8*100,0) -> 38.324536 | F37: =H37+J37+L37 -> 576779.61 | G37: =IF(ISNUMBER(F37/F$8*100),F37/F$8*100,0) -> 34.338592 | H37: =[1]MercLab!D234 -> 118822.53 | I37: =IF(ISNUMBER(H37/H$8*100),H37/H$8*100,0) -> 52.940713 | J37: =[1]MercLab!E234 -> 366418.09 | K37: =IF(ISNUMBER(J37/J$8*100),J37/J$8*100,0) -> 27.019326 | L37: =[1]MercLab!F234 -> 91538.984 | M37: =IF(ISNUMBER(L37/L$8*100),L37/L$8*100,0) -> 92.365218 | N37: =[1]MercLab!G234 -> 588699.6 | O37: =IF(ISNUMBER(N37/N$8*100),N37/N$8*100,0) -> 43.242378 | P37: ='C03'!N37 -> 199427.74 | Q37: =IF(ISNUMBER(P37/P$8*100),P37/P$8*100,0) -> 41.25794 | R37: =B37-(D37+P37) -> 27284.213 | S37: =IF(ISNUMBER(R37/R$8*100),R37/R$8*100,0) -> 22.147995
A39: No. de Salarios Mínimos 3/ | B39: ='C03'!B39 -> 3040491.3 | C39: =IF(ISNUMBER(B39/B$8*100),B39/B$8*100,0) -> 83.355095 | D39: =[1]MercLab!C235 -> 3040491.3 | E39: =IF(ISNUMBER(D39/D$8*100),D39/D$8*100,0) -> 99.980693 | F39: =H39+J39+L39 -> 1679356.7 | G39: =IF(ISNUMBER(F39/F$8*100),F39/F$8*100,0) -> 99.980553 | H39: =[1]MercLab!D235 -> 224444.53 | I39: =IF(ISNUMBER(H39/H$8*100),H39/H$8*100,0) -> 100 | J39: =[1]MercLab!E235 -> 1355806.7 | K39: =IF(ISNUMBER(J39/J$8*100),J39/J$8*100,0) -> 99.975913 | L39: =[1]MercLab!F235 -> 99105.47 | M39: =IF(ISNUMBER(L39/L$8*100),L39/L$8*100,0) -> 100 | N39: =[1]MercLab!G235 -> 1361134.6 | O39: =IF(ISNUMBER(N39/N$8*100),N39/N$8*100,0) -> 99.980866 | P39: ='C03'!N39 -> 0 | Q39: =IF(ISNUMBER(P39/P$8*100),P39/P$8*100,0) -> 0 | R39: =B39-(D39+P39) -> 0 | S39: =IF(ISNUMBER(R39/R$8*100),R39/R$8*100,0) -> 0
A40: Menos de un salario | B40: ='C03'!B40 -> 2373938.7 | C40: =IF(ISNUMBER(B40/B$8*100),B40/B$8*100,0) -> 65.081549 | D40: =SUM(D41:D43) -> 2373938.7 | E40: =IF(ISNUMBER(D40/D$8*100),D40/D$8*100,0) -> 78.062396 | F40: =H40+J40+L40 -> 1230403.9 | G40: =IF(ISNUMBER(F40/F$8*100),F40/F$8*100,0) -> 73.252134 | H40: =SUM(H41:H43) -> 84843.291 | I40: =IF(ISNUMBER(H40/H$8*100),H40/H$8*100,0) -> 37.801453 | J40: =SUM(J41:J43) -> 1051956.6 | K40: =IF(ISNUMBER(J40/J$8*100),J40/J$8*100,0) -> 77.570291 | L40: =SUM(L41:L43) -> 93604.029 | M40: =IF(ISNUMBER(L40/L$8*100),L40/L$8*100,0) -> 94.448902 | N40: =SUM(N41:N43) -> 1143534.8 | O40: =IF(ISNUMBER(N40/N$8*100),N40/N$8*100,0) -> 83.997275 | P40: ='C03'!N40 -> 0 | Q40: =IF(ISNUMBER(P40/P$8*100),P40/P$8*100,0) -> 0 | R40: =B40-(D40+P40) -> 0 | S40: =IF(ISNUMBER(R40/R$8*100),R40/R$8*100,0) -> 0
A41: Menos de 1 salario y trab <36 horas | B41: ='C03'!B41 -> 1081274.9 | C41: =IF(ISNUMBER(B41/B$8*100),B41/B$8*100,0) -> 29.643159 | D41: =[1]MercLab!C236 -> 1081274.9 | E41: =IF(ISNUMBER(D41/D$8*100),D41/D$8*100,0) -> 35.555638 | F41: =H41+J41+L41 -> 384883.21 | G41: =IF(ISNUMBER(F41/F$8*100),F41/F$8*100,0) -> 22.914034 | H41: =[1]MercLab!D236 -> 30746.584 | I41: =IF(ISNUMBER(H41/H$8*100),H41/H$8*100,0) -> 13.698968 | J41: =[1]MercLab!E236 -> 329639.06 | K41: =IF(ISNUMBER(J41/J$8*100),J41/J$8*100,0) -> 24.307275 | L41: =[1]MercLab!F236 -> 24497.564 | M41: =IF(ISNUMBER(L41/L$8*100),L41/L$8*100,0) -> 24.71868 | N41: =[1]MercLab!G236 -> 696391.64 | O41: =IF(ISNUMBER(N41/N$8*100),N41/N$8*100,0) -> 51.152796 | P41: ='C03'!N41 -> 0 | Q41: =IF(ISNUMBER(P41/P$8*100),P41/P$8*100,0) -> 0 | R41: =B41-(D41+P41) -> 0 | S41: =IF(ISNUMBER(R41/R$8*100),R41/R$8*100,0) -> 0
A42: Menos de 1 salario y trab >=36 horas | B42: ='C03'!B42 -> 1286334.6 | C42: =IF(ISNUMBER(B42/B$8*100),B42/B$8*100,0) -> 35.264874 | D42: =[1]MercLab!C237 -> 1286334.6 | E42: =IF(ISNUMBER(D42/D$8*100),D42/D$8*100,0) -> 42.298633 | F42: =H42+J42+L42 -> 842658.39 | G42: =IF(ISNUMBER(F42/F$8*100),F42/F$8*100,0) -> 50.167693 | H42: =[1]MercLab!D237 -> 53537.909 | I42: =IF(ISNUMBER(H42/H$8*100),H42/H$8*100,0) -> 23.853515 | J42: =[1]MercLab!E237 -> 720014.01 | K42: =IF(ISNUMBER(J42/J$8*100),J42/J$8*100,0) -> 53.093157 | L42: =[1]MercLab!F237 -> 69106.465 | M42: =IF(ISNUMBER(L42/L$8*100),L42/L$8*100,0) -> 69.730223 | N42: =[1]MercLab!G237 -> 443676.23 | O42: =IF(ISNUMBER(N42/N$8*100),N42/N$8*100,0) -> 32.589822 | P42: ='C03'!N42 -> 0 | Q42: =IF(ISNUMBER(P42/P$8*100),P42/P$8*100,0) -> 0 | R42: =B42-(D42+P42) -> 0 | S42: =IF(ISNUMBER(R42/R$8*100),R42/R$8*100,0) -> 0
A43: Menos de 1 salario y no decl. horas | B43: ='C03'!B43 -> 6329.2122 | C43: =IF(ISNUMBER(B43/B$8*100),B43/B$8*100,0) -> 0.17351541 | D43: =[1]MercLab!C238 -> 6329.2122 | E43: =IF(ISNUMBER(D43/D$8*100),D43/D$8*100,0) -> 0.20812394 | F43: =H43+J43+L43 -> 2862.3176 | G43: =IF(ISNUMBER(F43/F$8*100),F43/F$8*100,0) -> 0.17040816 | H43: =[1]MercLab!D238 -> 558.79879 | I43: =IF(ISNUMBER(H43/H$8*100),H43/H$8*100,0) -> 0.24896966 | J43: =[1]MercLab!E238 -> 2303.5188 | K43: =IF(ISNUMBER(J43/J$8*100),J43/J$8*100,0) -> 0.16985931 | L43: =[1]MercLab!F238 -> 0 | M43: =IF(ISNUMBER(L43/L$8*100),L43/L$8*100,0) -> 0 | N43: =[1]MercLab!G238 -> 3466.8946 | O43: =IF(ISNUMBER(N43/N$8*100),N43/N$8*100,0) -> 0.2546575 | P43: ='C03'!N43 -> 0 | Q43: =IF(ISNUMBER(P43/P$8*100),P43/P$8*100,0) -> 0 | R43: =B43-(D43+P43) -> 0 | S43: =IF(ISNUMBER(R43/R$8*100),R43/R$8*100,0) -> 0
A44: De 1 a 2 salarios | B44: ='C03'!B44 -> 507403.14 | C44: =IF(ISNUMBER(B44/B$8*100),B44/B$8*100,0) -> 13.910461 | D44: =[1]MercLab!C239 -> 507403.14 | E44: =IF(ISNUMBER(D44/D$8*100),D44/D$8*100,0) -> 16.684974 | F44: =H44+J44+L44 -> 355422.3 | G44: =IF(ISNUMBER(F44/F$8*100),F44/F$8*100,0) -> 21.160078 | H44: =[1]MercLab!D239 -> 92586.411 | I44: =IF(ISNUMBER(H44/H$8*100),H44/H$8*100,0) -> 41.251356 | J44: =[1]MercLab!E239 -> 257334.45 | K44: =IF(ISNUMBER(J44/J$8*100),J44/J$8*100,0) -> 18.975601 | L44: =[1]MercLab!F239 -> 5501.4414 | M44: =IF(ISNUMBER(L44/L$8*100),L44/L$8*100,0) -> 5.5510977 | N44: =[1]MercLab!G239 -> 151980.84 | O44: =IF(ISNUMBER(N44/N$8*100),N44/N$8*100,0) -> 11.16361 | P44: ='C03'!N44 -> 0 | Q44: =IF(ISNUMBER(P44/P$8*100),P44/P$8*100,0) -> 0 | R44: =B44-(D44+P44) -> 0 | S44: =IF(ISNUMBER(R44/R$8*100),R44/R$8*100,0) -> 0
A45: De 2 a 3 salarios | B45: ='C03'!B45 -> 96841.215 | C45: =IF(ISNUMBER(B45/B$8*100),B45/B$8*100,0) -> 2.6549027 | D45: =[1]MercLab!C240 -> 96841.215 | E45: =IF(ISNUMBER(D45/D$8*100),D45/D$8*100,0) -> 3.1844366 | F45: =H45+J45+L45 -> 57183.456 | G45: =IF(ISNUMBER(F45/F$8*100),F45/F$8*100,0) -> 3.4044188 | H45: =[1]MercLab!D240 -> 29170.713 | I45: =IF(ISNUMBER(H45/H$8*100),H45/H$8*100,0) -> 12.996848 | J45: =[1]MercLab!E240 -> 28012.743 | K45: =IF(ISNUMBER(J45/J$8*100),J45/J$8*100,0) -> 2.0656333 | L45: =[1]MercLab!F240 -> 0 | M45: =IF(ISNUMBER(L45/L$8*100),L45/L$8*100,0) -> 0 | N45: =[1]MercLab!G240 -> 39657.759 | O45: =IF(ISNUMBER(N45/N$8*100),N45/N$8*100,0) -> 2.9130235 | P45: ='C03'!N45 -> 0 | Q45: =IF(ISNUMBER(P45/P$8*100),P45/P$8*100,0) -> 0 | R45: =B45-(D45+P45) -> 0 | S45: =IF(ISNUMBER(R45/R$8*100),R45/R$8*100,0) -> 0
A46: De 3 a 4 salarios | B46: ='C03'!B46 -> 28167.124 | C46: =IF(ISNUMBER(B46/B$8*100),B46/B$8*100,0) -> 0.77220195 | D46: =[1]MercLab!C241 -> 28167.124 | E46: =IF(ISNUMBER(D46/D$8*100),D46/D$8*100,0) -> 0.92622156 | F46: =H46+J46+L46 -> 20719.212 | G46: =IF(ISNUMBER(F46/F$8*100),F46/F$8*100,0) -> 1.2335189 | H46: =[1]MercLab!D241 -> 12423.224 | I46: =IF(ISNUMBER(H46/H$8*100),H46/H$8*100,0) -> 5.5350976 | J46: =[1]MercLab!E241 -> 8295.9888 | K46: =IF(ISNUMBER(J46/J$8*100),J46/J$8*100,0) -> 0.61173842 | L46: =[1]MercLab!F241 -> 0 | M46: =IF(ISNUMBER(L46/L$8*100),L46/L$8*100,0) -> 0 | N46: =[1]MercLab!G241 -> 7447.9119 | O46: =IF(ISNUMBER(N46/N$8*100),N46/N$8*100,0) -> 0.54707939 | P46: ='C03'!N46 -> 0 | Q46: =IF(ISNUMBER(P46/P$8*100),P46/P$8*100,0) -> 0 | R46: =B46-(D46+P46) -> 0 | S46: =IF(ISNUMBER(R46/R$8*100),R46/R$8*100,0) -> 0
A47: De 4 salarios y más | B47: ='C03'!B47 -> 34141.141 | C47: =IF(ISNUMBER(B47/B$8*100),B47/B$8*100,0) -> 0.93597968 | D47: =[1]MercLab!C242 -> 34141.141 | E47: =IF(ISNUMBER(D47/D$8*100),D47/D$8*100,0) -> 1.1226656 | F47: =H47+J47+L47 -> 15627.826 | G47: =IF(ISNUMBER(F47/F$8*100),F47/F$8*100,0) -> 0.93040311 | H47: =[1]MercLab!D242 -> 5420.8878 | I47: =IF(ISNUMBER(H47/H$8*100),H47/H$8*100,0) -> 2.4152461 | J47: =[1]MercLab!E242 -> 10206.939 | K47: =IF(ISNUMBER(J47/J$8*100),J47/J$8*100,0) -> 0.75265005 | L47: =[1]MercLab!F242 -> 0 | M47: =IF(ISNUMBER(L47/L$8*100),L47/L$8*100,0) -> 0 | N47: =[1]MercLab!G242 -> 18513.315 | O47: =IF(ISNUMBER(N47/N$8*100),N47/N$8*100,0) -> 1.3598782 | P47: ='C03'!N47 -> 0 | Q47: =IF(ISNUMBER(P47/P$8*100),P47/P$8*100,0) -> 0 | R47: =B47-(D47+P47) -> 0 | S47: =IF(ISNUMBER(R47/R$8*100),R47/R$8*100,0) -> 0
A49: Rama de Actividad
A50: Primaria | B50: ='C03'!B50 -> 1101198 | C50: =IF(ISNUMBER(B50/B$8*100),B50/B$8*100,0) -> 30.189354 | D50: =[1]MercLab!C244 -> 776663.82 | E50: =IF(ISNUMBER(D50/D$8*100),D50/D$8*100,0) -> 25.539092 | F50: =H50+J50+L50 -> 343471.78 | G50: =IF(ISNUMBER(F50/F$8*100),F50/F$8*100,0) -> 20.448603 | H50: =[1]MercLab!D244 -> 0 | I50: =IF(ISNUMBER(H50/H$8*100),H50/H$8*100,0) -> 0 | J50: =[1]MercLab!E244 -> 343471.78 | K50: =IF(ISNUMBER(J50/J$8*100),J50/J$8*100,0) -> 25.327286 | L50: =[1]MercLab!F244 -> 0 | M50: =IF(ISNUMBER(L50/L$8*100),L50/L$8*100,0) -> 0 | N50: =[1]MercLab!G244 -> 433192.04 | O50: =IF(ISNUMBER(N50/N$8*100),N50/N$8*100,0) -> 31.819715 | P50: ='C03'!N50 -> 232897.07 | Q50: =IF(ISNUMBER(P50/P$8*100),P50/P$8*100,0) -> 48.182132 | R50: =B50-(D50+P50) -> 91637.149 | S50: =IF(ISNUMBER(R50/R$8*100),R50/R$8*100,0) -> 74.386572
A51: Secundaria | B51: ='C03'!B51 -> 541005.33 | C51: =IF(ISNUMBER(B51/B$8*100),B51/B$8*100,0) -> 14.831666 | D51: =[1]MercLab!C245 -> 478802.29 | E51: =IF(ISNUMBER(D51/D$8*100),D51/D$8*100,0) -> 15.74449 | F51: =H51+J51+L51 -> 277027.88 | G51: =IF(ISNUMBER(F51/F$8*100),F51/F$8*100,0) -> 16.492863 | H51: =[1]MercLab!D245 -> 272.2074 | I51: =IF(ISNUMBER(H51/H$8*100),H51/H$8*100,0) -> 0.12128048 | J51: =[1]MercLab!E245 -> 276755.67 | K51: =IF(ISNUMBER(J51/J$8*100),J51/J$8*100,0) -> 20.407703 | L51: =[1]MercLab!F245 -> 0 | M51: =IF(ISNUMBER(L51/L$8*100),L51/L$8*100,0) -> 0 | N51: =[1]MercLab!G245 -> 201774.41 | O51: =IF(ISNUMBER(N51/N$8*100),N51/N$8*100,0) -> 14.82115 | P51: ='C03'!N51 -> 57042.877 | Q51: =IF(ISNUMBER(P51/P$8*100),P51/P$8*100,0) -> 11.801125 | R51: =B51-(D51+P51) -> 5160.1569 | S51: =IF(ISNUMBER(R51/R$8*100),R51/R$8*100,0) -> 4.1887639
A52: Terciaria | B52: ='C03'!B52 -> 2004519.9 | C52: =IF(ISNUMBER(B52/B$8*100),B52/B$8*100,0) -> 54.953929 | D52: =[1]MercLab!C246 -> 1785025.2 | E52: =IF(ISNUMBER(D52/D$8*100),D52/D$8*100,0) -> 58.697111 | F52: =H52+J52+L52 -> 1058857.1 | G52: =IF(ISNUMBER(F52/F$8*100),F52/F$8*100,0) -> 63.039087 | H52: =[1]MercLab!D246 -> 224172.32 | I52: =IF(ISNUMBER(H52/H$8*100),H52/H$8*100,0) -> 99.87872 | J52: =[1]MercLab!E246 -> 735579.27 | K52: =IF(ISNUMBER(J52/J$8*100),J52/J$8*100,0) -> 54.240924 | L52: =[1]MercLab!F246 -> 99105.47 | M52: =IF(ISNUMBER(L52/L$8*100),L52/L$8*100,0) -> 100 | N52: =[1]MercLab!G246 -> 726168.14 | O52: =IF(ISNUMBER(N52/N$8*100),N52/N$8*100,0) -> 53.34 | P52: ='C03'!N52 -> 193428.19 | Q52: =IF(ISNUMBER(P52/P$8*100),P52/P$8*100,0) -> 40.016744 | R52: =B52-(D52+P52) -> 26066.49 | S52: =IF(ISNUMBER(R52/R$8*100),R52/R$8*100,0) -> 21.159507
A53: No sabe, no responde | B53: ='C03'!B53 -> 913.78611 | C53: =IF(ISNUMBER(B53/B$8*100),B53/B$8*100,0) -> 0.025051454 | D53: =[1]MercLab!C247 -> 587.13723 | E53: =IF(ISNUMBER(D53/D$8*100),D53/D$8*100,0) -> 0.019306876 | F53: =H53+J53+L53 -> 326.64888 | G53: =IF(ISNUMBER(F53/F$8*100),F53/F$8*100,0) -> 0.019447051 | H53: =[1]MercLab!D247 -> 0 | I53: =IF(ISNUMBER(H53/H$8*100),H53/H$8*100,0) -> 0 | J53: =[1]MercLab!E247 -> 326.64888 | K53: =IF(ISNUMBER(J53/J$8*100),J53/J$8*100,0) -> 0.024086781 | L53: =[1]MercLab!F247 -> 0 | M53: =IF(ISNUMBER(L53/L$8*100),L53/L$8*100,0) -> 0 | N53: =[1]MercLab!G247 -> 260.48835 | O53: =IF(ISNUMBER(N53/N$8*100),N53/N$8*100,0) -> 0.019133928 | P53: ='C03'!N53 -> 0 | Q53: =IF(ISNUMBER(P53/P$8*100),P53/P$8*100,0) -> 0 | R53: =B53-(D53+P53) -> 326.64888 | S53: =IF(ISNUMBER(R53/R$8*100),R53/R$8*100,0) -> 0.26515764
A55: ='C01'!$A$46 -> Fuente: Instituto Nacional de Estadística (INE). L Encuesta Permanente de Hogares de Propósitos Múltiples, Junio 2015.
A56: ='C02'!$A$46 -> (Promedio de salarios mínimos por rama)
A57: 1/ Porcentaje por columnas
A58: 2/ Porcentaje por filas
A59: 3/ No. de salarios mínimos (personas que declaran ingresos) y trabajan 36 Hrs. o mas en la ocupación principal
A61: Cuadro No. 4. Personas ocupadas y que declaran ingresos por categoría ocupacional, según dominio, nivel educativo, rango de edad,
A62: sexo, número de salarios mínimos devengados, rama de actividad y ocupación
A63: Ocupación Principal
A64: ....... Continuación
A65: Categorías | B65: Total Pers. Ocupadas | D65: Pers. que declaran Ing. | F65: Asalariados | N65: Cuenta propia | P65: Trab. fam. no remu. | R65: No Declaran Ingresos
F66: Total | H66: Público | J66: Privado | L66: Doméstico
B67: No. | C67: % 1/ | D67: No. | E67: % 1/ | F67: No. | G67: % 1/ | H67: No. | I67: % 1/ | J67: No. | K67: % 1/ | L67: No. | M67: % 1/ | N67: No. | O67: % 1/ | P67: No. | Q67: % 1/ | R67: No. | S67: % 1/
A69: Total Nacional 2/ | B69: =B8 -> 3647637 | C69: =C8 -> 100 | D69: =D8 -> 3041078.4 | E69: =E8 -> 83.371191 | F69: =F8 -> 1679683.4 | G69: =G8 -> 46.048534 | H69: =H8 -> 224444.53 | I69: =I8 -> 6.1531486 | ... S69: =S8 -> 3.3772671
A71: Rama de Actividad (1 Dig.)
A72: Agricultura, ganaderia, silvicultura y pesca | B72: ='C03'!B72 -> 1092253.3 | C72: =IF(ISNUMBER(B72/B$69*100),B72/B$69*100,0) -> 29.944132 | D72: =[1]MercLab!C250 -> 767719.04 | E72: =IF(ISNUMBER(D72/D$69*100),D72/D$69*100,0) -> 25.24496 | F72: =H72+J72+L72 -> 339375.39 | G72: =IF(ISNUMBER(F72/F$69*100),F72/F$69*100,0) -> 20.204724 | H72: =[1]MercLab!D250 -> 0 | I72: =IF(ISNUMBER(H72/H$69*100),H72/H$69*100,0) -> 0 | J72: =[1]MercLab!E250 -> 339375.39 | K72: =IF(ISNUMBER(J72/J$69*100),J72/J$69*100,0) -> 25.025222 | L72: =[1]MercLab!F250 -> 0 | M72: =IF(ISNUMBER(L72/L$69*100),L72/L$69*100,0) -> 0 | N72: =[1]MercLab!G250 -> 428343.66 | O72: =IF(ISNUMBER(N72/N$69*100),N72/N$69*100,0) -> 31.463582 | P72: ='C03'!N72 -> 232897.07 | Q72: =IF(ISNUMBER(P72/P$69*100),P72/P$69*100,0) -> 48.182132 | R72: =B72-(D72+P72) -> 91637.149 | S72: =IF(ISNUMBER(R72/R$8*100),R72/R$8*100,0) -> 74.386572
A73: Explotacion de minas y canteras | B73: ='C03'!B73 -> 8944.7777 | C73: =IF(ISNUMBER(B73/B$69*100),B73/B$69*100,0) -> 0.24522116 | D73: =[1]MercLab!C251 -> 8944.7777 | E73: =IF(ISNUMBER(D73/D$69*100),D73/D$69*100,0) -> 0.29413176 | F73: =H73+J73+L73 -> 4096.3948 | G73: =IF(ISNUMBER(F73/F$69*100),F73/F$69*100,0) -> 0.24387899 | H73: =[1]MercLab!D251 -> 0 | I73: =IF(ISNUMBER(H73/H$69*100),H73/H$69*100,0) -> 0 | J73: =[1]MercLab!E251 -> 4096.3948 | K73: =IF(ISNUMBER(J73/J$69*100),J73/J$69*100,0) -> 0.3020643 | L73: =[1]MercLab!F251 -> 0 | M73: =IF(ISNUMBER(L73/L$69*100),L73/L$69*100,0) -> 0 | N73: =[1]MercLab!G251 -> 4848.3829 | O73: =IF(ISNUMBER(N73/N$69*100),N73/N$69*100,0) -> 0.35613342 | P73: ='C03'!N73 -> 0 | Q73: =IF(ISNUMBER(P73/P$69*100),P73/P$69*100,0) -> 0 | R73: =B73-(D73+P73) -> 0 | S73: =IF(ISNUMBER(R73/R$8*100),R73/R$8*100,0) -> 0
A74: Industria manufacturera | B74: ='C03'!B74 -> 541005.33 | C74: =IF(ISNUMBER(B74/B$69*100),B74/B$69*100,0) -> 14.831666 | D74: =[1]MercLab!C252 -> 478802.29 | E74: =IF(ISNUMBER(D74/D$69*100),D74/D$69*100,0) -> 15.74449 | F74: =H74+J74+L74 -> 277027.88 | G74: =IF(ISNUMBER(F74/F$69*100),F74/F$69*100,0) -> 16.492863 | H74: =[1]MercLab!D252 -> 272.2074 | I74: =IF(ISNUMBER(H74/H$69*100),H74/H$69*100,0) -> 0.12128048 | J74: =[1]MercLab!E252 -> 276755.67 | K74: =IF(ISNUMBER(J74/J$69*100),J74/J$69*100,0) -> 20.407703 | L74: =[1]MercLab!F252 -> 0 | M74: =IF(ISNUMBER(L74/L$69*100),L74/L$69*100,0) -> 0 | N74: =[1]MercLab!G252 -> 201774.41 | O74: =IF(ISNUMBER(N74/N$69*100),N74/N$69*100,0) -> 14.82115 | P74: ='C03'!N74 -> 57042.877 | Q74: =IF(ISNUMBER(P74/P$69*100),P74/P$69*100,0) -> 11.801125 | R74: =B74-(D74+P74) -> 5160.1569 | S74: =IF(ISNUMBER(R74/R$8*100),R74/R$8*100,0) -> 4.1887639
A75: Suministro de electricidad, gas, vapor y aire acondicionado | B75: ='C03'!B75 -> 12009.411 | C75: =IF(ISNUMBER(B75/B$69*100),B75/B$69*100,0) -> 0.3292381 | D75: =[1]MercLab!C253 -> 11602.387 | E75: =IF(ISNUMBER(D75/D$69*100),D75/D$69*100,0) -> 0.38152211 | F75: =H75+J75+L75 -> 9949.7274 | G75: =IF(ISNUMBER(F75/F$69*100),F75/F$69*100,0) -> 0.59235732 | H75: =[1]MercLab!D253 -> 7290.8995 | I75: =IF(ISNUMBER(H75/H$69*100),H75/H$69*100,0) -> 3.2484194 | J75: =[1]MercLab!E253 -> 2658.8279 | K75: =IF(ISNUMBER(J75/J$69*100),J75/J$69*100,0) -> 0.19605947 | L75: =[1]MercLab!F253 -> 0 | M75: =IF(ISNUMBER(L75/L$69*100),L75/L$69*100,0) -> 0 | N75: =[1]MercLab!G253 -> 1652.6592 | O75: =IF(ISNUMBER(N75/N$69*100),N75/N$69*100,0) -> 0.12139454 | P75: ='C03'!N75 -> 0 | Q75: =IF(ISNUMBER(P75/P$69*100),P75/P$69*100,0) -> 0 | R75: =B75-(D75+P75) -> 407.02412 | S75: =IF(ISNUMBER(R75/R$8*100),R75/R$8*100,0) -> 0.33040234
A76: Suministro de agua, evacuacion de aguas residuales, gestion de desechos y descontaminacion | B76: ='C03'!B76 -> 20693.595 | C76: =IF(ISNUMBER(B76/B$69*100),B76/B$69*100,0) -> 0.56731508 | D76: =[1]MercLab!C254 -> 19202.618 | E76: =IF(ISNUMBER(D76/D$69*100),D76/D$69*100,0) -> 0.63144106 | F76: =H76+J76+L76 -> 9768.3154 | G76: =IF(ISNUMBER(F76/F$69*100),F76/F$69*100,0) -> 0.58155695 | H76: =[1]MercLab!D254 -> 3174.5131 | I76: =IF(ISNUMBER(H76/H$69*100),H76/H$69*100,0) -> 1.4143865 | J76: =[1]MercLab!E254 -> 6593.8023 | K76: =IF(ISNUMBER(J76/J$69*100),J76/J$69*100,0) -> 0.48622079 | L76: =[1]MercLab!F254 -> 0 | M76: =IF(ISNUMBER(L76/L$69*100),L76/L$69*100,0) -> 0 | N76: =[1]MercLab!G254 -> 9434.3026 | O76: =IF(ISNUMBER(N76/N$69*100),N76/N$69*100,0) -> 0.69298786 | P76: ='C03'!N76 -> 1053.9836 | Q76: =IF(ISNUMBER(P76/P$69*100),P76/P$69*100,0) -> 0.21804986 | R76: =B76-(D76+P76) -> 436.99356 | S76: =IF(ISNUMBER(R76/R$8*100),R76/R$8*100,0) -> 0.35473007
A77: Construccion | B77: ='C03'!B77 -> 203284.56 | C77: =IF(ISNUMBER(B77/B$69*100),B77/B$69*100,0) -> 5.573048 | D77: =[1]MercLab!C255 -> 196780.1 | E77: =IF(ISNUMBER(D77/D$69*100),D77/D$69*100,0) -> 6.470734 | F77: =H77+J77+L77 -> 156320.7 | G77: =IF(ISNUMBER(F77/F$69*100),F77/F$69*100,0) -> 9.3065573 | H77: =[1]MercLab!D255 -> 272.2074 | I77: =IF(ISNUMBER(H77/H$69*100),H77/H$69*100,0) -> 0.12128048 | J77: =[1]MercLab!E255 -> 156048.49 | K77: =IF(ISNUMBER(J77/J$69*100),J77/J$69*100,0) -> 11.506869 | L77: =[1]MercLab!F255 -> 0 | M77: =IF(ISNUMBER(L77/L$69*100),L77/L$69*100,0) -> 0 | N77: =[1]MercLab!G255 -> 40459.402 | O77: =IF(ISNUMBER(N77/N$69*100),N77/N$69*100,0) -> 2.9719075 | P77: ='C03'!N77 -> 5700.1764 | Q77: =IF(ISNUMBER(P77/P$69*100),P77/P$69*100,0) -> 1.1792619 | R77: =B77-(D77+P77) -> 804.29099 | S77: =IF(ISNUMBER(R77/R$8*100),R77/R$8*100,0) -> 0.65288423
A78: Comercio al por mayor y al por menor, reparacion de vehiculos automotores y motocicletas | B78: ='C03'!B78 -> 700131.05 | C78: =IF(ISNUMBER(B78/B$69*100),B78/B$69*100,0) -> 19.194099 | D78: =[1]MercLab!C256 -> 564048.77 | E78: =IF(ISNUMBER(D78/D$69*100),D78/D$69*100,0) -> 18.547656 | F78: =H78+J78+L78 -> 217907.85 | G78: =IF(ISNUMBER(F78/F$69*100),F78/F$69*100,0) -> 12.973151 | H78: =[1]MercLab!D256 -> 916.70713 | I78: =IF(ISNUMBER(H78/H$69*100),H78/H$69*100,0) -> 0.40843372 | J78: =[1]MercLab!E256 -> 216991.15 | K78: =IF(ISNUMBER(J78/J$69*100),J78/J$69*100,0) -> 16.000723 | L78: =[1]MercLab!F256 -> 0 | M78: =IF(ISNUMBER(L78/L$69*100),L78/L$69*100,0) -> 0 | N78: =[1]MercLab!G256 -> 346140.91 | O78: =IF(ISNUMBER(N78/N$69*100),N78/N$69*100,0) -> 25.425457 | P78: ='C03'!N78 -> 129667.6 | Q78: =IF(ISNUMBER(P78/P$69*100),P78/P$69*100,0) -> 26.825847 | R78: =B78-(D78+P78) -> 6414.6844 | S78: =IF(ISNUMBER(R78/R$8*100),R78/R$8*100,0) -> 5.2071282
A79: Transporte y almacenamiento | B79: ='C03'!B79 -> 104782.19 | C79: =IF(ISNUMBER(B79/B$69*100),B79/B$69*100,0) -> 2.8726046 | D79: =[1]MercLab!C257 -> 104087.55 | E79: =IF(ISNUMBER(D79/D$69*100),D79/D$69*100,0) -> 3.4227185 | F79: =H79+J79+L79 -> 45131.245 | G79: =IF(ISNUMBER(F79/F$69*100),F79/F$69*100,0) -> 2.6868901 | H79: =[1]MercLab!D257 -> 581.97 | I79: =IF(ISNUMBER(H79/H$69*100),H79/H$69*100,0) -> 0.25929347 | J79: =[1]MercLab!E257 -> 44549.275 | K79: =IF(ISNUMBER(J79/J$69*100),J79/J$69*100,0) -> 3.2850217 | L79: =[1]MercLab!F257 -> 0 | M79: =IF(ISNUMBER(L79/L$69*100),L79/L$69*100,0) -> 0 | N79: =[1]MercLab!G257 -> 58956.309 | O79: =IF(ISNUMBER(N79/N$69*100),N79/N$69*100,0) -> 4.3305804 | P79: ='C03'!N79 -> 0 | Q79: =IF(ISNUMBER(P79/P$69*100),P79/P$69*100,0) -> 0 | R79: =B79-(D79+P79) -> 694.63561 | S79: =IF(ISNUMBER(R79/R$8*100),R79/R$8*100,0) -> 0.56387134
A80: Actividades de alojamiento y de servicios de comida | B80: ='C03'!B80 -> 164424.18 | C80: =IF(ISNUMBER(B80/B$69*100),B80/B$69*100,0) -> 4.5076903 | D80: =[1]MercLab!C258 -> 127785.62 | E80: =IF(ISNUMBER(D80/D$69*100),D80/D$69*100,0) -> 4.2019838 | F80: =H80+J80+L80 -> 59528.566 | G80: =IF(ISNUMBER(F80/F$69*100),F80/F$69*100,0) -> 3.544035 | H80: =[1]MercLab!D258 -> 0 | I80: =IF(ISNUMBER(H80/H$69*100),H80/H$69*100,0) -> 0 | J80: =[1]MercLab!E258 -> 59528.566 | K80: =IF(ISNUMBER(J80/J$69*100),J80/J$69*100,0) -> 4.3895805 | L80: =[1]MercLab!F258 -> 0 | M80: =IF(ISNUMBER(L80/L$69*100),L80/L$69*100,0) -> 0 | N80: =[1]MercLab!G258 -> 68257.059 | O80: =IF(ISNUMBER(N80/N$69*100),N80/N$69*100,0) -> 5.0137583 | P80: ='C03'!N80 -> 35222.33 | Q80: =IF(ISNUMBER(P80/P$69*100),P80/P$69*100,0) -> 7.2868538 | R80: =B80-(D80+P80) -> 1416.2258 | S80: =IF(ISNUMBER(R80/R$8*100),R80/R$8*100,0) -> 1.1496231
A81: Informacion y comunicaciones | B81: ='C03'!B81 -> 21745.058 | C81: =IF(ISNUMBER(B81/B$69*100),B81/B$69*100,0) -> 0.59614094 | D81: =[1]MercLab!C259 -> 20963.592 | E81: =IF(ISNUMBER(D81/D$69*100),D81/D$69*100,0) -> 0.68934731 | F81: =H81+J81+L81 -> 19896.144 | G81: =IF(ISNUMBER(F81/F$69*100),F81/F$69*100,0) -> 1.1845175 | H81: =[1]MercLab!D259 -> 1970.1944 | I81: =IF(ISNUMBER(H81/H$69*100),H81/H$69*100,0) -> 0.87780907 | J81: =[1]MercLab!E259 -> 17925.949 | K81: =IF(ISNUMBER(J81/J$69*100),J81/J$69*100,0) -> 1.3218427 | L81: =[1]MercLab!F259 -> 0 | M81: =IF(ISNUMBER(L81/L$69*100),L81/L$69*100,0) -> 0 | N81: =[1]MercLab!G259 -> 1067.4487 | O81: =IF(ISNUMBER(N81/N$69*100),N81/N$69*100,0) -> 0.078408447 | P81: ='C03'!N81 -> 0 | Q81: =IF(ISNUMBER(P81/P$69*100),P81/P$69*100,0) -> 0 | R81: =B81-(D81+P81) -> 781.46506 | S81: =IF(ISNUMBER(R81/R$8*100),R81/R$8*100,0) -> 0.63435525
A82: Actividades finacieras y de seguros | B82: ='C03'!B82 -> 45810.363 | C82: =IF(ISNUMBER(B82/B$69*100),B82/B$69*100,0) -> 1.2558915 | D82: =[1]MercLab!C260 -> 43953.539 | E82: =IF(ISNUMBER(D82/D$69*100),D82/D$69*100,0) -> 1.4453274 | F82: =H82+J82+L82 -> 41568.64 | G82: =IF(ISNUMBER(F82/F$69*100),F82/F$69*100,0) -> 2.4747903 | H82: =[1]MercLab!D260 -> 3242.9474 | I82: =IF(ISNUMBER(H82/H$69*100),H82/H$69*100,0) -> 1.444877 | J82: =[1]MercLab!E260 -> 38325.693 | K82: =IF(ISNUMBER(J82/J$69*100),J82/J$69*100,0) -> 2.8261006 | L82: =[1]MercLab!F260 -> 0 | M82: =IF(ISNUMBER(L82/L$69*100),L82/L$69*100,0) -> 0 | N82: =[1]MercLab!G260 -> 2384.8989 | O82: =IF(ISNUMBER(N82/N$69*100),N82/N$69*100,0) -> 0.17518051 | P82: ='C03'!N82 -> 580.92321 | Q82: =IF(ISNUMBER(P82/P$69*100),P82/P$69*100,0) -> 0.12018235 | R82: =B82-(D82+P82) -> 1275.9 | S82: =IF(ISNUMBER(R82/R$8*100),R82/R$8*100,0) -> 1.0357135
A83: Actividades inmobiliarias | B83: ='C03'!B83 -> 5924.7061 | C83: =IF(ISNUMBER(B83/B$69*100),B83/B$69*100,0) -> 0.16242587 | D83: =[1]MercLab!C261 -> 5403.7294 | E83: =IF(ISNUMBER(D83/D$69*100),D83/D$69*100,0) -> 0.17769122 | F83: =H83+J83+L83 -> 5031.4371 | G83: =IF(ISNUMBER(F83/F$69*100),F83/F$69*100,0) -> 0.29954676 | H83: =[1]MercLab!D261 -> 0 | I83: =IF(ISNUMBER(H83/H$69*100),H83/H$69*100,0) -> 0 | J83: =[1]MercLab!E261 -> 5031.4371 | K83: =IF(ISNUMBER(J83/J$69*100),J83/J$69*100,0) -> 0.37101344 | L83: =[1]MercLab!F261 -> 0 | M83: =IF(ISNUMBER(L83/L$69*100),L83/L$69*100,0) -> 0 | N83: =[1]MercLab!G261 -> 372.29234 | O83: =IF(ISNUMBER(N83/N$69*100),N83/N$69*100,0) -> 0.027346385 | P83: ='C03'!N83 -> 0 | Q83: =IF(ISNUMBER(P83/P$69*100),P83/P$69*100,0) -> 0 | R83: =B83-(D83+P83) -> 520.97671 | S83: =IF(ISNUMBER(R83/R$8*100),R83/R$8*100,0) -> 0.4229035
... A95: NS/NR | B95: ='C03'!B95 -> 913.78611 | C95: =IF(ISNUMBER(B95/B$69*100),B95/B$69*100,0) -> 0.025051454 | D95: =[1]MercLab!C273 -> 587.13723 | E95: =IF(ISNUMBER(D95/D$69*100),D95/D$69*100,0) -> 0.019306876 | F95: =H95+J95+L95 -> 326.64888 | G95: =IF(ISNUMBER(F95/F$69*100),F95/F$69*100,0) -> 0.019447051 | H95: =[1]MercLab!D273 -> 0 | I95: =IF(ISNUMBER(H95/H$69*100),H95/H$69*100,0) -> 0 | J95: =[1]MercLab!E273 -> 326.64888 | K95: =IF(ISNUMBER(J95/J$69*100),J95/J$69*100,0) -> 0.024086781 | L95: =[1]MercLab!F273 -> 0 | M95: =IF(ISNUMBER(L95/L$69*100),L95/L$69*100,0) -> 0 | N95: =[1]MercLab!G273 -> 260.48835 | O95: =IF(ISNUMBER(N95/N$69*100),N95/N$69*100,0) -> 0.019133928 | P95: ='C03'!N95 -> 0 | Q95: =IF(ISNUMBER(P95/P$69*100),P95/P$69*100,0) -> 0 | R95: =B95-(D95+P95) -> 326.64888 | S95: =IF(ISNUMBER(R95/R$8*100),R95/R$8*100,0) -> 0.26515764
A97: Ocupación (1 Dig.)
A98: Directores y gerentes | B98: ='C03'!B99 -> 96154.107 | C98: =IF(ISNUMBER(B98/B$69*100),B98/B$69*100,0) -> 2.6360656 | D98: =[1]MercLab!C275 -> 90643.226 | E98: =IF(ISNUMBER(D98/D$69*100),D98/D$69*100,0) -> 2.9806277 | F98: =H98+J98+L98 -> 52008.142 | G98: =IF(ISNUMBER(F98/F$69*100),F98/F$69*100,0) -> 3.0963063 | H98: =[1]MercLab!D275 -> 14790.891 | I98: =IF(ISNUMBER(H98/H$69*100),H98/H$69*100,0) -> 6.5899987 | J98: =[1]MercLab!E275 -> 37217.251 | K98: =IF(ISNUMBER(J98/J$69*100),J98/J$69*100,0) -> 2.7443651 | L98: =[1]MercLab!F275 -> 0 | M98: =IF(ISNUMBER(L98/L$69*100),L98/L$69*100,0) -> 0 | N98: =[1]MercLab!G275 -> 38635.084 | O98: =IF(ISNUMBER(N98/N$69*100),N98/N$69*100,0) -> 2.8379039 | P98: ='C03'!N99 -> 1786.6814 | Q98: =IF(ISNUMBER(P98/P$69*100),P98/P$69*100,0) -> 0.36963161 | R98: =B98-(D98+P98) -> 3724.1989 | S98: =IF(ISNUMBER(R98/R$8*100),R98/R$8*100,0) -> 3.0231232
A99: Profesionales cientificos e intelectuales | B99: ='C03'!B100 -> 123446.06 | C99: =IF(ISNUMBER(B99/B$69*100),B99/B$69*100,0) -> 3.3842749 | D99: =[1]MercLab!C276 -> 116924.88 | E99: =IF(ISNUMBER(D99/D$69*100),D99/D$69*100,0) -> 3.8448491 | F99: =H99+J99+L99 -> 98586.488 | G99: =IF(ISNUMBER(F99/F$69*100),F99/F$69*100,0) -> 5.8693496 | H99: =[1]MercLab!D276 -> 59614.13 | I99: =IF(ISNUMBER(H99/H$69*100),H99/H$69*100,0) -> 26.560741 | J99: =[1]MercLab!E276 -> 38972.359 | K99: =IF(ISNUMBER(J99/J$69*100),J99/J$69*100,0) -> 2.8737851 | L99: =[1]MercLab!F276 -> 0 | M99: =IF(ISNUMBER(L99/L$69*100),L99/L$69*100,0) -> 0 | N99: =[1]MercLab!G276 -> 18338.39 | O99: =IF(ISNUMBER(N99/N$69*100),N99/N$69*100,0) -> 1.3470293 | P99: ='C03'!N100 -> 347.3178 | Q99: =IF(ISNUMBER(P99/P$69*100),P99/P$69*100,0) -> 0.071853681 | R99: =B99-(D99+P99) -> 6173.8667 | S99: =IF(ISNUMBER(R99/R$8*100),R99/R$8*100,0) -> 5.0116441
A100: Tecnicos y profesionales de nivel medio | B100: ='C03'!B101 -> 218637.43 | C100: =IF(ISNUMBER(B100/B$69*100),B100/B$69*100,0) -> 5.9939469 | D100: =[1]MercLab!C277 -> 205229.68 | E100: =IF(ISNUMBER(D100/D$69*100),D100/D$69*100,0) -> 6.7485822 | F100: =H100+J100+L100 -> 178329.37 | G100: =IF(ISNUMBER(F100/F$69*100),F100/F$69*100,0) -> 10.616844 | H100: =[1]MercLab!D277 -> 70556.054 | I100: =IF(ISNUMBER(H100/H$69*100),H100/H$69*100,0) -> 31.435854 | J100: =[1]MercLab!E277 -> 107773.32 | K100: =IF(ISNUMBER(J100/J$69*100),J100/J$69*100,0) -> 7.9471031 | L100: =[1]MercLab!F277 -> 0 | M100: =IF(ISNUMBER(L100/L$69*100),L100/L$69*100,0) -> 0 | N100: =[1]MercLab!G277 -> 26900.306 | O100: =IF(ISNUMBER(N100/N$69*100),N100/N$69*100,0) -> 1.9759368 | P100: ='C03'!N101 -> 9417.5334 | Q100: =IF(ISNUMBER(P100/P$69*100),P100/P$69*100,0) -> 1.9483149 | R100: =B100-(D100+P100) -> 3990.2178 | S100: =IF(ISNUMBER(R100/R$8*100),R100/R$8*100,0) -> 3.2390644
A101: Personal de apoyo administrativo | B101: ='C03'!B102 -> 112217.41 | C101: =IF(ISNUMBER(B101/B$69*100),B101/B$69*100,0) -> 3.0764412 | D101: =[1]MercLab!C278 -> 108446.32 | E101: =IF(ISNUMBER(D101/D$69*100),D101/D$69*100,0) -> 3.5660481 | F101: =H101+J101+L101 -> 100432.04 | G101: =IF(ISNUMBER(F101/F$69*100),F101/F$69*100,0) -> 5.9792246 | H101: =[1]MercLab!D278 -> 25944.208 | I101: =IF(ISNUMBER(H101/H$69*100),H101/H$69*100,0) -> 11.559296 | J101: =[1]MercLab!E278 -> 74487.834 | K101: =IF(ISNUMBER(J101/J$69*100),J101/J$69*100,0) -> 5.4926628 | L101: =[1]MercLab!F278 -> 0 | M101: =IF(ISNUMBER(L101/L$69*100),L101/L$69*100,0) -> 0 | N101: =[1]MercLab!G278 -> 8014.2772 | O101: =IF(ISNUMBER(N101/N$69*100),N101/N$69*100,0) -> 0.58868122 | P101: ='C03'!N102 -> 1663.8775 | Q101: =IF(ISNUMBER(P101/P$69*100),P101/P$69*100,0) -> 0.34422572 | R101: =B101-(D101+P101) -> 2107.2131 | S101: =IF(ISNUMBER(R101/R$8*100),R101/R$8*100,0) -> 1.7105329
A102: Trabajadores de los servicios y vendedores de comercios y mercados | B102: ='C03'!B103 -> 801258.95 | C102: =IF(ISNUMBER(B102/B$69*100),B102/B$69*100,0) -> 21.966521 | D102: =[1]MercLab!C279 -> 660043.77 | E102: =IF(ISNUMBER(D102/D$69*100),D102/D$69*100,0) -> 21.704266 | F102: =H102+J102+L102 -> 266171.19 | G102: =IF(ISNUMBER(F102/F$69*100),F102/F$69*100,0) -> 15.84651 | H102: =[1]MercLab!D279 -> 16690.79 | I102: =IF(ISNUMBER(H102/H$69*100),H102/H$69*100,0) -> 7.4364879 | J102: =[1]MercLab!E279 -> 231315.45 | K102: =IF(ISNUMBER(J102/J$69*100),J102/J$69*100,0) -> 17.056984 | L102: =[1]MercLab!F279 -> 18164.958 | M102: =IF(ISNUMBER(L102/L$69*100),L102/L$69*100,0) -> 18.328916 | N102: =[1]MercLab!G279 -> 393872.57 | O102: =IF(ISNUMBER(N102/N$69*100),N102/N$69*100,0) -> 28.931541 | P102: ='C03'!N103 -> 134916.68 | Q102: =IF(ISNUMBER(P102/P$69*100),P102/P$69*100,0) -> 27.911786 | R102: =B102-(D102+P102) -> 6298.4965 | S102: =IF(ISNUMBER(R102/R$8*100),R102/R$8*100,0) -> 5.1128125
A103: Agricultores y trabajadores calificados agropecuarios forestales y pesqueros | B103: ='C03'!B104 -> 636305.44 | C103: =IF(ISNUMBER(B103/B$69*100),B103/B$69*100,0) -> 17.444319 | D103: =[1]MercLab!C280 -> 495326.17 | E103: =IF(ISNUMBER(D103/D$69*100),D103/D$69*100,0) -> 16.287846 | F103: =H103+J103+L103 -> 105714.44 | G103: =IF(ISNUMBER(F103/F$69*100),F103/F$69*100,0) -> 6.2937122 | H103: =[1]MercLab!D280 -> 0 | I103: =IF(ISNUMBER(H103/H$69*100),H103/H$69*100,0) -> 0 | J103: =[1]MercLab!E280 -> 105714.44 | K103: =IF(ISNUMBER(J103/J$69*100),J103/J$69*100,0) -> 7.7952832 | L103: =[1]MercLab!F280 -> 0 | M103: =IF(ISNUMBER(L103/L$69*100),L103/L$69*100,0) -> 0 | N103: =[1]MercLab!G280 -> 389611.74 | O103: =IF(ISNUMBER(N103/N$69*100),N103/N$69*100,0) -> 28.618565 | P103: ='C03'!N104 -> 50158.739 | Q103: =IF(ISNUMBER(P103/P$69*100),P103/P$69*100,0) -> 10.376923 | R103: =B103-(D103+P103) -> 90820.527 | S103: =IF(ISNUMBER(R103/R$8*100),R103/R$8*100,0) -> 73.723678
A104: Oficiales, operarios y artesanos de artes mecanicas y de otros oficios | B104: ='C03'!B105 -> 564550.62 | C104: =IF(ISNUMBER(B104/B$69*100),B104/B$69*100,0) -> 15.47716 | D104: =[1]MercLab!C281 -> 498304.62 | E104: =IF(ISNUMBER(D104/D$69*100),D104/D$69*100,0) -> 16.385787 | F104: =H104+J104+L104 -> 228305.36 | G104: =IF(ISNUMBER(F104/F$69*100),F104/F$69*100,0) -> 13.592166 | H104: =[1]MercLab!D281 -> 6446.5352 | I104: =IF(ISNUMBER(H104/H$69*100),H104/H$69*100,0) -> 2.8722176 | J104: =[1]MercLab!E281 -> 221858.82 | K104: =IF(ISNUMBER(J104/J$69*100),J104/J$69*100,0) -> 16.359661 | L104: =[1]MercLab!F281 -> 0 | M104: =IF(ISNUMBER(L104/L$69*100),L104/L$69*100,0) -> 0 | N104: =[1]MercLab!G281 -> 269999.27 | O104: =IF(ISNUMBER(N104/N$69*100),N104/N$69*100,0) -> 19.832543 | P104: ='C03'!N105 -> 60628.869 | Q104: =IF(ISNUMBER(P104/P$69*100),P104/P$69*100,0) -> 12.543001 | R104: =B104-(D104+P104) -> 5617.1301 | S104: =IF(ISNUMBER(R104/R$8*100),R104/R$8*100,0) -> 4.5597125
A105: Operadores de instalaciones y maquinas y ensambladores | B105: ='C03'!B106 -> 180233.74 | C105: =IF(ISNUMBER(B105/B$69*100),B105/B$69*100,0) -> 4.9411096 | D105: =[1]MercLab!C282 -> 176287.28 | E105: =IF(ISNUMBER(D105/D$69*100),D105/D$69*100,0) -> 5.7968673 | F105: =H105+J105+L105 -> 121775.03 | G105: =IF(ISNUMBER(F105/F$69*100),F105/F$69*100,0) -> 7.2498798 | H105: =[1]MercLab!D282 -> 5976.7762 | I105: =IF(ISNUMBER(H105/H$69*100),H105/H$69*100,0) -> 2.6629191 | J105: =[1]MercLab!E282 -> 115798.25 | K105: =IF(ISNUMBER(J105/J$69*100),J105/J$69*100,0) -> 8.5388541 | L105: =[1]MercLab!F282 -> 0 | M105: =IF(ISNUMBER(L105/L$69*100),L105/L$69*100,0) -> 0 | N105: =[1]MercLab!G282 -> 54512.255 | O105: =IF(ISNUMBER(N105/N$69*100),N105/N$69*100,0) -> 4.0041466 | P105: ='C03'!N106 -> 2283.8105 | Q105: =IF(ISNUMBER(P105/P$69*100),P105/P$69*100,0) -> 0.47247848 | R105: =B105-(D105+P105) -> 1662.6513 | S105: =IF(ISNUMBER(R105/R$8*100),R105/R$8*100,0) -> 1.3496593
A106: Ocupaciones elementales | B106: ='C03'!B107 -> 911296.39 | C106: =IF(ISNUMBER(B106/B$69*100),B106/B$69*100,0) -> 24.983198 | D106: =[1]MercLab!C283 -> 686607.82 | E106: =IF(ISNUMBER(D106/D$69*100),D106/D$69*100,0) -> 22.577774 | F106: =H106+J106+L106 -> 527206.75 | G106: =IF(ISNUMBER(F106/F$69*100),F106/F$69*100,0) -> 31.38727 | H106: =[1]MercLab!D283 -> 23869.435 | I106: =IF(ISNUMBER(H106/H$69*100),H106/H$69*100,0) -> 10.634893 | J106: =[1]MercLab!E283 -> 422396.8 | K106: =IF(ISNUMBER(J106/J$69*100),J106/J$69*100,0) -> 31.147143 | L106: =[1]MercLab!F283 -> 80940.512 | M106: =IF(ISNUMBER(L106/L$69*100),L106/L$69*100,0) -> 81.671084 | N106: =[1]MercLab!G283 -> 159401.08 | O106: =IF(ISNUMBER(N106/N$69*100),N106/N$69*100,0) -> 11.708657 | P106: ='C03'!N107 -> 221892.42 | Q106: =IF(ISNUMBER(P106/P$69*100),P106/P$69*100,0) -> 45.905471 | R106: =B106-(D106+P106) -> 2796.1438 | S106: =IF(ISNUMBER(R106/R$8*100),R106/R$8*100,0) -> 2.2697733
A107: Ocupaciones militares | B107: ='C03'!B108 -> 555.70849 | C107: =IF(ISNUMBER(B107/B$69*100),B107/B$69*100,0) -> 0.015234753 | D107: =[1]MercLab!C284 -> 555.70849 | E107: =IF(ISNUMBER(D107/D$69*100),D107/D$69*100,0) -> 0.018273402 | F107: =H107+J107+L107 -> 555.70849 | G107: =IF(ISNUMBER(F107/F$69*100),F107/F$69*100,0) -> 0.033084122 | H107: =[1]MercLab!D284 -> 555.70849 | I107: =IF(ISNUMBER(H107/H$69*100),H107/H$69*100,0) -> 0.2475928 | J107: =[1]MercLab!E284 -> 0 | K107: =IF(ISNUMBER(J107/J$69*100),J107/J$69*100,0) -> 0 | L107: =[1]MercLab!F284 -> 0 | M107: =IF(ISNUMBER(L107/L$69*100),L107/L$69*100,0) -> 0 | N107: =[1]MercLab!G284 -> 0 | O107: =IF(ISNUMBER(N107/N$69*100),N107/N$69*100,0) -> 0 | P107: ='C03'!N108 -> 0 | Q107: =IF(ISNUMBER(P107/P$69*100),P107/P$69*100,0) -> 0 | R107: =B107-(D107+P107) -> 0 | S107: =IF(ISNUMBER(R107/R$8*100),R107/R$8*100,0) -> 0
A108: Ocupaciones NO especificadas | B108: ='C03'!B109 -> 2720.6894 | C108: =IF(ISNUMBER(B108/B$69*100),B108/B$69*100,0) -> 0.074587723 | D108: =[1]MercLab!C285 -> 2448.482 | E108: =IF(ISNUMBER(D108/D$69*100),D108/D$69*100,0) -> 0.080513609 | F108: =H108+J108+L108 -> 598.85628 | G108: =IF(ISNUMBER(F108/F$69*100),F108/F$69*100,0) -> 0.035652927 | H108: =[1]MercLab!D285 -> 0 | I108: =IF(ISNUMBER(H108/H$69*100),H108/H$69*100,0) -> 0 | J108: =[1]MercLab!E285 -> 598.85628 | K108: =IF(ISNUMBER(J108/J$69*100),J108/J$69*100,0) -> 0.044159099 | L108: =[1]MercLab!F285 -> 0 | M108: =IF(ISNUMBER(L108/L$69*100),L108/L$69*100,0) -> 0 | N108: =[1]MercLab!G285 -> 1849.6257 | O108: =IF(ISNUMBER(N108/N$69*100),N108/N$69*100,0) -> 0.13586253 | P108: ='C03'!N109 -> 272.2074 | Q108: =IF(ISNUMBER(P108/P$69*100),P108/P$69*100,0) -> 0.056314716 | R108: =B108-(D108+P108) -> 0 | S108: =IF(ISNUMBER(R108/R$8*100),R108/R$8*100,0) -> 0
A109: Busca trabajo por primera vez | B109: ='C03'!B110 -> 0 | C109: =IF(ISNUMBER(B109/B$69*100),B109/B$69*100,0) -> 0 | D109: =[1]MercLab!C286 -> 0 | E109: =IF(ISNUMBER(D109/D$69*100),D109/D$69*100,0) -> 0 | F109: =H109+J109+L109 -> 0 | G109: =IF(ISNUMBER(F109/F$69*100),F109/F$69*100,0) -> 0 | H109: =[1]MercLab!D286 -> 0 | I109: =IF(ISNUMBER(H109/H$69*100),H109/H$69*100,0) -> 0 | J109: =[1]MercLab!E286 -> 0 | K109: =IF(ISNUMBER(J109/J$69*100),J109/J$69*100,0) -> 0 | L109: =[1]MercLab!F286 -> 0 | M109: =IF(ISNUMBER(L109/L$69*100),L109/L$69*100,0) -> 0 | N109: =[1]MercLab!G286 -> 0 | O109: =IF(ISNUMBER(N109/N$69*100),N109/N$69*100,0) -> 0 | P109: ='C03'!N110 -> 0 | Q109: =IF(ISNUMBER(P109/P$69*100),P109/P$69*100,0) -> 0 | R109: =B109-(D109+P109) -> 0 | S109: =IF(ISNUMBER(R109/R$8*100),R109/R$8*100,0) -> 0
A110: NS/NR | B110: ='C03'!B111 -> 260.48835 | C110: =IF(ISNUMBER(B110/B$69*100),B110/B$69*100,0) -> 0.0071412904 | D110: =[1]MercLab!C287 -> 260.48835 | E110: =IF(ISNUMBER(D110/D$69*100),D110/D$69*100,0) -> 0.0085656572 | F110: =H110+J110+L110 -> 0 | G110: =IF(ISNUMBER(F110/F$69*100),F110/F$69*100,0) -> 0 | H110: =[1]MercLab!D287 -> 0 | I110: =IF(ISNUMBER(H110/H$69*100),H110/H$69*100,0) -> 0 | J110: =[1]MercLab!E287 -> 0 | K110: =IF(ISNUMBER(J110/J$69*100),J110/J$69*100,0) -> 0 | L110: =[1]MercLab!F287 -> 0 | M110: =IF(ISNUMBER(L110/L$69*100),L110/L$69*100,0) -> 0 | N110: =[1]MercLab!G287 -> 260.48835 | O110: =IF(ISNUMBER(N110/N$69*100),N110/N$69*100,0) -> 0.019133928 | P110: ='C03'!N111 -> 0 | Q110: =IF(ISNUMBER(P110/P$69*100),P110/P$69*100,0) -> 0 | R110: =B110-(D110+P110) -> 0 | S110: =IF(ISNUMBER(R110/R$8*100),R110/R$8*100,0) -> 0
A112: ='C01'!$A$46 -> Fuente: Instituto Nacional de Estadística (INE). L Encuesta Permanente de Hogares de Propósitos Múltiples, Junio 2015.
A113: ='C02'!$A$46 -> (Promedio de salarios mínimos por rama)
A114: 1/ Porcentaje por columnas
A115: 2/ Porcentaje por filas
A116: Clasificación industrial Internacional Uniforme CIIU REV IV)
A117: Clasificación internacional uniforme de ocupaciones CIUO-08

Sheet C05
A1: Cuadro No. 5. Ingreso promedio de las personas ocupadas que declaran Ingreso por categoría ocupacional, según dominio,
A2: nivel educativo, rango de edad, sexo, número de salarios mínimos, rama de actividad y ocupación
A3: Ocupación Principal, Lps/Mes/Persona
A4: Categorías | B4: Ingreso Promedio
B5: Ingreso Promedio | C5: Asalariados | G5: Cuenta propia
C6: Total | D6: Público | E6: Privado | F6: Doméstico
A8: Total Nacional | B8: =[4]Sheet1!C7 -> 5215.4133 | C8: =[4]Sheet1!E7 -> 6402.9638 | D8: =[4]Sheet1!G7 -> 11928.203 | E8: =[4]Sheet1!I7 -> 5827.3355 | F8: =[4]Sheet1!K7 -> 3176.8521 | G8: =[4]Sheet1!M7 -> 3757.6333
A10: Dominio
A11: Urbano | B11: =[4]Sheet1!C8 -> 6781.0626 | C11: =[4]Sheet1!E8 -> 7847.0196 | D11: =[4]Sheet1!G8 -> 12628.428 | E11: =[4]Sheet1!I8 -> 7237.3077 | F11: =[4]Sheet1!K8 -> 3660.5111 | G11: =[4]Sheet1!M8 -> 5039.5222
A12: Distrito Central | B12: =[4]Sheet1!C10 -> 7808.6416 | C12: =[4]Sheet1!E10 -> 9374.1853 | D12: =[4]Sheet1!G10 -> 14517.414 | E12: =[4]Sheet1!I10 -> 8480.6739 | F12: =[4]Sheet1!K10 -> 4161.7073 | G12: =[4]Sheet1!M10 -> 4830.5567
A13: San Pedro Sula | B13: =[4]Sheet1!C11 -> 7945.4739 | C13: =[4]Sheet1!E11 -> 8320.8764 | D13: =[4]Sheet1!G11 -> 13465.279 | E13: =[4]Sheet1!I11 -> 8099.9968 | F13: =[4]Sheet1!K11 -> 4805.7 | G13: =[4]Sheet1!M11 -> 7274.8519
A14: Resto urbano | B14: =[4]Sheet1!C12 -> 5449.9401 | C14: =[4]Sheet1!E12 -> 6341.1339 | D14: =[4]Sheet1!G12 -> 10563.717 | E14: =[4]Sheet1!I12 -> 5745.2122 | F14: =[4]Sheet1!K12 -> 2602.9032 | G14: =[4]Sheet1!M12 -> 4197.021
A15: Rural | B15: =[4]Sheet1!C13 -> 3370.8556 | C15: =[4]Sheet1!E13 -> 4155.1545 | D15: =[4]Sheet1!G13 -> 9197.3231 | E15: =[4]Sheet1!I13 -> 3911.3812 | F15: =[4]Sheet1!K13 -> 2213.8142 | G15: =[4]Sheet1!M13 -> 2676.7374
A17: Nivel Educativo
A18: Sin Nivel | B18: =[4]Sheet1!C15 -> 2294.7923 | C18: =[4]Sheet1!E15 -> 2973.4783 | D18: =[4]Sheet1!G15 -> 4042 | E18: =[4]Sheet1!I15 -> 2914.3893 | F18: =[4]Sheet1!K15 -> 3082.8235 | G18: =[4]Sheet1!M15 -> 1912.8238
A19: Primaria | B19: =[4]Sheet1!C16 -> 3695.3567 | C19: =[4]Sheet1!E16 -> 4292.2874 | D19: =[4]Sheet1!G16 -> 7067.8738 | E19: =[4]Sheet1!I16 -> 4288.5744 | F19: =[4]Sheet1!K16 -> 2960.4785 | G19: =[4]Sheet1!M16 -> 3155.3754
A20: Secundaria | B20: =[4]Sheet1!C17 -> 6237.4195 | C20: =[4]Sheet1!E17 -> 6849.6421 | D20: =[4]Sheet1!G17 -> 10216.14 | E20: =[4]Sheet1!I17 -> 6468.995 | F20: =[4]Sheet1!K17 -> 3583.7647 | G20: =[4]Sheet1!M17 -> 4969.1919
A21: Superior | B21: =[4]Sheet1!C18 -> 13440.341 | C21: =[4]Sheet1!E18 -> 13544.635 | D21: =[4]Sheet1!G18 -> 15622.462 | E21: =[4]Sheet1!I18 -> 12460.216 | F21: =[4]Sheet1!K18 -> 4225 | G21: =[4]Sheet1!M18 -> 13000.186
A22: No sabe, no responde | B22: =[4]Sheet1!C19 -> 6831.9189 | C22: =[4]Sheet1!E19 -> 7064.7826 | D22: =[4]Sheet1!G19 -> 9000 | E22: =[4]Sheet1!I19 -> 6983.6842 | F22: =[4]Sheet1!K19 -> 5900 | G22: =[4]Sheet1!M19 -> 6449.3571
A24: Rango de Edad
A25: De 10 a 11 años | B25: =[4]Sheet1!C20 -> 557.66667 | C25: =[4]Sheet1!E20 -> 1085 | D25: =[4]Sheet1!G20 -> 0 | E25: =[4]Sheet1!I20 -> 1085 | F25: =[4]Sheet1!K20 -> 0 | G25: =[4]Sheet1!M20 -> 365.90909
A26: De 12 a 14 años | B26: =[4]Sheet1!C21 -> 1400.8174 | C26: =[4]Sheet1!E21 -> 1477.2527 | D26: =[4]Sheet1!G21 -> 0 | E26: =[4]Sheet1!I21 -> 1486.5432 | F26: =[4]Sheet1!K21 -> 1402 | G26: =[4]Sheet1!M21 -> 1111
A27: De 15 a 18 años | B27: =[4]Sheet1!C22 -> 2166.1431 | C27: =[4]Sheet1!E22 -> 2435.6923 | D27: =[4]Sheet1!G22 -> 3353.125 | E27: =[4]Sheet1!I22 -> 2434.4598 | F27: =[4]Sheet1!K22 -> 2295.9184 | G27: =[4]Sheet1!M22 -> 1283.8058
A28: De 19 a 24 años | B28: =[4]Sheet1!C23 -> 4526.6047 | C28: =[4]Sheet1!E23 -> 5040.2349 | D28: =[4]Sheet1!G23 -> 6652.0746 | E28: =[4]Sheet1!I23 -> 5083.2408 | F28: =[4]Sheet1!K23 -> 2846.2319 | G28: =[4]Sheet1!M23 -> 2744.4636
A29: De 25 a 29 años | B29: =[4]Sheet1!C24 -> 5809.3703 | C29: =[4]Sheet1!E24 -> 6740.7169 | D29: =[4]Sheet1!G24 -> 9317.1395 | E29: =[4]Sheet1!I24 -> 6594.3418 | F29: =[4]Sheet1!K24 -> 3705.3846 | G29: =[4]Sheet1!M24 -> 3758.9257
A30: De 30 a 35 años | B30: =[4]Sheet1!C25 -> 5952.1168 | C30: =[4]Sheet1!E25 -> 7291.6437 | D30: =[4]Sheet1!G25 -> 10729.517 | E30: =[4]Sheet1!I25 -> 7031.4151 | F30: =[4]Sheet1!K25 -> 2999.6875 | G30: =[4]Sheet1!M25 -> 4079.2145
A31: De 36 a 44 años | B31: =[4]Sheet1!C26 -> 5928.7183 | C31: =[4]Sheet1!E26 -> 7465.9546 | D31: =[4]Sheet1!G26 -> 12694.896 | E31: =[4]Sheet1!I26 -> 6629.6542 | F31: =[4]Sheet1!K26 -> 3270.566 | G31: =[4]Sheet1!M26 -> 4370.8016
A32: De 45 a 59 años | B32: =[4]Sheet1!C27 -> 6017.0725 | C32: =[4]Sheet1!E27 -> 8853.3672 | D32: =[4]Sheet1!G27 -> 14593.156 | E32: =[4]Sheet1!I27 -> 7244.4078 | F32: =[4]Sheet1!K27 -> 4370.9836 | G32: =[4]Sheet1!M27 -> 4164.7985
A33: De 60 años y más | B33: =[4]Sheet1!C28 -> 3995.8537 | C33: =[4]Sheet1!E28 -> 6554.6491 | D33: =[4]Sheet1!G28 -> 14942.683 | E33: =[4]Sheet1!I28 -> 5008.7284 | F33: =[4]Sheet1!K28 -> 2815.84 | G33: =[4]Sheet1!M28 -> 3195.572
A35: Sexo
A36: Hombre | B36: =[4]Sheet1!C30 -> 5383.6836 | C36: =[4]Sheet1!E30 -> 6079.558 | D36: =[4]Sheet1!G30 -> 12324.438 | E36: =[4]Sheet1!I30 -> 5497.8834 | F36: =[4]Sheet1!K30 -> 4312.9655 | G36: =[4]Sheet1!M30 -> 4392.8597
A37: Mujer | B37: =[4]Sheet1!C31 -> 4937.3458 | C37: =[4]Sheet1!E31 -> 7042.3622 | D37: =[4]Sheet1!G31 -> 11577.686 | E37: =[4]Sheet1!I31 -> 6764.0838 | F37: =[4]Sheet1!K31 -> 3070.2265 | G37: =[4]Sheet1!M31 -> 2906.8021
A39: No. de Salarios Mínimos 1/
A40: Menos de un salario | B40: =[4]Sheet1!C32 -> 2986.7079 | C40: =[4]Sheet1!E32 -> 3972.7698 | D40: =[4]Sheet1!G32 -> 5884.0197 | E40: =[4]Sheet1!I32 -> 3932.4158 | F40: =[4]Sheet1!K32 -> 2863.2288 | G40: =[4]Sheet1!M32 -> 1933.2958
A41: Menos de 1 salario y trab <36 horas | B41: =[4]Sheet1!C33 -> 1807.5106 | C41: =[4]Sheet1!E33 -> 2339.0442 | D41: =[4]Sheet1!G33 -> 4683.32 | E41: =[4]Sheet1!I33 -> 2158.0661 | F41: =[4]Sheet1!K33 -> 1807.2603 | G41: =[4]Sheet1!M33 -> 1516.5015
A42: Menos de 1 salario y trab >=36 horas | B42: =[4]Sheet1!C34 -> 3687.5885 | C42: =[4]Sheet1!E34 -> 4493.8255 | D42: =[4]Sheet1!G34 -> 6395.8596 | E42: =[4]Sheet1!I34 -> 4487.606 | F42: =[4]Sheet1!K34 -> 3206.805 | G42: =[4]Sheet1!M34 -> 2373.5149
A43: Menos de 1 salario y no decl. horas | B43: =[4]Sheet1!C35 -> 2317.0842 | C43: =[4]Sheet1!E35 -> 3981.6484 | D43: =[4]Sheet1!G35 -> 6200 | E43: =[4]Sheet1!I35 -> 3899.1026 | F43: =[4]Sheet1!K35 -> 1720 | G43: =[4]Sheet1!M35 -> 1536.2835
A44: De 1 a 2 salarios | B44: =[4]Sheet1!C36 -> 10115.996 | C44: =[4]Sheet1!E36 -> 10436.238 | D44: =[4]Sheet1!G36 -> 11726.362 | E44: =[4]Sheet1!I36 -> 10076.878 | F44: =[4]Sheet1!K36 -> 8442.4211 | G44: =[4]Sheet1!M36 -> 9345.3283
A45: De 2 a 3 salarios | B45: =[4]Sheet1!C37 -> 18138.852 | C45: =[4]Sheet1!E37 -> 19396.748 | D45: =[4]Sheet1!G37 -> 19952.171 | E45: =[4]Sheet1!I37 -> 18888.169 | F45: =[4]Sheet1!K37 -> 0 | G45: =[4]Sheet1!M37 -> 16353.089
A46: De 3 a 4 salarios | B46: =[4]Sheet1!C38 -> 26933.58 | C46: =[4]Sheet1!E38 -> 28420.254 | D46: =[4]Sheet1!G38 -> 29222.879 | E46: =[4]Sheet1!I38 -> 27401.538 | F46: =[4]Sheet1!K38 -> 0 | G46: =[4]Sheet1!M38 -> 22946.591
A47: De 4 salarios y más | B47: =[4]Sheet1!C39 -> 46481.609 | C47: =[4]Sheet1!E39 -> 46636.486 | D47: =[4]Sheet1!G39 -> 41010.714 | E47: =[4]Sheet1!I39 -> 50060.87 | F47: =[4]Sheet1!K39 -> 0 | G47: =[4]Sheet1!M39 -> 46367
A49: Rama de Actividad
A50: Primaria | B50: =[4]Sheet1!C40 -> 2434.8902 | C50: =[4]Sheet1!E40 -> 2609.7321 | D50: =[4]Sheet1!G40 -> 0 | E50: =[4]Sheet1!I40 -> 2609.7321 | F50: =[4]Sheet1!K40 -> 0 | G50: =[4]Sheet1!M40 -> 2297.7813
A51: Secundaria | B51: =[4]Sheet1!C41 -> 5444.0946 | C51: =[4]Sheet1!E41 -> 7278.5833 | D51: =[4]Sheet1!G41 -> 7500 | E51: =[4]Sheet1!I41 -> 7278.3231 | F51: =[4]Sheet1!K41 -> 0 | G51: =[4]Sheet1!M41 -> 2914.9935
A52: Terciaria | B52: =[4]Sheet1!C42 -> 6431.0242 | C52: =[4]Sheet1!E42 -> 7463.2302 | D52: =[4]Sheet1!G42 -> 11935.165 | E52: =[4]Sheet1!I42 -> 6847.723 | F52: =[4]Sheet1!K42 -> 3176.8521 | G52: =[4]Sheet1!M42 -> 4916.5926
A53: No sabe, no responde | B53: =[4]Sheet1!C43 -> 7200 | C53: =[4]Sheet1!E43 -> 400 | D53: =[4]Sheet1!G43 -> 0 | E53: =[4]Sheet1!I43 -> 400 | F53: =[4]Sheet1!K43 -> 0 | G53: =[4]Sheet1!M43 -> 14000
A55: ='C01'!$A$46 -> Fuente: Instituto Nacional de Estadística (INE). L Encuesta Permanente de Hogares de Propósitos Múltiples, Junio 2015.
A56: ='C02'!$A$46 -> (Promedio de salarios mínimos por rama)
A57: 1/ No. de salarios mínimos (personas que declaran ingresos) y trabajan 36 Hrs. o mas
A59: Cuadro No. 5. Ingreso promedio de las personas ocupadas por categoría ocupacional, según dominio,
A60: nivel educativo, rango de edad, sexo, número de salarios mínimos, rama de actividad y ocupación
A61: Ocupación Principal, Lps/Mes/Persona
A62: ....... Continuación
A63: Categorías | B63: Ingreso Promedio
B64: Ingreso Promedio | C64: Asalariados | G64: Cuenta propia
C65: Total | D65: Público | E65: Privado | F65: Doméstico
A67: Total Nacional | B67: =B8 -> 5215.4133 | C67: =C8 -> 6402.9638 | D67: =D8 -> 11928.203 | E67: =E8 -> 5827.3355 | F67: =F8 -> 3176.8521 | G67: =G8 -> 3757.6333
A69: Rama de Actividad (1 Dig.)
A70: Agricultura, ganaderia, silvicultura y pesca | B70: =[4]Sheet1!C44 -> 2409.2659 | C70: =[4]Sheet1!E44 -> 2566.91 | D70: =[4]Sheet1!G44 -> 0 | E70: =[4]Sheet1!I44 -> 2566.91 | F70: =[4]Sheet1!K44 -> 0 | G70: =[4]Sheet1!M44 -> 2285.4026
A71: Explotacion de minas y canteras | B71: =[4]Sheet1!C45 -> 4548.9 | C71: =[4]Sheet1!E45 -> 6495.8333 | D71: =[4]Sheet1!G45 -> 0 | E71: =[4]Sheet1!I45 -> 6495.8333 | F71: =[4]Sheet1!K45 -> 0 | G71: =[4]Sheet1!M45 -> 3250.9444
A72: Industria manufacturera | B72: =[4]Sheet1!C46 -> 5444.0946 | C72: =[4]Sheet1!E46 -> 7278.5833 | D72: =[4]Sheet1!G46 -> 7500 | E72: =[4]Sheet1!I46 -> 7278.3231 | F72: =[4]Sheet1!K46 -> 0 | G72: =[4]Sheet1!M46 -> 2914.9935
A73: Suministro de electricidad, gas, vapor y aire acondicionado | B73: =[4]Sheet1!C47 -> 16070.706 | C73: =[4]Sheet1!E47 -> 16554.963 | D73: =[4]Sheet1!G47 -> 19484 | E73: =[4]Sheet1!I47 -> 10696.889 | F73: =[4]Sheet1!K47 -> 0 | G73: =[4]Sheet1!M47 -> 14202.857
A74: Suministro de agua, evacuacion de aguas residuales, gestion de desechos y descontaminacion | B74: =[4]Sheet1!C48 -> 6086.3571 | C74: =[4]Sheet1!E48 -> 9878.9333 | D74: =[4]Sheet1!G48 -> 13555 | E74: =[4]Sheet1!I48 -> 8040.9 | F74: =[4]Sheet1!K48 -> 0 | G74: =[4]Sheet1!M48 -> 1710.3077
A75: Construccion | B75: =[4]Sheet1!C49 -> 5282.9026 | C75: =[4]Sheet1!E49 -> 4873.2102 | D75: =[4]Sheet1!G49 -> 20000 | E75: =[4]Sheet1!I49 -> 4842.2761 | F75: =[4]Sheet1!K49 -> 0 | G75: =[4]Sheet1!M49 -> 7013.5
A76: Comercio al por mayor y al por menor, reparacion de vehiculos automotores y motocicletas | B76: =[4]Sheet1!C50 -> 5892.2434 | C76: =[4]Sheet1!E50 -> 6690.2445 | D76: =[4]Sheet1!G50 -> 7750 | E76: =[4]Sheet1!I50 -> 6684.0015 | F76: =[4]Sheet1!K50 -> 0 | G76: =[4]Sheet1!M50 -> 5373.6565
A77: Transporte y almacenamiento | B77: =[4]Sheet1!C51 -> 6310.814 | C77: =[4]Sheet1!E51 -> 7076.1912 | D77: =[4]Sheet1!G51 -> 14275 | E77: =[4]Sheet1!I51 -> 6858.0455 | F77: =[4]Sheet1!K51 -> 0 | G77: =[4]Sheet1!M51 -> 5768.6719
A78: Actividades de alojamiento y de servicios de comida | B78: =[4]Sheet1!C52 -> 5098.8653 | C78: =[4]Sheet1!E52 -> 6364.4316 | D78: =[4]Sheet1!G52 -> 0 | E78: =[4]Sheet1!I52 -> 6364.4316 | F78: =[4]Sheet1!K52 -> 0 | G78: =[4]Sheet1!M52 -> 3959.2559
A79: Informacion y comunicaciones | B79: =[4]Sheet1!C53 -> 12659.761 | C79: =[4]Sheet1!E53 -> 13030.222 | D79: =[4]Sheet1!G53 -> 17412.5 | E79: =[4]Sheet1!I53 -> 12392.8 | F79: =[4]Sheet1!K53 -> 0 | G79: =[4]Sheet1!M53 -> 6825
A80: Actividades finacieras y de seguros | B80: =[4]Sheet1!C54 -> 10786.815 | C80: =[4]Sheet1!E54 -> 10587.566 | D80: =[4]Sheet1!G54 -> 11188.889 | E80: =[4]Sheet1!I54 -> 10542.467 | F80: =[4]Sheet1!K54 -> 0 | G80: =[4]Sheet1!M54 -> 15070.667
A81: Actividades inmobiliarias | B81: =[4]Sheet1!C55 -> 13713.889 | C81: =[4]Sheet1!E55 -> 7928.125 | D81: =[4]Sheet1!G55 -> 0 | E81: =[4]Sheet1!I55 -> 7928.125 | F81: =[4]Sheet1!K55 -> 0 | G81: =[4]Sheet1!M55 -> 60000
... A93: NS/NR | B93: =[4]Sheet1!C67 -> 7200 | C93: =[4]Sheet1!E67 -> 400 | D93: =[4]Sheet1!G67 -> 0 | E93: =[4]Sheet1!I67 -> 400 | F93: =[4]Sheet1!K67 -> 0 | G93: =[4]Sheet1!M67 -> 14000
A95: Ocupación (1 Dig.)
A96: Directores y gerentes | B96: =[4]Sheet1!C68 -> 14965.259 | C96: =[4]Sheet1!E68 -> 14875.342 | D96: =[4]Sheet1!G68 -> 18146.919 | E96: =[4]Sheet1!I68 -> 13794.554 | F96: =[4]Sheet1!K68 -> 0 | G96: =[4]Sheet1!M68 -> 15091.651
A97: Profesionales cientificos e intelectuales | B97: =[4]Sheet1!C69 -> 14409.151 | C97: =[4]Sheet1!E69 -> 14772.972 | D97: =[4]Sheet1!G69 -> 16429.178 | E97: =[4]Sheet1!I69 -> 12676 | F97: =[4]Sheet1!K69 -> 0 | G97: =[4]Sheet1!M69 -> 12404.569
A98: Tecnicos y profesionales de nivel medio | B98: =[4]Sheet1!C70 -> 9794.6672 | C98: =[4]Sheet1!E70 -> 10259.267 | D98: =[4]Sheet1!G70 -> 10578.5 | E98: =[4]Sheet1!I70 -> 10063.576 | F98: =[4]Sheet1!K70 -> 0 | G98: =[4]Sheet1!M70 -> 6651.0779
A99: Personal de apoyo administrativo | B99: =[4]Sheet1!C71 -> 8954.9583 | C99: =[4]Sheet1!E71 -> 9164.9712 | D99: =[4]Sheet1!G71 -> 10623.526 | E99: =[4]Sheet1!I71 -> 8697.2489 | F99: =[4]Sheet1!K71 -> 0 | G99: =[4]Sheet1!M71 -> 6096.9565
A100: Trabajadores de los servicios y vendedores de comercios y mercados | B100: =[4]Sheet1!C72 -> 5179.3506 | C100: =[4]Sheet1!E72 -> 6182.9238 | D100: =[4]Sheet1!G72 -> 9398.8421 | E100: =[4]Sheet1!I72 -> 6193.0248 | F100: =[4]Sheet1!K72 -> 2838.3509 | G100: =[4]Sheet1!M72 -> 4481.5017
A101: Agricultores y trabajadores calificados agropecuarios forestales y pesqueros | B101: =[4]Sheet1!C73 -> 2366.0075 | C101: =[4]Sheet1!E73 -> 2602.7243 | D101: =[4]Sheet1!G73 -> 0 | E101: =[4]Sheet1!I73 -> 2602.7243 | F101: =[4]Sheet1!K73 -> 0 | G101: =[4]Sheet1!M73 -> 2301.8418
A102: Oficiales, operarios y artesanos de artes mecanicas y de otros oficios | B102: =[4]Sheet1!C74 -> 4685.5046 | C102: =[4]Sheet1!E74 -> 6063.6884 | D102: =[4]Sheet1!G74 -> 13676.105 | E102: =[4]Sheet1!I74 -> 5861.1633 | F102: =[4]Sheet1!K74 -> 360 | G102: =[4]Sheet1!M74 -> 3504.682
A103: Operadores de instalaciones y maquinas y ensambladores | B103: =[4]Sheet1!C75 -> 6678.2166 | C103: =[4]Sheet1!E75 -> 7173.9947 | D103: =[4]Sheet1!G75 -> 10143.75 | E103: =[4]Sheet1!I75 -> 7042.3712 | F103: =[4]Sheet1!K75 -> 0 | G103: =[4]Sheet1!M75 -> 5622.2373
A104: Ocupaciones elementales | B104: =[4]Sheet1!C76 -> 2929.9607 | C104: =[4]Sheet1!E76 -> 3331.8093 | D104: =[4]Sheet1!G76 -> 5616.7162 | E104: =[4]Sheet1!I76 -> 3218.8073 | F104: =[4]Sheet1!K76 -> 3255.8214 | G104: =[4]Sheet1!M76 -> 1594.216
A105: Ocupaciones militares | B105: =[4]Sheet1!C77 -> 24000 | C105: =[4]Sheet1!E77 -> 24000 | D105: =[4]Sheet1!G77 -> 24000 | E105: =[4]Sheet1!I77 -> 0 | F105: =[4]Sheet1!K77 -> 0 | G105: =[4]Sheet1!M77 -> 0
A106: Ocupaciones NO especificadas | B106: =[4]Sheet1!C78 -> 1422.8571 | C106: =[4]Sheet1!E78 -> 2920 | D106: =[4]Sheet1!G78 -> 0 | E106: =[4]Sheet1!I78 -> 2920 | F106: =[4]Sheet1!K78 -> 0 | G106: =[4]Sheet1!M78 -> 824
A107: Busca trabajo por primera vez | B107: =[4]Sheet1!C79 -> 0 | C107: =[4]Sheet1!E79 -> 0 | D107: =[4]Sheet1!G79 -> 0 | E107: =[4]Sheet1!I79 -> 0 | F107: =[4]Sheet1!K79 -> 0 | G107: =[4]Sheet1!M79 -> 0
A108: NS/NR | B108: =[4]Sheet1!C80 -> 8000 | C108: =[4]Sheet1!E80 -> 0 | D108: =[4]Sheet1!G80 -> 0 | E108: =[4]Sheet1!I80 -> 0 | F108: =[4]Sheet1!K80 -> 0 | G108: =[4]Sheet1!M80 -> 8000
A110: ='C01'!$A$46 -> Fuente: Instituto Nacional de Estadística (INE). L Encuesta Permanente de Hogares de Propósitos Múltiples, Junio 2015.
A111: ='C02'!$A$46 -> (Promedio de salarios mínimos por rama)
A112: Clasificación industrial Internacional Uniforme CIIU REV IV)
A113: Clasificación internacional uniforme de ocupaciones CIUO-08

Sheet C06
A1: Cuadro No. 6. Años de estudio promedio de las personas ocupadas por categoría ocupacional, según dominio, nivel educativo,rangos de edad, sexo, número de salarios mínimos devengados, rama de actividad y ocupación
A2: Ocupación Principal
A3: Categorías | B3: Declaran Ingresos | C3: Asalariados | G3: Cuenta Propia | H3: Trab. Fam. no Remu. | I3: No Declaran.
C4: Total | D4: Público | E4: Privado | F4: Doméstico
A6: Total Nacional | B6: =[4]Sheet1!D7 -> 7.5757827 | C6: =[4]Sheet1!F7 -> 8.5007251 | D6: =[4]Sheet1!H7 -> 12.247588 | E6: =[4]Sheet1!J7 -> 8.0750705 | F6: =[4]Sheet1!L7 -> 6.2847682 | G6: =[4]Sheet1!N7 -> 6.3373093 | H6: =[1]MercLab!H376 -> 0 | I6: =[1]MercLab!I376 -> 0
A8: Dominios
A9: Urbano | B9: =[4]Sheet1!D8 -> 8.8923879 | C9: =[4]Sheet1!F8 -> 9.6338167 | D9: =[4]Sheet1!H8 -> 12.742455 | E9: =[4]Sheet1!J8 -> 9.244863 | F9: =[4]Sheet1!L8 -> 6.4676617 | G9: =[4]Sheet1!N8 -> 7.6149915 | H9: =AVERAGE(H10:H12) -> 0 | I9: =AVERAGE(I10:I12) -> 0
A10: Distrito Central | B10: =[4]Sheet1!D10 -> 9.6599623 | C10: =[4]Sheet1!F10 -> 10.371348 | D10: =[4]Sheet1!H10 -> 13.165899 | E10: =[4]Sheet1!J10 -> 9.9400261 | F10: =[4]Sheet1!L10 -> 6.7922078 | G10: =[4]Sheet1!N10 -> 8.2358491 | H10: =[1]MercLab!H378 -> 0 | I10: =[1]MercLab!I378 -> 0
A11: San Pedro Sula | B11: =[4]Sheet1!D11 -> 9.150874 | C11: =[4]Sheet1!F11 -> 9.7908962 | D11: =[4]Sheet1!H11 -> 12.683333 | E11: =[4]Sheet1!J11 -> 9.7633333 | F11: =[4]Sheet1!L11 -> 6.1395349 | G11: =[4]Sheet1!N11 -> 7.9791667 | H11: =[1]MercLab!H379 -> 0 | I11: =[1]MercLab!I379 -> 0
A12: Resto urbano | B12: =[4]Sheet1!D12 -> 8.1828059 | C12: =[4]Sheet1!F12 -> 8.9307087 | D12: =[4]Sheet1!H12 -> 12.340909 | E12: =[4]Sheet1!J12 -> 8.373581 | F12: =[4]Sheet1!L12 -> 6.3333333 | G12: =[4]Sheet1!N12 -> 7.0613932 | H12: =[1]MercLab!H380 -> 0 | I12: =[1]MercLab!I380 -> 0
A13: Rural | B13: =[4]Sheet1!D13 -> 5.839978 | C13: =[4]Sheet1!F13 -> 6.5833798 | D13: =[4]Sheet1!H13 -> 10.28 | E13: =[4]Sheet1!J13 -> 6.3312061 | F13: =[4]Sheet1!L13 -> 5.9207921 | G13: =[4]Sheet1!N13 -> 5.1171367 | H13: =[1]MercLab!H381 -> 0 | I13: =[1]MercLab!I381 -> 0
A15: Nivel Educativo | H15: =[1]MercLab!H382 -> 0 | I15: =[1]MercLab!I382 -> 0
A16: Sin Nivel | B16: =[4]Sheet1!D15 -> 0 | C16: =[4]Sheet1!F15 -> 0 | D16: =[4]Sheet1!H15 -> 0 | E16: =[4]Sheet1!J15 -> 0 | F16: =[4]Sheet1!L15 -> 0 | G16: =[4]Sheet1!N15 -> 0 | H16: =[1]MercLab!H383 -> 0 | I16: =[1]MercLab!I383 -> 0
A17: Primaria | B17: =[4]Sheet1!D16 -> 4.7057392 | C17: =[4]Sheet1!F16 -> 4.9483348 | D17: =[4]Sheet1!H16 -> 5.3300971 | E17: =[4]Sheet1!J16 -> 4.944335 | F17: =[4]Sheet1!L16 -> 4.7990431 | G17: =[4]Sheet1!N16 -> 4.4862881 | H17: =[1]MercLab!H384 -> 0 | I17: =[1]MercLab!I384 -> 0
A18: Secundaria | B18: =[4]Sheet1!D17 -> 10.337214 | C18: =[4]Sheet1!F17 -> 10.435558 | D18: =[4]Sheet1!H17 -> 11.190083 | E18: =[4]Sheet1!J17 -> 10.371368 | F18: =[4]Sheet1!L17 -> 9.3529412 | G18: =[4]Sheet1!N17 -> 10.133492 | H18: =[1]MercLab!H385 -> 0 | I18: =[1]MercLab!I385 -> 0
A19: Superior | B19: =[4]Sheet1!D18 -> 15.190476 | C19: =[4]Sheet1!F18 -> 15.136546 | D19: =[4]Sheet1!H18 -> 15.743682 | E19: =[4]Sheet1!J18 -> 14.818182 | F19: =[4]Sheet1!L18 -> 12.5 | G19: =[4]Sheet1!N18 -> 15.418079 | H19: =[1]MercLab!H386 -> 0 | I19: =[1]MercLab!I386 -> 0
A20: No sabe, no responde | B20: =[4]Sheet1!D19 -> 0 | C20: =[4]Sheet1!F19 -> 0 | D20: =[4]Sheet1!H19 -> 0 | E20: =[4]Sheet1!J19 -> 0 | F20: =[4]Sheet1!L19 -> 0 | G20: =[4]Sheet1!N19 -> 0 | H20: =[1]MercLab!H387 -> 0 | I20: =[1]MercLab!I387 -> 0
A22: Rango de Edad | H22: =[1]MercLab!H388 -> 0 | I22: =[1]MercLab!I388 -> 0
A23: De 10 a 11 años | B23: =[4]Sheet1!D20 -> 3.4 | C23: =[4]Sheet1!F20 -> 2.75 | D23: =[4]Sheet1!H20 -> 0 | E23: =[4]Sheet1!J20 -> 2.75 | F23: =[4]Sheet1!L20 -> 0 | G23: =[4]Sheet1!N20 -> 3.6363636 | H23: =[1]MercLab!H389 -> 0 | I23: =[1]MercLab!I389 -> 0
A24: De 12 a 14 años | B24: =[4]Sheet1!D21 -> 5.2830189 | C24: =[4]Sheet1!F21 -> 5.1976744 | D24: =[4]Sheet1!H21 -> 0 | E24: =[4]Sheet1!J21 -> 5.2077922 | F24: =[4]Sheet1!L21 -> 5.1111111 | G24: =[4]Sheet1!N21 -> 5.65 | H24: =[1]MercLab!H390 -> 0 | I24: =[1]MercLab!I390 -> 0
A25: De 15 a 18 años | B25: =[4]Sheet1!D22 -> 6.7267951 | C25: =[4]Sheet1!F22 -> 6.803653 | D25: =[4]Sheet1!H22 -> 7.875 | E25: =[4]Sheet1!J22 -> 6.7086614 | F25: =[4]Sheet1!L22 -> 7.3673469 | G25: =[4]Sheet1!N22 -> 6.4736842 | H25: =[1]MercLab!H391 -> 0 | I25: =[1]MercLab!I391 -> 0
A26: De 19 a 24 años | B26: =[4]Sheet1!D23 -> 8.6659664 | C26: =[4]Sheet1!F23 -> 8.9990999 | D26: =[4]Sheet1!H23 -> 11.787879 | E26: =[4]Sheet1!J23 -> 8.9233129 | F26: =[4]Sheet1!L23 -> 7.358209 | G26: =[4]Sheet1!N23 -> 7.4984227 | H26: =[1]MercLab!H392 -> 0 | I26: =[1]MercLab!I392 -> 0
A27: De 25 a 29 años | B27: =[4]Sheet1!D24 -> 8.9868996 | C27: =[4]Sheet1!F24 -> 9.5759494 | D27: =[4]Sheet1!H24 -> 13.22093 | E27: =[4]Sheet1!J24 -> 9.255988 | F27: =[4]Sheet1!L24 -> 6.8055556 | G27: =[4]Sheet1!N24 -> 7.6760563 | H27: =[1]MercLab!H393 -> 0 | I27: =[1]MercLab!I393 -> 0
A28: De 30 a 35 años | B28: =[4]Sheet1!D25 -> 7.9919355 | C28: =[4]Sheet1!F25 -> 8.7641379 | D28: =[4]Sheet1!H25 -> 12.272727 | E28: =[4]Sheet1!J25 -> 8.3993399 | F28: =[4]Sheet1!L25 -> 5.9354839 | G28: =[4]Sheet1!N25 -> 6.9048544 | H28: =[1]MercLab!H394 -> 0 | I28: =[1]MercLab!I394 -> 0
A29: De 36 a 44 años | B29: =[4]Sheet1!D26 -> 7.3816276 | C29: =[4]Sheet1!F26 -> 8.2801462 | D29: =[4]Sheet1!H26 -> 12.264901 | E29: =[4]Sheet1!J26 -> 7.5031847 | F29: =[4]Sheet1!L26 -> 5.5714286 | G29: =[4]Sheet1!N26 -> 6.4606742 | H29: =[1]MercLab!H395 -> 0 | I29: =[1]MercLab!I395 -> 0
A30: De 45 a 59 años | B30: =[4]Sheet1!D27 -> 6.8675497 | C30: =[4]Sheet1!F27 -> 8.3468795 | D30: =[4]Sheet1!H27 -> 12.372973 | E30: =[4]Sheet1!J27 -> 7.0507726 | F30: =[4]Sheet1!L27 -> 5.254902 | G30: =[4]Sheet1!N27 -> 5.81893 | H30: =[1]MercLab!H396 -> 0 | I30: =[1]MercLab!I396 -> 0
A31: De 60 años y más | B31: =[4]Sheet1!D28 -> 5.4125 | C31: =[4]Sheet1!F28 -> 6.9567901 | D31: =[4]Sheet1!H28 -> 11.026316 | E31: =[4]Sheet1!J28 -> 5.9906542 | F31: =[4]Sheet1!L28 -> 3.9411765 | G31: =[4]Sheet1!N28 -> 4.8891213 | H31: =[1]MercLab!H397 -> 0 | I31: =[1]MercLab!I397 -> 0
A33: Sexo | H33: =[1]MercLab!H398 -> 0 | I33: =[1]MercLab!I398 -> 0
A34: Hombre | B34: =[4]Sheet1!D30 -> 7.1075889 | C34: =[4]Sheet1!F30 -> 7.7095238 | D34: =[4]Sheet1!H30 -> 11.524306 | E34: =[4]Sheet1!J30 -> 7.3372011 | F34: =[4]Sheet1!L30 -> 5.5 | G34: =[4]Sheet1!N30 -> 6.1849148 | H34: =[1]MercLab!H399 -> 0 | I34: =[1]MercLab!I399 -> 0
A35: Mujer | B35: =[4]Sheet1!D31 -> 8.3309575 | C35: =[4]Sheet1!F31 -> 9.9868813 | D35: =[4]Sheet1!H31 -> 12.871257 | E35: =[4]Sheet1!J31 -> 10.056657 | F35: =[4]Sheet1!L31 -> 6.334507 | G35: =[4]Sheet1!N31 -> 6.5393548 | H35: =[1]MercLab!H400 -> 0 | I35: =[1]MercLab!I400 -> 0
A37: No. de Salarios Mínimos 1/ | H37: =[1]MercLab!H401 -> 0 | I37: =[1]MercLab!I401 -> 0
A38: Menos de un salario | B38: =[4]Sheet1!D32 -> 6.6762712 | C38: =[4]Sheet1!F32 -> 7.2960413 | D38: =[4]Sheet1!H32 -> 9.8875 | E38: =[4]Sheet1!J32 -> 7.1860858 | F38: =[4]Sheet1!L32 -> 6.2561404 | G38: =[4]Sheet1!N32 -> 5.9570573 | H38: =AVERAGE(H39:H41) -> 0 | I38: =AVERAGE(I39:I41) -> 0
A39: Menos de 1 salario y trab <36 horas | B39: =[4]Sheet1!D33 -> 6.3497923 | C39: =[4]Sheet1!F33 -> 6.960199 | D39: =[4]Sheet1!H33 -> 10.571429 | E39: =[4]Sheet1!J33 -> 6.6686657 | F39: =[4]Sheet1!L33 -> 6.0895522 | G39: =[4]Sheet1!N33 -> 5.9897285 | H39: =[1]MercLab!H402 -> 0 | I39: =[1]MercLab!I402 -> 0
A40: Menos de 1 salario y trab >=36 horas | B40: =[4]Sheet1!D34 -> 6.8499388 | C40: =[4]Sheet1!F34 -> 7.3982301 | D40: =[4]Sheet1!H34 -> 9.617284 | E40: =[4]Sheet1!J34 -> 7.339784 | F40: =[4]Sheet1!L34 -> 6.3302326 | G40: =[4]Sheet1!N34 -> 5.8909825 | H40: =[1]MercLab!H403 -> 0 | I40: =[1]MercLab!I403 -> 0
A41: Menos de 1 salario y no decl. horas | B41: =[4]Sheet1!D35 -> 6.6680672 | C41: =[4]Sheet1!F35 -> 7.3493976 | D41: =[4]Sheet1!H35 -> 9.375 | E41: =[4]Sheet1!J35 -> 7.2361111 | F41: =[4]Sheet1!L35 -> 4.6666667 | G41: =[4]Sheet1!N35 -> 6.3032258 | H41: =[1]MercLab!H404 -> 0 | I41: =[1]MercLab!I404 -> 0
A42: De 1 a 2 salarios | B42: =[4]Sheet1!D36 -> 9.9702578 | C42: =[4]Sheet1!F36 -> 10.90884 | D42: =[4]Sheet1!H36 -> 12.976834 | E42: =[4]Sheet1!J36 -> 10.334568 | F42: =[4]Sheet1!L36 -> 6.7647059 | G42: =[4]Sheet1!N36 -> 7.5831382 | H42: =[1]MercLab!H405 -> 0 | I42: =[1]MercLab!I405 -> 0
A43: De 2 a 3 salarios | B43: =[4]Sheet1!D37 -> 12.309434 | C43: =[4]Sheet1!F37 -> 14.139241 | D43: =[4]Sheet1!H37 -> 14.868421 | E43: =[4]Sheet1!J37 -> 13.463415 | F43: =[4]Sheet1!L37 -> 0 | G43: =[4]Sheet1!N37 -> 9.6074766 | H43: =[1]MercLab!H406 -> 0 | I43: =[1]MercLab!I406 -> 0
A44: De 3 a 4 salarios | B44: =[4]Sheet1!D38 -> 13.769231 | C44: =[4]Sheet1!F38 -> 15.118644 | D44: =[4]Sheet1!H38 -> 15.030303 | E44: =[4]Sheet1!J38 -> 15.230769 | F44: =[4]Sheet1!L38 -> 0 | G44: =[4]Sheet1!N38 -> 9.5789474 | H44: =[1]MercLab!H407 -> 0 | I44: =[1]MercLab!I407 -> 0
A45: De 4 salarios y más | B45: =[4]Sheet1!D39 -> 13.166667 | C45: =[4]Sheet1!F39 -> 16.621622 | D45: =[4]Sheet1!H39 -> 18.428571 | E45: =[4]Sheet1!J39 -> 15.521739 | F45: =[4]Sheet1!L39 -> 0 | G45: =[4]Sheet1!N39 -> 10.446809 | H45: =[1]MercLab!H408 -> 0 | I45: =[1]MercLab!I408 -> 0
A47: Rama de Actividad | H47: =[1]MercLab!H409 -> 0 | I47: =[1]MercLab!I409 -> 0
A48: Primaria | B48: =[4]Sheet1!D40 -> 5.0262097 | C48: =[4]Sheet1!F40 -> 5.3202186 | D48: =[4]Sheet1!H40 -> 0 | E48: =[4]Sheet1!J40 -> 5.3202186 | F48: =[4]Sheet1!L40 -> 0 | G48: =[4]Sheet1!N40 -> 4.7745557 | H48: =[1]MercLab!H410 -> 0 | I48: =[1]MercLab!I410 -> 0
A49: Secundaria | B49: =[4]Sheet1!D41 -> 7.8497791 | C49: =[4]Sheet1!F41 -> 8.709599 | D49: =[4]Sheet1!H41 -> 6 | E49: =[4]Sheet1!J41 -> 8.7128954 | F49: =[4]Sheet1!L41 -> 0 | G49: =[4]Sheet1!N41 -> 6.5271028 | H49: =[1]MercLab!H411 -> 0 | I49: =[1]MercLab!I411 -> 0
A50: Terciaria | B50: =[4]Sheet1!D42 -> 8.495283 | C50: =[4]Sheet1!F42 -> 9.386658 | D50: =[4]Sheet1!H42 -> 12.257649 | E50: =[4]Sheet1!J42 -> 8.995843 | F50: =[4]Sheet1!L42 -> 6.2847682 | G50: =[4]Sheet1!N42 -> 7.119 | H50: =[1]MercLab!H412 -> 0 | I50: =[1]MercLab!I412 -> 0
A51: No sabe, no responde | B51: =[4]Sheet1!D43 -> 11.5 | C51: =[4]Sheet1!F43 -> 11 | D51: =[4]Sheet1!H43 -> 0 | E51: =[4]Sheet1!J43 -> 11 | F51: =[4]Sheet1!L43 -> 0 | G51: =[4]Sheet1!N43 -> 12 | H51: =[1]MercLab!H413 -> 0 | I51: =[1]MercLab!I413 -> 0
A53: ='C01'!$A$46 -> Fuente: Instituto Nacional de Estadística (INE). L Encuesta Permanente de Hogares de Propósitos Múltiples, Junio 2015.
A54: ='C02'!$A$46 -> (Promedio de salarios mínimos por rama)
A55: 1/ No. de salarios mínimos (personas que declaran ingresos) y trabajan 36 Hrs. o mas
A57: Cuadro No. 6. Años de estudio promedio de las personas ocupadas por categoría ocupacional, según dominio, nivel educativo,
A58: rangos de edad, sexo, número de salarios mínimos devengados, rama de actividad y ocupación
A59: Ocupación Principal
A60: ....... Continuación
A61: Categorías | B61: Declaran Ingresos | C61: Asalariados | G61: Cuenta Propia | H61: Trab. Fam. no Remu. | I61: No Declaran.
C62: Total | D62: Público | E62: Privado | F62: Doméstico | I62: Media
A64: Total Nacional | B64: =B6 -> 7.5757827 | C64: =C6 -> 8.5007251 | D64: =D6 -> 12.247588 | E64: =E6 -> 8.0750705 | F64: =F6 -> 6.2847682 | G64: =G6 -> 6.3373093 | H64: =H6 -> 0 | I64: =I6 -> 0
A66: Rama de Actividad (1 Dig.) | H66: =[1]MercLab!H415 -> 0 | I66: =[1]MercLab!I415 -> 0
A67: Agricultura, ganaderia, silvicultura y pesca | B67: =[4]Sheet1!D44 -> 5.0229592 | C67: =[4]Sheet1!F44 -> 5.3127072 | D67: =[4]Sheet1!H44 -> 0 | E67: =[4]Sheet1!J44 -> 5.3127072 | F67: =[4]Sheet1!L44 -> 0 | G67: =[4]Sheet1!N44 -> 4.7744076 | H67: =[1]MercLab!H416 -> 0 | I67: =[1]MercLab!I416 -> 0
A68: Explotacion de minas y canteras | B68: =[4]Sheet1!D45 -> 5.2916667 | C68: =[4]Sheet1!F45 -> 6 | D68: =[4]Sheet1!H45 -> 0 | E68: =[4]Sheet1!J45 -> 6 | F68: =[4]Sheet1!L45 -> 0 | G68: =[4]Sheet1!N45 -> 4.7857143 | H68: =[1]MercLab!H417 -> 0 | I68: =[1]MercLab!I417 -> 0
A69: Industria manufacturera | B69: =[4]Sheet1!D46 -> 7.8497791 | C69: =[4]Sheet1!F46 -> 8.709599 | D69: =[4]Sheet1!H46 -> 6 | E69: =[4]Sheet1!J46 -> 8.7128954 | F69: =[4]Sheet1!L46 -> 0 | G69: =[4]Sheet1!N46 -> 6.5271028 | H69: =[1]MercLab!H418 -> 0 | I69: =[1]MercLab!I418 -> 0
A70: Suministro de electricidad, gas, vapor y aire acondicionado | B70: =[4]Sheet1!D47 -> 10.8125 | C70: =[4]Sheet1!F47 -> 10.925926 | D70: =[4]Sheet1!H47 -> 11.055556 | E70: =[4]Sheet1!J47 -> 10.666667 | F70: =[4]Sheet1!L47 -> 0 | G70: =[4]Sheet1!N47 -> 10.2 | H70: =[1]MercLab!H419 -> 0 | I70: =[1]MercLab!I419 -> 0
A71: Suministro de agua, evacuacion de aguas residuales, gestion de desechos y descontaminacion | B71: =[4]Sheet1!D48 -> 6.6458333 | C71: =[4]Sheet1!F48 -> 8.2142857 | D71: =[4]Sheet1!H48 -> 9.6 | E71: =[4]Sheet1!J48 -> 7.4444444 | F71: =[4]Sheet1!L48 -> 0 | G71: =[4]Sheet1!N48 -> 4.45 | H71: =[1]MercLab!H420 -> 0 | I71: =[1]MercLab!I420 -> 0
A72: Construccion | B72: =[4]Sheet1!D49 -> 6.7455197 | C72: =[4]Sheet1!F49 -> 6.7311111 | D72: =[4]Sheet1!H49 -> 16 | E72: =[4]Sheet1!J49 -> 6.7104677 | F72: =[4]Sheet1!L49 -> 0 | G72: =[4]Sheet1!N49 -> 6.8055556 | H72: =[1]MercLab!H421 -> 0 | I72: =[1]MercLab!I421 -> 0
A73: Comercio al por mayor y al por menor, reparacion de vehiculos automotores y motocicletas | B73: =[4]Sheet1!D50 -> 7.8439803 | C73: =[4]Sheet1!F50 -> 9.2394578 | D73: =[4]Sheet1!H50 -> 10.75 | E73: =[4]Sheet1!J50 -> 9.230303 | F73: =[4]Sheet1!L50 -> 0 | G73: =[4]Sheet1!N50 -> 6.8827801 | H73: =[1]MercLab!H422 -> 0 | I73: =[1]MercLab!I422 -> 0
A74: Transporte y almacenamiento | B74: =[4]Sheet1!D51 -> 7.3766234 | C74: =[4]Sheet1!F51 -> 7.5757576 | D74: =[4]Sheet1!H51 -> 13 | E74: =[4]Sheet1!J51 -> 7.40625 | F74: =[4]Sheet1!L51 -> 0 | G74: =[4]Sheet1!N51 -> 7.2272727 | H74: =[1]MercLab!H423 -> 0 | I74: =[1]MercLab!I423 -> 0
A75: Actividades de alojamiento y de servicios de comida | B75: =[4]Sheet1!D52 -> 7.6263158 | C75: =[4]Sheet1!F52 -> 8.5945946 | D75: =[4]Sheet1!H52 -> 0 | E75: =[4]Sheet1!J52 -> 8.5945946 | F75: =[4]Sheet1!L52 -> 0 | G75: =[4]Sheet1!N52 -> 6.7076923 | H75: =[1]MercLab!H424 -> 0 | I75: =[1]MercLab!I424 -> 0
A76: Informacion y comunicaciones | B76: =[4]Sheet1!D53 -> 12.287879 | C76: =[4]Sheet1!F53 -> 12.129032 | D76: =[4]Sheet1!H53 -> 12.375 | E76: =[4]Sheet1!J53 -> 12.092593 | F76: =[4]Sheet1!L53 -> 0 | G76: =[4]Sheet1!N53 -> 14.75 | H76: =[1]MercLab!H425 -> 0 | I76: =[1]MercLab!I425 -> 0
A77: Actividades finacieras y de seguros | B77: =[4]Sheet1!D54 -> 12.901515 | C77: =[4]Sheet1!F54 -> 13.119048 | D77: =[4]Sheet1!H54 -> 13.875 | E77: =[4]Sheet1!J54 -> 13.067797 | F77: =[4]Sheet1!L54 -> 0 | G77: =[4]Sheet1!N54 -> 8.3333333
A78: Actividades inmobiliarias | B78: =[4]Sheet1!D55 -> 9.3888889 | C78: =[4]Sheet1!F55 -> 9.1875 | D78: =[4]Sheet1!H55 -> 0 | E78: =[4]Sheet1!J55 -> 9.1875 | F78: =[4]Sheet1!L55 -> 0 | G78: =[4]Sheet1!N55 -> 11
A79: Actividades profesionales, cientificas y tecnicas | B79: =[4]Sheet1!D56 -> 13.073684 | C79: =[4]Sheet1!F56 -> 12.586957 | D79: =[4]Sheet1!H56 -> 16 | E79: =[4]Sheet1!J56 -> 12.511111 | F79: =[4]Sheet1!L56 -> 0 | G79: =[4]Sheet1!N56 -> 13.530612
A80: Actividades de servicios administrativos y de apoyo | B80: =[4]Sheet1!D57 -> 8.0642202 | C80: =[4]Sheet1!F57 -> 7.7382199 | D80: =[4]Sheet1!H57 -> 7 | E80: =[4]Sheet1!J57 -> 7.7747253 | F80: =[4]Sheet1!L57 -> 0 | G80: =[4]Sheet1!N57 -> 10.37037
A81: Aministracion publica y defensa, planes de seguridad social de afiliacion obligatoria | B81: =[4]Sheet1!D58 -> 10.992187 | C81: =[4]Sheet1!F58 -> 10.992187 | D81: =[4]Sheet1!H58 -> 11.08 | E81: =[4]Sheet1!J58 -> 7.3333333 | F81: =[4]Sheet1!L58 -> 0 | G81: =[4]Sheet1!N58 -> 0
A82: Enseñanza | B82: =[4]Sheet1!D59 -> 13.763473 | C82: =[4]Sheet1!F59 -> 13.772308 | D82: =[4]Sheet1!H59 -> 14.100457 | E82: =[4]Sheet1!J59 -> 13.09434 | F82: =[4]Sheet1!L59 -> 0 | G82: =[4]Sheet1!N59 -> 13.444444
A83: Actividades de atencion de la salud humana y de asistencia social | B83: =[4]Sheet1!D60 -> 11.56962 | C83: =[4]Sheet1!F60 -> 11.469799 | D83: =[4]Sheet1!H60 -> 11.965909 | E83: =[4]Sheet1!J60 -> 10.754098 | F83: =[4]Sheet1!L60 -> 0 | G83: =[4]Sheet1!N60 -> 13.222222
A84: Actividades artisticas, de entretenimiento y recreativas | B84: =[4]Sheet1!D61 -> 8.64 | C84: =[4]Sheet1!F61 -> 8.76 | D84: =[4]Sheet1!H61 -> 0 | E84: =[4]Sheet1!J61 -> 8.76 | F84: =[4]Sheet1!L61 -> 0 | G84: =[4]Sheet1!N61 -> 8.52
A85: Otras actividades de servicios | B85: =[4]Sheet1!D62 -> 7.0792291 | C85: =[4]Sheet1!F62 -> 9.2688172 | D85: =[4]Sheet1!H62 -> 6 | E85: =[4]Sheet1!J62 -> 9.4431818 | F85: =[4]Sheet1!L62 -> 6.25 | G85: =[4]Sheet1!N62 -> 6.5347594
A86: Actividades de los hogares como empleadores y actividades no diferenciadas de los hogares como productores de bienes y servicios | B86: =[4]Sheet1!D63 -> 6.2981928 | C86: =[4]Sheet1!F63 -> 6.2736156 | D86: =[4]Sheet1!H63 -> 0 | E86: =[4]Sheet1!J63 -> 5.8888889 | F86: =[4]Sheet1!L63 -> 6.2852349 | G86: =[4]Sheet1!N63 -> 6.6
A87: Actividades de organizaciones y organos extraterritoriales | B87: =[4]Sheet1!D64 -> 16 | C87: =[4]Sheet1!F64 -> 16 | D87: =[4]Sheet1!H64 -> 0 | E87: =[4]Sheet1!J64 -> 16 | F87: =[4]Sheet1!L64 -> 0 | G87: =[4]Sheet1!N64 -> 0
A88: Ocupaciones NO especificadas | B88: =[4]Sheet1!D65 -> 8 | C88: =[4]Sheet1!F65 -> 12 | D88: =[4]Sheet1!H65 -> 0 | E88: =[4]Sheet1!J65 -> 12 | F88: =[4]Sheet1!L65 -> 0 | G88: =[4]Sheet1!N65 -> 6
... A90: NS/NR | B90: =[4]Sheet1!D67 -> 11.5 | C90: =[4]Sheet1!F67 -> 11 | D90: =[4]Sheet1!H67 -> 0 | E90: =[4]Sheet1!J67 -> 11 | F90: =[4]Sheet1!L67 -> 0 | G90: =[4]Sheet1!N67 -> 12
A92: Ocupación (1 Dig.)
A93: Directores y gerentes | B93: =[4]Sheet1!D68 -> 12.728346 | C93: =[4]Sheet1!F68 -> 14.060403 | D93: =[4]Sheet1!H68 -> 14.621622 | E93: =[4]Sheet1!J68 -> 13.875 | F93: =[4]Sheet1!L68 -> 0 | G93: =[4]Sheet1!N68 -> 10.838095
A94: Profesionales cientificos e intelectuales | B94: =[4]Sheet1!D69 -> 15.301205 | C94: =[4]Sheet1!F69 -> 15.498221 | D94: =[4]Sheet1!H69 -> 15.974522 | E94: =[4]Sheet1!J69 -> 14.895161 | F94: =[4]Sheet1!L69 -> 0 | G94: =[4]Sheet1!N69 -> 14.215686
A95: Tecnicos y profesionales de nivel medio | B95: =[4]Sheet1!D70 -> 11.279188 | C95: =[4]Sheet1!F70 -> 11.660194 | D95: =[4]Sheet1!H70 -> 12.189744 | E95: =[4]Sheet1!J70 -> 11.3375 | F95: =[4]Sheet1!L70 -> 0 | G95: =[4]Sheet1!N70 -> 8.6973684
A96: Personal de apoyo administrativo | B96: =[4]Sheet1!D71 -> 11.801802 | C96: =[4]Sheet1!F71 -> 11.929032 | D96: =[4]Sheet1!H71 -> 12.421053 | E96: =[4]Sheet1!J71 -> 11.769231 | F96: =[4]Sheet1!L71 -> 0 | G96: =[4]Sheet1!N71 -> 10.086957
A97: Trabajadores de los servicios y vendedores de comercios y mercados | B97: =[4]Sheet1!D72 -> 7.4480759 | C97: =[4]Sheet1!F72 -> 8.3606557 | D97: =[4]Sheet1!H72 -> 8.1785714 | E97: =[4]Sheet1!J72 -> 8.5065123 | F97: =[4]Sheet1!L72 -> 6.3913043 | G97: =[4]Sheet1!N72 -> 6.7925725
A98: Agricultores y trabajadores calificados agropecuarios forestales y pesqueros | B98: =[4]Sheet1!D73 -> 4.8248588 | C98: =[4]Sheet1!F73 -> 5.3611111 | D98: =[4]Sheet1!H73 -> 0 | E98: =[4]Sheet1!J73 -> 5.3611111 | F98: =[4]Sheet1!L73 -> 0 | G98: =[4]Sheet1!N73 -> 4.6624606
A99: Oficiales, operarios y artesanos de artes mecanicas y de otros oficios | B99: =[4]Sheet1!D74 -> 7.0801144 | C99: =[4]Sheet1!F74 -> 7.504491 | D99: =[4]Sheet1!H74 -> 7.7777778 | E99: =[4]Sheet1!J74 -> 7.5053929 | F99: =[4]Sheet1!L74 -> 2 | G99: =[4]Sheet1!N74 -> 6.6917808
A100: Operadores de instalaciones y maquinas y ensambladores | B100: =[4]Sheet1!D75 -> 7.5114504 | C100: =[4]Sheet1!F75 -> 7.6383562 | D100: =[4]Sheet1!H75 -> 9.4 | E100: =[4]Sheet1!J75 -> 7.5628571 | F100: =[4]Sheet1!L75 -> 0 | G100: =[4]Sheet1!N75 -> 7.2201258
A101: Ocupaciones elementales | B101: =[4]Sheet1!D76 -> 5.9023206 | C101: =[4]Sheet1!F76 -> 6.0935994 | D101: =[4]Sheet1!H76 -> 7.1538462 | E101: =[4]Sheet1!J76 -> 5.9902913 | F101: =[4]Sheet1!L76 -> 6.2823529 | G101: =[4]Sheet1!N76 -> 5.2075
A102: Ocupaciones militares | B102: =[4]Sheet1!D77 -> 14.666667 | C102: =[4]Sheet1!F77 -> 14.666667 | D102: =[4]Sheet1!H77 -> 14.666667 | E102: =[4]Sheet1!J77 -> 0 | F102: =[4]Sheet1!L77 -> 0 | G102: =[4]Sheet1!N77 -> 0
A103: Ocupaciones NO especificadas | B103: =[4]Sheet1!D78 -> 4 | C103: =[4]Sheet1!F78 -> 3.5 | D103: =[4]Sheet1!H78 -> 0 | E103: =[4]Sheet1!J78 -> 3.5 | F103: =[4]Sheet1!L78 -> 0 | G103: =[4]Sheet1!N78 -> 4.25
A104: Busca trabajo por primera vez | B104: =[4]Sheet1!D79 -> 0 | C104: =[4]Sheet1!F79 -> 0 | D104: =[4]Sheet1!H79 -> 0 | E104: =[4]Sheet1!J79 -> 0 | F104: =[4]Sheet1!L79 -> 0 | G104: =[4]Sheet1!N79 -> 0
A105: NS/NR | B105: =[4]Sheet1!D80 -> 12 | C105: =[4]Sheet1!F80 -> 0 | D105: =[4]Sheet1!H80 -> 0 | E105: =[4]Sheet1!J80 -> 0 | F105: =[4]Sheet1!L80 -> 0 | G105: =[4]Sheet1!N80 -> 12
A107: ='C01'!$A$46 -> Fuente: Instituto Nacional de Estadística (INE). L Encuesta Permanente de Hogares de Propósitos Múltiples, Junio 2015.
A108: ='C02'!$A$46 -> (Promedio de salarios mínimos por rama)
A109: Clasificación industrial Internacional Uniforme CIIU REV IV)
A110: Clasificación internacional uniforme de ocupaciones CIUO-08
