Workbook

Sheet Portada

Sheet C01
A1: Cuadro No. 1. Población en Edad de Trabajar (PET), Población Económicamente Activa (PEA) y Tasa de Participación (TP)
A2: según dominio, quintil del ingreso de hogar, nivel educativo y rango de edad
A4: Categorías | B4: Población en Edad de Trabajar (PET) | H4: Población Económicamente Activa (PEA) | N4: Tasa de Participación (TP)
B5: Total | C5: % 1/ | D5: Hombre | E5: % 1/ | F5: Mujer | G5: % 1/ | H5: Total | I5: % 1/ | J5: Hombre | K5: % 1/ | L5: Mujer | M5: % 1/ | N5: Total | O5: Hombre | P5: Mujer
A7: Total Nacional 2/ | B7: =[1]MercLab!C7 -> 6748693.5 | C7: =SUM(E7,G7) -> 100 | D7: =[1]MercLab!D7 -> 3169731.4 | E7: =IF(ISNUMBER(D7/$B$7*100),D7/$B$7*100,0) -> 46.968074 | F7: =[1]MercLab!E7 -> 3578962.1 | G7: =IF(ISNUMBER(F7/$B$7*100),F7/$B$7*100,0) -> 53.031926 | H7: =[1]MercLab!F7 -> 3935335.4 | I7: =SUM(K7,M7) -> 100 | J7: =[1]MercLab!G7 -> 2358246.8 | K7: =IF(ISNUMBER(J7/$H$7*100),J7/$H$7*100,0) -> 59.924926 | L7: =[1]MercLab!H7 -> 1577088.6 | M7: =IF(ISNUMBER(L7/$H$7*100),L7/$H$7*100,0) -> 40.075074 | N7: =IF(ISNUMBER(H7/B7*100),H7/B7*100,0) -> 58.312552 | O7: =IF(ISNUMBER(J7/D7*100),J7/D7*100,0) -> 74.398949 | P7: =IF(ISNUMBER(L7/F7*100),L7/F7*100,0) -> 44.065529
A9: Dominio
A10: Urbano | B10: =SUM(B11:B13) -> 3716493.6 | C10: =IF(ISNUMBER(B10/B$7*100),B10/B$7*100,0) -> 55.069824 | D10: =SUM(D11:D13) -> 1662791.2 | E10: =IF(ISNUMBER(D10/D$7*100),D10/D$7*100,0) -> 52.458427 | F10: =SUM(F11:F13) -> 2053702.4 | G10: =IF(ISNUMBER(F10/F$7*100),F10/F$7*100,0) -> 57.382624 | H10: =SUM(H11:H13) -> 2121726.4 | I10: =IF(ISNUMBER(H10/H$7*100),H10/H$7*100,0) -> 53.914753 | J10: =SUM(J11:J13) -> 1134919.5 | K10: =IF(ISNUMBER(J10/J$7*100),J10/J$7*100,0) -> 48.125562 | L10: =SUM(L11:L13) -> 986806.83 | M10: =IF(ISNUMBER(L10/L$7*100),L10/L$7*100,0) -> 62.571427 | N10: =IF(ISNUMBER(H10/B10*100),H10/B10*100,0) -> 57.089467 | O10: =IF(ISNUMBER(J10/D10*100),J10/D10*100,0) -> 68.253881 | P10: =IF(ISNUMBER(L10/F10*100),L10/F10*100,0) -> 48.050138
A11: Distrito Central | B11: =[1]MercLab!C8 -> 887883.24 | C11: =IF(ISNUMBER(B11/B$7*100),B11/B$7*100,0) -> 13.156372 | D11: =[1]MercLab!D8 -> 393979.95 | E11: =IF(ISNUMBER(D11/D$7*100),D11/D$7*100,0) -> 12.429443 | F11: =[1]MercLab!E8 -> 493903.28 | G11: =IF(ISNUMBER(F11/F$7*100),F11/F$7*100,0) -> 13.800182 | H11: =[1]MercLab!F8 -> 496872.85 | I11: =IF(ISNUMBER(H11/H$7*100),H11/H$7*100,0) -> 12.625934 | J11: =[1]MercLab!G8 -> 263093.24 | K11: =IF(ISNUMBER(J11/J$7*100),J11/J$7*100,0) -> 11.156306 | L11: =[1]MercLab!H8 -> 233779.61 | M11: =IF(ISNUMBER(L11/L$7*100),L11/L$7*100,0) -> 14.823493 | N11: =IF(ISNUMBER(H11/B11*100),H11/B11*100,0) -> 55.961508 | O11: =IF(ISNUMBER(J11/D11*100),J11/D11*100,0) -> 66.778331 | P11: =IF(ISNUMBER(L11/F11*100),L11/F11*100,0) -> 47.333075
A12: San Pedro Sula | B12: =[1]MercLab!C9 -> 572739.64 | C12: =IF(ISNUMBER(B12/B$7*100),B12/B$7*100,0) -> 8.4866745 | D12: =[1]MercLab!D9 -> 262414.63 | E12: =IF(ISNUMBER(D12/D$7*100),D12/D$7*100,0) -> 8.2787656 | F12: =[1]MercLab!E9 -> 310325.01 | G12: =IF(ISNUMBER(F12/F$7*100),F12/F$7*100,0) -> 8.6708103 | H12: =[1]MercLab!F9 -> 348184.55 | I12: =IF(ISNUMBER(H12/H$7*100),H12/H$7*100,0) -> 8.8476461 | J12: =[1]MercLab!G9 -> 182007.82 | K12: =IF(ISNUMBER(J12/J$7*100),J12/J$7*100,0) -> 7.7179291 | L12: =[1]MercLab!H9 -> 166176.73 | M12: =IF(ISNUMBER(L12/L$7*100),L12/L$7*100,0) -> 10.536931 | N12: =IF(ISNUMBER(H12/B12*100),H12/B12*100,0) -> 60.792814 | O12: =IF(ISNUMBER(J12/D12*100),J12/D12*100,0) -> 69.358868 | P12: =IF(ISNUMBER(L12/F12*100),L12/F12*100,0) -> 53.549254
A13: Resto urbano | B13: =[1]MercLab!C10 -> 2255870.7 | C13: =IF(ISNUMBER(B13/B$7*100),B13/B$7*100,0) -> 33.426777 | D13: =[1]MercLab!D10 -> 1006396.6 | E13: =IF(ISNUMBER(D13/D$7*100),D13/D$7*100,0) -> 31.750218 | F13: =[1]MercLab!E10 -> 1249474.1 | G13: =IF(ISNUMBER(F13/F$7*100),F13/F$7*100,0) -> 34.911632 | H13: =[1]MercLab!F10 -> 1276669 | I13: =IF(ISNUMBER(H13/H$7*100),H13/H$7*100,0) -> 32.441173 | J13: =[1]MercLab!G10 -> 689818.47 | K13: =IF(ISNUMBER(J13/J$7*100),J13/J$7*100,0) -> 29.251327 | L13: =[1]MercLab!H10 -> 586850.49 | M13: =IF(ISNUMBER(L13/L$7*100),L13/L$7*100,0) -> 37.211004 | N13: =IF(ISNUMBER(H13/B13*100),H13/B13*100,0) -> 56.59318 | O13: =IF(ISNUMBER(J13/D13*100),J13/D13*100,0) -> 68.543402 | P13: =IF(ISNUMBER(L13/F13*100),L13/F13*100,0) -> 46.9678
A14: Rural | B14: =[1]MercLab!C11 -> 3032199.9 | C14: =IF(ISNUMBER(B14/B$7*100),B14/B$7*100,0) -> 44.930176 | D14: =[1]MercLab!D11 -> 1506940.2 | E14: =IF(ISNUMBER(D14/D$7*100),D14/D$7*100,0) -> 47.541573 | F14: =[1]MercLab!E11 -> 1525259.7 | G14: =IF(ISNUMBER(F14/F$7*100),F14/F$7*100,0) -> 42.617376 | H14: =[1]MercLab!F11 -> 1813609 | I14: =IF(ISNUMBER(H14/H$7*100),H14/H$7*100,0) -> 46.085247 | J14: =[1]MercLab!G11 -> 1223327.3 | K14: =IF(ISNUMBER(J14/J$7*100),J14/J$7*100,0) -> 51.874438 | L14: =[1]MercLab!H11 -> 590281.74 | M14: =IF(ISNUMBER(L14/L$7*100),L14/L$7*100,0) -> 37.428573 | N14: =IF(ISNUMBER(H14/B14*100),H14/B14*100,0) -> 59.811658 | O14: =IF(ISNUMBER(J14/D14*100),J14/D14*100,0) -> 81.179552 | P14: =IF(ISNUMBER(L14/F14*100),L14/F14*100,0) -> 38.700409
A16: Quintil de Ingreso
A17: Quintil 1 | B17: =[1]MercLab!C13 -> 1430686.3 | C17: =IF(ISNUMBER(B17/B$7*100),B17/B$7*100,0) -> 21.199456 | D17: =[1]MercLab!D13 -> 680555.41 | E17: =IF(ISNUMBER(D17/D$7*100),D17/D$7*100,0) -> 21.470445 | F17: =[1]MercLab!E13 -> 750130.89 | G17: =IF(ISNUMBER(F17/F$7*100),F17/F$7*100,0) -> 20.959453 | H17: =[1]MercLab!F13 -> 750267.1 | I17: =IF(ISNUMBER(H17/H$7*100),H17/H$7*100,0) -> 19.064883 | J17: =[1]MercLab!G13 -> 523030.51 | K17: =IF(ISNUMBER(J17/J$7*100),J17/J$7*100,0) -> 22.178786 | L17: =[1]MercLab!H13 -> 227236.6 | M17: =IF(ISNUMBER(L17/L$7*100),L17/L$7*100,0) -> 14.408613 | N17: =IF(ISNUMBER(H17/B17*100),H17/B17*100,0) -> 52.441063 | O17: =IF(ISNUMBER(J17/D17*100),J17/D17*100,0) -> 76.853478 | P17: =IF(ISNUMBER(L17/F17*100),L17/F17*100,0) -> 30.292926
A18: Quintil 2 | B18: =[1]MercLab!C14 -> 1429097.9 | C18: =IF(ISNUMBER(B18/B$7*100),B18/B$7*100,0) -> 21.17592 | D18: =[1]MercLab!D14 -> 678390.54 | E18: =IF(ISNUMBER(D18/D$7*100),D18/D$7*100,0) -> 21.402146 | F18: =[1]MercLab!E14 -> 750707.37 | G18: =IF(ISNUMBER(F18/F$7*100),F18/F$7*100,0) -> 20.975561 | H18: =[1]MercLab!F14 -> 797012.77 | I18: =IF(ISNUMBER(H18/H$7*100),H18/H$7*100,0) -> 20.252728 | J18: =[1]MercLab!G14 -> 497824.74 | K18: =IF(ISNUMBER(J18/J$7*100),J18/J$7*100,0) -> 21.109951 | L18: =[1]MercLab!H14 -> 299188.03 | M18: =IF(ISNUMBER(L18/L$7*100),L18/L$7*100,0) -> 18.970909 | N18: =IF(ISNUMBER(H18/B18*100),H18/B18*100,0) -> 55.770341 | O18: =IF(ISNUMBER(J18/D18*100),J18/D18*100,0) -> 73.383208 | P18: =IF(ISNUMBER(L18/F18*100),L18/F18*100,0) -> 39.854149
A19: Quintil 3 | B19: =[1]MercLab!C15 -> 1332788.2 | C19: =IF(ISNUMBER(B19/B$7*100),B19/B$7*100,0) -> 19.748833 | D19: =[1]MercLab!D15 -> 619657.26 | E19: =IF(ISNUMBER(D19/D$7*100),D19/D$7*100,0) -> 19.549204 | F19: =[1]MercLab!E15 -> 713130.91 | G19: =IF(ISNUMBER(F19/F$7*100),F19/F$7*100,0) -> 19.925635 | H19: =[1]MercLab!F15 -> 775379.82 | I19: =IF(ISNUMBER(H19/H$7*100),H19/H$7*100,0) -> 19.703018 | J19: =[1]MercLab!G15 -> 464088.87 | K19: =IF(ISNUMBER(J19/J$7*100),J19/J$7*100,0) -> 19.679402 | L19: =[1]MercLab!H15 -> 311290.95 | M19: =IF(ISNUMBER(L19/L$7*100),L19/L$7*100,0) -> 19.73833 | N19: =IF(ISNUMBER(H19/B19*100),H19/B19*100,0) -> 58.177274 | O19: =IF(ISNUMBER(J19/D19*100),J19/D19*100,0) -> 74.894445 | P19: =IF(ISNUMBER(L19/F19*100),L19/F19*100,0) -> 43.651305
A20: Quintil 4 | B20: =[1]MercLab!C16 -> 1332828.5 | C20: =IF(ISNUMBER(B20/B$7*100),B20/B$7*100,0) -> 19.74943 | D20: =[1]MercLab!D16 -> 620139.53 | E20: =IF(ISNUMBER(D20/D$7*100),D20/D$7*100,0) -> 19.564419 | F20: =[1]MercLab!E16 -> 712688.93 | G20: =IF(ISNUMBER(F20/F$7*100),F20/F$7*100,0) -> 19.913285 | H20: =[1]MercLab!F16 -> 816635.08 | I20: =IF(ISNUMBER(H20/H$7*100),H20/H$7*100,0) -> 20.751347 | J20: =[1]MercLab!G16 -> 453178.9 | K20: =IF(ISNUMBER(J20/J$7*100),J20/J$7*100,0) -> 19.216772 | L20: =[1]MercLab!H16 -> 363456.18 | M20: =IF(ISNUMBER(L20/L$7*100),L20/L$7*100,0) -> 23.046022 | N20: =IF(ISNUMBER(H20/B20*100),H20/B20*100,0) -> 61.270832 | O20: =IF(ISNUMBER(J20/D20*100),J20/D20*100,0) -> 73.076925 | P20: =IF(ISNUMBER(L20/F20*100),L20/F20*100,0) -> 50.997871
A21: Quintil 5 | B21: =[1]MercLab!C17 -> 1192414.2 | C21: =IF(ISNUMBER(B21/B$7*100),B21/B$7*100,0) -> 17.668816 | D21: =[1]MercLab!D17 -> 558295.49 | E21: =IF(ISNUMBER(D21/D$7*100),D21/D$7*100,0) -> 17.613338 | F21: =[1]MercLab!E17 -> 634118.72 | G21: =IF(ISNUMBER(F21/F$7*100),F21/F$7*100,0) -> 17.71795 | H21: =[1]MercLab!F17 -> 784437.06 | I21: =IF(ISNUMBER(H21/H$7*100),H21/H$7*100,0) -> 19.933169 | J21: =[1]MercLab!G17 -> 413196.36 | K21: =IF(ISNUMBER(J21/J$7*100),J21/J$7*100,0) -> 17.521337 | L21: =[1]MercLab!H17 -> 371240.69 | M21: =IF(ISNUMBER(L21/L$7*100),L21/L$7*100,0) -> 23.539622 | N21: =IF(ISNUMBER(H21/B21*100),H21/B21*100,0) -> 65.785618 | O21: =IF(ISNUMBER(J21/D21*100),J21/D21*100,0) -> 74.010335 | P21: =IF(ISNUMBER(L21/F21*100),L21/F21*100,0) -> 58.544352
A22: No Declaran Ingresos | B22: =[1]MercLab!C18 -> 30878.406 | C22: =IF(ISNUMBER(B22/B$7*100),B22/B$7*100,0) -> 0.45754642 | D22: =[1]MercLab!D18 -> 12693.124 | E22: =IF(ISNUMBER(D22/D$7*100),D22/D$7*100,0) -> 0.40044795 | F22: =[1]MercLab!E18 -> 18185.281 | G22: =IF(ISNUMBER(F22/F$7*100),F22/F$7*100,0) -> 0.50811606 | H22: =[1]MercLab!F18 -> 11603.538 | I22: =IF(ISNUMBER(H22/H$7*100),H22/H$7*100,0) -> 0.29485513 | J22: =[1]MercLab!G18 -> 6927.4253 | K22: =IF(ISNUMBER(J22/J$7*100),J22/J$7*100,0) -> 0.29375319 | L22: =[1]MercLab!H18 -> 4676.1129 | M22: =IF(ISNUMBER(L22/L$7*100),L22/L$7*100,0) -> 0.29650287 | N22: =IF(ISNUMBER(H22/B22*100),H22/B22*100,0) -> 37.578165 | O22: =IF(ISNUMBER(J22/D22*100),J22/D22*100,0) -> 54.576203 | P22: =IF(ISNUMBER(L22/F22*100),L22/F22*100,0) -> 25.713723
A24: Nivel Educativo
A25: Sin Nivel | B25: =[1]MercLab!C20 -> 650117.89 | C25: =IF(ISNUMBER(B25/B$7*100),B25/B$7*100,0) -> 9.6332408 | D25: =[1]MercLab!D20 -> 302679.64 | E25: =IF(ISNUMBER(D25/D$7*100),D25/D$7*100,0) -> 9.5490628 | F25: =[1]MercLab!E20 -> 347438.25 | G25: =IF(ISNUMBER(F25/F$7*100),F25/F$7*100,0) -> 9.7077935 | H25: =[1]MercLab!F20 -> 366119.76 | I25: =IF(ISNUMBER(H25/H$7*100),H25/H$7*100,0) -> 9.3033942 | J25: =[1]MercLab!G20 -> 241443.08 | K25: =IF(ISNUMBER(J25/J$7*100),J25/J$7*100,0) -> 10.238245 | L25: =[1]MercLab!H20 -> 124676.68 | M25: =IF(ISNUMBER(L25/L$7*100),L25/L$7*100,0) -> 7.9054962 | N25: =IF(ISNUMBER(H25/B25*100),H25/B25*100,0) -> 56.315904 | O25: =IF(ISNUMBER(J25/D25*100),J25/D25*100,0) -> 79.768526 | P25: =IF(ISNUMBER(L25/F25*100),L25/F25*100,0) -> 35.884557
A26: Primaria | B26: =[1]MercLab!C21 -> 3548814.2 | C26: =IF(ISNUMBER(B26/B$7*100),B26/B$7*100,0) -> 52.585203 | D26: =[1]MercLab!D21 -> 1746827.9 | E26: =IF(ISNUMBER(D26/D$7*100),D26/D$7*100,0) -> 55.109651 | F26: =[1]MercLab!E21 -> 1801986.3 | G26: =IF(ISNUMBER(F26/F$7*100),F26/F$7*100,0) -> 50.34941 | H26: =[1]MercLab!F21 -> 2035428.3 | I26: =IF(ISNUMBER(H26/H$7*100),H26/H$7*100,0) -> 51.721852 | J26: =[1]MercLab!G21 -> 1331601.8 | K26: =IF(ISNUMBER(J26/J$7*100),J26/J$7*100,0) -> 56.46575 | L26: =[1]MercLab!H21 -> 703826.58 | M26: =IF(ISNUMBER(L26/L$7*100),L26/L$7*100,0) -> 44.628221 | N26: =IF(ISNUMBER(H26/B26*100),H26/B26*100,0) -> 57.355168 | O26: =IF(ISNUMBER(J26/D26*100),J26/D26*100,0) -> 76.229706 | P26: =IF(ISNUMBER(L26/F26*100),L26/F26*100,0) -> 39.058376
A27: Secundaria | B27: =[1]MercLab!C22 -> 1964496.1 | C27: =IF(ISNUMBER(B27/B$7*100),B27/B$7*100,0) -> 29.109281 | D27: =[1]MercLab!D22 -> 862583.31 | E27: =IF(ISNUMBER(D27/D$7*100),D27/D$7*100,0) -> 27.213136 | F27: =[1]MercLab!E22 -> 1101912.8 | G27: =IF(ISNUMBER(F27/F$7*100),F27/F$7*100,0) -> 30.788613 | H27: =[1]MercLab!F22 -> 1130542.3 | I27: =IF(ISNUMBER(H27/H$7*100),H27/H$7*100,0) -> 28.727979 | J27: =[1]MercLab!G22 -> 597475.65 | K27: =IF(ISNUMBER(J27/J$7*100),J27/J$7*100,0) -> 25.335586 | L27: =[1]MercLab!H22 -> 533066.68 | M27: =IF(ISNUMBER(L27/L$7*100),L27/L$7*100,0) -> 33.800681 | N27: =IF(ISNUMBER(H27/B27*100),H27/B27*100,0) -> 57.548718 | O27: =IF(ISNUMBER(J27/D27*100),J27/D27*100,0) -> 69.265848 | P27: =IF(ISNUMBER(L27/F27*100),L27/F27*100,0) -> 48.376484
A28: Superior | B28: =[1]MercLab!C23 -> 563760.34 | C28: =IF(ISNUMBER(B28/B$7*100),B28/B$7*100,0) -> 8.353622 | D28: =[1]MercLab!D23 -> 241733.63 | E28: =IF(ISNUMBER(D28/D$7*100),D28/D$7*100,0) -> 7.6263129 | F28: =[1]MercLab!E23 -> 322026.71 | G28: =IF(ISNUMBER(F28/F$7*100),F28/F$7*100,0) -> 8.9977681 | H28: =[1]MercLab!F23 -> 388368.06 | I28: =IF(ISNUMBER(H28/H$7*100),H28/H$7*100,0) -> 9.8687412 | J28: =[1]MercLab!G23 -> 175795.41 | K28: =IF(ISNUMBER(J28/J$7*100),J28/J$7*100,0) -> 7.454496 | L28: =[1]MercLab!H23 -> 212572.65 | M28: =IF(ISNUMBER(L28/L$7*100),L28/L$7*100,0) -> 13.478802 | N28: =IF(ISNUMBER(H28/B28*100),H28/B28*100,0) -> 68.888858 | O28: =IF(ISNUMBER(J28/D28*100),J28/D28*100,0) -> 72.722779 | P28: =IF(ISNUMBER(L28/F28*100),L28/F28*100,0) -> 66.010875
A29: No sabe, no responde | B29: =[1]MercLab!C24 -> 21504.935 | C29: =IF(ISNUMBER(B29/B$7*100),B29/B$7*100,0) -> 0.31865331 | D29: =[1]MercLab!D24 -> 15906.892 | E29: =IF(ISNUMBER(D29/D$7*100),D29/D$7*100,0) -> 0.50183722 | F29: =[1]MercLab!E24 -> 5598.0431 | G29: =IF(ISNUMBER(F29/F$7*100),F29/F$7*100,0) -> 0.15641527 | H29: =[1]MercLab!F24 -> 14876.889 | I29: =IF(ISNUMBER(H29/H$7*100),H29/H$7*100,0) -> 0.37803356 | J29: =[1]MercLab!G24 -> 11930.899 | K29: =IF(ISNUMBER(J29/J$7*100),J29/J$7*100,0) -> 0.5059224 | L29: =[1]MercLab!H24 -> 2945.9899 | M29: =IF(ISNUMBER(L29/L$7*100),L29/L$7*100,0) -> 0.18679927 | N29: =IF(ISNUMBER(H29/B29*100),H29/B29*100,0) -> 69.178952 | O29: =IF(ISNUMBER(J29/D29*100),J29/D29*100,0) -> 75.004589 | P29: =IF(ISNUMBER(L29/F29*100),L29/F29*100,0) -> 52.625351
A31: Rango de edad
A32: De 10 a 11 años | B32: =[1]MercLab!C26 -> 364755.55 | C32: =IF(ISNUMBER(B32/B$7*100),B32/B$7*100,0) -> 5.4048321 | D32: =[1]MercLab!D26 -> 185519.47 | E32: =IF(ISNUMBER(D32/D$7*100),D32/D$7*100,0) -> 5.8528453 | F32: =[1]MercLab!E26 -> 179236.08 | G32: =IF(ISNUMBER(F32/F$7*100),F32/F$7*100,0) -> 5.0080462 | H32: =[1]MercLab!F26 -> 25683.493 | I32: =IF(ISNUMBER(H32/H$7*100),H32/H$7*100,0) -> 0.65263798 | J32: =[1]MercLab!G26 -> 17542.371 | K32: =IF(ISNUMBER(J32/J$7*100),J32/J$7*100,0) -> 0.74387341 | L32: =[1]MercLab!H26 -> 8141.1222 | M32: =IF(ISNUMBER(L32/L$7*100),L32/L$7*100,0) -> 0.51621211 | N32: =IF(ISNUMBER(H32/B32*100),H32/B32*100,0) -> 7.0412892 | O32: =IF(ISNUMBER(J32/D32*100),J32/D32*100,0) -> 9.4558111 | P32: =IF(ISNUMBER(L32/F32*100),L32/F32*100,0) -> 4.5421226
A33: De 12 a 14 años | B33: =[1]MercLab!C27 -> 604744.3 | C33: =IF(ISNUMBER(B33/B$7*100),B33/B$7*100,0) -> 8.9609093 | D33: =[1]MercLab!D27 -> 310166.94 | E33: =IF(ISNUMBER(D33/D$7*100),D33/D$7*100,0) -> 9.7852752 | F33: =[1]MercLab!E27 -> 294577.36 | G33: =IF(ISNUMBER(F33/F$7*100),F33/F$7*100,0) -> 8.2308042 | H33: =[1]MercLab!F27 -> 139896.4 | I33: =IF(ISNUMBER(H33/H$7*100),H33/H$7*100,0) -> 3.5548788 | J33: =[1]MercLab!G27 -> 101560.68 | K33: =IF(ISNUMBER(J33/J$7*100),J33/J$7*100,0) -> 4.3066178 | L33: =[1]MercLab!H27 -> 38335.725 | M33: =IF(ISNUMBER(L33/L$7*100),L33/L$7*100,0) -> 2.4307909 | N33: =IF(ISNUMBER(H33/B33*100),H33/B33*100,0) -> 23.133149 | O33: =IF(ISNUMBER(J33/D33*100),J33/D33*100,0) -> 32.743876 | P33: =IF(ISNUMBER(L33/F33*100),L33/F33*100,0) -> 13.013805
A34: De 15 a 18 años | B34: =[1]MercLab!C28 -> 867163.07 | C34: =IF(ISNUMBER(B34/B$7*100),B34/B$7*100,0) -> 12.849347 | D34: =[1]MercLab!D28 -> 452981.14 | E34: =IF(ISNUMBER(D34/D$7*100),D34/D$7*100,0) -> 14.290837 | F34: =[1]MercLab!E28 -> 414181.93 | G34: =IF(ISNUMBER(F34/F$7*100),F34/F$7*100,0) -> 11.572683 | H34: =[1]MercLab!F28 -> 398658.64 | I34: =IF(ISNUMBER(H34/H$7*100),H34/H$7*100,0) -> 10.130233 | J34: =[1]MercLab!G28 -> 268286.61 | K34: =IF(ISNUMBER(J34/J$7*100),J34/J$7*100,0) -> 11.376528 | L34: =[1]MercLab!H28 -> 130372.04 | M34: =IF(ISNUMBER(L34/L$7*100),L34/L$7*100,0) -> 8.2666276 | N34: =IF(ISNUMBER(H34/B34*100),H34/B34*100,0) -> 45.972742 | O34: =IF(ISNUMBER(J34/D34*100),J34/D34*100,0) -> 59.226881 | P34: =IF(ISNUMBER(L34/F34*100),L34/F34*100,0) -> 31.476998
A35: De 19 a 24 años | B35: =[1]MercLab!C29 -> 1031396.6 | C35: =IF(ISNUMBER(B35/B$7*100),B35/B$7*100,0) -> 15.282908 | D35: =[1]MercLab!D29 -> 485812.82 | E35: =IF(ISNUMBER(D35/D$7*100),D35/D$7*100,0) -> 15.326624 | F35: =[1]MercLab!E29 -> 545583.79 | G35: =IF(ISNUMBER(F35/F$7*100),F35/F$7*100,0) -> 15.24419 | H35: =[1]MercLab!F29 -> 675742.07 | I35: =IF(ISNUMBER(H35/H$7*100),H35/H$7*100,0) -> 17.171143 | J35: =[1]MercLab!G29 -> 412646.43 | K35: =IF(ISNUMBER(J35/J$7*100),J35/J$7*100,0) -> 17.498017 | L35: =[1]MercLab!H29 -> 263095.64 | M35: =IF(ISNUMBER(L35/L$7*100),L35/L$7*100,0) -> 16.682363 | N35: =IF(ISNUMBER(H35/B35*100),H35/B35*100,0) -> 65.51719 | O35: =IF(ISNUMBER(J35/D35*100),J35/D35*100,0) -> 84.939388 | P35: =IF(ISNUMBER(L35/F35*100),L35/F35*100,0) -> 48.222774
A36: De 25 a 29 años | B36: =[1]MercLab!C30 -> 633036.34 | C36: =IF(ISNUMBER(B36/B$7*100),B36/B$7*100,0) -> 9.3801318 | D36: =[1]MercLab!D30 -> 291692.71 | E36: =IF(ISNUMBER(D36/D$7*100),D36/D$7*100,0) -> 9.2024426 | F36: =[1]MercLab!E30 -> 341343.63 | G36: =IF(ISNUMBER(F36/F$7*100),F36/F$7*100,0) -> 9.5375034 | H36: =[1]MercLab!F30 -> 463179.21 | I36: =IF(ISNUMBER(H36/H$7*100),H36/H$7*100,0) -> 11.769752 | J36: =[1]MercLab!G30 -> 271482.45 | K36: =IF(ISNUMBER(J36/J$7*100),J36/J$7*100,0) -> 11.512046 | L36: =[1]MercLab!H30 -> 191696.75 | M36: =IF(ISNUMBER(L36/L$7*100),L36/L$7*100,0) -> 12.155104 | N36: =IF(ISNUMBER(H36/B36*100),H36/B36*100,0) -> 73.16787 | O36: =IF(ISNUMBER(J36/D36*100),J36/D36*100,0) -> 93.071388 | P36: =IF(ISNUMBER(L36/F36*100),L36/F36*100,0) -> 56.159464
A37: De 30 a 34 años | B37: =[1]MercLab!C31 -> 553140.01 | C37: =IF(ISNUMBER(B37/B$7*100),B37/B$7*100,0) -> 8.1962533 | D37: =[1]MercLab!D31 -> 234949.93 | E37: =IF(ISNUMBER(D37/D$7*100),D37/D$7*100,0) -> 7.4122978 | F37: =[1]MercLab!E31 -> 318190.08 | G37: =IF(ISNUMBER(F37/F$7*100),F37/F$7*100,0) -> 8.8905686 | H37: =[1]MercLab!F31 -> 406424.21 | I37: =IF(ISNUMBER(H37/H$7*100),H37/H$7*100,0) -> 10.327562 | J37: =[1]MercLab!G31 -> 223419.44 | K37: =IF(ISNUMBER(J37/J$7*100),J37/J$7*100,0) -> 9.4739635 | L37: =[1]MercLab!H31 -> 183004.77 | M37: =IF(ISNUMBER(L37/L$7*100),L37/L$7*100,0) -> 11.603963 | N37: =IF(ISNUMBER(H37/B37*100),H37/B37*100,0) -> 73.47583 | O37: =IF(ISNUMBER(J37/D37*100),J37/D37*100,0) -> 95.092365 | P37: =IF(ISNUMBER(L37/F37*100),L37/F37*100,0) -> 57.514291
A38: De 35 a 39 años | B38: =[1]MercLab!C32 -> 533516.51 | C38: =IF(ISNUMBER(B38/B$7*100),B38/B$7*100,0) -> 7.9054785 | D38: =[1]MercLab!D32 -> 225544.91 | E38: =IF(ISNUMBER(D38/D$7*100),D38/D$7*100,0) -> 7.1155843 | F38: =[1]MercLab!E32 -> 307971.61 | G38: =IF(ISNUMBER(F38/F$7*100),F38/F$7*100,0) -> 8.6050536 | H38: =[1]MercLab!F32 -> 407865.4 | I38: =IF(ISNUMBER(H38/H$7*100),H38/H$7*100,0) -> 10.364184 | J38: =[1]MercLab!G32 -> 218431.42 | K38: =IF(ISNUMBER(J38/J$7*100),J38/J$7*100,0) -> 9.2624496 | L38: =[1]MercLab!H32 -> 189433.98 | M38: =IF(ISNUMBER(L38/L$7*100),L38/L$7*100,0) -> 12.011626 | N38: =IF(ISNUMBER(H38/B38*100),H38/B38*100,0) -> 76.448506 | O38: =IF(ISNUMBER(J38/D38*100),J38/D38*100,0) -> 96.84609 | P38: =IF(ISNUMBER(L38/F38*100),L38/F38*100,0) -> 61.51021
A39: De 40 a 44 años | B39: =[1]MercLab!C33 -> 421600.13 | C39: =IF(ISNUMBER(B39/B$7*100),B39/B$7*100,0) -> 6.2471371 | D39: =[1]MercLab!D33 -> 192474.44 | E39: =IF(ISNUMBER(D39/D$7*100),D39/D$7*100,0) -> 6.0722635 | F39: =[1]MercLab!E33 -> 229125.69 | G39: =IF(ISNUMBER(F39/F$7*100),F39/F$7*100,0) -> 6.402015 | H39: =[1]MercLab!F33 -> 329769.28 | I39: =IF(ISNUMBER(H39/H$7*100),H39/H$7*100,0) -> 8.3796994 | J39: =[1]MercLab!G33 -> 186719.03 | K39: =IF(ISNUMBER(J39/J$7*100),J39/J$7*100,0) -> 7.9177053 | L39: =[1]MercLab!H33 -> 143050.24 | M39: =IF(ISNUMBER(L39/L$7*100),L39/L$7*100,0) -> 9.0705269 | N39: =IF(ISNUMBER(H39/B39*100),H39/B39*100,0) -> 78.218495 | O39: =IF(ISNUMBER(J39/D39*100),J39/D39*100,0) -> 97.00978 | P39: =IF(ISNUMBER(L39/F39*100),L39/F39*100,0) -> 62.433088
A40: De 45 a 49 años | B40: =[1]MercLab!C34 -> 370812.35 | C40: =IF(ISNUMBER(B40/B$7*100),B40/B$7*100,0) -> 5.4945799 | D40: =[1]MercLab!D34 -> 169329.8 | E40: =IF(ISNUMBER(D40/D$7*100),D40/D$7*100,0) -> 5.3420868 | F40: =[1]MercLab!E34 -> 201482.55 | G40: =IF(ISNUMBER(F40/F$7*100),F40/F$7*100,0) -> 5.6296364 | H40: =[1]MercLab!F34 -> 284335.61 | I40: =IF(ISNUMBER(H40/H$7*100),H40/H$7*100,0) -> 7.2251938 | J40: =[1]MercLab!G34 -> 161093.8 | K40: =IF(ISNUMBER(J40/J$7*100),J40/J$7*100,0) -> 6.8310832 | L40: =[1]MercLab!H34 -> 123241.81 | M40: =IF(ISNUMBER(L40/L$7*100),L40/L$7*100,0) -> 7.8145138 | N40: =IF(ISNUMBER(H40/B40*100),H40/B40*100,0) -> 76.679109 | O40: =IF(ISNUMBER(J40/D40*100),J40/D40*100,0) -> 95.136119 | P40: =IF(ISNUMBER(L40/F40*100),L40/F40*100,0) -> 61.167483
A41: De 50 a 54 años | B41: =[1]MercLab!C35 -> 330376.82 | C41: =IF(ISNUMBER(B41/B$7*100),B41/B$7*100,0) -> 4.8954189 | D41: =[1]MercLab!D35 -> 145879.11 | E41: =IF(ISNUMBER(D41/D$7*100),D41/D$7*100,0) -> 4.6022547 | F41: =[1]MercLab!E35 -> 184497.71 | G41: =IF(ISNUMBER(F41/F$7*100),F41/F$7*100,0) -> 5.1550617 | H41: =[1]MercLab!F35 -> 243227.55 | I41: =IF(ISNUMBER(H41/H$7*100),H41/H$7*100,0) -> 6.1806054 | J41: =[1]MercLab!G35 -> 136099.4 | K41: =IF(ISNUMBER(J41/J$7*100),J41/J$7*100,0) -> 5.771211 | L41: =[1]MercLab!H35 -> 107128.15 | M41: =IF(ISNUMBER(L41/L$7*100),L41/L$7*100,0) -> 6.7927796 | N41: =IF(ISNUMBER(H41/B41*100),H41/B41*100,0) -> 73.621253 | O41: =IF(ISNUMBER(J41/D41*100),J41/D41*100,0) -> 93.296017 | P41: =IF(ISNUMBER(L41/F41*100),L41/F41*100,0) -> 58.064761
A42: De 55 a 59 años | B42: =[1]MercLab!C36 -> 277114.6 | C42: =IF(ISNUMBER(B42/B$7*100),B42/B$7*100,0) -> 4.1061962 | D42: =[1]MercLab!D36 -> 124292.28 | E42: =IF(ISNUMBER(D42/D$7*100),D42/D$7*100,0) -> 3.9212246 | F42: =[1]MercLab!E36 -> 152822.31 | G42: =IF(ISNUMBER(F42/F$7*100),F42/F$7*100,0) -> 4.2700176 | H42: =[1]MercLab!F36 -> 185597.27 | I42: =IF(ISNUMBER(H42/H$7*100),H42/H$7*100,0) -> 4.7161741 | J42: =[1]MercLab!G36 -> 110135.33 | K42: =IF(ISNUMBER(J42/J$7*100),J42/J$7*100,0) -> 4.6702208 | L42: =[1]MercLab!H36 -> 75461.933 | M42: =IF(ISNUMBER(L42/L$7*100),L42/L$7*100,0) -> 4.7848887 | N42: =IF(ISNUMBER(H42/B42*100),H42/B42*100,0) -> 66.974916 | O42: =IF(ISNUMBER(J42/D42*100),J42/D42*100,0) -> 88.609952 | P42: =IF(ISNUMBER(L42/F42*100),L42/F42*100,0) -> 49.378872
A43: De 60 a 64 años | B43: =[1]MercLab!C37 -> 239882.19 | C43: =IF(ISNUMBER(B43/B$7*100),B43/B$7*100,0) -> 3.5544983 | D43: =[1]MercLab!D37 -> 109570.82 | E43: =IF(ISNUMBER(D43/D$7*100),D43/D$7*100,0) -> 3.4567858 | F43: =[1]MercLab!E37 -> 130311.37 | G43: =IF(ISNUMBER(F43/F$7*100),F43/F$7*100,0) -> 3.6410379 | H43: =[1]MercLab!F37 -> 148823.85 | I43: =IF(ISNUMBER(H43/H$7*100),H43/H$7*100,0) -> 3.7817325 | J43: =[1]MercLab!G37 -> 91601.331 | K43: =IF(ISNUMBER(J43/J$7*100),J43/J$7*100,0) -> 3.8842979 | L43: =[1]MercLab!H37 -> 57222.524 | M43: =IF(ISNUMBER(L43/L$7*100),L43/L$7*100,0) -> 3.6283646 | N43: =IF(ISNUMBER(H43/B43*100),H43/B43*100,0) -> 62.040393 | O43: =IF(ISNUMBER(J43/D43*100),J43/D43*100,0) -> 83.600112 | P43: =IF(ISNUMBER(L43/F43*100),L43/F43*100,0) -> 43.91215
A44: De 65 años y más | B44: =[1]MercLab!C38 -> 521154.98 | C44: =IF(ISNUMBER(B44/B$7*100),B44/B$7*100,0) -> 7.7223093 | D44: =[1]MercLab!D38 -> 241516.98 | E44: =IF(ISNUMBER(D44/D$7*100),D44/D$7*100,0) -> 7.6194779 | F44: =[1]MercLab!E38 -> 279638 | G44: =IF(ISNUMBER(F44/F$7*100),F44/F$7*100,0) -> 7.8133826 | H44: =[1]MercLab!F38 -> 209500.77 | I44: =IF(ISNUMBER(H44/H$7*100),H44/H$7*100,0) -> 5.323581 | J44: =[1]MercLab!G38 -> 147709 | K44: =IF(ISNUMBER(J44/J$7*100),J44/J$7*100,0) -> 6.2635088 | L44: =[1]MercLab!H38 -> 61791.769 | M44: =IF(ISNUMBER(L44/L$7*100),L44/L$7*100,0) -> 3.9180912 | N44: =IF(ISNUMBER(H44/B44*100),H44/B44*100,0) -> 40.199321 | O44: =IF(ISNUMBER(J44/D44*100),J44/D44*100,0) -> 61.158846 | P44: =IF(ISNUMBER(L44/F44*100),L44/F44*100,0) -> 22.097057
A46: =[2]Resumen!A49 -> Fuente: Instituto Nacional de Estadística (INE). L Encuesta Permanente de Hogares de Propósitos Múltiples, Junio 2015.
A47: 1/ Porcentaje por columnas
...

Sheet C02
A1: Cuadro No. 2. Tasa de Desempleo Abierto (TDA), Población en Edad de Trabajar (PET) y Población Económicamente Activa (PEA),
A2: según dominio, nivel educativo, rango de edad, sexo, rama de actividad y ocupación
A3: Categorías | B3: Población Total | E3: Población en Edad de Trabajar (PET) | H3: Población Económicamente Activa (PEA) | Q3: TDA | R3: MBT
H4: Total | K4: Ocupados | N4: Desocupados
B5: No. | C5: % 1/ | D5: AEP | E5: No. | F5: % 1/ | G5: AEP | H5: No. | I5: % 1/ | J5: AEP | K5: No. | L5: % 1/ | M5: AEP | N5: No. | O5: % 1/ | P5: AEP
A7: Total Nacional | B7: =[1]MercLab!C48 -> 8570153.5 | C7: =SUM(C10,C14) -> 100 | D7: =[1]MercLab!D48 -> 6.7354405 | E7: =[1]MercLab!E48 -> 6748693.5 | F7: =SUM(F10,F14) -> 100 | G7: =[1]MercLab!F48 -> 7.3559642 | H7: =[1]MercLab!G48 -> 3935335.4 | I7: =SUM(I10,I14) -> 100 | J7: =[1]MercLab!H48 -> 7.6757381 | K7: =[1]MercLab!I48 -> 3647637 | L7: =SUM(L10,L14) -> 100 | M7: =[1]MercLab!J48 -> 7.5524057 | N7: =[1]MercLab!K48 -> 287698.34 | O7: =SUM(O10,O14) -> 100 | P7: =[1]MercLab!L48 -> 9.1454204 | Q7: =IF(ISNUMBER(N7/H7*100),N7/H7*100,0) -> 7.3106436 | R7: =[1]MercLab!M48 -> 2.9382173
A9: Dominio
A10: Urbano | B10: =SUM(B11:B13) -> 4617756.5 | C10: =IF(ISNUMBER(B10/B$7*100),B10/B$7*100,0) -> 53.881842 | D10: =[3]Sheet1!D4 -> 7.8009411 | E10: =SUM(E11:E13) -> 3716493.6 | F10: =IF(ISNUMBER(E10/E$7*100),E10/E$7*100,0) -> 55.069824 | G10: =[3]Sheet1!E4 -> 8.4410416 | H10: =SUM(H11:H13) -> 2121726.4 | I10: =IF(ISNUMBER(H10/H$7*100),H10/H$7*100,0) -> 53.914753 | J10: =[3]Sheet1!F4 -> 8.9939138 | K10: =SUM(K11:K13) -> 1934935.3 | L10: =IF(ISNUMBER(K10/K$7*100),K10/K$7*100,0) -> 53.046268 | M10: =[3]Sheet1!G4 -> 8.863154 | N10: =SUM(N11:N13) -> 186791.06 | O10: =IF(ISNUMBER(N10/N$7*100),N10/N$7*100,0) -> 64.926012 | P10: =[3]Sheet1!H4 -> 10.111712 | Q10: =IF(ISNUMBER(N10/H10*100),N10/H10*100,0) -> 8.80373 | R10: =[3]Sheet1!H5 -> 3.4317476
A11: Distrito Central | B11: =[1]MercLab!C49 -> 1083319 | C11: =IF(ISNUMBER(B11/B$7*100),B11/B$7*100,0) -> 12.640602 | D11: =[1]MercLab!D49 -> 8.9762703 | E11: =[1]MercLab!E49 -> 887883.24 | F11: =IF(ISNUMBER(E11/E$7*100),E11/E$7*100,0) -> 13.156372 | G11: =[1]MercLab!F49 -> 9.6085067 | H11: =[1]MercLab!G49 -> 496872.85 | I11: =IF(ISNUMBER(H11/H$7*100),H11/H$7*100,0) -> 12.625934 | J11: =[1]MercLab!H49 -> 10.218108 | K11: =[1]MercLab!I49 -> 441909.81 | L11: =IF(ISNUMBER(K11/K$7*100),K11/K$7*100,0) -> 12.114961 | M11: =[1]MercLab!J49 -> 10.113779 | N11: =[1]MercLab!K49 -> 54963.043 | O11: =IF(ISNUMBER(N11/N$7*100),N11/N$7*100,0) -> 19.1044 | P11: =[1]MercLab!L49 -> 11.048503 | Q11: =IF(ISNUMBER(N11/H11*100),N11/H11*100,0) -> 11.061792 | R11: =[1]MercLab!M49 -> 3.7838166
A12: San Pedro Sula | B12: =[1]MercLab!C50 -> 700321.9 | C12: =IF(ISNUMBER(B12/B$7*100),B12/B$7*100,0) -> 8.1716377 | D12: =[1]MercLab!D50 -> 8.1767565 | E12: =[1]MercLab!E50 -> 572739.64 | F12: =IF(ISNUMBER(E12/E$7*100),E12/E$7*100,0) -> 8.4866745 | G12: =[1]MercLab!F50 -> 8.8312683 | H12: =[1]MercLab!G50 -> 348184.55 | I12: =IF(ISNUMBER(H12/H$7*100),H12/H$7*100,0) -> 8.8476461 | J12: =[1]MercLab!H50 -> 9.3515239 | K12: =[1]MercLab!I50 -> 323534.14 | L12: =IF(ISNUMBER(K12/K$7*100),K12/K$7*100,0) -> 8.8696911 | M12: =[1]MercLab!J50 -> 9.263223 | N12: =[1]MercLab!K50 -> 24650.409 | O12: =IF(ISNUMBER(N12/N$7*100),N12/N$7*100,0) -> 8.5681443 | P12: =[1]MercLab!L50 -> 10.454102 | Q12: =IF(ISNUMBER(N12/H12*100),N12/H12*100,0) -> 7.0796965 | R12: =[1]MercLab!M50 -> 3.0194663
A13: Resto urbano | B13: =[1]MercLab!C51 -> 2834115.7 | C13: =IF(ISNUMBER(B13/B$7*100),B13/B$7*100,0) -> 33.069602 | D13: =[1]MercLab!D51 -> 7.25672 | E13: =[1]MercLab!E51 -> 2255870.7 | F13: =IF(ISNUMBER(E13/E$7*100),E13/E$7*100,0) -> 33.426777 | G13: =[1]MercLab!F51 -> 7.8763449 | H13: =[1]MercLab!G51 -> 1276669 | I13: =IF(ISNUMBER(H13/H$7*100),H13/H$7*100,0) -> 32.441173 | J13: =[1]MercLab!H51 -> 8.4085642 | K13: =[1]MercLab!I51 -> 1169491.4 | L13: =IF(ISNUMBER(K13/K$7*100),K13/K$7*100,0) -> 32.061615 | M13: =[1]MercLab!J51 -> 8.2956117 | N13: =[1]MercLab!K51 -> 107177.61 | O13: =IF(ISNUMBER(N13/N$7*100),N13/N$7*100,0) -> 37.253467 | P13: =[1]MercLab!L51 -> 9.5858009 | Q13: =IF(ISNUMBER(N13/H13*100),N13/H13*100,0) -> 8.3950978 | R13: =[1]MercLab!M51 -> 2.9318769
A14: Rural | B14: =[1]MercLab!C52 -> 3952397 | C14: =IF(ISNUMBER(B14/B$7*100),B14/B$7*100,0) -> 46.118158 | D14: =[1]MercLab!D52 -> 5.3315149 | E14: =[1]MercLab!E52 -> 3032199.9 | F14: =IF(ISNUMBER(E14/E$7*100),E14/E$7*100,0) -> 44.930176 | G14: =[1]MercLab!F52 -> 5.8856275 | H14: =[1]MercLab!G52 -> 1813609 | I14: =IF(ISNUMBER(H14/H$7*100),H14/H$7*100,0) -> 46.085247 | J14: =[1]MercLab!H52 -> 5.9755623 | K14: =[1]MercLab!I52 -> 1712701.7 | L14: =IF(ISNUMBER(K14/K$7*100),K14/K$7*100,0) -> 46.953732 | M14: =[1]MercLab!J52 -> 5.8967374 | N14: =[1]MercLab!K52 -> 100907.28 | O14: =IF(ISNUMBER(N14/N$7*100),N14/N$7*100,0) -> 35.073988 | P14: =[1]MercLab!L52 -> 7.2143485 | Q14: =IF(ISNUMBER(N14/H14*100),N14/H14*100,0) -> 5.563894 | R14: =[1]MercLab!M52 -> 2.0178574
A16: Nivel educativo 2/
A17: Sin Nivel | B17: =[1]MercLab!C54 -> 1781930.8 | C17: =IF(ISNUMBER(B17/B$7*100),B17/B$7*100,0) -> 20.792285 | D17: =[1]MercLab!D54 -> 0 | E17: =[1]MercLab!E54 -> 650117.89 | F17: =IF(ISNUMBER(E17/E$7*100),E17/E$7*100,0) -> 9.6332408 | G17: =[1]MercLab!F54 -> 0 | H17: =[1]MercLab!G54 -> 366119.76 | I17: =IF(ISNUMBER(H17/H$7*100),H17/H$7*100,0) -> 9.3033942 | J17: =[1]MercLab!H54 -> 0 | K17: =[1]MercLab!I54 -> 354564.92 | L17: =IF(ISNUMBER(K17/K$7*100),K17/K$7*100,0) -> 9.7204004 | M17: =[1]MercLab!J54 -> 0 | N17: =[1]MercLab!K54 -> 11554.838 | O17: =IF(ISNUMBER(N17/N$7*100),N17/N$7*100,0) -> 4.0163034 | P17: =[1]MercLab!L54 -> 0 | Q17: =IF(ISNUMBER(N17/H17*100),N17/H17*100,0) -> 3.1560269 | R17: =[1]MercLab!M54 -> 2.3996265
A18: Primaria | B18: =[1]MercLab!C55 -> 4238461.4 | C18: =IF(ISNUMBER(B18/B$7*100),B18/B$7*100,0) -> 49.456073 | D18: =[1]MercLab!D55 -> 4.1885921 | E18: =[1]MercLab!E55 -> 3548814.2 | F18: =IF(ISNUMBER(E18/E$7*100),E18/E$7*100,0) -> 52.585203 | G18: =[1]MercLab!F55 -> 4.7562575 | H18: =[1]MercLab!G55 -> 2035428.3 | I18: =IF(ISNUMBER(H18/H$7*100),H18/H$7*100,0) -> 51.721852 | J18: =[1]MercLab!H55 -> 4.7743409 | K18: =[1]MercLab!I55 -> 1927868.6 | L18: =IF(ISNUMBER(K18/K$7*100),K18/K$7*100,0) -> 52.852533 | M18: =[1]MercLab!J55 -> 4.7460407 | N18: =[1]MercLab!K55 -> 107559.76 | O18: =IF(ISNUMBER(N18/N$7*100),N18/N$7*100,0) -> 37.386298 | P18: =[1]MercLab!L55 -> 5.2815856 | Q18: =IF(ISNUMBER(N18/H18*100),N18/H18*100,0) -> 5.2843796 | R18: =[1]MercLab!M55 -> 2.0242935
A19: Secundaria | B19: =[1]MercLab!C56 -> 1964496.1 | C19: =IF(ISNUMBER(B19/B$7*100),B19/B$7*100,0) -> 22.922531 | D19: =[1]MercLab!D56 -> 9.8728118 | E19: =[1]MercLab!E56 -> 1964496.1 | F19: =IF(ISNUMBER(E19/E$7*100),E19/E$7*100,0) -> 29.109281 | G19: =[1]MercLab!F56 -> 9.8728118 | H19: =[1]MercLab!G56 -> 1130542.3 | I19: =IF(ISNUMBER(H19/H$7*100),H19/H$7*100,0) -> 28.727979 | J19: =[1]MercLab!H56 -> 10.316593 | K19: =[1]MercLab!I56 -> 1001493.4 | L19: =IF(ISNUMBER(K19/K$7*100),K19/K$7*100,0) -> 27.45595 | M19: =[1]MercLab!J56 -> 10.266392 | N19: =[1]MercLab!K56 -> 129048.91 | O19: =IF(ISNUMBER(N19/N$7*100),N19/N$7*100,0) -> 44.855634 | P19: =[1]MercLab!L56 -> 10.706186 | Q19: =IF(ISNUMBER(N19/H19*100),N19/H19*100,0) -> 11.41478 | R19: =[1]MercLab!M56 -> 3.3443388
A20: Superior | B20: =[1]MercLab!C57 -> 563760.34 | C20: =IF(ISNUMBER(B20/B$7*100),B20/B$7*100,0) -> 6.5781825 | D20: =[1]MercLab!D57 -> 14.950571 | E20: =[1]MercLab!E57 -> 563760.34 | F20: =IF(ISNUMBER(E20/E$7*100),E20/E$7*100,0) -> 8.353622 | G20: =[1]MercLab!F57 -> 14.950571 | H20: =[1]MercLab!G57 -> 388368.06 | I20: =IF(ISNUMBER(H20/H$7*100),H20/H$7*100,0) -> 9.8687412 | J20: =[1]MercLab!H57 -> 15.194347 | K20: =[1]MercLab!I57 -> 349797.25 | L20: =IF(ISNUMBER(K20/K$7*100),K20/K$7*100,0) -> 9.5896947 | M20: =[1]MercLab!J57 -> 15.249047 | N20: =[1]MercLab!K57 -> 38570.809 | O20: =IF(ISNUMBER(N20/N$7*100),N20/N$7*100,0) -> 13.406685 | P20: =[1]MercLab!L57 -> 14.698274 | Q20: =IF(ISNUMBER(N20/H20*100),N20/H20*100,0) -> 9.9315091 | R20: =[1]MercLab!M57 -> 3.5970301
A21: No sabe, no responde | B21: =[1]MercLab!C58 -> 21504.935 | C21: =IF(ISNUMBER(B21/B$7*100),B21/B$7*100,0) -> 0.25092823 | D21: =[1]MercLab!D58 -> 0 | E21: =[1]MercLab!E58 -> 21504.935 | F21: =IF(ISNUMBER(E21/E$7*100),E21/E$7*100,0) -> 0.31865331 | G21: =[1]MercLab!F58 -> 0 | H21: =[1]MercLab!G58 -> 14876.889 | I21: =IF(ISNUMBER(H21/H$7*100),H21/H$7*100,0) -> 0.37803356 | J21: =[1]MercLab!H58 -> 0 | K21: =[1]MercLab!I58 -> 13912.869 | L21: =IF(ISNUMBER(K21/K$7*100),K21/K$7*100,0) -> 0.38142142 | M21: =[1]MercLab!J58 -> 0 | N21: =[1]MercLab!K58 -> 964.01959 | O21: =IF(ISNUMBER(N21/N$7*100),N21/N$7*100,0) -> 0.33507999 | P21: =[1]MercLab!L58 -> 0 | Q21: =IF(ISNUMBER(N21/H21*100),N21/H21*100,0) -> 6.4799812 | R21: =[1]MercLab!M58 -> 0.508022
A23: Rango de Edad
A24: De 10 a 11 años | B24: =[1]MercLab!C60 -> 364755.55 | C24: =IF(ISNUMBER(B24/B$7*100),B24/B$7*100,0) -> 4.2561145 | D24: =[1]MercLab!D60 -> 3.7982981 | E24: =[1]MercLab!E60 -> 364755.55 | F24: =IF(ISNUMBER(E24/E$7*100),E24/E$7*100,0) -> 5.4048321 | G24: =[1]MercLab!F60 -> 3.7982981 | H24: =[1]MercLab!G60 -> 25683.493 | I24: =IF(ISNUMBER(H24/H$7*100),H24/H$7*100,0) -> 0.65263798 | J24: =[1]MercLab!H60 -> 3.5872601 | K24: =[1]MercLab!I60 -> 25356.844 | L24: =IF(ISNUMBER(K24/K$7*100),K24/K$7*100,0) -> 0.6951581 | M24: =[1]MercLab!J60 -> 3.5818477 | N24: =[1]MercLab!K60 -> 326.64888 | O24: =IF(ISNUMBER(N24/N$7*100),N24/N$7*100,0) -> 0.11353867 | P24: =[1]MercLab!L60 -> 4 | Q24: =IF(ISNUMBER(N24/H24*100),N24/H24*100,0) -> 1.2718242 | R24: =[1]MercLab!M60 -> 0
A25: De 12 a 14 años | B25: =[1]MercLab!C61 -> 604744.3 | C25: =IF(ISNUMBER(B25/B$7*100),B25/B$7*100,0) -> 7.0563998 | D25: =[1]MercLab!D61 -> 5.7886818 | E25: =[1]MercLab!E61 -> 604744.3 | F25: =IF(ISNUMBER(E25/E$7*100),E25/E$7*100,0) -> 8.9609093 | G25: =[1]MercLab!F61 -> 5.7886818 | H25: =[1]MercLab!G61 -> 139896.4 | I25: =IF(ISNUMBER(H25/H$7*100),H25/H$7*100,0) -> 3.5548788 | J25: =[1]MercLab!H61 -> 5.4165696 | K25: =[1]MercLab!I61 -> 129812.46 | L25: =IF(ISNUMBER(K25/K$7*100),K25/K$7*100,0) -> 3.5588097 | M25: =[1]MercLab!J61 -> 5.438916 | N25: =[1]MercLab!K61 -> 10083.943 | O25: =IF(ISNUMBER(N25/N$7*100),N25/N$7*100,0) -> 3.5050402 | P25: =[1]MercLab!L61 -> 5.1429807 | Q25: =IF(ISNUMBER(N25/H25*100),N25/H25*100,0) -> 7.2081501 | R25: =[1]MercLab!M61 -> 0.43634318
A26: De 15 a 18 años | B26: =[1]MercLab!C62 -> 867163.07 | C26: =IF(ISNUMBER(B26/B$7*100),B26/B$7*100,0) -> 10.118408 | D26: =[1]MercLab!D62 -> 7.7279299 | E26: =[1]MercLab!E62 -> 867163.07 | F26: =IF(ISNUMBER(E26/E$7*100),E26/E$7*100,0) -> 12.849347 | G26: =[1]MercLab!F62 -> 7.7279299 | H26: =[1]MercLab!G62 -> 398658.64 | I26: =IF(ISNUMBER(H26/H$7*100),H26/H$7*100,0) -> 10.130233 | J26: =[1]MercLab!H62 -> 7.0634301 | K26: =[1]MercLab!I62 -> 350729.85 | L26: =IF(ISNUMBER(K26/K$7*100),K26/K$7*100,0) -> 9.6152618 | M26: =[1]MercLab!J62 -> 6.9191547 | N26: =[1]MercLab!K62 -> 47928.796 | O26: =IF(ISNUMBER(N26/N$7*100),N26/N$7*100,0) -> 16.659392 | P26: =[1]MercLab!L62 -> 8.1115808 | Q26: =IF(ISNUMBER(N26/H26*100),N26/H26*100,0) -> 12.022515 | R26: =[1]MercLab!M62 -> 1.5930935
A27: De 19 a 24 años | B27: =[1]MercLab!C63 -> 1031396.6 | C27: =IF(ISNUMBER(B27/B$7*100),B27/B$7*100,0) -> 12.034751 | D27: =[1]MercLab!D63 -> 9.1120146 | E27: =[1]MercLab!E63 -> 1031396.6 | F27: =IF(ISNUMBER(E27/E$7*100),E27/E$7*100,0) -> 15.282908 | G27: =[1]MercLab!F63 -> 9.1120146 | H27: =[1]MercLab!G63 -> 675742.07 | I27: =IF(ISNUMBER(H27/H$7*100),H27/H$7*100,0) -> 17.171143 | J27: =[1]MercLab!H63 -> 8.9691283 | K27: =[1]MercLab!I63 -> 571390.12 | L27: =IF(ISNUMBER(K27/K$7*100),K27/K$7*100,0) -> 15.664665 | M27: =[1]MercLab!J63 -> 8.6929341 | N27: =[1]MercLab!K63 -> 104351.95 | O27: =IF(ISNUMBER(N27/N$7*100),N27/N$7*100,0) -> 36.271309 | P27: =[1]MercLab!L63 -> 10.47195 | Q27: =IF(ISNUMBER(N27/H27*100),N27/H27*100,0) -> 15.442572 | R27: =[1]MercLab!M63 -> 3.2346169
A28: De 25 a 29 años | B28: =[1]MercLab!C64 -> 633036.34 | C28: =IF(ISNUMBER(B28/B$7*100),B28/B$7*100,0) -> 7.3865228 | D28: =[1]MercLab!D64 -> 8.9220656 | E28: =[1]MercLab!E64 -> 633036.34 | F28: =IF(ISNUMBER(E28/E$7*100),E28/E$7*100,0) -> 9.3801318 | G28: =[1]MercLab!F64 -> 8.9220656 | H28: =[1]MercLab!G64 -> 463179.21 | I28: =IF(ISNUMBER(H28/H$7*100),H28/H$7*100,0) -> 11.769752 | J28: =[1]MercLab!H64 -> 9.0190216 | K28: =[1]MercLab!I64 -> 425510.96 | L28: =IF(ISNUMBER(K28/K$7*100),K28/K$7*100,0) -> 11.665387 | M28: =[1]MercLab!J64 -> 8.9427951 | N28: =[1]MercLab!K64 -> 37668.244 | O28: =IF(ISNUMBER(N28/N$7*100),N28/N$7*100,0) -> 13.092965 | P28: =[1]MercLab!L64 -> 9.8546711 | Q28: =IF(ISNUMBER(N28/H28*100),N28/H28*100,0) -> 8.132542 | R28: =[1]MercLab!M64 -> 3.0849795
A29: De 30 a 35 años | B29: =[1]MercLab!C65 -> 665341.69 | C29: =IF(ISNUMBER(B29/B$7*100),B29/B$7*100,0) -> 7.7634746 | D29: =[1]MercLab!D65 -> 7.9403233 | E29: =[1]MercLab!E65 -> 665341.69 | F29: =IF(ISNUMBER(E29/E$7*100),E29/E$7*100,0) -> 9.8588222 | G29: =[1]MercLab!F65 -> 7.9403233 | H29: =[1]MercLab!G65 -> 488555.7 | I29: =IF(ISNUMBER(H29/H$7*100),H29/H$7*100,0) -> 12.414589 | J29: =[1]MercLab!H65 -> 8.1593524 | K29: =[1]MercLab!I65 -> 463516.03 | L29: =IF(ISNUMBER(K29/K$7*100),K29/K$7*100,0) -> 12.707296 | M29: =[1]MercLab!J65 -> 8.0808587 | N29: =[1]MercLab!K65 -> 25039.665 | O29: =IF(ISNUMBER(N29/N$7*100),N29/N$7*100,0) -> 8.7034442 | P29: =[1]MercLab!L65 -> 9.5620366 | Q29: =IF(ISNUMBER(N29/H29*100),N29/H29*100,0) -> 5.1252426 | R29: =[1]MercLab!M65 -> 3.1954193
A30: De 36 a 44 años | B30: =[1]MercLab!C66 -> 842914.96 | C30: =IF(ISNUMBER(B30/B$7*100),B30/B$7*100,0) -> 9.8354709 | D30: =[1]MercLab!D66 -> 7.2709832 | E30: =[1]MercLab!E66 -> 842914.96 | F30: =IF(ISNUMBER(E30/E$7*100),E30/E$7*100,0) -> 12.490047 | G30: =[1]MercLab!F66 -> 7.2709832 | H30: =[1]MercLab!G66 -> 655503.19 | I30: =IF(ISNUMBER(H30/H$7*100),H30/H$7*100,0) -> 16.656857 | J30: =[1]MercLab!H66 -> 7.5269967 | K30: =[1]MercLab!I66 -> 632008.86 | L30: =IF(ISNUMBER(K30/K$7*100),K30/K$7*100,0) -> 17.326528 | M30: =[1]MercLab!J66 -> 7.498606 | N30: =[1]MercLab!K66 -> 23494.337 | O30: =IF(ISNUMBER(N30/N$7*100),N30/N$7*100,0) -> 8.1663096 | P30: =[1]MercLab!L66 -> 8.2889776 | Q30: =IF(ISNUMBER(N30/H30*100),N30/H30*100,0) -> 3.5841683 | R30: =[1]MercLab!M66 -> 2.4491747
A31: De 45 a 59 años | B31: =[1]MercLab!C67 -> 978303.76 | C31: =IF(ISNUMBER(B31/B$7*100),B31/B$7*100,0) -> 11.415242 | D31: =[1]MercLab!D67 -> 6.8155001 | E31: =[1]MercLab!E67 -> 978303.76 | F31: =IF(ISNUMBER(E31/E$7*100),E31/E$7*100,0) -> 14.496195 | G31: =[1]MercLab!F67 -> 6.8155001 | H31: =[1]MercLab!G67 -> 713160.42 | I31: =IF(ISNUMBER(H31/H$7*100),H31/H$7*100,0) -> 18.121973 | J31: =[1]MercLab!H67 -> 7.0619663 | K31: =[1]MercLab!I67 -> 681809.29 | L31: =IF(ISNUMBER(K31/K$7*100),K31/K$7*100,0) -> 18.691807 | M31: =[1]MercLab!J67 -> 7.0393502 | N31: =[1]MercLab!K67 -> 31351.134 | O31: =IF(ISNUMBER(N31/N$7*100),N31/N$7*100,0) -> 10.897224 | P31: =[1]MercLab!L67 -> 7.5175561 | Q31: =IF(ISNUMBER(N31/H31*100),N31/H31*100,0) -> 4.3960844 | R31: =[1]MercLab!M67 -> 2.9460534
A32: De 60 años y más | B32: =[1]MercLab!C68 -> 761037.17 | C32: =IF(ISNUMBER(B32/B$7*100),B32/B$7*100,0) -> 8.880088 | D32: =[1]MercLab!D68 -> 6.0224512 | E32: =[1]MercLab!E68 -> 761037.17 | F32: =IF(ISNUMBER(E32/E$7*100),E32/E$7*100,0) -> 11.276808 | G32: =[1]MercLab!F68 -> 6.0224512 | H32: =[1]MercLab!G68 -> 358324.62 | I32: =IF(ISNUMBER(H32/H$7*100),H32/H$7*100,0) -> 9.1053134 | J32: =[1]MercLab!H68 -> 5.6876227 | K32: =[1]MercLab!I68 -> 351318.04 | L32: =IF(ISNUMBER(K32/K$7*100),K32/K$7*100,0) -> 9.631387 | M32: =[1]MercLab!J68 -> 5.678852 | N32: =[1]MercLab!K68 -> 7006.5818 | O32: =IF(ISNUMBER(N32/N$7*100),N32/N$7*100,0) -> 2.4353918 | P32: =[1]MercLab!L68 -> 6.0867051 | Q32: =IF(ISNUMBER(N32/H32*100),N32/H32*100,0) -> 1.9553727 | R32: =[1]MercLab!M68 -> 3.659568
A34: Sexo
A35: Hombre | B35: =[1]MercLab!C70 -> 4102079.2 | C35: =IF(ISNUMBER(B35/B$7*100),B35/B$7*100,0) -> 47.864711 | D35: =[1]MercLab!D70 -> 6.460591 | E35: =[1]MercLab!E70 -> 3169731.4 | F35: =IF(ISNUMBER(E35/E$7*100),E35/E$7*100,0) -> 46.968074 | G35: =[1]MercLab!F70 -> 7.1010039 | H35: =[1]MercLab!G70 -> 2358246.8 | I35: =IF(ISNUMBER(H35/H$7*100),H35/H$7*100,0) -> 59.924926 | J35: =[1]MercLab!H70 -> 7.1582724 | K35: =[1]MercLab!I70 -> 2255445.9 | L35: =IF(ISNUMBER(K35/K$7*100),K35/K$7*100,0) -> 61.833068 | M35: =[1]MercLab!J70 -> 7.0681846 | N35: =[1]MercLab!K70 -> 102800.93 | O35: =IF(ISNUMBER(N35/N$7*100),N35/N$7*100,0) -> 35.732193 | P35: =[1]MercLab!L70 -> 9.0002627 | Q35: =IF(ISNUMBER(N35/H35*100),N35/H35*100,0) -> 4.3592099 | R35: =[1]MercLab!M70 -> 2.9197151
A36: Mujer | B36: =[1]MercLab!C71 -> 4468074.3 | C36: =IF(ISNUMBER(B36/B$7*100),B36/B$7*100,0) -> 52.135289 | D36: =[1]MercLab!D71 -> 6.9823287 | E36: =[1]MercLab!E71 -> 3578962.1 | F36: =IF(ISNUMBER(E36/E$7*100),E36/E$7*100,0) -> 53.031926 | G36: =[1]MercLab!F71 -> 7.5813037 | H36: =[1]MercLab!G71 -> 1577088.6 | I36: =IF(ISNUMBER(H36/H$7*100),H36/H$7*100,0) -> 40.075074 | J36: =[1]MercLab!H71 -> 8.4271869 | K36: =[1]MercLab!I71 -> 1392191.2 | L36: =IF(ISNUMBER(K36/K$7*100),K36/K$7*100,0) -> 38.166932 | M36: =[1]MercLab!J71 -> 8.3160621 | N36: =[1]MercLab!K71 -> 184897.41 | O36: =IF(ISNUMBER(N36/N$7*100),N36/N$7*100,0) -> 64.267807 | P36: =[1]MercLab!L71 -> 9.2258931 | Q36: =IF(ISNUMBER(N36/H36*100),N36/H36*100,0) -> 11.723971 | R36: =[1]MercLab!M71 -> 2.9523085
A38: Rama de Actividad
A39: Primaria | B39: =[1]MercLab!C73 -> 1101198 | C39: =IF(ISNUMBER(B39/B$7*100),B39/B$7*100,0) -> 12.849222 | D39: =[1]MercLab!D73 -> 5.2923263 | E39: =[1]MercLab!E73 -> 1093743.8 | F39: =IF(ISNUMBER(E39/E$7*100),E39/E$7*100,0) -> 16.206748 | G39: =[1]MercLab!F73 -> 5.3165883 | H39: =[1]MercLab!G73 -> 1101198 | I39: =IF(ISNUMBER(H39/H$7*100),H39/H$7*100,0) -> 27.982318 | J39: =[1]MercLab!H73 -> 5.2923263 | K39: =[1]MercLab!I73 -> 1101198 | L39: =IF(ISNUMBER(K39/K$7*100),K39/K$7*100,0) -> 30.189354 | M39: =[1]MercLab!J73 -> 5.2923263 | N39: =[1]MercLab!K73 -> 0 | O39: =IF(ISNUMBER(N39/N$7*100),N39/N$7*100,0) -> 0 | P39: =[1]MercLab!L73 -> 0 | Q39: =IF(ISNUMBER(N39/H39*100),N39/H39*100,0) -> 0 | R39: =[1]MercLab!M73 -> 0
A40: Secundaria | B40: =[1]MercLab!C74 -> 541005.33 | C40: =IF(ISNUMBER(B40/B$7*100),B40/B$7*100,0) -> 6.3126678 | D40: =[1]MercLab!D74 -> 7.7055482 | E40: =[1]MercLab!E74 -> 539178.53 | F40: =IF(ISNUMBER(E40/E$7*100),E40/E$7*100,0) -> 7.9893765 | G40: =[1]MercLab!F74 -> 7.7278168 | H40: =[1]MercLab!G74 -> 541005.33 | I40: =IF(ISNUMBER(H40/H$7*100),H40/H$7*100,0) -> 13.747375 | J40: =[1]MercLab!H74 -> 7.7055482 | K40: =[1]MercLab!I74 -> 541005.33 | L40: =IF(ISNUMBER(K40/K$7*100),K40/K$7*100,0) -> 14.831666 | M40: =[1]MercLab!J74 -> 7.7055482 | N40: =[1]MercLab!K74 -> 0 | O40: =IF(ISNUMBER(N40/N$7*100),N40/N$7*100,0) -> 0 | P40: =[1]MercLab!L74 -> 0 | Q40: =IF(ISNUMBER(N40/H40*100),N40/H40*100,0) -> 0 | R40: =[1]MercLab!M74 -> 0
A41: Terciaria | B41: =[1]MercLab!C75 -> 2004519.9 | C41: =IF(ISNUMBER(B41/B$7*100),B41/B$7*100,0) -> 23.389545 | D41: =[1]MercLab!D75 -> 8.5941337 | E41: =[1]MercLab!E75 -> 1997616.4 | F41: =IF(ISNUMBER(E41/E$7*100),E41/E$7*100,0) -> 29.600046 | G41: =[1]MercLab!F75 -> 8.6180036 | H41: =[1]MercLab!G75 -> 2004519.9 | I41: =IF(ISNUMBER(H41/H$7*100),H41/H$7*100,0) -> 50.936443 | J41: =[1]MercLab!H75 -> 8.5941337 | K41: =[1]MercLab!I75 -> 2004519.9 | L41: =IF(ISNUMBER(K41/K$7*100),K41/K$7*100,0) -> 54.953929 | M41: =[1]MercLab!J75 -> 8.5941337 | N41: =[1]MercLab!K75 -> 0 | O41: =IF(ISNUMBER(N41/N$7*100),N41/N$7*100,0) -> 0 | P41: =[1]MercLab!L75 -> 0 | Q41: =IF(ISNUMBER(N41/H41*100),N41/H41*100,0) -> 0 | R41: =[1]MercLab!M75 -> 0
A42: No sabe, no responde | B42: =[1]MercLab!C76 -> 913.78611 | C42: =IF(ISNUMBER(B42/B$7*100),B42/B$7*100,0) -> 0.010662424 | D42: =[1]MercLab!D76 -> 10.57013 | E42: =[1]MercLab!E76 -> 913.78611 | F42: =IF(ISNUMBER(E42/E$7*100),E42/E$7*100,0) -> 0.013540193 | G42: =[1]MercLab!F76 -> 10.57013 | H42: =[1]MercLab!G76 -> 913.78611 | I42: =IF(ISNUMBER(H42/H$7*100),H42/H$7*100,0) -> 0.023220031 | J42: =[1]MercLab!H76 -> 10.57013 | K42: =[1]MercLab!I76 -> 913.78611 | L42: =IF(ISNUMBER(K42/K$7*100),K42/K$7*100,0) -> 0.025051454 | M42: =[1]MercLab!J76 -> 10.57013 | N42: =[1]MercLab!K76 -> 0 | O42: =IF(ISNUMBER(N42/N$7*100),N42/N$7*100,0) -> 0 | P42: =[1]MercLab!L76 -> 0 | Q42: =IF(ISNUMBER(N42/H42*100),N42/H42*100,0) -> 0 | R42: =[1]MercLab!M76 -> 0
A43: Busca trabajo por primera vez | B43: =[1]MercLab!C77 -> 158771.3 | C43: =IF(ISNUMBER(B43/B$7*100),B43/B$7*100,0) -> 1.8526074 | D43: =[1]MercLab!D77 -> 8.72366 | E43: =[1]MercLab!E77 -> 158324.26 | F43: =IF(ISNUMBER(E43/E$7*100),E43/E$7*100,0) -> 2.3459987 | G43: =[1]MercLab!F77 -> 8.72366 | H43: =[1]MercLab!G77 -> 158771.3 | I43: =IF(ISNUMBER(H43/H$7*100),H43/H$7*100,0) -> 4.034505 | J43: =[1]MercLab!H77 -> 8.72366 | K43: =[1]MercLab!I77 -> 0 | L43: =IF(ISNUMBER(K43/K$7*100),K43/K$7*100,0) -> 0 | M43: =[1]MercLab!J77 -> 0 | N43: =[1]MercLab!K77 -> 158771.3 | O43: =IF(ISNUMBER(N43/N$7*100),N43/N$7*100,0) -> 55.186728 | P43: =[1]MercLab!L77 -> 8.72366 | Q43: =IF(ISNUMBER(N43/H43*100),N43/H43*100,0) -> 100 | R43: =[1]MercLab!M77 -> 3.5719747
A45: ='C01'!A46 -> Fuente: Instituto Nacional de Estadística (INE). L Encuesta Permanente de Hogares de Propósitos Múltiples, Junio 2015.
A46: (Promedio de salarios mínimos por rama)
A47: AEP= Años de Estudio Promedio
...

Sheet C02.
A1: Cuadro No. 2. Tasa de Desempleo Abierto (TDA), Población en Edad de Trabajar (PET) y Población Económicamente Activa (PEA),
A2: según dominio, nivel educativo, rango de edad, sexo, rama de actividad y ocupación
A3: Continuación………….
A4: Categorías | B4: Población Económicamente Activa (PEA) | K4: TDA | L4: MBT
B5: Total | E5: Ocupados | H5: Desocupados
B6: No. | C6: % 1/ | D6: AEP | E6: No. | F6: % 1/ | G6: AEP | H6: No. | I6: % 1/ | J6: AEP
A8: Total Nacional | B8: =SUM(B11:B34) -> 3935335.4 | C8: ='C02'!I7 -> 100 | D8: ='C02'!J7 -> 7.6757381 | E8: =SUM(E11:E34) -> 3647637 | F8: ='C02'!L7 -> 100 | G8: ='C02'!M7 -> 7.5524057 | H8: =SUM(H11:H34) -> 287698.34 | I8: ='C02'!O7 -> 100 | J8: ='C02'!P7 -> 9.1454204 | K8: ='C02'!Q7 -> 7.3106436 | L8: ='C02'!R7 -> 2.9382173
A10: Rama de Actividad
A11: Agricultura, ganaderia, silvicultura y pesca | B11: =[1]MercLab!G79 -> 1100711.8 | C11: =IF(ISNUMBER(B11/B$8*100),B11/B$8*100,0) -> 27.969961 | D11: =[1]MercLab!H79 -> 5.3203901 | E11: =[1]MercLab!I79 -> 1092253.3 | F11: =IF(ISNUMBER(E11/E$8*100),E11/E$8*100,0) -> 29.944132 | G11: =[1]MercLab!J79 -> 5.2942366 | H11: =[1]MercLab!K79 -> 8458.5177 | I11: =IF(ISNUMBER(H11/H$8*100),H11/H$8*100,0) -> 2.9400648 | J11: =[1]MercLab!L79 -> 9.0057361 | K11: =IF(ISNUMBER(H11/B11*100),H11/B11*100,0) -> 0.76845891 | L11: =[1]MercLab!M79 -> 1.8386171
A12: Explotacion de minas y canteras | B12: =[1]MercLab!G80 -> 9739.1345 | C12: =IF(ISNUMBER(B12/B$8*100),B12/B$8*100,0) -> 0.24747915 | D12: =[1]MercLab!H80 -> 5.2981508 | E12: =[1]MercLab!I80 -> 8944.7777 | F12: =IF(ISNUMBER(E12/E$8*100),E12/E$8*100,0) -> 0.24522116 | G12: =[1]MercLab!J80 -> 5.0555207 | H12: =[1]MercLab!K80 -> 794.35683 | I12: =IF(ISNUMBER(H12/H$8*100),H12/H$8*100,0) -> 0.27610755 | J12: =[1]MercLab!L80 -> 7.4978517 | K12: =IF(ISNUMBER(H12/B12*100),H12/B12*100,0) -> 8.1563391 | L12: =[1]MercLab!M80 -> 0.78138427
A13: Industria manufacturera | B13: =[1]MercLab!G81 -> 561565.42 | C13: =IF(ISNUMBER(B13/B$8*100),B13/B$8*100,0) -> 14.269824 | D13: =[1]MercLab!H81 -> 7.7592429 | E13: =[1]MercLab!I81 -> 541005.33 | F13: =IF(ISNUMBER(E13/E$8*100),E13/E$8*100,0) -> 14.831666 | G13: =[1]MercLab!J81 -> 7.7055482 | H13: =[1]MercLab!K81 -> 20560.096 | I13: =IF(ISNUMBER(H13/H$8*100),H13/H$8*100,0) -> 7.1464075 | J13: =[1]MercLab!L81 -> 9.1040354 | K13: =IF(ISNUMBER(H13/B13*100),H13/B13*100,0) -> 3.6612112 | L13: =[1]MercLab!M81 -> 2.6812926
A14: Suministro de electricidad, gas, vapor y aire acondicionado | B14: =[1]MercLab!G82 -> 13077.148 | C14: =IF(ISNUMBER(B14/B$8*100),B14/B$8*100,0) -> 0.33230072 | D14: =[1]MercLab!H82 -> 10.964692 | E14: =[1]MercLab!I82 -> 12009.411 | F14: =IF(ISNUMBER(E14/E$8*100),E14/E$8*100,0) -> 0.3292381 | G14: =[1]MercLab!J82 -> 10.847683 | H14: =[1]MercLab!K82 -> 1067.737 | I14: =IF(ISNUMBER(H14/H$8*100),H14/H$8*100,0) -> 0.37113073 | J14: =[1]MercLab!L82 -> 12.231889 | K14: =IF(ISNUMBER(H14/B14*100),H14/B14*100,0) -> 8.1649071 | L14: =[1]MercLab!M82 -> 6
A15: Suministro de agua, evacuacion de aguas residuales, gestion de desechos y descontaminacion | B15: =[1]MercLab!G83 -> 21676.78 | C15: =IF(ISNUMBER(B15/B$8*100),B15/B$8*100,0) -> 0.55082421 | D15: =[1]MercLab!H83 -> 6.6943222 | E15: =[1]MercLab!I83 -> 20693.595 | F15: =IF(ISNUMBER(E15/E$8*100),E15/E$8*100,0) -> 0.56731508 | G15: =[1]MercLab!J83 -> 6.5039436 | H15: =[1]MercLab!K83 -> 983.18498 | I15: =IF(ISNUMBER(H15/H$8*100),H15/H$8*100,0) -> 0.34174162 | J15: =[1]MercLab!L83 -> 10.130638 | K15: =IF(ISNUMBER(H15/B15*100),H15/B15*100,0) -> 4.5356597 | L15: =[1]MercLab!M83 -> 1.6234477
A16: Construccion | B16: =[1]MercLab!G84 -> 217886.18 | C16: =IF(ISNUMBER(B16/B$8*100),B16/B$8*100,0) -> 5.5366611 | D16: =[1]MercLab!H84 -> 6.6498209 | E16: =[1]MercLab!I84 -> 203284.56 | F16: =IF(ISNUMBER(E16/E$8*100),E16/E$8*100,0) -> 5.573048 | G16: =[1]MercLab!J84 -> 6.6574617 | H16: =[1]MercLab!K84 -> 14601.618 | I16: =IF(ISNUMBER(H16/H$8*100),H16/H$8*100,0) -> 5.0753222 | J16: =[1]MercLab!L84 -> 6.546304 | K16: =IF(ISNUMBER(H16/B16*100),H16/B16*100,0) -> 6.7014887 | L16: =[1]MercLab!M84 -> 2.4808633
A17: Comercio al por mayor y al por menor, reparacion de vehiculos automotores y motocicletas | B17: =[1]MercLab!G85 -> 726271.84 | C17: =IF(ISNUMBER(B17/B$8*100),B17/B$8*100,0) -> 18.455145 | D17: =[1]MercLab!H85 -> 7.9713488 | E17: =[1]MercLab!I85 -> 700131.05 | F17: =IF(ISNUMBER(E17/E$8*100),E17/E$8*100,0) -> 19.194099 | G17: =[1]MercLab!J85 -> 7.8910047 | H17: =[1]MercLab!K85 -> 26140.788 | I17: =IF(ISNUMBER(H17/H$8*100),H17/H$8*100,0) -> 9.0861795 | J17: =[1]MercLab!L85 -> 10.034038 | K17: =IF(ISNUMBER(H17/B17*100),H17/B17*100,0) -> 3.5993118 | L17: =[1]MercLab!M85 -> 3.1109288
A18: Transporte y almacenamiento | B18: =[1]MercLab!G86 -> 110275.31 | C18: =IF(ISNUMBER(B18/B$8*100),B18/B$8*100,0) -> 2.8021832 | D18: =[1]MercLab!H86 -> 7.46994 | E18: =[1]MercLab!I86 -> 104782.19 | F18: =IF(ISNUMBER(E18/E$8*100),E18/E$8*100,0) -> 2.8726046 | G18: =[1]MercLab!J86 -> 7.2755396 | H18: =[1]MercLab!K86 -> 5493.118 | I18: =IF(ISNUMBER(H18/H$8*100),H18/H$8*100,0) -> 1.9093325 | J18: =[1]MercLab!L86 -> 11.203907 | K18: =IF(ISNUMBER(H18/B18*100),H18/B18*100,0) -> 4.9812765 | L18: =[1]MercLab!M86 -> 4.9500724
A19: Actividades de alojamiento y de servicios de comida | B19: =[1]MercLab!G87 -> 170537.8 | C19: =IF(ISNUMBER(B19/B$8*100),B19/B$8*100,0) -> 4.3335011 | D19: =[1]MercLab!H87 -> 7.8592303 | E19: =[1]MercLab!I87 -> 164424.18 | F19: =IF(ISNUMBER(E19/E$8*100),E19/E$8*100,0) -> 4.5076903 | G19: =[1]MercLab!J87 -> 7.8348581 | H19: =[1]MercLab!K87 -> 6113.6218 | I19: =IF(ISNUMBER(H19/H$8*100),H19/H$8*100,0) -> 2.1250111 | J19: =[1]MercLab!L87 -> 8.4840803 | K19: =IF(ISNUMBER(H19/B19*100),H19/B19*100,0) -> 3.5849071 | L19: =[1]MercLab!M87 -> 3.7852963
A20: Informacion y comunicaciones | B20: =[1]MercLab!G88 -> 25151.42 | C20: =IF(ISNUMBER(B20/B$8*100),B20/B$8*100,0) -> 0.63911758 | D20: =[1]MercLab!H88 -> 12.763525 | E20: =[1]MercLab!I88 -> 21745.058 | F20: =IF(ISNUMBER(E20/E$8*100),E20/E$8*100,0) -> 0.59614094 | G20: =[1]MercLab!J88 -> 12.718913 | H20: =[1]MercLab!K88 -> 3406.3627 | I20: =IF(ISNUMBER(H20/H$8*100),H20/H$8*100,0) -> 1.184005 | J20: =[1]MercLab!L88 -> 13.04571 | K20: =IF(ISNUMBER(H20/B20*100),H20/B20*100,0) -> 13.543421 | L20: =[1]MercLab!M88 -> 5.9668478
A21: Actividades finacieras y de seguros | B21: =[1]MercLab!G89 -> 49121.807 | C21: =IF(ISNUMBER(B21/B$8*100),B21/B$8*100,0) -> 1.2482242 | D21: =[1]MercLab!H89 -> 13.030052 | E21: =[1]MercLab!I89 -> 45810.363 | F21: =IF(ISNUMBER(E21/E$8*100),E21/E$8*100,0) -> 1.2558915 | G21: =[1]MercLab!J89 -> 12.958556 | H21: =[1]MercLab!K89 -> 3311.4442 | I21: =IF(ISNUMBER(H21/H$8*100),H21/H$8*100,0) -> 1.1510126 | J21: =[1]MercLab!L89 -> 13.999822 | K21: =IF(ISNUMBER(H21/B21*100),H21/B21*100,0) -> 6.7412915 | L21: =[1]MercLab!M89 -> 3.1268308
A22: Actividades inmobiliarias | B22: =[1]MercLab!G90 -> 5924.7061 | C22: =IF(ISNUMBER(B22/B$8*100),B22/B$8*100,0) -> 0.15055149 | D22: =[1]MercLab!H90 -> 11.105285 | E22: =[1]MercLab!I90 -> 5924.7061 | F22: =IF(ISNUMBER(E22/E$8*100),E22/E$8*100,0) -> 0.16242587 | G22: =[1]MercLab!J90 -> 11.105285 | H22: =[1]MercLab!K90 -> 0 | I22: =IF(ISNUMBER(H22/H$8*100),H22/H$8*100,0) -> 0 | J22: =[1]MercLab!L90 -> 0 | K22: =IF(ISNUMBER(H22/B22*100),H22/B22*100,0) -> 0 | L22: =[1]MercLab!M90 -> 0
... A34: NS/NR | B34: =[1]MercLab!G102 -> 913.78611 | C34: =IF(ISNUMBER(B34/B$8*100),B34/B$8*100,0) -> 0.023220031 | D34: =[1]MercLab!H102 -> 10.57013 | E34: =[1]MercLab!I102 -> 913.78611 | F34: =IF(ISNUMBER(E34/E$8*100),E34/E$8*100,0) -> 0.025051454 | G34: =[1]MercLab!J102 -> 10.57013 | H34: =[1]MercLab!K102 -> 0 | I34: =IF(ISNUMBER(H34/H$8*100),H34/H$8*100,0) -> 0 | J34: =[1]MercLab!L102 -> 0 | K34: =IF(ISNUMBER(H34/B34*100),H34/B34*100,0) -> 0 | L34: =[1]MercLab!M102 -> 0
A36: Ocupación
A37: Directores y gerentes | B37: =[1]MercLab!G104 -> 101950.37 | C37: =IF(ISNUMBER(B37/B$8*100),B37/B$8*100,0) -> 2.5906399 | D37: =[1]MercLab!H104 -> 12.815442 | E37: =[1]MercLab!I104 -> 96154.107 | F37: =IF(ISNUMBER(E37/E$8*100),E37/E$8*100,0) -> 2.6360656 | G37: =[1]MercLab!J104 -> 12.819086 | H37: =[1]MercLab!K104 -> 5796.2602 | I37: =IF(ISNUMBER(H37/H$8*100),H37/H$8*100,0) -> 2.0147006 | J37: =[1]MercLab!L104 -> 12.755722 | K37: =IF(ISNUMBER(H37/B37*100),H37/B37*100,0) -> 5.6853746 | L37: =[1]MercLab!M104 -> 3.0101985
A38: Profesionales cientificos e intelectuales | B38: =[1]MercLab!G105 -> 129507.91 | C38: =IF(ISNUMBER(B38/B$8*100),B38/B$8*100,0) -> 3.2908991 | D38: =[1]MercLab!H105 -> 15.396737 | E38: =[1]MercLab!I105 -> 123446.06 | F38: =IF(ISNUMBER(E38/E$8*100),E38/E$8*100,0) -> 3.3842749 | G38: =[1]MercLab!J105 -> 15.408862 | H38: =[1]MercLab!K105 -> 6061.8516 | I38: =IF(ISNUMBER(H38/H$8*100),H38/H$8*100,0) -> 2.1070165 | J38: =[1]MercLab!L105 -> 15.149826 | K38: =IF(ISNUMBER(H38/B38*100),H38/B38*100,0) -> 4.6806805 | L38: =[1]MercLab!M105 -> 3.7760368
A39: Tecnicos y profesionales de nivel medio | B39: =[1]MercLab!G106 -> 232115.41 | C39: =IF(ISNUMBER(B39/B$8*100),B39/B$8*100,0) -> 5.8982372 | D39: =[1]MercLab!H106 -> 11.388578 | E39: =[1]MercLab!I106 -> 218637.43 | F39: =IF(ISNUMBER(E39/E$8*100),E39/E$8*100,0) -> 5.9939469 | G39: =[1]MercLab!J106 -> 11.299167 | H39: =[1]MercLab!K106 -> 13477.987 | I39: =IF(ISNUMBER(H39/H$8*100),H39/H$8*100,0) -> 4.6847634 | J39: =[1]MercLab!L106 -> 12.824039 | K39: =IF(ISNUMBER(H39/B39*100),H39/B39*100,0) -> 5.8065884 | L39: =[1]MercLab!M106 -> 4.2258165
A40: Personal de apoyo administrativo | B40: =[1]MercLab!G107 -> 120740.27 | C40: =IF(ISNUMBER(B40/B$8*100),B40/B$8*100,0) -> 3.0681063 | D40: =[1]MercLab!H107 -> 11.882308 | E40: =[1]MercLab!I107 -> 112217.41 | F40: =IF(ISNUMBER(E40/E$8*100),E40/E$8*100,0) -> 3.0764412 | G40: =[1]MercLab!J107 -> 11.860923 | H40: =[1]MercLab!K107 -> 8522.8627 | I40: =IF(ISNUMBER(H40/H$8*100),H40/H$8*100,0) -> 2.9624303 | J40: =[1]MercLab!L107 -> 12.159109 | K40: =IF(ISNUMBER(H40/B40*100),H40/B40*100,0) -> 7.0588401 | L40: =[1]MercLab!M107 -> 4.9273408
A41: Trabajadores de los servicios y vendedores de comercios y mercados | B41: =[1]MercLab!G108 -> 833160.93 | C41: =IF(ISNUMBER(B41/B$8*100),B41/B$8*100,0) -> 21.171281 | D41: =[1]MercLab!H108 -> 7.656058 | E41: =[1]MercLab!I108 -> 801258.95 | F41: =IF(ISNUMBER(E41/E$8*100),E41/E$8*100,0) -> 21.966521 | G41: =[1]MercLab!J108 -> 7.5559246 | H41: =[1]MercLab!K108 -> 31901.979 | I41: =IF(ISNUMBER(H41/H$8*100),H41/H$8*100,0) -> 11.088691 | J41: =[1]MercLab!L108 -> 10.042096 | K41: =IF(ISNUMBER(H41/B41*100),H41/B41*100,0) -> 3.8290297 | L41: =[1]MercLab!M108 -> 3.116219
A42: Agricultores y trabajadores calificados agropecuarios forestales y pesqueros | B42: =[1]MercLab!G109 -> 638563.43 | C42: =IF(ISNUMBER(B42/B$8*100),B42/B$8*100,0) -> 16.226404 | D42: =[1]MercLab!H109 -> 5.0985824 | E42: =[1]MercLab!I109 -> 636305.44 | F42: =IF(ISNUMBER(E42/E$8*100),E42/E$8*100,0) -> 17.444319 | G42: =[1]MercLab!J109 -> 5.080054 | H42: =[1]MercLab!K109 -> 2257.9918 | I42: =IF(ISNUMBER(H42/H$8*100),H42/H$8*100,0) -> 0.78484702 | J42: =[1]MercLab!L109 -> 12.032385 | K42: =IF(ISNUMBER(H42/B42*100),H42/B42*100,0) -> 0.35360494 | L42: =[1]MercLab!M109 -> 1.4711785
A43: Oficiales, operarios y artesanos de artes mecanicas y de otros oficios | B43: =[1]MercLab!G110 -> 588224.25 | C43: =IF(ISNUMBER(B43/B$8*100),B43/B$8*100,0) -> 14.947246 | D43: =[1]MercLab!H110 -> 7.1126805 | E43: =[1]MercLab!I110 -> 564550.62 | F43: =IF(ISNUMBER(E43/E$8*100),E43/E$8*100,0) -> 15.47716 | G43: =[1]MercLab!J110 -> 7.0858862 | H43: =[1]MercLab!K110 -> 23673.627 | I43: =IF(ISNUMBER(H43/H$8*100),H43/H$8*100,0) -> 8.2286284 | J43: =[1]MercLab!L110 -> 7.7256207 | K43: =IF(ISNUMBER(H43/B43*100),H43/B43*100,0) -> 4.0245922 | L43: =[1]MercLab!M110 -> 2.5923332
A44: Operadores de instalaciones y maquinas y ensambladores | B44: =[1]MercLab!G111 -> 189987.73 | C44: =IF(ISNUMBER(B44/B$8*100),B44/B$8*100,0) -> 4.8277394 | D44: =[1]MercLab!H111 -> 7.5123299 | E44: =[1]MercLab!I111 -> 180233.74 | F44: =IF(ISNUMBER(E44/E$8*100),E44/E$8*100,0) -> 4.9411096 | G44: =[1]MercLab!J111 -> 7.4720285 | H44: =[1]MercLab!K111 -> 9753.9919 | I44: =IF(ISNUMBER(H44/H$8*100),H44/H$8*100,0) -> 3.3903539 | J44: =[1]MercLab!L111 -> 8.2187962 | K44: =IF(ISNUMBER(H44/B44*100),H44/B44*100,0) -> 5.1340114 | L44: =[1]MercLab!M111 -> 2.5950163
A45: Ocupaciones elementales | B45: =[1]MercLab!G112 -> 938776.88 | C45: =IF(ISNUMBER(B45/B$8*100),B45/B$8*100,0) -> 23.855067 | D45: =[1]MercLab!H112 -> 5.9818519 | E45: =[1]MercLab!I112 -> 911296.39 | F45: =IF(ISNUMBER(E45/E$8*100),E45/E$8*100,0) -> 24.983198 | G45: =[1]MercLab!J112 -> 5.9576899 | H45: =[1]MercLab!K112 -> 27480.489 | I45: =IF(ISNUMBER(H45/H$8*100),H45/H$8*100,0) -> 9.5518412 | J45: =[1]MercLab!L112 -> 6.7553394 | K45: =IF(ISNUMBER(H45/B45*100),H45/B45*100,0) -> 2.9272652 | L45: =[1]MercLab!M112 -> 1.5559364
A46: Ocupaciones militares | B46: =[1]MercLab!G113 -> 555.70849 | C46: =IF(ISNUMBER(B46/B$8*100),B46/B$8*100,0) -> 0.014120994 | D46: =[1]MercLab!H113 -> 14.75 | E46: =[1]MercLab!I113 -> 555.70849 | F46: =IF(ISNUMBER(E46/E$8*100),E46/E$8*100,0) -> 0.015234753 | G46: =[1]MercLab!J113 -> 14.75 | H46: =[1]MercLab!K113 -> 0 | I46: =IF(ISNUMBER(H46/H$8*100),H46/H$8*100,0) -> 0 | J46: =[1]MercLab!L113 -> 0 | K46: =IF(ISNUMBER(H46/B46*100),H46/B46*100,0) -> 0 | L46: =[1]MercLab!M113 -> 0
A47: Ocupaciones NO especificadas | B47: =[1]MercLab!G114 -> 2720.6894 | C47: =IF(ISNUMBER(B47/B$8*100),B47/B$8*100,0) -> 0.06913488 | D47: =[1]MercLab!H114 -> 4.9086532 | E47: =[1]MercLab!I114 -> 2720.6894 | F47: =IF(ISNUMBER(E47/E$8*100),E47/E$8*100,0) -> 0.074587723 | G47: =[1]MercLab!J114 -> 4.9086532 | H47: =[1]MercLab!K114 -> 0 | I47: =IF(ISNUMBER(H47/H$8*100),H47/H$8*100,0) -> 0 | J47: =[1]MercLab!L114 -> 0 | K47: =IF(ISNUMBER(H47/B47*100),H47/B47*100,0) -> 0 | L47: =[1]MercLab!M114 -> 0
A48: Busca trabajo por primera vez | B48: =[1]MercLab!G115 -> 158771.3 | C48: =IF(ISNUMBER(B48/B$8*100),B48/B$8*100,0) -> 4.034505 | D48: =[1]MercLab!H115 -> 8.72366 | E48: =[1]MercLab!I115 -> 0 | F48: =IF(ISNUMBER(E48/E$8*100),E48/E$8*100,0) -> 0 | G48: =[1]MercLab!J115 -> 0 | H48: =[1]MercLab!K115 -> 158771.3 | I48: =IF(ISNUMBER(H48/H$8*100),H48/H$8*100,0) -> 55.186728 | J48: =[1]MercLab!L115 -> 8.72366 | K48: =IF(ISNUMBER(H48/B48*100),H48/B48*100,0) -> 100 | L48: =[1]MercLab!M115 -> 3.5719747
