Workbook

Sheet Portada

Sheet C01
A1: Cuadro No. 1. Población en Edad de Trabajar (PET), Población Económicamente Activa (PEA) y Tasa de Participación (TP)
A2: según dominio, quintil del ingreso de hogar, nivel educativo y rango de edad
A4: Categorías | B4: Población en Edad de Trabajar (PET) | H4: Población Económicamente Activa (PEA) | N4: Tasa de Participación (TP)
B5: Total | C5: % 1/ | D5: Hombre | E5: % 1/ | F5: Mujer | G5: % 1/ | H5: Total | I5: % 1/ | J5: Hombre | K5: % 1/ | L5: Mujer | M5: % 1/ | N5: Total | O5: Hombre | P5: Mujer
A7: Total Nacional 2/ | B7: 7179176.5 | C7: =SUM(E7,G7) -> 100 | D7: 3421949.7 | E7: =IF(ISNUMBER(D7/$B$7*100),D7/$B$7*100,0) -> 47.664933 | F7: 3757226.8 | G7: =IF(ISNUMBER(F7/$B$7*100),F7/$B$7*100,0) -> 52.335067 | H7: 4336377.9 | I7: =SUM(K7,M7) -> 100 | J7: 2609240 | K7: =IF(ISNUMBER(J7/$H$7*100),J7/$H$7*100,0) -> 60.170955 | L7: 1727137.9 | M7: =IF(ISNUMBER(L7/$H$7*100),L7/$H$7*100,0) -> 39.829045 | N7: =IF(ISNUMBER(H7/B7*100),H7/B7*100,0) -> 60.402163 | O7: =IF(ISNUMBER(J7/D7*100),J7/D7*100,0) -> 76.250098 | P7: =IF(ISNUMBER(L7/F7*100),L7/F7*100,0) -> 45.968423
A9: Dominio
A10: Urbano | B10: =SUM(B11:B13) -> 4001928.4 | C10: =IF(ISNUMBER(B10/B$7*100),B10/B$7*100,0) -> 55.743558 | D10: =SUM(D11:D13) -> 1827538 | E10: =IF(ISNUMBER(D10/D$7*100),D10/D$7*100,0) -> 53.406337 | F10: =SUM(F11:F13) -> 2174390.5 | G10: =IF(ISNUMBER(F10/F$7*100),F10/F$7*100,0) -> 57.872217 | H10: =SUM(H11:H13) -> 2420935 | I10: =IF(ISNUMBER(H10/H$7*100),H10/H$7*100,0) -> 55.828507 | J10: =SUM(J11:J13) -> 1295345.7 | K10: =IF(ISNUMBER(J10/J$7*100),J10/J$7*100,0) -> 49.644561 | L10: =SUM(L11:L13) -> 1125589.3 | M10: =IF(ISNUMBER(L10/L$7*100),L10/L$7*100,0) -> 65.170782 | N10: =IF(ISNUMBER(H10/B10*100),H10/B10*100,0) -> 60.494211 | O10: =IF(ISNUMBER(J10/D10*100),J10/D10*100,0) -> 70.879279 | P10: =IF(ISNUMBER(L10/F10*100),L10/F10*100,0) -> 51.765739
A11: Distrito Central | B11: 862972.21 | C11: =IF(ISNUMBER(B11/B$7*100),B11/B$7*100,0) -> 12.02049 | D11: 391496.53 | E11: =IF(ISNUMBER(D11/D$7*100),D11/D$7*100,0) -> 11.440745 | F11: 471475.68 | G11: =IF(ISNUMBER(F11/F$7*100),F11/F$7*100,0) -> 12.548502 | H11: 525921.23 | I11: =IF(ISNUMBER(H11/H$7*100),H11/H$7*100,0) -> 12.128123 | J11: 264705.78 | K11: =IF(ISNUMBER(J11/J$7*100),J11/J$7*100,0) -> 10.144938 | L11: 261215.44 | M11: =IF(ISNUMBER(L11/L$7*100),L11/L$7*100,0) -> 15.12418 | N11: =IF(ISNUMBER(H11/B11*100),H11/B11*100,0) -> 60.943009 | O11: =IF(ISNUMBER(J11/D11*100),J11/D11*100,0) -> 67.613826 | P11: =IF(ISNUMBER(L11/F11*100),L11/F11*100,0) -> 55.4038
A12: San Pedro Sula | B12: 492129.87 | C12: =IF(ISNUMBER(B12/B$7*100),B12/B$7*100,0) -> 6.8549628 | D12: 223783.34 | E12: =IF(ISNUMBER(D12/D$7*100),D12/D$7*100,0) -> 6.5396443 | F12: 268346.54 | G12: =IF(ISNUMBER(F12/F$7*100),F12/F$7*100,0) -> 7.1421437 | H12: 297219.16 | I12: =IF(ISNUMBER(H12/H$7*100),H12/H$7*100,0) -> 6.8540881 | J12: 160004.51 | K12: =IF(ISNUMBER(J12/J$7*100),J12/J$7*100,0) -> 6.1322268 | L12: 137214.65 | M12: =IF(ISNUMBER(L12/L$7*100),L12/L$7*100,0) -> 7.9446261 | N12: =IF(ISNUMBER(H12/B12*100),H12/B12*100,0) -> 60.394456 | O12: =IF(ISNUMBER(J12/D12*100),J12/D12*100,0) -> 71.499744 | P12: =IF(ISNUMBER(L12/F12*100),L12/F12*100,0) -> 51.133378
A13: Resto urbano | B13: 2646826.4 | C13: =IF(ISNUMBER(B13/B$7*100),B13/B$7*100,0) -> 36.868105 | D13: 1212258.1 | E13: =IF(ISNUMBER(D13/D$7*100),D13/D$7*100,0) -> 35.425948 | F13: 1434568.2 | G13: =IF(ISNUMBER(F13/F$7*100),F13/F$7*100,0) -> 38.181571 | H13: 1597794.6 | I13: =IF(ISNUMBER(H13/H$7*100),H13/H$7*100,0) -> 36.846296 | J13: 870635.44 | K13: =IF(ISNUMBER(J13/J$7*100),J13/J$7*100,0) -> 33.367396 | L13: 727159.19 | M13: =IF(ISNUMBER(L13/L$7*100),L13/L$7*100,0) -> 42.101976 | N13: =IF(ISNUMBER(H13/B13*100),H13/B13*100,0) -> 60.366432 | O13: =IF(ISNUMBER(J13/D13*100),J13/D13*100,0) -> 71.819312 | P13: =IF(ISNUMBER(L13/F13*100),L13/F13*100,0) -> 50.688366
A14: Rural | B14: 3177248.1 | C14: =IF(ISNUMBER(B14/B$7*100),B14/B$7*100,0) -> 44.256442 | D14: 1594411.7 | E14: =IF(ISNUMBER(D14/D$7*100),D14/D$7*100,0) -> 46.593663 | F14: 1582836.4 | G14: =IF(ISNUMBER(F14/F$7*100),F14/F$7*100,0) -> 42.127783 | H14: 1915442.9 | I14: =IF(ISNUMBER(H14/H$7*100),H14/H$7*100,0) -> 44.171493 | J14: 1313894.2 | K14: =IF(ISNUMBER(J14/J$7*100),J14/J$7*100,0) -> 50.355439 | L14: 601548.62 | M14: =IF(ISNUMBER(L14/L$7*100),L14/L$7*100,0) -> 34.829218 | N14: =IF(ISNUMBER(H14/B14*100),H14/B14*100,0) -> 60.286224 | O14: =IF(ISNUMBER(J14/D14*100),J14/D14*100,0) -> 82.40621 | P14: =IF(ISNUMBER(L14/F14*100),L14/F14*100,0) -> 38.004473
A16: Quintil de Ingreso
A17: Quintil 1 | B17: 1474407.9 | C17: =IF(ISNUMBER(B17/B$7*100),B17/B$7*100,0) -> 20.537285 | D17: 708344.59 | E17: =IF(ISNUMBER(D17/D$7*100),D17/D$7*100,0) -> 20.700029 | F17: 766063.33 | G17: =IF(ISNUMBER(F17/F$7*100),F17/F$7*100,0) -> 20.389063 | H17: 786205.66 | I17: =IF(ISNUMBER(H17/H$7*100),H17/H$7*100,0) -> 18.130469 | J17: 557760.82 | K17: =IF(ISNUMBER(J17/J$7*100),J17/J$7*100,0) -> 21.376371 | L17: 228444.84 | M17: =IF(ISNUMBER(L17/L$7*100),L17/L$7*100,0) -> 13.226786 | N17: =IF(ISNUMBER(H17/B17*100),H17/B17*100,0) -> 53.323483 | O17: =IF(ISNUMBER(J17/D17*100),J17/D17*100,0) -> 78.741452 | P17: =IF(ISNUMBER(L17/F17*100),L17/F17*100,0) -> 29.820621
A18: Quintil 2 | B18: 1467073.7 | C18: =IF(ISNUMBER(B18/B$7*100),B18/B$7*100,0) -> 20.435125 | D18: 709903.42 | E18: =IF(ISNUMBER(D18/D$7*100),D18/D$7*100,0) -> 20.745583 | F18: 757170.24 | G18: =IF(ISNUMBER(F18/F$7*100),F18/F$7*100,0) -> 20.15237 | H18: 860555.1 | I18: =IF(ISNUMBER(H18/H$7*100),H18/H$7*100,0) -> 19.845021 | J18: 547795.9 | K18: =IF(ISNUMBER(J18/J$7*100),J18/J$7*100,0) -> 20.994462 | L18: 312759.2 | M18: =IF(ISNUMBER(L18/L$7*100),L18/L$7*100,0) -> 18.108525 | N18: =IF(ISNUMBER(H18/B18*100),H18/B18*100,0) -> 58.657934 | O18: =IF(ISNUMBER(J18/D18*100),J18/D18*100,0) -> 77.164848 | P18: =IF(ISNUMBER(L18/F18*100),L18/F18*100,0) -> 41.306326
A19: Quintil 3 | B19: 1475050 | C19: =IF(ISNUMBER(B19/B$7*100),B19/B$7*100,0) -> 20.546228 | D19: 706381.48 | E19: =IF(ISNUMBER(D19/D$7*100),D19/D$7*100,0) -> 20.642661 | F19: 768668.47 | G19: =IF(ISNUMBER(F19/F$7*100),F19/F$7*100,0) -> 20.4584 | H19: 891273.69 | I19: =IF(ISNUMBER(H19/H$7*100),H19/H$7*100,0) -> 20.553414 | J19: 523725.94 | K19: =IF(ISNUMBER(J19/J$7*100),J19/J$7*100,0) -> 20.071973 | L19: 367547.75 | M19: =IF(ISNUMBER(L19/L$7*100),L19/L$7*100,0) -> 21.280742 | N19: =IF(ISNUMBER(H19/B19*100),H19/B19*100,0) -> 60.423289 | O19: =IF(ISNUMBER(J19/D19*100),J19/D19*100,0) -> 74.142083 | P19: =IF(ISNUMBER(L19/F19*100),L19/F19*100,0) -> 47.816161
A20: Quintil 4 | B20: 1428096.6 | C20: =IF(ISNUMBER(B20/B$7*100),B20/B$7*100,0) -> 19.892206 | D20: 675475.03 | E20: =IF(ISNUMBER(D20/D$7*100),D20/D$7*100,0) -> 19.739479 | F20: 752621.56 | G20: =IF(ISNUMBER(F20/F$7*100),F20/F$7*100,0) -> 20.031305 | H20: 887692.89 | I20: =IF(ISNUMBER(H20/H$7*100),H20/H$7*100,0) -> 20.470838 | J20: 508941.14 | K20: =IF(ISNUMBER(J20/J$7*100),J20/J$7*100,0) -> 19.50534 | L20: 378751.75 | M20: =IF(ISNUMBER(L20/L$7*100),L20/L$7*100,0) -> 21.929444 | N20: =IF(ISNUMBER(H20/B20*100),H20/B20*100,0) -> 62.159163 | O20: =IF(ISNUMBER(J20/D20*100),J20/D20*100,0) -> 75.345663 | P20: =IF(ISNUMBER(L20/F20*100),L20/F20*100,0) -> 50.324328
A21: Quintil 5 | B21: 1230235.1 | C21: =IF(ISNUMBER(B21/B$7*100),B21/B$7*100,0) -> 17.136159 | D21: 571524.37 | E21: =IF(ISNUMBER(D21/D$7*100),D21/D$7*100,0) -> 16.701718 | F21: 658710.73 | G21: =IF(ISNUMBER(F21/F$7*100),F21/F$7*100,0) -> 17.531833 | H21: 854707.12 | I21: =IF(ISNUMBER(H21/H$7*100),H21/H$7*100,0) -> 19.710162 | J21: 437473.99 | K21: =IF(ISNUMBER(J21/J$7*100),J21/J$7*100,0) -> 16.766338 | L21: 417233.13 | M21: =IF(ISNUMBER(L21/L$7*100),L21/L$7*100,0) -> 24.157488 | N21: =IF(ISNUMBER(H21/B21*100),H21/B21*100,0) -> 69.475104 | O21: =IF(ISNUMBER(J21/D21*100),J21/D21*100,0) -> 76.545116 | P21: =IF(ISNUMBER(L21/F21*100),L21/F21*100,0) -> 63.340873
A22: No Declaran Ingresos | B22: 104313.26 | C22: =IF(ISNUMBER(B22/B$7*100),B22/B$7*100,0) -> 1.4529975 | D22: 50320.786 | E22: =IF(ISNUMBER(D22/D$7*100),D22/D$7*100,0) -> 1.4705297 | F22: 53992.472 | G22: =IF(ISNUMBER(F22/F$7*100),F22/F$7*100,0) -> 1.4370299 | H22: 55943.434 | I22: =IF(ISNUMBER(H22/H$7*100),H22/H$7*100,0) -> 1.2900959 | J22: 33542.197 | K22: =IF(ISNUMBER(J22/J$7*100),J22/J$7*100,0) -> 1.285516 | L22: 22401.236 | M22: =IF(ISNUMBER(L22/L$7*100),L22/L$7*100,0) -> 1.2970149 | N22: =IF(ISNUMBER(H22/B22*100),H22/B22*100,0) -> 53.630224 | O22: =IF(ISNUMBER(J22/D22*100),J22/D22*100,0) -> 66.656743 | P22: =IF(ISNUMBER(L22/F22*100),L22/F22*100,0) -> 41.489555
A24: Nivel Educativo
A25: Sin Nivel | B25: 686250 | C25: =IF(ISNUMBER(B25/B$7*100),B25/B$7*100,0) -> 9.5588958 | D25: 323277 | E25: =IF(ISNUMBER(D25/D$7*100),D25/D$7*100,0) -> 9.4471582 | F25: 362973 | G25: =IF(ISNUMBER(F25/F$7*100),F25/F$7*100,0) -> 9.6606624 | H25: 379923 | I25: =IF(ISNUMBER(H25/H$7*100),H25/H$7*100,0) -> 8.7612982 | J25: 252613.92 | K25: =IF(ISNUMBER(J25/J$7*100),J25/J$7*100,0) -> 9.6815133 | L25: 127309.08 | M25: =IF(ISNUMBER(L25/L$7*100),L25/L$7*100,0) -> 7.3711011 | N25: =IF(ISNUMBER(H25/B25*100),H25/B25*100,0) -> 55.362186 | O25: =IF(ISNUMBER(J25/D25*100),J25/D25*100,0) -> 78.14163 | P25: =IF(ISNUMBER(L25/F25*100),L25/F25*100,0) -> 35.073981
A26: Primaria | B26: 4054508.3 | C26: =IF(ISNUMBER(B26/B$7*100),B26/B$7*100,0) -> 56.475952 | D26: 1999142.2 | E26: =IF(ISNUMBER(D26/D$7*100),D26/D$7*100,0) -> 58.421145 | F26: 2055366.1 | G26: =IF(ISNUMBER(F26/F$7*100),F26/F$7*100,0) -> 54.704339 | H26: 2331647.8 | I26: =IF(ISNUMBER(H26/H$7*100),H26/H$7*100,0) -> 53.769479 | J26: 1516090.7 | K26: =IF(ISNUMBER(J26/J$7*100),J26/J$7*100,0) -> 58.104688 | L26: 815557.06 | M26: =IF(ISNUMBER(L26/L$7*100),L26/L$7*100,0) -> 47.220147 | N26: =IF(ISNUMBER(H26/B26*100),H26/B26*100,0) -> 57.507536 | O26: =IF(ISNUMBER(J26/D26*100),J26/D26*100,0) -> 75.837064 | P26: =IF(ISNUMBER(L26/F26*100),L26/F26*100,0) -> 39.679407
A27: Secundaria | B27: 1809218.9 | C27: =IF(ISNUMBER(B27/B$7*100),B27/B$7*100,0) -> 25.200926 | D27: 822974.9 | E27: =IF(ISNUMBER(D27/D$7*100),D27/D$7*100,0) -> 24.049883 | F27: 986244.03 | G27: =IF(ISNUMBER(F27/F$7*100),F27/F$7*100,0) -> 26.249255 | H27: 1157709.3 | I27: =IF(ISNUMBER(H27/H$7*100),H27/H$7*100,0) -> 26.69761 | J27: 621216.7 | K27: =IF(ISNUMBER(J27/J$7*100),J27/J$7*100,0) -> 23.808339 | L27: 536492.56 | M27: =IF(ISNUMBER(L27/L$7*100),L27/L$7*100,0) -> 31.06252 | N27: =IF(ISNUMBER(H27/B27*100),H27/B27*100,0) -> 63.989451 | O27: =IF(ISNUMBER(J27/D27*100),J27/D27*100,0) -> 75.484282 | P27: =IF(ISNUMBER(L27/F27*100),L27/F27*100,0) -> 54.397548
A28: Superior | B28: 603296.62 | C28: =IF(ISNUMBER(B28/B$7*100),B28/B$7*100,0) -> 8.4034238 | D28: 261235.76 | E28: =IF(ISNUMBER(D28/D$7*100),D28/D$7*100,0) -> 7.6341205 | F28: 342060.86 | G28: =IF(ISNUMBER(F28/F$7*100),F28/F$7*100,0) -> 9.1040781 | H28: 446244.5 | I28: =IF(ISNUMBER(H28/H$7*100),H28/H$7*100,0) -> 10.29072 | J28: 204760.02 | K28: =IF(ISNUMBER(J28/J$7*100),J28/J$7*100,0) -> 7.8474968 | L28: 241484.48 | M28: =IF(ISNUMBER(L28/L$7*100),L28/L$7*100,0) -> 13.981772 | N28: =IF(ISNUMBER(H28/B28*100),H28/B28*100,0) -> 73.967678 | O28: =IF(ISNUMBER(J28/D28*100),J28/D28*100,0) -> 78.381315 | P28: =IF(ISNUMBER(L28/F28*100),L28/F28*100,0) -> 70.596934
A29: No sabe, no responde | B29: 25902.686 | C29: =IF(ISNUMBER(B29/B$7*100),B29/B$7*100,0) -> 0.36080302 | D29: 15319.841 | E29: =IF(ISNUMBER(D29/D$7*100),D29/D$7*100,0) -> 0.44769333 | F29: 10582.845 | G29: =IF(ISNUMBER(F29/F$7*100),F29/F$7*100,0) -> 0.28166639 | H29: 20853.327 | I29: =IF(ISNUMBER(H29/H$7*100),H29/H$7*100,0) -> 0.48089275 | J29: 14558.608 | K29: =IF(ISNUMBER(J29/J$7*100),J29/J$7*100,0) -> 0.55796353 | L29: 6294.7192 | M29: =IF(ISNUMBER(L29/L$7*100),L29/L$7*100,0) -> 0.36445956 | N29: =IF(ISNUMBER(H29/B29*100),H29/B29*100,0) -> 80.506427 | O29: =IF(ISNUMBER(J29/D29*100),J29/D29*100,0) -> 95.031064 | P29: =IF(ISNUMBER(L29/F29*100),L29/F29*100,0) -> 59.480406
A31: Rango de edad
A32: De 10 a 11 años | B32: 379504.04 | C32: =IF(ISNUMBER(B32/B$7*100),B32/B$7*100,0) -> 5.2861779 | D32: 193667.84 | E32: =IF(ISNUMBER(D32/D$7*100),D32/D$7*100,0) -> 5.6595758 | F32: 185836.2 | G32: =IF(ISNUMBER(F32/F$7*100),F32/F$7*100,0) -> 4.9461002 | H32: 36346.29 | I32: =IF(ISNUMBER(H32/H$7*100),H32/H$7*100,0) -> 0.83817166 | J32: 25012.063 | K32: =IF(ISNUMBER(J32/J$7*100),J32/J$7*100,0) -> 0.95859574 | L32: 11334.227 | M32: =IF(ISNUMBER(L32/L$7*100),L32/L$7*100,0) -> 0.65624332 | N32: =IF(ISNUMBER(H32/B32*100),H32/B32*100,0) -> 9.5773132 | O32: =IF(ISNUMBER(J32/D32*100),J32/D32*100,0) -> 12.914929 | P32: =IF(ISNUMBER(L32/F32*100),L32/F32*100,0) -> 6.0990415
A33: De 12 a 14 años | B33: 553253.48 | C33: =IF(ISNUMBER(B33/B$7*100),B33/B$7*100,0) -> 7.7063641 | D33: 282684.9 | E33: =IF(ISNUMBER(D33/D$7*100),D33/D$7*100,0) -> 8.2609309 | F33: 270568.58 | G33: =IF(ISNUMBER(F33/F$7*100),F33/F$7*100,0) -> 7.2012842 | H33: 138674.61 | I33: =IF(ISNUMBER(H33/H$7*100),H33/H$7*100,0) -> 3.1979365 | J33: 104019.75 | K33: =IF(ISNUMBER(J33/J$7*100),J33/J$7*100,0) -> 3.9865919 | L33: 34654.86 | M33: =IF(ISNUMBER(L33/L$7*100),L33/L$7*100,0) -> 2.0064906 | N33: =IF(ISNUMBER(H33/B33*100),H33/B33*100,0) -> 25.065294 | O33: =IF(ISNUMBER(J33/D33*100),J33/D33*100,0) -> 36.797066 | P33: =IF(ISNUMBER(L33/F33*100),L33/F33*100,0) -> 12.808161
A34: De 15 a 18 años | B34: 805951.01 | C34: =IF(ISNUMBER(B34/B$7*100),B34/B$7*100,0) -> 11.226232 | D34: 414873.42 | E34: =IF(ISNUMBER(D34/D$7*100),D34/D$7*100,0) -> 12.12389 | F34: 391077.58 | G34: =IF(ISNUMBER(F34/F$7*100),F34/F$7*100,0) -> 10.408676 | H34: 342390.76 | I34: =IF(ISNUMBER(H34/H$7*100),H34/H$7*100,0) -> 7.8957778 | J34: 238663.83 | K34: =IF(ISNUMBER(J34/J$7*100),J34/J$7*100,0) -> 9.1468717 | L34: 103726.93 | M34: =IF(ISNUMBER(L34/L$7*100),L34/L$7*100,0) -> 6.0057121 | N34: =IF(ISNUMBER(H34/B34*100),H34/B34*100,0) -> 42.482826 | O34: =IF(ISNUMBER(J34/D34*100),J34/D34*100,0) -> 57.526903 | P34: =IF(ISNUMBER(L34/F34*100),L34/F34*100,0) -> 26.523364
A35: De 19 a 24 años | B35: 1062571.3 | C35: =IF(ISNUMBER(B35/B$7*100),B35/B$7*100,0) -> 14.800741 | D35: 532270.48 | E35: =IF(ISNUMBER(D35/D$7*100),D35/D$7*100,0) -> 15.554597 | F35: 530300.82 | G35: =IF(ISNUMBER(F35/F$7*100),F35/F$7*100,0) -> 14.114155 | H35: 736913.44 | I35: =IF(ISNUMBER(H35/H$7*100),H35/H$7*100,0) -> 16.993755 | J35: 464202.13 | K35: =IF(ISNUMBER(J35/J$7*100),J35/J$7*100,0) -> 17.790703 | L35: 272711.3 | M35: =IF(ISNUMBER(L35/L$7*100),L35/L$7*100,0) -> 15.789782 | N35: =IF(ISNUMBER(H35/B35*100),H35/B35*100,0) -> 69.351905 | O35: =IF(ISNUMBER(J35/D35*100),J35/D35*100,0) -> 87.2117 | P35: =IF(ISNUMBER(L35/F35*100),L35/F35*100,0) -> 51.425774
A36: De 25 a 29 años | B36: 677083.45 | C36: =IF(ISNUMBER(B36/B$7*100),B36/B$7*100,0) -> 9.4312134 | D36: 318377.04 | E36: =IF(ISNUMBER(D36/D$7*100),D36/D$7*100,0) -> 9.3039663 | F36: 358706.41 | G36: =IF(ISNUMBER(F36/F$7*100),F36/F$7*100,0) -> 9.5471056 | H36: 519877.74 | I36: =IF(ISNUMBER(H36/H$7*100),H36/H$7*100,0) -> 11.988755 | J36: 304185.33 | K36: =IF(ISNUMBER(J36/J$7*100),J36/J$7*100,0) -> 11.658005 | L36: 215692.41 | M36: =IF(ISNUMBER(L36/L$7*100),L36/L$7*100,0) -> 12.48843 | N36: =IF(ISNUMBER(H36/B36*100),H36/B36*100,0) -> 76.78193 | O36: =IF(ISNUMBER(J36/D36*100),J36/D36*100,0) -> 95.542482 | P36: =IF(ISNUMBER(L36/F36*100),L36/F36*100,0) -> 60.130626
A37: De 30 a 34 años | B37: 602130.74 | C37: =IF(ISNUMBER(B37/B$7*100),B37/B$7*100,0) -> 8.387184 | D37: 275727.02 | E37: =IF(ISNUMBER(D37/D$7*100),D37/D$7*100,0) -> 8.0576 | F37: 326403.72 | G37: =IF(ISNUMBER(F37/F$7*100),F37/F$7*100,0) -> 8.6873575 | H37: 468795.74 | I37: =IF(ISNUMBER(H37/H$7*100),H37/H$7*100,0) -> 10.810768 | J37: 264875.67 | K37: =IF(ISNUMBER(J37/J$7*100),J37/J$7*100,0) -> 10.151449 | L37: 203920.07 | M37: =IF(ISNUMBER(L37/L$7*100),L37/L$7*100,0) -> 11.80682 | N37: =IF(ISNUMBER(H37/B37*100),H37/B37*100,0) -> 77.856138 | O37: =IF(ISNUMBER(J37/D37*100),J37/D37*100,0) -> 96.064461 | P37: =IF(ISNUMBER(L37/F37*100),L37/F37*100,0) -> 62.474799
A38: De 35 a 39 años | B38: 530555.69 | C38: =IF(ISNUMBER(B38/B$7*100),B38/B$7*100,0) -> 7.3902026 | D38: 233962.47 | E38: =IF(ISNUMBER(D38/D$7*100),D38/D$7*100,0) -> 6.8371101 | F38: 296593.22 | G38: =IF(ISNUMBER(F38/F$7*100),F38/F$7*100,0) -> 7.8939397 | H38: 411808.47 | I38: =IF(ISNUMBER(H38/H$7*100),H38/H$7*100,0) -> 9.4966003 | J38: 222585.93 | K38: =IF(ISNUMBER(J38/J$7*100),J38/J$7*100,0) -> 8.5306806 | L38: 189222.55 | M38: =IF(ISNUMBER(L38/L$7*100),L38/L$7*100,0) -> 10.955845 | N38: =IF(ISNUMBER(H38/B38*100),H38/B38*100,0) -> 77.618332 | O38: =IF(ISNUMBER(J38/D38*100),J38/D38*100,0) -> 95.137451 | P38: =IF(ISNUMBER(L38/F38*100),L38/F38*100,0) -> 63.798676
A39: De 40 a 44 años | B39: 499006.87 | C39: =IF(ISNUMBER(B39/B$7*100),B39/B$7*100,0) -> 6.9507537 | D39: 223024.14 | E39: =IF(ISNUMBER(D39/D$7*100),D39/D$7*100,0) -> 6.5174581 | F39: 275982.74 | G39: =IF(ISNUMBER(F39/F$7*100),F39/F$7*100,0) -> 7.345384 | H39: 387484.58 | I39: =IF(ISNUMBER(H39/H$7*100),H39/H$7*100,0) -> 8.9356738 | J39: 214724.82 | K39: =IF(ISNUMBER(J39/J$7*100),J39/J$7*100,0) -> 8.2294008 | L39: 172759.77 | M39: =IF(ISNUMBER(L39/L$7*100),L39/L$7*100,0) -> 10.002662 | N39: =IF(ISNUMBER(H39/B39*100),H39/B39*100,0) -> 77.651152 | O39: =IF(ISNUMBER(J39/D39*100),J39/D39*100,0) -> 96.278734 | P39: =IF(ISNUMBER(L39/F39*100),L39/F39*100,0) -> 62.598035
A40: De 45 a 49 años | B40: 418959.14 | C40: =IF(ISNUMBER(B40/B$7*100),B40/B$7*100,0) -> 5.8357548 | D40: 195387.56 | E40: =IF(ISNUMBER(D40/D$7*100),D40/D$7*100,0) -> 5.7098314 | F40: 223571.58 | G40: =IF(ISNUMBER(F40/F$7*100),F40/F$7*100,0) -> 5.9504414 | H40: 324671.89 | I40: =IF(ISNUMBER(H40/H$7*100),H40/H$7*100,0) -> 7.4871678 | J40: 187803.42 | K40: =IF(ISNUMBER(J40/J$7*100),J40/J$7*100,0) -> 7.1976292 | L40: 136868.47 | M40: =IF(ISNUMBER(L40/L$7*100),L40/L$7*100,0) -> 7.9245827 | N40: =IF(ISNUMBER(H40/B40*100),H40/B40*100,0) -> 77.494882 | O40: =IF(ISNUMBER(J40/D40*100),J40/D40*100,0) -> 96.118412 | P40: =IF(ISNUMBER(L40/F40*100),L40/F40*100,0) -> 61.219084
A41: De 50 a 54 años | B41: 380967.34 | C41: =IF(ISNUMBER(B41/B$7*100),B41/B$7*100,0) -> 5.3065604 | D41: 172428.04 | E41: =IF(ISNUMBER(D41/D$7*100),D41/D$7*100,0) -> 5.0388829 | F41: 208539.3 | G41: =IF(ISNUMBER(F41/F$7*100),F41/F$7*100,0) -> 5.5503517 | H41: 282224.45 | I41: =IF(ISNUMBER(H41/H$7*100),H41/H$7*100,0) -> 6.5082992 | J41: 162163.69 | K41: =IF(ISNUMBER(J41/J$7*100),J41/J$7*100,0) -> 6.2149779 | L41: 120060.76 | M41: =IF(ISNUMBER(L41/L$7*100),L41/L$7*100,0) -> 6.9514286 | N41: =IF(ISNUMBER(H41/B41*100),H41/B41*100,0) -> 74.081009 | O41: =IF(ISNUMBER(J41/D41*100),J41/D41*100,0) -> 94.047169 | P41: =IF(ISNUMBER(L41/F41*100),L41/F41*100,0) -> 57.572246
A42: De 55 a 59 años | B42: 320798.96 | C42: =IF(ISNUMBER(B42/B$7*100),B42/B$7*100,0) -> 4.4684646 | D42: 147284.58 | E42: =IF(ISNUMBER(D42/D$7*100),D42/D$7*100,0) -> 4.3041129 | F42: 173514.38 | G42: =IF(ISNUMBER(F42/F$7*100),F42/F$7*100,0) -> 4.6181504 | H42: 232261.13 | I42: =IF(ISNUMBER(H42/H$7*100),H42/H$7*100,0) -> 5.356109 | J42: 135975.4 | K42: =IF(ISNUMBER(J42/J$7*100),J42/J$7*100,0) -> 5.2113028 | L42: 96285.728 | M42: =IF(ISNUMBER(L42/L$7*100),L42/L$7*100,0) -> 5.5748721 | N42: =IF(ISNUMBER(H42/B42*100),H42/B42*100,0) -> 72.400835 | O42: =IF(ISNUMBER(J42/D42*100),J42/D42*100,0) -> 92.321545 | P42: =IF(ISNUMBER(L42/F42*100),L42/F42*100,0) -> 55.491496
A43: De 60 a 64 años | B43: 284352.86 | C43: =IF(ISNUMBER(B43/B$7*100),B43/B$7*100,0) -> 3.9608005 | D43: 133307.29 | E43: =IF(ISNUMBER(D43/D$7*100),D43/D$7*100,0) -> 3.8956531 | F43: 151045.57 | G43: =IF(ISNUMBER(F43/F$7*100),F43/F$7*100,0) -> 4.0201345 | H43: 179714.75 | I43: =IF(ISNUMBER(H43/H$7*100),H43/H$7*100,0) -> 4.1443517 | J43: 110860.6 | K43: =IF(ISNUMBER(J43/J$7*100),J43/J$7*100,0) -> 4.2487697 | L43: 68854.151 | M43: =IF(ISNUMBER(L43/L$7*100),L43/L$7*100,0) -> 3.9866041 | N43: =IF(ISNUMBER(H43/B43*100),H43/B43*100,0) -> 63.201316 | O43: =IF(ISNUMBER(J43/D43*100),J43/D43*100,0) -> 83.161692 | P43: =IF(ISNUMBER(L43/F43*100),L43/F43*100,0) -> 45.585018
A44: De 65 años y más | B44: 664041.61 | C44: =IF(ISNUMBER(B44/B$7*100),B44/B$7*100,0) -> 9.2495513 | D44: 298954.91 | E44: =IF(ISNUMBER(D44/D$7*100),D44/D$7*100,0) -> 8.7363913 | F44: 365086.7 | G44: =IF(ISNUMBER(F44/F$7*100),F44/F$7*100,0) -> 9.7169193 | H44: 275214.04 | I44: =IF(ISNUMBER(H44/H$7*100),H44/H$7*100,0) -> 6.3466341 | J44: 174167.35 | K44: =IF(ISNUMBER(J44/J$7*100),J44/J$7*100,0) -> 6.6750224 | L44: 101046.68 | M44: =IF(ISNUMBER(L44/L$7*100),L44/L$7*100,0) -> 5.8505278 | N44: =IF(ISNUMBER(H44/B44*100),H44/B44*100,0) -> 41.4453 | O44: =IF(ISNUMBER(J44/D44*100),J44/D44*100,0) -> 58.258736 | P44: =IF(ISNUMBER(L44/F44*100),L44/F44*100,0) -> 27.677449
A46: Fuente: Instituto Nacional de Estadística (INE). Encuesta Permanente de Hogares de Propósitos Múltiples, LXI 2018.
A47: 1/ Porcentaje por columnas
A48: 2/ Porcentaje por filas

Sheet C02
A1: Cuadro No. 2. Tasa de Desempleo Abierto (TDA), Población en Edad de Trabajar (PET) y Población Económicamente Activa (PEA),
A2: según dominio, nivel educativo, rango de edad, sexo, rama de actividad y ocupación
A3: Categorías | B3: Población Total | E3: Población en Edad de Trabajar (PET) | H3: Población Económicamente Activa (PEA) | Q3: TDA | R3: MBT
H4: Total | K4: Ocupados | N4: Desocupados
B5: No. | C5: % 1/ | D5: AEP | E5: No. | F5: % 1/ | G5: AEP | H5: No. | I5: % 1/ | J5: AEP | K5: No. | L5: % 1/ | M5: AEP | N5: No. | O5: % 1/ | P5: AEP
A7: Total Nacional | B7: 9023838 | C7: =SUM(C10,C14) -> 100 | D7: 6.7716598 | E7: 7179176.5 | F7: =SUM(F10,F14) -> 100 | G7: 7.3740185 | H7: 4336377.9 | I7: =SUM(I10,I14) -> 100 | J7: 7.7901755 | K7: 4090651.4 | L7: =SUM(L10,L14) -> 100 | M7: 7.680421 | N7: 245726.5 | O7: =SUM(O10,O14) -> 100 | P7: 9.4894605 | Q7: =IF(ISNUMBER(N7/H7*100),N7/H7*100,0) -> 5.6666301 | R7: 3.2704987
A9: Dominio
A10: Urbano | B10: =SUM(B11:B13) -> 4926042 | C10: =IF(ISNUMBER(B10/B$7*100),B10/B$7*100,0) -> 54.589211 | D10: 7.8795903 | E10: =SUM(E11:E13) -> 4001928.4 | F10: =IF(ISNUMBER(E10/E$7*100),E10/E$7*100,0) -> 55.743558 | G10: 8.5082097 | H10: =SUM(H11:H13) -> 2420935 | I10: =IF(ISNUMBER(H10/H$7*100),H10/H$7*100,0) -> 55.828507 | J10: 9.1124341 | K10: =SUM(K11:K13) -> 2227420.7 | L10: =IF(ISNUMBER(K10/K$7*100),K10/K$7*100,0) -> 54.451492 | M10: 9.0330191 | N10: =SUM(N11:N13) -> 193514.29 | O10: =IF(ISNUMBER(N10/N$7*100),N10/N$7*100,0) -> 78.751903 | P10: 9.9887285 | Q10: =IF(ISNUMBER(N10/H10*100),N10/H10*100,0) -> 7.99337 | R10: 3.6025578
A11: Distrito Central | B11: 1029780.5 | C11: =IF(ISNUMBER(B11/B$7*100),B11/B$7*100,0) -> 11.41178 | D11: 9.1233781 | E11: 862972.21 | F11: =IF(ISNUMBER(E11/E$7*100),E11/E$7*100,0) -> 12.02049 | G11: 9.6896153 | H11: 525921.23 | I11: =IF(ISNUMBER(H11/H$7*100),H11/H$7*100,0) -> 12.128123 | J11: 10.278923 | K11: 476944.5 | L11: =IF(ISNUMBER(K11/K$7*100),K11/K$7*100,0) -> 11.659378 | M11: 10.175208 | N11: 48976.729 | O11: =IF(ISNUMBER(N11/N$7*100),N11/N$7*100,0) -> 19.931399 | P11: 11.270281 | Q11: =IF(ISNUMBER(N11/H11*100),N11/H11*100,0) -> 9.3125599 | R11: 4.5723692
A12: San Pedro Sula | B12: 602816.47 | C12: =IF(ISNUMBER(B12/B$7*100),B12/B$7*100,0) -> 6.680267 | D12: 8.3344113 | E12: 492129.87 | F12: =IF(ISNUMBER(E12/E$7*100),E12/E$7*100,0) -> 6.8549628 | G12: 8.9812303 | H12: 297219.16 | I12: =IF(ISNUMBER(H12/H$7*100),H12/H$7*100,0) -> 6.8540881 | J12: 9.7624067 | K12: 274052.2 | L12: =IF(ISNUMBER(K12/K$7*100),K12/K$7*100,0) -> 6.6994758 | M12: 9.7343094 | N12: 23166.961 | O12: =IF(ISNUMBER(N12/N$7*100),N12/N$7*100,0) -> 9.427946 | P12: 10.096112 | Q12: =IF(ISNUMBER(N12/H12*100),N12/H12*100,0) -> 7.7945719 | R12: 2.8243499
A13: Resto urbano | B13: 3293445 | C13: =IF(ISNUMBER(B13/B$7*100),B13/B$7*100,0) -> 36.497165 | D13: 7.3868176 | E13: 2646826.4 | F13: =IF(ISNUMBER(E13/E$7*100),E13/E$7*100,0) -> 36.868105 | G13: 8.020674 | H13: 1597794.6 | I13: =IF(ISNUMBER(H13/H$7*100),H13/H$7*100,0) -> 36.846296 | J13: 8.5935527 | K13: 1476424 | L13: =IF(ISNUMBER(K13/K$7*100),K13/K$7*100,0) -> 36.092639 | M13: 8.5181762 | N13: 121370.6 | O13: =IF(ISNUMBER(N13/N$7*100),N13/N$7*100,0) -> 49.392558 | P13: 9.4578151 | Q13: =IF(ISNUMBER(N13/H13*100),N13/H13*100,0) -> 7.5961328 | R13: 3.359752
A14: Rural | B14: 4097796 | C14: =IF(ISNUMBER(B14/B$7*100),B14/B$7*100,0) -> 45.410789 | D14: 5.2932991 | E14: 3177248.1 | F14: =IF(ISNUMBER(E14/E$7*100),E14/E$7*100,0) -> 44.256442 | G14: 5.8112988 | H14: 1915442.9 | I14: =IF(ISNUMBER(H14/H$7*100),H14/H$7*100,0) -> 44.171493 | J14: 5.9554826 | K14: 1863230.7 | L14: =IF(ISNUMBER(K14/K$7*100),K14/K$7*100,0) -> 45.548508 | M14: 5.9071771 | N14: 52212.204 | O14: =IF(ISNUMBER(N14/N$7*100),N14/N$7*100,0) -> 21.248097 | P14: 7.5416667 | Q14: =IF(ISNUMBER(N14/H14*100),N14/H14*100,0) -> 2.7258554 | R14: 2.0397868
A16: Nivel educativo 2/
A17: Sin Nivel | B17: 1807915.8 | C17: =IF(ISNUMBER(B17/B$7*100),B17/B$7*100,0) -> 20.034888 | D17: -3 | E17: 686250 | F17: =IF(ISNUMBER(E17/E$7*100),E17/E$7*100,0) -> 9.5588958 | G17: 0 | H17: 379923 | I17: =IF(ISNUMBER(H17/H$7*100),H17/H$7*100,0) -> 8.7612982 | J17: 0 | K17: 373555.17 | L17: =IF(ISNUMBER(K17/K$7*100),K17/K$7*100,0) -> 9.1319237 | M17: 0 | N17: 6367.8311 | O17: =IF(ISNUMBER(N17/N$7*100),N17/N$7*100,0) -> 2.5914304 | P17: 0 | Q17: =IF(ISNUMBER(N17/H17*100),N17/H17*100,0) -> 1.6760847 | R17: 1.1513272
A18: Primaria | B18: 4777340 | C18: =IF(ISNUMBER(B18/B$7*100),B18/B$7*100,0) -> 52.941332 | D18: 4.39778 | E18: 4054508.3 | F18: =IF(ISNUMBER(E18/E$7*100),E18/E$7*100,0) -> 56.475952 | G18: 4.9354634 | H18: 2331647.8 | I18: =IF(ISNUMBER(H18/H$7*100),H18/H$7*100,0) -> 53.769479 | J18: 4.9669165 | K18: 2244815.6 | L18: =IF(ISNUMBER(K18/K$7*100),K18/K$7*100,0) -> 54.876728 | M18: 4.9490022 | N18: 86832.183 | O18: =IF(ISNUMBER(N18/N$7*100),N18/N$7*100,0) -> 35.336923 | P18: 5.4300447 | Q18: =IF(ISNUMBER(N18/H18*100),N18/H18*100,0) -> 3.7240694 | R18: 2.333643
A19: Secundaria | B19: 1809382.9 | C19: =IF(ISNUMBER(B19/B$7*100),B19/B$7*100,0) -> 20.051145 | D19: 10.258305 | E19: 1809218.9 | F19: =IF(ISNUMBER(E19/E$7*100),E19/E$7*100,0) -> 25.200926 | G19: 10.25851 | H19: 1157709.3 | I19: =IF(ISNUMBER(H19/H$7*100),H19/H$7*100,0) -> 26.69761 | J19: 10.545748 | K19: 1044987.4 | L19: =IF(ISNUMBER(K19/K$7*100),K19/K$7*100,0) -> 25.545746 | M19: 10.527246 | N19: 112721.83 | O19: =IF(ISNUMBER(N19/N$7*100),N19/N$7*100,0) -> 45.872884 | P19: 10.71727 | Q19: =IF(ISNUMBER(N19/H19*100),N19/H19*100,0) -> 9.7366268 | R19: 3.3644533
A20: Superior | B20: 603296.62 | C20: =IF(ISNUMBER(B20/B$7*100),B20/B$7*100,0) -> 6.6855879 | D20: 15.120282 | E20: 603296.62 | F20: =IF(ISNUMBER(E20/E$7*100),E20/E$7*100,0) -> 8.4034238 | G20: 15.120282 | H20: 446244.5 | I20: =IF(ISNUMBER(H20/H$7*100),H20/H$7*100,0) -> 10.29072 | J20: 15.407019 | K20: 407705.71 | L20: =IF(ISNUMBER(K20/K$7*100),K20/K$7*100,0) -> 9.9667673 | M20: 15.440182 | N20: 38538.798 | O20: =IF(ISNUMBER(N20/N$7*100),N20/N$7*100,0) -> 15.683615 | P20: 15.056188 | Q20: =IF(ISNUMBER(N20/H20*100),N20/H20*100,0) -> 8.6362516 | R20: 5.5498832
A21: No sabe, no responde | B21: 25902.686 | C21: =IF(ISNUMBER(B21/B$7*100),B21/B$7*100,0) -> 0.28704733 | D21: 6.11581 | E21: 25902.686 | F21: =IF(ISNUMBER(E21/E$7*100),E21/E$7*100,0) -> 0.36080302 | G21: 6.11581 | H21: 20853.327 | I21: =IF(ISNUMBER(H21/H$7*100),H21/H$7*100,0) -> 0.48089275 | J21: 6.1679644 | K21: 19587.472 | L21: =IF(ISNUMBER(K21/K$7*100),K21/K$7*100,0) -> 0.47883503 | M21: 5.2912597 | N21: 1265.8548 | O21: =IF(ISNUMBER(N21/N$7*100),N21/N$7*100,0) -> 0.51514788 | P21: 9 | Q21: =IF(ISNUMBER(N21/H21*100),N21/H21*100,0) -> 6.0702776 | R21: 0.43310771
A23: Rango de Edad
A24: De 10 a 11 años | B24: 379504.04 | C24: =IF(ISNUMBER(B24/B$7*100),B24/B$7*100,0) -> 4.2055724 | D24: 3.9688575 | E24: 379504.04 | F24: =IF(ISNUMBER(E24/E$7*100),E24/E$7*100,0) -> 5.2861779 | G24: 3.9688575 | H24: 36346.29 | I24: =IF(ISNUMBER(H24/H$7*100),H24/H$7*100,0) -> 0.83817166 | J24: 3.8302235 | K24: 36038.435 | L24: =IF(ISNUMBER(K24/K$7*100),K24/K$7*100,0) -> 0.88099503 | M24: 3.8548635 | N24: 307.85497 | O24: =IF(ISNUMBER(N24/N$7*100),N24/N$7*100,0) -> 0.12528359 | P24: 1 | Q24: =IF(ISNUMBER(N24/H24*100),N24/H24*100,0) -> 0.84700521 | R24: 0.5
A25: De 12 a 14 años | B25: 553253.48 | C25: =IF(ISNUMBER(B25/B$7*100),B25/B$7*100,0) -> 6.1310219 | D25: 5.9025964 | E25: 553253.48 | F25: =IF(ISNUMBER(E25/E$7*100),E25/E$7*100,0) -> 7.7063641 | G25: 5.9025964 | H25: 138674.61 | I25: =IF(ISNUMBER(H25/H$7*100),H25/H$7*100,0) -> 3.1979365 | J25: 5.807638 | K25: 136362.34 | L25: =IF(ISNUMBER(K25/K$7*100),K25/K$7*100,0) -> 3.3335115 | M25: 5.8205533 | N25: 2312.2747 | O25: =IF(ISNUMBER(N25/N$7*100),N25/N$7*100,0) -> 0.94099527 | P25: 5.0644278 | Q25: =IF(ISNUMBER(N25/H25*100),N25/H25*100,0) -> 1.6674103 | R25: 1.617645
A26: De 15 a 18 años | B26: 805951.01 | C26: =IF(ISNUMBER(B26/B$7*100),B26/B$7*100,0) -> 8.931355 | D26: 7.9281784 | E26: 805951.01 | F26: =IF(ISNUMBER(E26/E$7*100),E26/E$7*100,0) -> 11.226232 | G26: 7.9281784 | H26: 342390.76 | I26: =IF(ISNUMBER(H26/H$7*100),H26/H$7*100,0) -> 7.8957778 | J26: 7.3702058 | K26: 307284.12 | L26: =IF(ISNUMBER(K26/K$7*100),K26/K$7*100,0) -> 7.5118627 | M26: 7.2362383 | N26: 35106.646 | O26: =IF(ISNUMBER(N26/N$7*100),N26/N$7*100,0) -> 14.286879 | P26: 8.5339452 | Q26: =IF(ISNUMBER(N26/H26*100),N26/H26*100,0) -> 10.253386 | R26: 1.9317545
A27: De 19 a 24 años | B27: 1062571.3 | C27: =IF(ISNUMBER(B27/B$7*100),B27/B$7*100,0) -> 11.775159 | D27: 8.9599698 | E27: 1062571.3 | F27: =IF(ISNUMBER(E27/E$7*100),E27/E$7*100,0) -> 14.800741 | G27: 8.9599698 | H27: 736913.44 | I27: =IF(ISNUMBER(H27/H$7*100),H27/H$7*100,0) -> 16.993755 | J27: 8.897617 | K27: 653214.06 | L27: =IF(ISNUMBER(K27/K$7*100),K27/K$7*100,0) -> 15.968461 | M27: 8.7455502 | N27: 83699.371 | O27: =IF(ISNUMBER(N27/N$7*100),N27/N$7*100,0) -> 34.062005 | P27: 10.04888 | Q27: =IF(ISNUMBER(N27/H27*100),N27/H27*100,0) -> 11.358101 | R27: 3.237385
A28: De 25 a 29 años | B28: 677083.45 | C28: =IF(ISNUMBER(B28/B$7*100),B28/B$7*100,0) -> 7.5032758 | D28: 8.9956405 | E28: 677083.45 | F28: =IF(ISNUMBER(E28/E$7*100),E28/E$7*100,0) -> 9.4312134 | G28: 8.9956405 | H28: 519877.74 | I28: =IF(ISNUMBER(H28/H$7*100),H28/H$7*100,0) -> 11.988755 | J28: 9.259164 | K28: 478492.74 | L28: =IF(ISNUMBER(K28/K$7*100),K28/K$7*100,0) -> 11.697226 | M28: 9.1509346 | N28: 41385.003 | O28: =IF(ISNUMBER(N28/N$7*100),N28/N$7*100,0) -> 16.841897 | P28: 10.468896 | Q28: =IF(ISNUMBER(N28/H28*100),N28/H28*100,0) -> 7.960526 | R28: 4.1601369
A29: De 30 a 35 años | B29: 705099.9 | C29: =IF(ISNUMBER(B29/B$7*100),B29/B$7*100,0) -> 7.8137473 | D29: 8.1867448 | E29: 705099.9 | F29: =IF(ISNUMBER(E29/E$7*100),E29/E$7*100,0) -> 9.8214593 | G29: 8.1867448 | H29: 549074.82 | I29: =IF(ISNUMBER(H29/H$7*100),H29/H$7*100,0) -> 12.662061 | J29: 8.4541738 | K29: 517881.18 | L29: =IF(ISNUMBER(K29/K$7*100),K29/K$7*100,0) -> 12.660115 | M29: 8.3148441 | N29: 31193.641 | O29: =IF(ISNUMBER(N29/N$7*100),N29/N$7*100,0) -> 12.694456 | P29: 10.725916 | Q29: =IF(ISNUMBER(N29/H29*100),N29/H29*100,0) -> 5.6811276 | R29: 3.5986313
A30: De 36 a 44 años | B30: 926593.41 | C30: =IF(ISNUMBER(B30/B$7*100),B30/B$7*100,0) -> 10.268285 | D30: 7.3265985 | E30: 926593.41 | F30: =IF(ISNUMBER(E30/E$7*100),E30/E$7*100,0) -> 12.906681 | G30: 7.3265985 | H30: 719013.99 | I30: =IF(ISNUMBER(H30/H$7*100),H30/H$7*100,0) -> 16.580981 | J30: 7.599399 | K30: 696933.12 | L30: =IF(ISNUMBER(K30/K$7*100),K30/K$7*100,0) -> 17.037216 | M30: 7.568601 | N30: 22080.866 | O30: =IF(ISNUMBER(N30/N$7*100),N30/N$7*100,0) -> 8.9859525 | P30: 8.5301238 | Q30: =IF(ISNUMBER(N30/H30*100),N30/H30*100,0) -> 3.0709926 | R30: 3.9453773
A31: De 45 a 59 años | B31: 1120725.4 | C31: =IF(ISNUMBER(B31/B$7*100),B31/B$7*100,0) -> 12.419609 | D31: 6.8347406 | E31: 1120725.4 | F31: =IF(ISNUMBER(E31/E$7*100),E31/E$7*100,0) -> 15.61078 | G31: 6.8347406 | H31: 839157.46 | I31: =IF(ISNUMBER(H31/H$7*100),H31/H$7*100,0) -> 19.351576 | J31: 7.1587414 | K31: 818486.93 | L31: =IF(ISNUMBER(K31/K$7*100),K31/K$7*100,0) -> 20.008719 | M31: 7.1410336 | N31: 20670.528 | O31: =IF(ISNUMBER(N31/N$7*100),N31/N$7*100,0) -> 8.4120062 | P31: 7.8553999 | Q31: =IF(ISNUMBER(N31/H31*100),N31/H31*100,0) -> 2.4632478 | R31: 2.5480718
A32: De 60 años y más | B32: 948394.47 | C32: =IF(ISNUMBER(B32/B$7*100),B32/B$7*100,0) -> 10.509879 | D32: 5.8294225 | E32: 948394.47 | F32: =IF(ISNUMBER(E32/E$7*100),E32/E$7*100,0) -> 13.210352 | G32: 5.8294225 | H32: 454928.79 | I32: =IF(ISNUMBER(H32/H$7*100),H32/H$7*100,0) -> 10.490986 | J32: 5.5293597 | K32: 445958.47 | L32: =IF(ISNUMBER(K32/K$7*100),K32/K$7*100,0) -> 10.901894 | M32: 5.5097181 | N32: 8970.3123 | O32: =IF(ISNUMBER(N32/N$7*100),N32/N$7*100,0) -> 3.6505271 | P32: 6.2488978 | Q32: =IF(ISNUMBER(N32/H32*100),N32/H32*100,0) -> 1.9718058 | R32: 4.0979938
A34: Sexo
A35: Hombre | B35: 4381576.7 | C35: =IF(ISNUMBER(B35/B$7*100),B35/B$7*100,0) -> 48.555578 | D35: 6.5486111 | E35: 3421949.7 | F35: =IF(ISNUMBER(E35/E$7*100),E35/E$7*100,0) -> 47.664933 | G35: 7.1749382 | H35: 2609240 | I35: =IF(ISNUMBER(H35/H$7*100),H35/H$7*100,0) -> 60.170955 | J35: 7.3028071 | K35: 2490998.3 | L35: =IF(ISNUMBER(K35/K$7*100),K35/K$7*100,0) -> 60.894906 | M35: 7.2125761 | N35: 118241.65 | O35: =IF(ISNUMBER(N35/N$7*100),N35/N$7*100,0) -> 48.119209 | P35: 9.0630078 | Q35: =IF(ISNUMBER(N35/H35*100),N35/H35*100,0) -> 4.5316509 | R35: 3.0261389
A36: Mujer | B36: 4642261.3 | C36: =IF(ISNUMBER(B36/B$7*100),B36/B$7*100,0) -> 51.444422 | D36: 6.977946 | E36: 3757226.8 | F36: =IF(ISNUMBER(E36/E$7*100),E36/E$7*100,0) -> 52.335067 | G36: 7.5554259 | H36: 1727137.9 | I36: =IF(ISNUMBER(H36/H$7*100),H36/H$7*100,0) -> 39.829045 | J36: 8.5061746 | K36: 1599653.1 | L36: =IF(ISNUMBER(K36/K$7*100),K36/K$7*100,0) -> 39.105094 | M36: 8.3896599 | N36: 127484.85 | O36: =IF(ISNUMBER(N36/N$7*100),N36/N$7*100,0) -> 51.880791 | P36: 9.8803025 | Q36: =IF(ISNUMBER(N36/H36*100),N36/H36*100,0) -> 7.381278 | R36: 3.4971413
A38: Rama de Actividad
A39: Primaria | B39: 1310750 | C39: =IF(ISNUMBER(B39/B$7*100),B39/B$7*100,0) -> 14.525416 | D39: 5.3244069 | E39: 1301134.9 | F39: =IF(ISNUMBER(E39/E$7*100),E39/E$7*100,0) -> 18.123735 | G39: 5.3535971 | H39: 1300827 | I39: =IF(ISNUMBER(H39/H$7*100),H39/H$7*100,0) -> 29.998009 | J39: 5.3534116 | K39: 1300827 | L39: =IF(ISNUMBER(K39/K$7*100),K39/K$7*100,0) -> 31.799998 | M39: 5.3534116 | N39: 0 | O39: =IF(ISNUMBER(N39/N$7*100),N39/N$7*100,0) -> 0 | P39: 0 | Q39: =IF(ISNUMBER(N39/H39*100),N39/H39*100,0) -> 0 | R39: 0
A40: Secundaria | B40: 555761.45 | C40: =IF(ISNUMBER(B40/B$7*100),B40/B$7*100,0) -> 6.1588146 | D40: 7.9166939 | E40: 550321.13 | F40: =IF(ISNUMBER(E40/E$7*100),E40/E$7*100,0) -> 7.6655189 | G40: 7.9689934 | H40: 549797.23 | I40: =IF(ISNUMBER(H40/H$7*100),H40/H$7*100,0) -> 12.67872 | J40: 7.9679465 | K40: 549797.23 | L40: =IF(ISNUMBER(K40/K$7*100),K40/K$7*100,0) -> 13.440335 | M40: 7.9679465 | N40: 0 | O40: =IF(ISNUMBER(N40/N$7*100),N40/N$7*100,0) -> 0 | P40: 0 | Q40: =IF(ISNUMBER(N40/H40*100),N40/H40*100,0) -> 0 | R40: 0
A41: Terciaria | B41: 2251284.1 | C41: =IF(ISNUMBER(B41/B$7*100),B41/B$7*100,0) -> 24.948188 | D41: 8.749469 | E41: 2238786 | F41: =IF(ISNUMBER(E41/E$7*100),E41/E$7*100,0) -> 31.18444 | G41: 8.7887251 | H41: 2238786 | I41: =IF(ISNUMBER(H41/H$7*100),H41/H$7*100,0) -> 51.628019 | J41: 8.7887251 | K41: 2238786 | L41: =IF(ISNUMBER(K41/K$7*100),K41/K$7*100,0) -> 54.729328 | M41: 8.7887251 | N41: 0 | O41: =IF(ISNUMBER(N41/N$7*100),N41/N$7*100,0) -> 0 | P41: 0 | Q41: =IF(ISNUMBER(N41/H41*100),N41/H41*100,0) -> 0 | R41: 0
A42: No sabe, no responde | B42: 1241.1006 | C42: =IF(ISNUMBER(B42/B$7*100),B42/B$7*100,0) -> 0.013753578 | D42: 14.65429 | E42: 1241.1006 | F42: =IF(ISNUMBER(E42/E$7*100),E42/E$7*100,0) -> 0.017287506 | G42: 14.65429 | H42: 1241.1006 | I42: =IF(ISNUMBER(H42/H$7*100),H42/H$7*100,0) -> 0.028620674 | J42: 14.65429 | K42: 1241.1006 | L42: =IF(ISNUMBER(K42/K$7*100),K42/K$7*100,0) -> 0.030339925 | M42: 14.65429 | N42: 0 | O42: =IF(ISNUMBER(N42/N$7*100),N42/N$7*100,0) -> 0 | P42: 0 | Q42: =IF(ISNUMBER(N42/H42*100),N42/H42*100,0) -> 0 | R42: 0
A43: Busca trabajo por primera vez | B43: 101302.68 | C43: =IF(ISNUMBER(B43/B$7*100),B43/B$7*100,0) -> 1.1226119 | D43: 9.1823489 | E43: 100686.97 | F43: =IF(ISNUMBER(E43/E$7*100),E43/E$7*100,0) -> 1.4024864 | G43: 9.2118408 | H43: 54128.359 | I43: =IF(ISNUMBER(H43/H$7*100),H43/H$7*100,0) -> 1.248239 | J43: 10.656365 | K43: 0 | L43: =IF(ISNUMBER(K43/K$7*100),K43/K$7*100,0) -> 0 | M43: 0 | N43: 54128.359 | O43: =IF(ISNUMBER(N43/N$7*100),N43/N$7*100,0) -> 22.027889 | P43: 10.656365 | Q43: =IF(ISNUMBER(N43/H43*100),N43/H43*100,0) -> 100 | R43: 3.9323257
A45: ='C01'!A46 -> Fuente: Instituto Nacional de Estadística (INE). Encuesta Permanente de Hogares de Propósitos Múltiples, LXI 2018.
A46: (Promedio de salarios mínimos por rama)
A47: AEP= Años de Estudio Promedio
A48: TDA= Tasa de Desempleo Abierto
A49: MBT= Meses promedio en Busca de Trabajo
A50: 1/ Porcentaje por columna
A51: 2/ El nivel educativo incluye la población menor de cinco años

Sheet C02 (2)
A1: Cuadro No. 2. Tasa de Desempleo Abierto (TDA), Población en Edad de Trabajar (PET) y Población Económicamente Activa (PEA),
A2: según dominio, nivel educativo, rango de edad, sexo, rama de actividad y ocupación
A3: Categorías | B3: Población Económicamente Activa (PEA) | K3: TDA | L3: MBT
B4: Total | E4: Ocupados | H4: Desocupados
B5: No. | C5: % 1/ | D5: AEP | E5: No. | F5: % 1/ | G5: AEP | H5: No. | I5: % 1/ | J5: AEP
A7: Total Nacional | B7: =SUM(B10:B33) -> 4144779.8 | C7: ='C02'!I7 -> 100 | D7: ='C02'!J7 -> 7.7901755 | E7: =SUM(E10:E33) -> 4090651.4 | F7: ='C02'!L7 -> 100 | G7: ='C02'!M7 -> 7.680421 | H7: =SUM(H10:H33) -> 54128.359 | I7: ='C02'!O7 -> 100 | J7: ='C02'!P7 -> 9.4894605 | K7: ='C02'!Q7 -> 5.6666301 | L7: ='C02'!R7 -> 3.2704987
A9: Rama de Actividad
A10: Agricultura, ganaderia, silvicultura y pesca | B10: 1294551 | C10: =IF(ISNUMBER(B10/B$7*100),B10/B$7*100,0) -> 31.233289 | D10: 5.3510345 | E10: 1294551 | F10: =IF(ISNUMBER(E10/E$7*100),E10/E$7*100,0) -> 31.646574 | G10: 5.3510345 | H10: 0 | I10: =IF(ISNUMBER(H10/H$7*100),H10/H$7*100,0) -> 0 | J10: 0 | K10: =IF(ISNUMBER(H10/B10*100),H10/B10*100,0) -> 0 | L10: 0
A11: Explotacion de minas y canteras | B11: 6276.0282 | C11: =IF(ISNUMBER(B11/B$7*100),B11/B$7*100,0) -> 0.15142006 | D11: 5.8935965 | E11: 6276.0282 | F11: =IF(ISNUMBER(E11/E$7*100),E11/E$7*100,0) -> 0.15342369 | G11: 5.8935965 | H11: 0 | I11: =IF(ISNUMBER(H11/H$7*100),H11/H$7*100,0) -> 0 | J11: 0 | K11: =IF(ISNUMBER(H11/B11*100),H11/B11*100,0) -> 0 | L11: 0
A12: Industria manufacturera | B12: 549797.23 | C12: =IF(ISNUMBER(B12/B$7*100),B12/B$7*100,0) -> 13.264812 | D12: 7.9679465 | E12: 549797.23 | F12: =IF(ISNUMBER(E12/E$7*100),E12/E$7*100,0) -> 13.440335 | G12: 7.9679465 | H12: 0 | I12: =IF(ISNUMBER(H12/H$7*100),H12/H$7*100,0) -> 0 | J12: 0 | K12: =IF(ISNUMBER(H12/B12*100),H12/B12*100,0) -> 0 | L12: 0
A13: Suministro de electricidad, gas, vapor y aire acondicionado | B13: 4566.9373 | C13: =IF(ISNUMBER(B13/B$7*100),B13/B$7*100,0) -> 0.11018528 | D13: 9.7605504 | E13: 4566.9373 | F13: =IF(ISNUMBER(E13/E$7*100),E13/E$7*100,0) -> 0.11164328 | G13: 9.7605504 | H13: 0 | I13: =IF(ISNUMBER(H13/H$7*100),H13/H$7*100,0) -> 0 | J13: 0 | K13: =IF(ISNUMBER(H13/B13*100),H13/B13*100,0) -> 0 | L13: 0
A14: Suministro de agua, evacuacion de aguas residuales, gestion de desechos y descontaminacion | B14: 18695.773 | C14: =IF(ISNUMBER(B14/B$7*100),B14/B$7*100,0) -> 0.45106794 | D14: 6.8016641 | E14: 18695.773 | F14: =IF(ISNUMBER(E14/E$7*100),E14/E$7*100,0) -> 0.45703657 | G14: 6.8016641 | H14: 0 | I14: =IF(ISNUMBER(H14/H$7*100),H14/H$7*100,0) -> 0 | J14: 0 | K14: =IF(ISNUMBER(H14/B14*100),H14/B14*100,0) -> 0 | L14: 0
A15: Construccion | B15: 229957.19 | C15: =IF(ISNUMBER(B15/B$7*100),B15/B$7*100,0) -> 5.5481162 | D15: 6.9397813 | E15: 229957.19 | F15: =IF(ISNUMBER(E15/E$7*100),E15/E$7*100,0) -> 5.62153 | G15: 6.9397813 | H15: 0 | I15: =IF(ISNUMBER(H15/H$7*100),H15/H$7*100,0) -> 0 | J15: 0 | K15: =IF(ISNUMBER(H15/B15*100),H15/B15*100,0) -> 0 | L15: 0
A16: Comercio al por mayor y al por menor, reparacion de vehiculos automotores y motocicletas | B16: 749556.49 | C16: =IF(ISNUMBER(B16/B$7*100),B16/B$7*100,0) -> 18.08435 | D16: 8.0794472 | E16: 749556.49 | F16: =IF(ISNUMBER(E16/E$7*100),E16/E$7*100,0) -> 18.323646 | G16: 8.0794472 | H16: 0 | I16: =IF(ISNUMBER(H16/H$7*100),H16/H$7*100,0) -> 0 | J16: 0 | K16: =IF(ISNUMBER(H16/B16*100),H16/B16*100,0) -> 0 | L16: 0
A17: Transporte y almacenamiento | B17: 126517.74 | C17: =IF(ISNUMBER(B17/B$7*100),B17/B$7*100,0) -> 3.0524599 | D17: 7.4293044 | E17: 126517.74 | F17: =IF(ISNUMBER(E17/E$7*100),E17/E$7*100,0) -> 3.0928506 | G17: 7.4293044 | H17: 0 | I17: =IF(ISNUMBER(H17/H$7*100),H17/H$7*100,0) -> 0 | J17: 0 | K17: =IF(ISNUMBER(H17/B17*100),H17/B17*100,0) -> 0 | L17: 0
A18: Actividades de alojamiento y de servicios de comida | B18: 210605.46 | C18: =IF(ISNUMBER(B18/B$7*100),B18/B$7*100,0) -> 5.081222 | D18: 8.0508795 | E18: 210605.46 | F18: =IF(ISNUMBER(E18/E$7*100),E18/E$7*100,0) -> 5.1484578 | G18: 8.0508795 | H18: 0 | I18: =IF(ISNUMBER(H18/H$7*100),H18/H$7*100,0) -> 0 | J18: 0 | K18: =IF(ISNUMBER(H18/B18*100),H18/B18*100,0) -> 0 | L18: 0
A19: Informacion y comunicaciones | B19: 32714.935 | C19: =IF(ISNUMBER(B19/B$7*100),B19/B$7*100,0) -> 0.78930456 | D19: 12.120009 | E19: 32714.935 | F19: =IF(ISNUMBER(E19/E$7*100),E19/E$7*100,0) -> 0.7997488 | G19: 12.120009 | H19: 0 | I19: =IF(ISNUMBER(H19/H$7*100),H19/H$7*100,0) -> 0 | J19: 0 | K19: =IF(ISNUMBER(H19/B19*100),H19/B19*100,0) -> 0 | L19: 0
A20: Actividades finacieras y de seguros | B20: 44301.593 | C20: =IF(ISNUMBER(B20/B$7*100),B20/B$7*100,0) -> 1.0688528 | D20: 12.965003 | E20: 44301.593 | F20: =IF(ISNUMBER(E20/E$7*100),E20/E$7*100,0) -> 1.082996 | G20: 12.965003 | H20: 0 | I20: =IF(ISNUMBER(H20/H$7*100),H20/H$7*100,0) -> 0 | J20: 0 | K20: =IF(ISNUMBER(H20/B20*100),H20/B20*100,0) -> 0 | L20: 0
A21: Actividades inmobiliarias | B21: 5724.7299 | C21: =IF(ISNUMBER(B21/B$7*100),B21/B$7*100,0) -> 0.13811904 | D21: 11.741485 | E21: 5724.7299 | F21: =IF(ISNUMBER(E21/E$7*100),E21/E$7*100,0) -> 0.13994666 | G21: 11.741485 | H21: 0 | I21: =IF(ISNUMBER(H21/H$7*100),H21/H$7*100,0) -> 0 | J21: 0 | K21: =IF(ISNUMBER(H21/B21*100),H21/B21*100,0) -> 0 | L21: 0
... A33: NS/NR | B33: 1241.1006 | C33: =IF(ISNUMBER(B33/B$7*100),B33/B$7*100,0) -> 0.029943704 | D33: 14.65429 | E33: 1241.1006 | F33: =IF(ISNUMBER(E33/E$7*100),E33/E$7*100,0) -> 0.030339925 | G33: 14.65429 | H33: 0 | I33: =IF(ISNUMBER(H33/H$7*100),H33/H$7*100,0) -> 0 | J33: 0 | K33: =IF(ISNUMBER(H33/B33*100),H33/B33*100,0) -> 0 | L33: 0
A35: Ocupación
A36: Directores y gerentes | B36: 114096.83 | C36: =IF(ISNUMBER(B36/B$7*100),B36/B$7*100,0) -> 2.7527839 | D36: 12.796603 | E36: 114096.83 | F36: =IF(ISNUMBER(E36/E$7*100),E36/E$7*100,0) -> 2.7892093 | G36: 12.796603 | H36: 0 | I36: =IF(ISNUMBER(H36/H$7*100),H36/H$7*100,0) -> 0 | J36: 0 | K36: =IF(ISNUMBER(H36/B36*100),H36/B36*100,0) -> 0 | L36: 0
A37: Profesionales cientificos e intelectuales | B37: 108250.05 | C37: =IF(ISNUMBER(B37/B$7*100),B37/B$7*100,0) -> 2.6117203 | D37: 16.094874 | E37: 108250.05 | F37: =IF(ISNUMBER(E37/E$7*100),E37/E$7*100,0) -> 2.6462791 | G37: 16.094874 | H37: 0 | I37: =IF(ISNUMBER(H37/H$7*100),H37/H$7*100,0) -> 0 | J37: 0 | K37: =IF(ISNUMBER(H37/B37*100),H37/B37*100,0) -> 0 | L37: 0
A38: Tecnicos y profesionales de nivel medio | B38: 226905.48 | C38: =IF(ISNUMBER(B38/B$7*100),B38/B$7*100,0) -> 5.4744881 | D38: 11.076788 | E38: 226905.48 | F38: =IF(ISNUMBER(E38/E$7*100),E38/E$7*100,0) -> 5.5469277 | G38: 11.076788 | H38: 0 | I38: =IF(ISNUMBER(H38/H$7*100),H38/H$7*100,0) -> 0 | J38: 0 | K38: =IF(ISNUMBER(H38/B38*100),H38/B38*100,0) -> 0 | L38: 0
A39: Personal de apoyo administrativo | B39: 110002.41 | C39: =IF(ISNUMBER(B39/B$7*100),B39/B$7*100,0) -> 2.6539989 | D39: 11.663359 | E39: 110002.41 | F39: =IF(ISNUMBER(E39/E$7*100),E39/E$7*100,0) -> 2.6891172 | G39: 11.663359 | H39: 0 | I39: =IF(ISNUMBER(H39/H$7*100),H39/H$7*100,0) -> 0 | J39: 0 | K39: =IF(ISNUMBER(H39/B39*100),H39/B39*100,0) -> 0 | L39: 0
A40: Trabajadores de los servicios y vendedores de comercios y mercados | B40: 913910.55 | C40: =IF(ISNUMBER(B40/B$7*100),B40/B$7*100,0) -> 22.049677 | D40: 7.8003521 | E40: 913910.55 | F40: =IF(ISNUMBER(E40/E$7*100),E40/E$7*100,0) -> 22.341443 | G40: 7.8003521 | H40: 0 | I40: =IF(ISNUMBER(H40/H$7*100),H40/H$7*100,0) -> 0 | J40: 0 | K40: =IF(ISNUMBER(H40/B40*100),H40/B40*100,0) -> 0 | L40: 0
A41: Agricultores y trabajadores calificados agropecuarios forestales y pesqueros | B41: 598975.26 | C41: =IF(ISNUMBER(B41/B$7*100),B41/B$7*100,0) -> 14.451317 | D41: 4.9209503 | E41: 598975.26 | F41: =IF(ISNUMBER(E41/E$7*100),E41/E$7*100,0) -> 14.64254 | G41: 4.9209503 | H41: 0 | I41: =IF(ISNUMBER(H41/H$7*100),H41/H$7*100,0) -> 0 | J41: 0 | K41: =IF(ISNUMBER(H41/B41*100),H41/B41*100,0) -> 0 | L41: 0
A42: Oficiales, operarios y artesanos de artes mecanicas y de otros oficios | B42: 311635.23 | C42: =IF(ISNUMBER(B42/B$7*100),B42/B$7*100,0) -> 7.5187405 | D42: 7.5608888 | E42: 311635.23 | F42: =IF(ISNUMBER(E42/E$7*100),E42/E$7*100,0) -> 7.6182301 | G42: 7.5608888 | H42: 0 | I42: =IF(ISNUMBER(H42/H$7*100),H42/H$7*100,0) -> 0 | J42: 0 | K42: =IF(ISNUMBER(H42/B42*100),H42/B42*100,0) -> 0 | L42: 0
A43: Operadores de instalaciones y maquinas y ensambladores | B43: 187441.99 | C43: =IF(ISNUMBER(B43/B$7*100),B43/B$7*100,0) -> 4.522363 | D43: 7.666355 | E43: 187441.99 | F43: =IF(ISNUMBER(E43/E$7*100),E43/E$7*100,0) -> 4.5822039 | G43: 7.666355 | H43: 0 | I43: =IF(ISNUMBER(H43/H$7*100),H43/H$7*100,0) -> 0 | J43: 0 | K43: =IF(ISNUMBER(H43/B43*100),H43/B43*100,0) -> 0 | L43: 0
A44: Ocupaciones elementales | B44: 1516922 | C44: =IF(ISNUMBER(B44/B$7*100),B44/B$7*100,0) -> 36.598374 | D44: 6.5924965 | E44: 1516922 | F44: =IF(ISNUMBER(E44/E$7*100),E44/E$7*100,0) -> 37.082652 | G44: 6.5924965 | H44: 0 | I44: =IF(ISNUMBER(H44/H$7*100),H44/H$7*100,0) -> 0 | J44: 0 | K44: =IF(ISNUMBER(H44/B44*100),H44/B44*100,0) -> 0 | L44: 0
A45: Ocupaciones militares | B45: 2511.594 | C45: =IF(ISNUMBER(B45/B$7*100),B45/B$7*100,0) -> 0.06059656 | D45: 14.790656 | E45: 2511.594 | F45: =IF(ISNUMBER(E45/E$7*100),E45/E$7*100,0) -> 0.061398386 | G45: 14.790656 | H45: 0 | I45: =IF(ISNUMBER(H45/H$7*100),H45/H$7*100,0) -> 0 | J45: 0 | K45: =IF(ISNUMBER(H45/B45*100),H45/B45*100,0) -> 0 | L45: 0
A46: Ocupaciones NO especificadas | B46: 0 | C46: =IF(ISNUMBER(B46/B$7*100),B46/B$7*100,0) -> 0 | D46: 0 | E46: 0 | F46: =IF(ISNUMBER(E46/E$7*100),E46/E$7*100,0) -> 0 | G46: 0 | H46: 0 | I46: =IF(ISNUMBER(H46/H$7*100),H46/H$7*100,0) -> 0 | J46: 0 | K46: =IF(ISNUMBER(H46/B46*100),H46/B46*100,0) -> 0 | L46: 0
A47: Busca trabajo por primera vez | B47: 54128.359 | C47: =IF(ISNUMBER(B47/B$7*100),B47/B$7*100,0) -> 1.3059405 | D47: 10.656365 | E47: 0 | F47: =IF(ISNUMBER(E47/E$7*100),E47/E$7*100,0) -> 0 | G47: 0 | H47: 54128.359 | I47: =IF(ISNUMBER(H47/H$7*100),H47/H$7*100,0) -> 100 | J47: 10.656365 | K47: =IF(ISNUMBER(H47/B47*100),H47/B47*100,0) -> 100 | L47: 3.9323257
A48: NS/NR | B48: 0 | D48: 0 | E48: 0 | F48: =IF(ISNUMBER(E48/E$7*100),E48/E$7*100,0) -> 0 | G48: 0 | H48: 0 | I48: =IF(ISNUMBER(H48/H$7*100),H48/H$7*100,0) -> 0 | J48: 0 | K48: =IF(ISNUMBER(H48/B48*100),H48/B48*100,0) -> 0 | L48: 0
A50: ='C02'!A45 -> Fuente: Instituto Nacional de Estadística (INE). Encuesta Permanente de Hogares de Propósitos Múltiples, LXI 2018.
A51: (Promedio de salarios mínimos por rama)
A52: AEP= Años de Estudio Promedio
A53: TDA= Tasa de Desempleo Abierto
A54: MBT= Meses promedio en Busca de Trabajo
A55: 1/ Porcentaje por columna
A56: 2/ El nivel educativo incluye la población menor de cinco años

Sheet C03
A1: Cuadro No. 3. Personas ocupadas por categoría ocupacional, según dominio, nivel educativo, rango de edad, sexo.
A2: número de salarios mínimos, rama de actividad y ocupación
A3: Ocupación Principal
A4: Categorías | B4: Total Ocupados | D4: Asalariados | L4: Cuenta propia | N4: Trab. fam. no remu.
D5: Total Asalariados | F5: Público | H5: Privado | J5: Doméstico
B6: No. | C6: % 1/ | D6: No. | E6: % 1/ | F6: No. | G6: % 1/ | H6: No. | I6: % 1/ | J6: No. | K6: % 1/ | L6: No. | M6: % 1/ | N6: No. | O6: % 1/
A8: Total Nacional 2/ | B8: 4090651.4 | C8: =SUM(E8,M8,O8) -> 100 | D8: =F8+H8+J8 -> 1908586 | E8: =IF(ISNUMBER(D8/$B$8*100),D8/$B$8*100,0) -> 46.657264 | F8: 236186.72 | G8: =IF(ISNUMBER(F8/$B$8*100),F8/$B$8*100,0) -> 5.7738169 | H8: 1538312 | I8: =IF(ISNUMBER(H8/$B$8*100),H8/$B$8*100,0) -> 37.605551 | J8: 134087.29 | K8: =IF(ISNUMBER(J8/$B$8*100),J8/$B$8*100,0) -> 3.2778958 | L8: 1651439 | M8: =IF(ISNUMBER(L8/$B$8*100),L8/$B$8*100,0) -> 40.371053 | N8: 530626.36 | O8: =IF(ISNUMBER(N8/$B$8*100),N8/$B$8*100,0) -> 12.971684
A10: Dominio
A11: Urbano | B11: =SUM(B12:B14) -> 2227420.7 | C11: =IF(ISNUMBER(B11/B$8*100),B11/B$8*100,0) -> 54.451492 | D11: =SUM(D12:D14) -> 1244296.5 | E11: =IF(ISNUMBER(D11/D$8*100),D11/D$8*100,0) -> 65.19468 | F11: =SUM(F12:F14) -> 191978.75 | G11: =IF(ISNUMBER(F11/F$8*100),F11/F$8*100,0) -> 81.282616 | H11: =SUM(H12:H14) -> 955388.59 | I11: =IF(ISNUMBER(H11/H$8*100),H11/H$8*100,0) -> 62.106296 | J11: =SUM(J12:J14) -> 96929.196 | K11: =IF(ISNUMBER(J11/J$8*100),J11/J$8*100,0) -> 72.28813 | L11: =SUM(L12:L14) -> 798834.68 | M11: =IF(ISNUMBER(L11/L$8*100),L11/L$8*100,0) -> 48.372036 | N11: =SUM(N12:N14) -> 184289.52 | O11: =IF(ISNUMBER(N11/N$8*100),N11/N$8*100,0) -> 34.730562
A12: Distrito Central | B12: 476944.5 | C12: =IF(ISNUMBER(B12/B$8*100),B12/B$8*100,0) -> 11.659378 | D12: =F12+H12+J12 -> 292348.52 | E12: =IF(ISNUMBER(D12/D$8*100),D12/D$8*100,0) -> 15.317545 | F12: 62452.796 | G12: =IF(ISNUMBER(F12/F$8*100),F12/F$8*100,0) -> 26.442128 | H12: 205855.31 | I12: =IF(ISNUMBER(H12/H$8*100),H12/H$8*100,0) -> 13.381896 | J12: 24040.407 | K12: =IF(ISNUMBER(J12/J$8*100),J12/J$8*100,0) -> 17.928923 | L12: 151521.76 | M12: =IF(ISNUMBER(L12/L$8*100),L12/L$8*100,0) -> 9.1751347 | N12: 33074.224 | O12: =IF(ISNUMBER(N12/N$8*100),N12/N$8*100,0) -> 6.2330533
A13: San Pedro Sula | B13: 274052.2 | C13: =IF(ISNUMBER(B13/B$8*100),B13/B$8*100,0) -> 6.6994758 | D13: =F13+H13+J13 -> 168103.93 | E13: =IF(ISNUMBER(D13/D$8*100),D13/D$8*100,0) -> 8.8077735 | F13: 10771.899 | G13: =IF(ISNUMBER(F13/F$8*100),F13/F$8*100,0) -> 4.5607557 | H13: 148658.77 | I13: =IF(ISNUMBER(H13/H$8*100),H13/H$8*100,0) -> 9.6637593 | J13: 8673.2644 | K13: =IF(ISNUMBER(J13/J$8*100),J13/J$8*100,0) -> 6.4683717 | L13: 90323.277 | M13: =IF(ISNUMBER(L13/L$8*100),L13/L$8*100,0) -> 5.4693679 | N13: 15624.992 | O13: =IF(ISNUMBER(N13/N$8*100),N13/N$8*100,0) -> 2.9446317
A14: Resto urbano | B14: 1476424 | C14: =IF(ISNUMBER(B14/B$8*100),B14/B$8*100,0) -> 36.092639 | D14: =F14+H14+J14 -> 783844.09 | E14: =IF(ISNUMBER(D14/D$8*100),D14/D$8*100,0) -> 41.069362 | F14: 118754.05 | G14: =IF(ISNUMBER(F14/F$8*100),F14/F$8*100,0) -> 50.279732 | H14: 600874.51 | I14: =IF(ISNUMBER(H14/H$8*100),H14/H$8*100,0) -> 39.06064 | J14: 64215.525 | K14: =IF(ISNUMBER(J14/J$8*100),J14/J$8*100,0) -> 47.890836 | L14: 556989.64 | M14: =IF(ISNUMBER(L14/L$8*100),L14/L$8*100,0) -> 33.727533 | N14: 135590.3 | O14: =IF(ISNUMBER(N14/N$8*100),N14/N$8*100,0) -> 25.552877
A15: Rural | B15: 1863230.7 | C15: =IF(ISNUMBER(B15/B$8*100),B15/B$8*100,0) -> 45.548508 | D15: =F15+H15+J15 -> 664289.46 | E15: =IF(ISNUMBER(D15/D$8*100),D15/D$8*100,0) -> 34.80532 | F15: 44207.974 | G15: =IF(ISNUMBER(F15/F$8*100),F15/F$8*100,0) -> 18.717384 | H15: 582923.39 | I15: =IF(ISNUMBER(H15/H$8*100),H15/H$8*100,0) -> 37.893704 | J15: 37158.095 | K15: =IF(ISNUMBER(J15/J$8*100),J15/J$8*100,0) -> 27.71187 | L15: 852604.35 | M15: =IF(ISNUMBER(L15/L$8*100),L15/L$8*100,0) -> 51.627964 | N15: 346336.85 | O15: =IF(ISNUMBER(N15/N$8*100),N15/N$8*100,0) -> 65.269438
D16: =F16+H16+J16 -> 0
A17: Nivel Educativo
A18: Sin Nivel | B18: 373555.17 | C18: =IF(ISNUMBER(B18/B$8*100),B18/B$8*100,0) -> 9.1319237 | D18: =F18+H18+J18 -> 123587.75 | E18: =IF(ISNUMBER(D18/D$8*100),D18/D$8*100,0) -> 6.4753567 | F18: 1754.4881 | G18: =IF(ISNUMBER(F18/F$8*100),F18/F$8*100,0) -> 0.74283944 | H18: 105060.85 | I18: =IF(ISNUMBER(H18/H$8*100),H18/H$8*100,0) -> 6.829619 | J18: 16772.415 | K18: =IF(ISNUMBER(J18/J$8*100),J18/J$8*100,0) -> 12.508579 | L18: 223578.94 | M18: =IF(ISNUMBER(L18/L$8*100),L18/L$8*100,0) -> 13.538431 | N18: 26388.474 | O18: =IF(ISNUMBER(N18/N$8*100),N18/N$8*100,0) -> 4.97308
A19: Primaria | B19: 2244815.6 | C19: =IF(ISNUMBER(B19/B$8*100),B19/B$8*100,0) -> 54.876728 | D19: =F19+H19+J19 -> 885155.48 | E19: =IF(ISNUMBER(D19/D$8*100),D19/D$8*100,0) -> 46.377553 | F19: 30608.65 | G19: =IF(ISNUMBER(F19/F$8*100),F19/F$8*100,0) -> 12.959513 | H19: 770048.64 | I19: =IF(ISNUMBER(H19/H$8*100),H19/H$8*100,0) -> 50.058028 | J19: 84498.186 | K19: =IF(ISNUMBER(J19/J$8*100),J19/J$8*100,0) -> 63.017296 | L19: 1013342.4 | M19: =IF(ISNUMBER(L19/L$8*100),L19/L$8*100,0) -> 61.361177 | N19: 346317.73 | O19: =IF(ISNUMBER(N19/N$8*100),N19/N$8*100,0) -> 65.265835
A20: Secundaria | B20: 1044987.4 | C20: =IF(ISNUMBER(B20/B$8*100),B20/B$8*100,0) -> 25.545746 | D20: =F20+H20+J20 -> 588712.76 | E20: =IF(ISNUMBER(D20/D$8*100),D20/D$8*100,0) -> 30.845493 | F20: 91600.762 | G20: =IF(ISNUMBER(F20/F$8*100),F20/F$8*100,0) -> 38.783197 | H20: 465765.8 | I20: =IF(ISNUMBER(H20/H$8*100),H20/H$8*100,0) -> 30.27772 | J20: 31346.191 | K20: =IF(ISNUMBER(J20/J$8*100),J20/J$8*100,0) -> 23.377451 | L20: 326737.57 | M20: =IF(ISNUMBER(L20/L$8*100),L20/L$8*100,0) -> 19.785022 | N20: 129537.11 | O20: =IF(ISNUMBER(N20/N$8*100),N20/N$8*100,0) -> 24.412113
A21: Superior | B21: 407705.71 | C21: =IF(ISNUMBER(B21/B$8*100),B21/B$8*100,0) -> 9.9667673 | D21: =F21+H21+J21 -> 299168.68 | E21: =IF(ISNUMBER(D21/D$8*100),D21/D$8*100,0) -> 15.674886 | F21: 110783.67 | G21: =IF(ISNUMBER(F21/F$8*100),F21/F$8*100,0) -> 46.905124 | H21: 187638.41 | I21: =IF(ISNUMBER(H21/H$8*100),H21/H$8*100,0) -> 12.197682 | J21: 746.59648 | K21: =IF(ISNUMBER(J21/J$8*100),J21/J$8*100,0) -> 0.55679884 | L21: 80898.402 | M21: =IF(ISNUMBER(L21/L$8*100),L21/L$8*100,0) -> 4.8986611 | N21: 27638.623 | O21: =IF(ISNUMBER(N21/N$8*100),N21/N$8*100,0) -> 5.2086788
A22: No sabe, no responde | B22: 19587.472 | C22: =IF(ISNUMBER(B22/B$8*100),B22/B$8*100,0) -> 0.47883503 | D22: =F22+H22+J22 -> 11961.337 | E22: =IF(ISNUMBER(D22/D$8*100),D22/D$8*100,0) -> 0.62671195 | F22: 1439.1468 | G22: =IF(ISNUMBER(F22/F$8*100),F22/F$8*100,0) -> 0.60932586 | H22: 9798.2866 | I22: =IF(ISNUMBER(H22/H$8*100),H22/H$8*100,0) -> 0.63695055 | J22: 723.90321 | K22: =IF(ISNUMBER(J22/J$8*100),J22/J$8*100,0) -> 0.53987459 | L22: 6881.6997 | M22: =IF(ISNUMBER(L22/L$8*100),L22/L$8*100,0) -> 0.41670928 | N22: 744.43572 | O22: =IF(ISNUMBER(N22/N$8*100),N22/N$8*100,0) -> 0.14029377
D23: =F23+H23+J23 -> 0
A24: Rango de Edad
A25: De 10 a 11 años | B25: 36038.435 | C25: =IF(ISNUMBER(B25/B$8*100),B25/B$8*100,0) -> 0.88099503 | D25: =F25+H25+J25 -> 3855.7071 | E25: =IF(ISNUMBER(D25/D$8*100),D25/D$8*100,0) -> 0.20201904 | F25: 186.64912 | G25: =IF(ISNUMBER(F25/F$8*100),F25/F$8*100,0) -> 0.079026086 | H25: 3669.058 | I25: =IF(ISNUMBER(H25/H$8*100),H25/H$8*100,0) -> 0.23851195 | J25: 0 | K25: =IF(ISNUMBER(J25/J$8*100),J25/J$8*100,0) -> 0 | L25: 3213.0839 | M25: =IF(ISNUMBER(L25/L$8*100),L25/L$8*100,0) -> 0.19456267 | N25: 28969.644 | O25: =IF(ISNUMBER(N25/N$8*100),N25/N$8*100,0) -> 5.4595185
A26: De 12 a 14 años | B26: 136362.34 | C26: =IF(ISNUMBER(B26/B$8*100),B26/B$8*100,0) -> 3.3335115 | D26: =F26+H26+J26 -> 31420.303 | E26: =IF(ISNUMBER(D26/D$8*100),D26/D$8*100,0) -> 1.6462608 | F26: 0 | G26: =IF(ISNUMBER(F26/F$8*100),F26/F$8*100,0) -> 0 | H26: 27914.904 | I26: =IF(ISNUMBER(H26/H$8*100),H26/H$8*100,0) -> 1.8146451 | J26: 3505.3991 | K26: =IF(ISNUMBER(J26/J$8*100),J26/J$8*100,0) -> 2.6142665 | L26: 8099.4401 | M26: =IF(ISNUMBER(L26/L$8*100),L26/L$8*100,0) -> 0.49044742 | N26: 96842.592 | O26: =IF(ISNUMBER(N26/N$8*100),N26/N$8*100,0) -> 18.250618
A27: De 15 a 18 años | B27: 307284.12 | C27: =IF(ISNUMBER(B27/B$8*100),B27/B$8*100,0) -> 7.5118627 | D27: =F27+H27+J27 -> 150293.03 | E27: =IF(ISNUMBER(D27/D$8*100),D27/D$8*100,0) -> 7.8745748 | F27: 966.31492 | G27: =IF(ISNUMBER(F27/F$8*100),F27/F$8*100,0) -> 0.40913177 | H27: 136475.05 | I27: =IF(ISNUMBER(H27/H$8*100),H27/H$8*100,0) -> 8.8717405 | J27: 12851.67 | K27: =IF(ISNUMBER(J27/J$8*100),J27/J$8*100,0) -> 9.5845546 | L27: 34548.621 | M27: =IF(ISNUMBER(L27/L$8*100),L27/L$8*100,0) -> 2.0920313 | N27: 122442.46 | O27: =IF(ISNUMBER(N27/N$8*100),N27/N$8*100,0) -> 23.075081
A28: De 19 a 24 años | B28: 653214.06 | C28: =IF(ISNUMBER(B28/B$8*100),B28/B$8*100,0) -> 15.968461 | D28: =F28+H28+J28 -> 408390.65 | E28: =IF(ISNUMBER(D28/D$8*100),D28/D$8*100,0) -> 21.39755 | F28: 26362.906 | G28: =IF(ISNUMBER(F28/F$8*100),F28/F$8*100,0) -> 11.161892 | H28: 355801.69 | I28: =IF(ISNUMBER(H28/H$8*100),H28/H$8*100,0) -> 23.129358 | J28: 26226.053 | K28: =IF(ISNUMBER(J28/J$8*100),J28/J$8*100,0) -> 19.55894 | L28: 137151.71 | M28: =IF(ISNUMBER(L28/L$8*100),L28/L$8*100,0) -> 8.3049815 | N28: 107671.71 | O28: =IF(ISNUMBER(N28/N$8*100),N28/N$8*100,0) -> 20.291436
A29: De 25 a 29 años | B29: 478492.74 | C29: =IF(ISNUMBER(B29/B$8*100),B29/B$8*100,0) -> 11.697226 | D29: =F29+H29+J29 -> 290049.57 | E29: =IF(ISNUMBER(D29/D$8*100),D29/D$8*100,0) -> 15.197092 | F29: 25985.737 | G29: =IF(ISNUMBER(F29/F$8*100),F29/F$8*100,0) -> 11.002201 | H29: 246831.93 | I29: =IF(ISNUMBER(H29/H$8*100),H29/H$8*100,0) -> 16.045635 | J29: 17231.9 | K29: =IF(ISNUMBER(J29/J$8*100),J29/J$8*100,0) -> 12.851255 | L29: 145798.35 | M29: =IF(ISNUMBER(L29/L$8*100),L29/L$8*100,0) -> 8.828564 | N29: 42644.821 | O29: =IF(ISNUMBER(N29/N$8*100),N29/N$8*100,0) -> 8.0366947
A30: De 30 a 35 años | B30: 517881.18 | C30: =IF(ISNUMBER(B30/B$8*100),B30/B$8*100,0) -> 12.660115 | D30: =F30+H30+J30 -> 289606.24 | E30: =IF(ISNUMBER(D30/D$8*100),D30/D$8*100,0) -> 15.173864 | F30: 39294.009 | G30: =IF(ISNUMBER(F30/F$8*100),F30/F$8*100,0) -> 16.636841 | H30: 229720.61 | I30: =IF(ISNUMBER(H30/H$8*100),H30/H$8*100,0) -> 14.933291 | J30: 20591.618 | K30: =IF(ISNUMBER(J30/J$8*100),J30/J$8*100,0) -> 15.356875 | L30: 193465.03 | M30: =IF(ISNUMBER(L30/L$8*100),L30/L$8*100,0) -> 11.714936 | N30: 34809.903 | O30: =IF(ISNUMBER(N30/N$8*100),N30/N$8*100,0) -> 6.5601534
A31: De 36 a 44 años | B31: 696933.12 | C31: =IF(ISNUMBER(B31/B$8*100),B31/B$8*100,0) -> 17.037216 | D31: =F31+H31+J31 -> 334059.4 | E31: =IF(ISNUMBER(D31/D$8*100),D31/D$8*100,0) -> 17.502978 | F31: 54983.939 | G31: =IF(ISNUMBER(F31/F$8*100),F31/F$8*100,0) -> 23.279861 | H31: 256952.23 | I31: =IF(ISNUMBER(H31/H$8*100),H31/H$8*100,0) -> 16.703518 | J31: 22123.23 | K31: =IF(ISNUMBER(J31/J$8*100),J31/J$8*100,0) -> 16.499125 | L31: 330517.77 | M31: =IF(ISNUMBER(L31/L$8*100),L31/L$8*100,0) -> 20.013925 | N31: 32355.958 | O31: =IF(ISNUMBER(N31/N$8*100),N31/N$8*100,0) -> 6.0976913
A32: De 45 a 59 años | B32: 818486.93 | C32: =IF(ISNUMBER(B32/B$8*100),B32/B$8*100,0) -> 20.008719 | D32: =F32+H32+J32 -> 317970.61 | E32: =IF(ISNUMBER(D32/D$8*100),D32/D$8*100,0) -> 16.660009 | F32: 72427.469 | G32: =IF(ISNUMBER(F32/F$8*100),F32/F$8*100,0) -> 30.665344 | H32: 223061.6 | I32: =IF(ISNUMBER(H32/H$8*100),H32/H$8*100,0) -> 14.500413 | J32: 22481.54 | K32: =IF(ISNUMBER(J32/J$8*100),J32/J$8*100,0) -> 16.766347 | L32: 464826.09 | M32: =IF(ISNUMBER(L32/L$8*100),L32/L$8*100,0) -> 28.14673 | N32: 35690.236 | O32: =IF(ISNUMBER(N32/N$8*100),N32/N$8*100,0) -> 6.7260579
A33: De 60 años y más | B33: 445958.47 | C33: =IF(ISNUMBER(B33/B$8*100),B33/B$8*100,0) -> 10.901894 | D33: =F33+H33+J33 -> 82940.499 | E33: =IF(ISNUMBER(D33/D$8*100),D33/D$8*100,0) -> 4.3456516 | F33: 15979.694 | G33: =IF(ISNUMBER(F33/F$8*100),F33/F$8*100,0) -> 6.765704 | H33: 57884.923 | I33: =IF(ISNUMBER(H33/H$8*100),H33/H$8*100,0) -> 3.7628858 | J33: 9075.8812 | K33: =IF(ISNUMBER(J33/J$8*100),J33/J$8*100,0) -> 6.7686364 | L33: 333818.94 | M33: =IF(ISNUMBER(L33/L$8*100),L33/L$8*100,0) -> 20.213822 | N33: 29199.036 | O33: =IF(ISNUMBER(N33/N$8*100),N33/N$8*100,0) -> 5.5027488
A35: Sexo
A36: Hombre | B36: 2490998.3 | C36: =IF(ISNUMBER(B36/B$8*100),B36/B$8*100,0) -> 60.894906 | D36: =F36+H36+J36 -> 1267968.1 | E36: =IF(ISNUMBER(D36/D$8*100),D36/D$8*100,0) -> 66.434945 | F36: 103520.37 | G36: =IF(ISNUMBER(F36/F$8*100),F36/F$8*100,0) -> 43.829888 | H36: 1147074.7 | I36: =IF(ISNUMBER(H36/H$8*100),H36/H$8*100,0) -> 74.567103 | J36: 17373.003 | K36: =IF(ISNUMBER(J36/J$8*100),J36/J$8*100,0) -> 12.956488 | L36: 930739.43 | M36: =IF(ISNUMBER(L36/L$8*100),L36/L$8*100,0) -> 56.359297 | N36: 292290.84 | O36: =IF(ISNUMBER(N36/N$8*100),N36/N$8*100,0) -> 55.084116
A37: Mujer | B37: 1599653.1 | C37: =IF(ISNUMBER(B37/B$8*100),B37/B$8*100,0) -> 39.105094 | D37: =F37+H37+J37 -> 640617.94 | E37: =IF(ISNUMBER(D37/D$8*100),D37/D$8*100,0) -> 33.565055 | F37: 132666.35 | G37: =IF(ISNUMBER(F37/F$8*100),F37/F$8*100,0) -> 56.170112 | H37: 391237.3 | I37: =IF(ISNUMBER(H37/H$8*100),H37/H$8*100,0) -> 25.432897 | J37: 116714.29 | K37: =IF(ISNUMBER(J37/J$8*100),J37/J$8*100,0) -> 87.043512 | L37: 720699.6 | M37: =IF(ISNUMBER(L37/L$8*100),L37/L$8*100,0) -> 43.640703 | N37: 238335.52 | O37: =IF(ISNUMBER(N37/N$8*100),N37/N$8*100,0) -> 44.915884
A39: No. de Salarios Mínimos 3/ | B39: 3295010.5 | C39: =IF(ISNUMBER(B39/B$8*100),B39/B$8*100,0) -> 80.549776 | D39: =F39+H39+J39 -> 1825655.9 | E39: =IF(ISNUMBER(D39/D$8*100),D39/D$8*100,0) -> 95.654894 | F39: 215363.13 | G39: =IF(ISNUMBER(F39/F$8*100),F39/F$8*100,0) -> 91.18342 | H39: 1478139.1 | I39: =IF(ISNUMBER(H39/H$8*100),H39/H$8*100,0) -> 96.088379 | J39: 132153.73 | K39: =IF(ISNUMBER(J39/J$8*100),J39/J$8*100,0) -> 98.557983 | L39: 1469354.6 | M39: =IF(ISNUMBER(L39/L$8*100),L39/L$8*100,0) -> 88.974198 | N39: 0 | O39: =IF(ISNUMBER(N39/N$8*100),N39/N$8*100,0) -> 0
A40: Menos de un salario | B40: =SUM(B41:B43) -> 2626954.2 | C40: =IF(ISNUMBER(B40/B$8*100),B40/B$8*100,0) -> 64.218482 | D40: =F40+H40+J40 -> 1359357.2 | E40: =IF(ISNUMBER(D40/D$8*100),D40/D$8*100,0) -> 71.223263 | F40: =SUM(F41:F43) -> 84716.13 | G40: =IF(ISNUMBER(F40/F$8*100),F40/F$8*100,0) -> 35.868287 | H40: =SUM(H41:H43) -> 1149300.1 | I40: =IF(ISNUMBER(H40/H$8*100),H40/H$8*100,0) -> 74.711766 | J40: =SUM(J41:J43) -> 125341.05 | K40: =IF(ISNUMBER(J40/J$8*100),J40/J$8*100,0) -> 93.477201 | L40: =SUM(L41:L43) -> 1267597 | M40: =IF(ISNUMBER(L40/L$8*100),L40/L$8*100,0) -> 76.757117 | N40: =SUM(N41:N43) -> 0 | O40: =IF(ISNUMBER(N40/N$8*100),N40/N$8*100,0) -> 0
A41: Menos de 1 salario y trab <36 horas | B41: 977007.02 | C41: =IF(ISNUMBER(B41/B$8*100),B41/B$8*100,0) -> 23.883898 | D41: =F41+H41+J41 -> 325967.45 | E41: =IF(ISNUMBER(D41/D$8*100),D41/D$8*100,0) -> 17.079002 | F41: 40832.892 | G41: =IF(ISNUMBER(F41/F$8*100),F41/F$8*100,0) -> 17.288395 | H41: 248807.08 | I41: =IF(ISNUMBER(H41/H$8*100),H41/H$8*100,0) -> 16.174032 | J41: 36327.474 | K41: =IF(ISNUMBER(J41/J$8*100),J41/J$8*100,0) -> 27.092406 | L41: 651039.58 | M41: =IF(ISNUMBER(L41/L$8*100),L41/L$8*100,0) -> 39.422562 | N41: 0 | O41: =IF(ISNUMBER(N41/N$8*100),N41/N$8*100,0) -> 0
A42: Menos de 1 salario y trab >=36 horas | B42: 1649947.2 | C42: =IF(ISNUMBER(B42/B$8*100),B42/B$8*100,0) -> 40.334583 | D42: =F42+H42+J42 -> 1033389.8 | E42: =IF(ISNUMBER(D42/D$8*100),D42/D$8*100,0) -> 54.144261 | F42: 43883.237 | G42: =IF(ISNUMBER(F42/F$8*100),F42/F$8*100,0) -> 18.579892 | H42: 900492.97 | I42: =IF(ISNUMBER(H42/H$8*100),H42/H$8*100,0) -> 58.537733 | J42: 89013.573 | K42: =IF(ISNUMBER(J42/J$8*100),J42/J$8*100,0) -> 66.384795 | L42: 616557.41 | M42: =IF(ISNUMBER(L42/L$8*100),L42/L$8*100,0) -> 37.334555 | N42: 0 | O42: =IF(ISNUMBER(N42/N$8*100),N42/N$8*100,0) -> 0
A43: Menos de 1 salario y no decl. horas | B43: 0 | C43: =IF(ISNUMBER(B43/B$8*100),B43/B$8*100,0) -> 0 | D43: =F43+H43+J43 -> 0 | E43: =IF(ISNUMBER(D43/D$8*100),D43/D$8*100,0) -> 0 | F43: 0 | G43: =IF(ISNUMBER(F43/F$8*100),F43/F$8*100,0) -> 0 | H43: 0 | I43: =IF(ISNUMBER(H43/H$8*100),H43/H$8*100,0) -> 0 | J43: 0 | K43: =IF(ISNUMBER(J43/J$8*100),J43/J$8*100,0) -> 0 | L43: 0 | M43: =IF(ISNUMBER(L43/L$8*100),L43/L$8*100,0) -> 0 | N43: 0 | O43: =IF(ISNUMBER(N43/N$8*100),N43/N$8*100,0) -> 0
A44: De 1 a 2 salarios | B44: 542928.59 | C44: =IF(ISNUMBER(B44/B$8*100),B44/B$8*100,0) -> 13.272424 | D44: =F44+H44+J44 -> 392375.02 | E44: =IF(ISNUMBER(D44/D$8*100),D44/D$8*100,0) -> 20.558414 | F44: 100380.4 | G44: =IF(ISNUMBER(F44/F$8*100),F44/F$8*100,0) -> 42.50044 | H44: 285181.94 | I44: =IF(ISNUMBER(H44/H$8*100),H44/H$8*100,0) -> 18.538628 | J44: 6812.6827 | K44: =IF(ISNUMBER(J44/J$8*100),J44/J$8*100,0) -> 5.0807818 | L44: 150553.57 | M44: =IF(ISNUMBER(L44/L$8*100),L44/L$8*100,0) -> 9.116508 | N44: 0 | O44: =IF(ISNUMBER(N44/N$8*100),N44/N$8*100,0) -> 0
A45: De 2 a 3 salarios | B45: 76432.041 | C45: =IF(ISNUMBER(B45/B$8*100),B45/B$8*100,0) -> 1.8684565 | D45: =F45+H45+J45 -> 45263.008 | E45: =IF(ISNUMBER(D45/D$8*100),D45/D$8*100,0) -> 2.3715467 | F45: 18804.709 | G45: =IF(ISNUMBER(F45/F$8*100),F45/F$8*100,0) -> 7.961798 | H45: 26458.299 | I45: =IF(ISNUMBER(H45/H$8*100),H45/H$8*100,0) -> 1.7199566 | J45: 0 | K45: =IF(ISNUMBER(J45/J$8*100),J45/J$8*100,0) -> 0 | L45: 31169.032 | M45: =IF(ISNUMBER(L45/L$8*100),L45/L$8*100,0) -> 1.8873862 | N45: 0 | O45: =IF(ISNUMBER(N45/N$8*100),N45/N$8*100,0) -> 0
A46: De 3 a 4 salarios | B46: 23597.475 | C46: =IF(ISNUMBER(B46/B$8*100),B46/B$8*100,0) -> 0.5768635 | D46: =F46+H46+J46 -> 12622.491 | E46: =IF(ISNUMBER(D46/D$8*100),D46/D$8*100,0) -> 0.66135303 | F46: 3867.6265 | G46: =IF(ISNUMBER(F46/F$8*100),F46/F$8*100,0) -> 1.6375292 | H46: 8754.8648 | I46: =IF(ISNUMBER(H46/H$8*100),H46/H$8*100,0) -> 0.56912154 | J46: 0 | K46: =IF(ISNUMBER(J46/J$8*100),J46/J$8*100,0) -> 0 | L46: 10974.983 | M46: =IF(ISNUMBER(L46/L$8*100),L46/L$8*100,0) -> 0.66457092 | N46: 0 | O46: =IF(ISNUMBER(N46/N$8*100),N46/N$8*100,0) -> 0
A47: De 4 salarios y más | B47: 25098.216 | C47: =IF(ISNUMBER(B47/B$8*100),B47/B$8*100,0) -> 0.61355061 | D47: =F47+H47+J47 -> 16038.168 | E47: =IF(ISNUMBER(D47/D$8*100),D47/D$8*100,0) -> 0.84031678 | F47: 7594.2672 | G47: =IF(ISNUMBER(F47/F$8*100),F47/F$8*100,0) -> 3.2153659 | H47: 8443.9013 | I47: =IF(ISNUMBER(H47/H$8*100),H47/H$8*100,0) -> 0.54890694 | J47: 0 | K47: =IF(ISNUMBER(J47/J$8*100),J47/J$8*100,0) -> 0 | L47: 9060.048 | M47: =IF(ISNUMBER(L47/L$8*100),L47/L$8*100,0) -> 0.54861535 | N47: 0 | O47: =IF(ISNUMBER(N47/N$8*100),N47/N$8*100,0) -> 0
D48: =F48+H48+J48 -> 0
A49: Rama de Actividad
A50: Primaria | B50: 1300827 | C50: =IF(ISNUMBER(B50/B$8*100),B50/B$8*100,0) -> 31.799998 | D50: =F50+H50+J50 -> 437862.83 | E50: =IF(ISNUMBER(D50/D$8*100),D50/D$8*100,0) -> 22.94174 | F50: 0 | G50: =IF(ISNUMBER(F50/F$8*100),F50/F$8*100,0) -> 0 | H50: 437862.83 | I50: =IF(ISNUMBER(H50/H$8*100),H50/H$8*100,0) -> 28.463851 | J50: 0 | K50: =IF(ISNUMBER(J50/J$8*100),J50/J$8*100,0) -> 0 | L50: 605383.01 | M50: =IF(ISNUMBER(L50/L$8*100),L50/L$8*100,0) -> 36.657909 | N50: 257581.2 | O50: =IF(ISNUMBER(N50/N$8*100),N50/N$8*100,0) -> 48.542858
A51: Secundaria | B51: 549797.23 | C51: =IF(ISNUMBER(B51/B$8*100),B51/B$8*100,0) -> 13.440335 | D51: =F51+H51+J51 -> 283744.8 | E51: =IF(ISNUMBER(D51/D$8*100),D51/D$8*100,0) -> 14.866755 | F51: 0 | G51: =IF(ISNUMBER(F51/F$8*100),F51/F$8*100,0) -> 0 | H51: 283744.8 | I51: =IF(ISNUMBER(H51/H$8*100),H51/H$8*100,0) -> 18.445205 | J51: 0 | K51: =IF(ISNUMBER(J51/J$8*100),J51/J$8*100,0) -> 0 | L51: 205740.11 | M51: =IF(ISNUMBER(L51/L$8*100),L51/L$8*100,0) -> 12.458232 | N51: 60312.322 | O51: =IF(ISNUMBER(N51/N$8*100),N51/N$8*100,0) -> 11.366251
A52: Terciaria | B52: 2238786 | C52: =IF(ISNUMBER(B52/B$8*100),B52/B$8*100,0) -> 54.729328 | D52: =F52+H52+J52 -> 1185737.3 | E52: =IF(ISNUMBER(D52/D$8*100),D52/D$8*100,0) -> 62.126478 | F52: 236186.72 | G52: =IF(ISNUMBER(F52/F$8*100),F52/F$8*100,0) -> 100 | H52: 815463.25 | I52: =IF(ISNUMBER(H52/H$8*100),H52/H$8*100,0) -> 53.010264 | J52: 134087.29 | K52: =IF(ISNUMBER(J52/J$8*100),J52/J$8*100,0) -> 100 | L52: 840315.91 | M52: =IF(ISNUMBER(L52/L$8*100),L52/L$8*100,0) -> 50.883859 | N52: 212732.84 | O52: =IF(ISNUMBER(N52/N$8*100),N52/N$8*100,0) -> 40.090891
A53: No sabe, no responde | B53: 1241.1006 | C53: =IF(ISNUMBER(B53/B$8*100),B53/B$8*100,0) -> 0.030339925 | D53: =F53+H53+J53 -> 1241.1006 | E53: =IF(ISNUMBER(D53/D$8*100),D53/D$8*100,0) -> 0.065027228 | F53: 0 | G53: =IF(ISNUMBER(F53/F$8*100),F53/F$8*100,0) -> 0 | H53: 1241.1006 | I53: =IF(ISNUMBER(H53/H$8*100),H53/H$8*100,0) -> 0.08067938 | J53: 0 | K53: =IF(ISNUMBER(J53/J$8*100),J53/J$8*100,0) -> 0 | L53: 0 | M53: =IF(ISNUMBER(L53/L$8*100),L53/L$8*100,0) -> 0 | N53: 0 | O53: =IF(ISNUMBER(N53/N$8*100),N53/N$8*100,0) -> 0
A55: ='C01'!$A$46 -> Fuente: Instituto Nacional de Estadística (INE). Encuesta Permanente de Hogares de Propósitos Múltiples, LXI 2018.
A56: ='C02'!A46 -> (Promedio de salarios mínimos por rama)
A57: 1/ Porcentaje por columnas
A58: 2/ Porcentaje por filas
A59: 3/ No. de salarios mínimos (personas que declaran ingresos) y trabajan 36 Hrs. o mas
A61: Cuadro No. 3. Personas ocupadas por categoría ocupacional, según dominio, nivel educativo, rango de edad, sexo,
A62: número de salarios mínimos, rama de actividad y ocupación
A63: Ocupación Principal
A64: ....... Continuación
A65: Categorías | B65: Total Ocupados | D65: Asalariados | L65: Cuenta propia | N65: Trab. fam. no remu.
D66: Total Asalariados | F66: Público | H66: Privado | J66: Doméstico
B67: No. | C67: % 1/ | D67: No. | E67: % 1/ | F67: No. | G67: % 1/ | H67: No. | I67: % 1/ | J67: No. | K67: % 1/ | L67: No. | M67: % 1/ | N67: No. | O67: % 1/
A69: Total Nacional 2/ | B69: =B8 -> 4090651.4 | C69: =C8 -> 100 | D69: =D8 -> 1908586 | E69: =E8 -> 46.657264 | F69: =F8 -> 236186.72 | G69: =G8 -> 5.7738169 | H69: =H8 -> 1538312 | I69: =I8 -> 37.605551 | ... O69: =O8 -> 12.971684
A71: Rama de Actividad (1 dig.)
A72: Agricultura, ganaderia, silvicultura y pesca | B72: 1294551 | C72: =IF(ISNUMBER(B72/B$69*100),B72/B$69*100,0) -> 31.646574 | D72: =F72+H72+J72 -> 433478.79 | E72: =IF(ISNUMBER(D72/D$69*100),D72/D$69*100,0) -> 22.712038 | F72: 0 | G72: =IF(ISNUMBER(F72/F$69*100),F72/F$69*100,0) -> 0 | H72: 433478.79 | I72: =IF(ISNUMBER(H72/H$69*100),H72/H$69*100,0) -> 28.17886 | J72: 0 | K72: =IF(ISNUMBER(J72/J$69*100),J72/J$69*100,0) -> 0 | L72: 603491.03 | M72: =IF(ISNUMBER(L72/L$69*100),L72/L$69*100,0) -> 36.543343 | N72: 257581.2 | O72: =IF(ISNUMBER(N72/N$69*100),N72/N$69*100,0) -> 48.542858
A73: Explotacion de minas y canteras | B73: 6276.0282 | C73: =IF(ISNUMBER(B73/B$69*100),B73/B$69*100,0) -> 0.15342369 | D73: =F73+H73+J73 -> 4384.0486 | E73: =IF(ISNUMBER(D73/D$69*100),D73/D$69*100,0) -> 0.22970139 | F73: 0 | G73: =IF(ISNUMBER(F73/F$69*100),F73/F$69*100,0) -> 0 | H73: 4384.0486 | I73: =IF(ISNUMBER(H73/H$69*100),H73/H$69*100,0) -> 0.28499086 | J73: 0 | K73: =IF(ISNUMBER(J73/J$69*100),J73/J$69*100,0) -> 0 | L73: 1891.9796 | M73: =IF(ISNUMBER(L73/L$69*100),L73/L$69*100,0) -> 0.11456551 | N73: 0 | O73: =IF(ISNUMBER(N73/N$69*100),N73/N$69*100,0) -> 0
A74: Industria manufacturera | B74: 549797.23 | C74: =IF(ISNUMBER(B74/B$69*100),B74/B$69*100,0) -> 13.440335 | D74: =F74+H74+J74 -> 283744.8 | E74: =IF(ISNUMBER(D74/D$69*100),D74/D$69*100,0) -> 14.866755 | F74: 0 | G74: =IF(ISNUMBER(F74/F$69*100),F74/F$69*100,0) -> 0 | H74: 283744.8 | I74: =IF(ISNUMBER(H74/H$69*100),H74/H$69*100,0) -> 18.445205 | J74: 0 | K74: =IF(ISNUMBER(J74/J$69*100),J74/J$69*100,0) -> 0 | L74: 205740.11 | M74: =IF(ISNUMBER(L74/L$69*100),L74/L$69*100,0) -> 12.458232 | N74: 60312.322 | O74: =IF(ISNUMBER(N74/N$69*100),N74/N$69*100,0) -> 11.366251
A75: Suministro de electricidad, gas, vapor y aire acondicionado | B75: 4566.9373 | C75: =IF(ISNUMBER(B75/B$69*100),B75/B$69*100,0) -> 0.11164328 | D75: =F75+H75+J75 -> 3440.2554 | E75: =IF(ISNUMBER(D75/D$69*100),D75/D$69*100,0) -> 0.18025153 | F75: 1223.1048 | G75: =IF(ISNUMBER(F75/F$69*100),F75/F$69*100,0) -> 0.51785504 | H75: 2217.1506 | I75: =IF(ISNUMBER(H75/H$69*100),H75/H$69*100,0) -> 0.1441288 | J75: 0 | K75: =IF(ISNUMBER(J75/J$69*100),J75/J$69*100,0) -> 0 | L75: 1126.6819 | M75: =IF(ISNUMBER(L75/L$69*100),L75/L$69*100,0) -> 0.068224253 | N75: 0 | O75: =IF(ISNUMBER(N75/N$69*100),N75/N$69*100,0) -> 0
A76: Suministro de agua, evacuacion de aguas residuales, gestion de desechos y descontaminacion | B76: 18695.773 | C76: =IF(ISNUMBER(B76/B$69*100),B76/B$69*100,0) -> 0.45703657 | D76: =F76+H76+J76 -> 8859.5174 | E76: =IF(ISNUMBER(D76/D$69*100),D76/D$69*100,0) -> 0.46419273 | F76: 3034.6621 | G76: =IF(ISNUMBER(F76/F$69*100),F76/F$69*100,0) -> 1.2848572 | H76: 5824.8553 | I76: =IF(ISNUMBER(H76/H$69*100),H76/H$69*100,0) -> 0.3786524 | J76: 0 | K76: =IF(ISNUMBER(J76/J$69*100),J76/J$69*100,0) -> 0 | L76: 8968.4529 | M76: =IF(ISNUMBER(L76/L$69*100),L76/L$69*100,0) -> 0.54306897 | N76: 867.80234 | O76: =IF(ISNUMBER(N76/N$69*100),N76/N$69*100,0) -> 0.16354301
A77: Construccion | B77: 229957.19 | C77: =IF(ISNUMBER(B77/B$69*100),B77/B$69*100,0) -> 5.62153 | D77: =F77+H77+J77 -> 178012.41 | E77: =IF(ISNUMBER(D77/D$69*100),D77/D$69*100,0) -> 9.3269261 | F77: 4146.8699 | G77: =IF(ISNUMBER(F77/F$69*100),F77/F$69*100,0) -> 1.7557591 | H77: 173865.54 | I77: =IF(ISNUMBER(H77/H$69*100),H77/H$69*100,0) -> 11.302359 | J77: 0 | K77: =IF(ISNUMBER(J77/J$69*100),J77/J$69*100,0) -> 0 | L77: 49247.838 | M77: =IF(ISNUMBER(L77/L$69*100),L77/L$69*100,0) -> 2.9821166 | N77: 2696.9501 | O77: =IF(ISNUMBER(N77/N$69*100),N77/N$69*100,0) -> 0.50825784
A78: Comercio al por mayor y al por menor, reparacion de vehiculos automotores y motocicletas | B78: 749556.49 | C78: =IF(ISNUMBER(B78/B$69*100),B78/B$69*100,0) -> 18.323646 | D78: =F78+H78+J78 -> 244099.87 | E78: =IF(ISNUMBER(D78/D$69*100),D78/D$69*100,0) -> 12.789566 | F78: 350.60497 | G78: =IF(ISNUMBER(F78/F$69*100),F78/F$69*100,0) -> 0.14844398 | H78: 243749.26 | I78: =IF(ISNUMBER(H78/H$69*100),H78/H$69*100,0) -> 15.845242 | J78: 0 | K78: =IF(ISNUMBER(J78/J$69*100),J78/J$69*100,0) -> 0 | L78: 375040.93 | M78: =IF(ISNUMBER(L78/L$69*100),L78/L$69*100,0) -> 22.709947 | N78: 130415.69 | O78: =IF(ISNUMBER(N78/N$69*100),N78/N$69*100,0) -> 24.577688
A79: Transporte y almacenamiento | B79: 126517.74 | C79: =IF(ISNUMBER(B79/B$69*100),B79/B$69*100,0) -> 3.0928506 | D79: =F79+H79+J79 -> 49320.374 | E79: =IF(ISNUMBER(D79/D$69*100),D79/D$69*100,0) -> 2.5841316 | F79: 2358.697 | G79: =IF(ISNUMBER(F79/F$69*100),F79/F$69*100,0) -> 0.99865774 | H79: 46961.677 | I79: =IF(ISNUMBER(H79/H$69*100),H79/H$69*100,0) -> 3.0528058 | J79: 0 | K79: =IF(ISNUMBER(J79/J$69*100),J79/J$69*100,0) -> 0 | L79: 76705.496 | M79: =IF(ISNUMBER(L79/L$69*100),L79/L$69*100,0) -> 4.6447671 | N79: 491.86755 | O79: =IF(ISNUMBER(N79/N$69*100),N79/N$69*100,0) -> 0.092695648
A80: Actividades de alojamiento y de servicios de comida | B80: 210605.46 | C80: =IF(ISNUMBER(B80/B$69*100),B80/B$69*100,0) -> 5.1484578 | D80: =F80+H80+J80 -> 77989.632 | E80: =IF(ISNUMBER(D80/D$69*100),D80/D$69*100,0) -> 4.0862519 | F80: 0 | G80: =IF(ISNUMBER(F80/F$69*100),F80/F$69*100,0) -> 0 | H80: 77989.632 | I80: =IF(ISNUMBER(H80/H$69*100),H80/H$69*100,0) -> 5.0698189 | J80: 0 | K80: =IF(ISNUMBER(J80/J$69*100),J80/J$69*100,0) -> 0 | L80: 90773.025 | M80: =IF(ISNUMBER(L80/L$69*100),L80/L$69*100,0) -> 5.4966017 | N80: 41842.805 | O80: =IF(ISNUMBER(N80/N$69*100),N80/N$69*100,0) -> 7.8855495
A81: Informacion y comunicaciones | B81: 32714.935 | C81: =IF(ISNUMBER(B81/B$69*100),B81/B$69*100,0) -> 0.7997488 | D81: =F81+H81+J81 -> 27068.034 | E81: =IF(ISNUMBER(D81/D$69*100),D81/D$69*100,0) -> 1.4182245 | F81: 3473.4913 | G81: =IF(ISNUMBER(F81/F$69*100),F81/F$69*100,0) -> 1.4706548 | H81: 23594.542 | I81: =IF(ISNUMBER(H81/H$69*100),H81/H$69*100,0) -> 1.5337943 | J81: 0 | K81: =IF(ISNUMBER(J81/J$69*100),J81/J$69*100,0) -> 0 | L81: 5646.9018 | M81: =IF(ISNUMBER(L81/L$69*100),L81/L$69*100,0) -> 0.34193826 | N81: 0 | O81: =IF(ISNUMBER(N81/N$69*100),N81/N$69*100,0) -> 0
A82: Actividades finacieras y de seguros | B82: 44301.593 | C82: =IF(ISNUMBER(B82/B$69*100),B82/B$69*100,0) -> 1.082996 | D82: =F82+H82+J82 -> 41034.127 | E82: =IF(ISNUMBER(D82/D$69*100),D82/D$69*100,0) -> 2.1499753 | F82: 1204.2214 | G82: =IF(ISNUMBER(F82/F$69*100),F82/F$69*100,0) -> 0.50985992 | H82: 39829.905 | I82: =IF(ISNUMBER(H82/H$69*100),H82/H$69*100,0) -> 2.5891955 | J82: 0 | K82: =IF(ISNUMBER(J82/J$69*100),J82/J$69*100,0) -> 0 | L82: 3043.4869 | M82: =IF(ISNUMBER(L82/L$69*100),L82/L$69*100,0) -> 0.18429302 | N82: 223.97894 | O82: =IF(ISNUMBER(N82/N$69*100),N82/N$69*100,0) -> 0.042210293
A83: Actividades inmobiliarias | B83: 5724.7299 | C83: =IF(ISNUMBER(B83/B$69*100),B83/B$69*100,0) -> 0.13994666 | D83: =F83+H83+J83 -> 4462.4743 | E83: =IF(ISNUMBER(D83/D$69*100),D83/D$69*100,0) -> 0.23381049 | F83: 186.64912 | G83: =IF(ISNUMBER(F83/F$69*100),F83/F$69*100,0) -> 0.079026086 | H83: 4275.8251 | I83: =IF(ISNUMBER(H83/H$69*100),H83/H$69*100,0) -> 0.27795565 | J83: 0 | K83: =IF(ISNUMBER(J83/J$69*100),J83/J$69*100,0) -> 0 | L83: 1262.2557 | M83: =IF(ISNUMBER(L83/L$69*100),L83/L$69*100,0) -> 0.076433684 | N83: 0 | O83: =IF(ISNUMBER(N83/N$69*100),N83/N$69*100,0) -> 0
... A94: NS/NR | B94: 1241.1006 | C94: =IF(ISNUMBER(B94/B$69*100),B94/B$69*100,0) -> 0.030339925 | D94: =F94+H94+J94 -> 1241.1006 | E94: =IF(ISNUMBER(D94/D$69*100),D94/D$69*100,0) -> 0.065027228 | F94: 0 | G94: =IF(ISNUMBER(F94/F$69*100),F94/F$69*100,0) -> 0 | H94: 1241.1006 | I94: =IF(ISNUMBER(H94/H$69*100),H94/H$69*100,0) -> 0.08067938 | J94: 0 | K94: =IF(ISNUMBER(J94/J$69*100),J94/J$69*100,0) -> 0 | L94: 0 | M94: =IF(ISNUMBER(L94/L$69*100),L94/L$69*100,0) -> 0 | N94: 0 | O94: =IF(ISNUMBER(N94/N$69*100),N94/N$69*100,0) -> 0
A97: Ocupación (1 Dig.)
A98: Directores y gerentes | B98: 114096.83 | C98: =IF(ISNUMBER(B98/B$69*100),B98/B$69*100,0) -> 2.7892093 | D98: =F98+H98+J98 -> 62553.705 | E98: =IF(ISNUMBER(D98/D$69*100),D98/D$69*100,0) -> 3.2774894 | F98: 12346.487 | G98: =IF(ISNUMBER(F98/F$69*100),F98/F$69*100,0) -> 5.2274264 | H98: 50207.218 | I98: =IF(ISNUMBER(H98/H$69*100),H98/H$69*100,0) -> 3.2637864 | J98: 0 | K98: =IF(ISNUMBER(J98/J$69*100),J98/J$69*100,0) -> 0 | L98: 51543.124 | M98: =IF(ISNUMBER(L98/L$69*100),L98/L$69*100,0) -> 3.1211037 | N98: 0 | O98: =IF(ISNUMBER(N98/N$69*100),N98/N$69*100,0) -> 0
A99: Profesionales cientificos e intelectuales | B99: 108250.05 | C99: =IF(ISNUMBER(B99/B$69*100),B99/B$69*100,0) -> 2.6462791 | D99: =F99+H99+J99 -> 74228.571 | E99: =IF(ISNUMBER(D99/D$69*100),D99/D$69*100,0) -> 3.8891919 | F99: 74228.571 | G99: =IF(ISNUMBER(F99/F$69*100),F99/F$69*100,0) -> 31.427919 | H99: 0 | I99: =IF(ISNUMBER(H99/H$69*100),H99/H$69*100,0) -> 0 | J99: 0 | K99: =IF(ISNUMBER(J99/J$69*100),J99/J$69*100,0) -> 0 | L99: 29184.806 | M99: =IF(ISNUMBER(L99/L$69*100),L99/L$69*100,0) -> 1.7672348 | N99: 4836.678 | O99: =IF(ISNUMBER(N99/N$69*100),N99/N$69*100,0) -> 0.91150353
A100: Tecnicos y profesionales de nivel medio | B100: 226905.48 | C100: =IF(ISNUMBER(B100/B$69*100),B100/B$69*100,0) -> 5.5469277 | D100: =F100+H100+J100 -> 191180.42 | E100: =IF(ISNUMBER(D100/D$69*100),D100/D$69*100,0) -> 10.016861 | F100: 73046.23 | G100: =IF(ISNUMBER(F100/F$69*100),F100/F$69*100,0) -> 30.927323 | H100: 118134.19 | I100: =IF(ISNUMBER(H100/H$69*100),H100/H$69*100,0) -> 7.6794685 | J100: 0 | K100: =IF(ISNUMBER(J100/J$69*100),J100/J$69*100,0) -> 0 | L100: 29028.938 | M100: =IF(ISNUMBER(L100/L$69*100),L100/L$69*100,0) -> 1.7577966 | N100: 6696.1221 | O100: =IF(ISNUMBER(N100/N$69*100),N100/N$69*100,0) -> 1.2619279
A101: Personal de apoyo administrativo | B101: 110002.41 | C101: =IF(ISNUMBER(B101/B$69*100),B101/B$69*100,0) -> 2.6891172 | D101: =F101+H101+J101 -> 103175.61 | E101: =IF(ISNUMBER(D101/D$69*100),D101/D$69*100,0) -> 5.4058662 | F101: 22852.519 | G101: =IF(ISNUMBER(F101/F$69*100),F101/F$69*100,0) -> 9.6756156 | H101: 80323.087 | I101: =IF(ISNUMBER(H101/H$69*100),H101/H$69*100,0) -> 5.2215082 | J101: 0 | K101: =IF(ISNUMBER(J101/J$69*100),J101/J$69*100,0) -> 0 | L101: 4851.3538 | M101: =IF(ISNUMBER(L101/L$69*100),L101/L$69*100,0) -> 0.29376524 | N101: 1975.4494 | O101: =IF(ISNUMBER(N101/N$69*100),N101/N$69*100,0) -> 0.37228632
A102: Trabajadores de los servicios y vendedores de comercios y mercados | B102: 913910.55 | C102: =IF(ISNUMBER(B102/B$69*100),B102/B$69*100,0) -> 22.341443 | D102: =F102+H102+J102 -> 300849.92 | E102: =IF(ISNUMBER(D102/D$69*100),D102/D$69*100,0) -> 15.762974 | F102: 22092.131 | G102: =IF(ISNUMBER(F102/F$69*100),F102/F$69*100,0) -> 9.3536718 | H102: 255859.86 | I102: =IF(ISNUMBER(H102/H$69*100),H102/H$69*100,0) -> 16.632507 | J102: 22897.931 | K102: =IF(ISNUMBER(J102/J$69*100),J102/J$69*100,0) -> 17.076884 | L102: 457352.04 | M102: =IF(ISNUMBER(L102/L$69*100),L102/L$69*100,0) -> 27.694152 | N102: 155708.59 | O102: =IF(ISNUMBER(N102/N$69*100),N102/N$69*100,0) -> 29.344299
A103: Agricultores y trabajadores calificados agropecuarios forestales y pesqueros | B103: 598975.26 | C103: =IF(ISNUMBER(B103/B$69*100),B103/B$69*100,0) -> 14.64254 | D103: =F103+H103+J103 -> 26935.038 | E103: =IF(ISNUMBER(D103/D$69*100),D103/D$69*100,0) -> 1.4112562 | F103: 0 | G103: =IF(ISNUMBER(F103/F$69*100),F103/F$69*100,0) -> 0 | H103: 26935.038 | I103: =IF(ISNUMBER(H103/H$69*100),H103/H$69*100,0) -> 1.7509477 | J103: 0 | K103: =IF(ISNUMBER(J103/J$69*100),J103/J$69*100,0) -> 0 | L103: 565647.07 | M103: =IF(ISNUMBER(L103/L$69*100),L103/L$69*100,0) -> 34.251768 | N103: 6393.1537 | O103: =IF(ISNUMBER(N103/N$69*100),N103/N$69*100,0) -> 1.2048315
A104: Oficiales, operarios y artesanos de artes mecanicas y de otros oficios | B104: 311635.23 | C104: =IF(ISNUMBER(B104/B$69*100),B104/B$69*100,0) -> 7.6182301 | D104: =F104+H104+J104 -> 246809.05 | E104: =IF(ISNUMBER(D104/D$69*100),D104/D$69*100,0) -> 12.931513 | F104: 4686.4286 | G104: =IF(ISNUMBER(F104/F$69*100),F104/F$69*100,0) -> 1.984205 | H104: 242122.62 | I104: =IF(ISNUMBER(H104/H$69*100),H104/H$69*100,0) -> 15.7395 | J104: 0 | K104: =IF(ISNUMBER(J104/J$69*100),J104/J$69*100,0) -> 0 | L104: 2976.0314 | M104: =IF(ISNUMBER(L104/L$69*100),L104/L$69*100,0) -> 0.18020837 | N104: 61850.157 | O104: =IF(ISNUMBER(N104/N$69*100),N104/N$69*100,0) -> 11.656066
A105: Operadores de instalaciones y maquinas y ensambladores | B105: 187441.99 | C105: =IF(ISNUMBER(B105/B$69*100),B105/B$69*100,0) -> 4.5822039 | D105: =F105+H105+J105 -> 111487.37 | E105: =IF(ISNUMBER(D105/D$69*100),D105/D$69*100,0) -> 5.8413597 | F105: 4265.2657 | G105: =IF(ISNUMBER(F105/F$69*100),F105/F$69*100,0) -> 1.8058872 | H105: 107222.11 | I105: =IF(ISNUMBER(H105/H$69*100),H105/H$69*100,0) -> 6.9701145 | J105: 0 | K105: =IF(ISNUMBER(J105/J$69*100),J105/J$69*100,0) -> 0 | L105: 69666.548 | M105: =IF(ISNUMBER(L105/L$69*100),L105/L$69*100,0) -> 4.2185359 | N105: 6288.0667 | O105: =IF(ISNUMBER(N105/N$69*100),N105/N$69*100,0) -> 1.1850272
A106: Ocupaciones elementales | B106: 1516922 | C106: =IF(ISNUMBER(B106/B$69*100),B106/B$69*100,0) -> 37.082652 | D106: =F106+H106+J106 -> 788854.74 | E106: =IF(ISNUMBER(D106/D$69*100),D106/D$69*100,0) -> 41.331894 | F106: 20157.494 | G106: =IF(ISNUMBER(F106/F$69*100),F106/F$69*100,0) -> 8.5345586 | H106: 657507.88 | I106: =IF(ISNUMBER(H106/H$69*100),H106/H$69*100,0) -> 42.742167 | J106: 111189.36 | K106: =IF(ISNUMBER(J106/J$69*100),J106/J$69*100,0) -> 82.923116 | L106: 441189.12 | M106: =IF(ISNUMBER(L106/L$69*100),L106/L$69*100,0) -> 26.715435 | N106: 286878.15 | O106: =IF(ISNUMBER(N106/N$69*100),N106/N$69*100,0) -> 54.064059
A107: Ocupaciones militares | B107: 2511.594 | C107: =IF(ISNUMBER(B107/B$69*100),B107/B$69*100,0) -> 0.061398386 | D107: =F107+H107+J107 -> 2511.594 | E107: =IF(ISNUMBER(D107/D$69*100),D107/D$69*100,0) -> 0.13159449 | F107: 2511.594 | G107: =IF(ISNUMBER(F107/F$69*100),F107/F$69*100,0) -> 1.0633934 | H107: 0 | I107: =IF(ISNUMBER(H107/H$69*100),H107/H$69*100,0) -> 0 | J107: 0 | K107: =IF(ISNUMBER(J107/J$69*100),J107/J$69*100,0) -> 0 | L107: 0 | M107: =IF(ISNUMBER(L107/L$69*100),L107/L$69*100,0) -> 0 | N107: 0 | O107: =IF(ISNUMBER(N107/N$69*100),N107/N$69*100,0) -> 0
A108: Ocupaciones NO especificadas | B108: 0 | C108: =IF(ISNUMBER(B108/B$69*100),B108/B$69*100,0) -> 0 | D108: =F108+H108+J108 -> 0 | E108: =IF(ISNUMBER(D108/D$69*100),D108/D$69*100,0) -> 0 | F108: 0 | G108: =IF(ISNUMBER(F108/F$69*100),F108/F$69*100,0) -> 0 | H108: 0 | I108: =IF(ISNUMBER(H108/H$69*100),H108/H$69*100,0) -> 0 | J108: 0 | K108: =IF(ISNUMBER(J108/J$69*100),J108/J$69*100,0) -> 0 | L108: 0 | M108: =IF(ISNUMBER(L108/L$69*100),L108/L$69*100,0) -> 0 | N108: 0 | O108: =IF(ISNUMBER(N108/N$69*100),N108/N$69*100,0) -> 0
A109: NS/NR | B109: 0 | C109: =IF(ISNUMBER(B109/B$69*100),B109/B$69*100,0) -> 0 | D109: =F109+H109+J109 -> 0 | E109: =IF(ISNUMBER(D109/D$69*100),D109/D$69*100,0) -> 0 | F109: 0 | G109: =IF(ISNUMBER(F109/F$69*100),F109/F$69*100,0) -> 0 | H109: 0 | I109: =IF(ISNUMBER(H109/H$69*100),H109/H$69*100,0) -> 0 | J109: 0 | K109: =IF(ISNUMBER(J109/J$69*100),J109/J$69*100,0) -> 0 | L109: 0 | M109: =IF(ISNUMBER(L109/L$69*100),L109/L$69*100,0) -> 0 | N109: 0 | O109: =IF(ISNUMBER(N109/N$69*100),N109/N$69*100,0) -> 0
A111: ='C01'!$A$46 -> Fuente: Instituto Nacional de Estadística (INE). Encuesta Permanente de Hogares de Propósitos Múltiples, LXI 2018.
A112: (Promedio de salarios mínimos por rama)
A113: 1/ Porcentaje por columnas
A114: 2/ Porcentaje por filas

Sheet C04
A1: Cuadro No. 4. Personas ocupadas y que declaran ingresos por categoría ocupacional, según dominio, nivel educativo, rango de edad,
A2: sexo, número de salarios mínimos devengados, rama de actividad y ocupación
A3: Ocupación Principal
A4: Categorías | B4: Total Pers. Ocupadas | D4: Pers. que declaran Ing. | F4: Asalariados | N4: Cuenta propia | P4: Trab. fam. no remu. | R4: No Declaran Ingresos
F5: Total | H5: Público | J5: Privado | L5: Doméstico
B6: No. | C6: % 1/ | D6: No. | E6: % 1/ | F6: No. | G6: % 1/ | H6: No. | I6: % 1/ | J6: No. | K6: % 1/ | L6: No. | M6: % 1/ | N6: No. | O6: % 1/ | P6: No. | Q6: % 1/ | R6: No. | S6: % 1/
A8: Total Nacional 2/ | B8: ='C03'!B8 -> 4090651.4 | C8: =SUM(G8,O8,Q8,S8) -> 100 | D8: 3295383.8 | E8: =IF(ISNUMBER(D8/$B$8*100),D8/$B$8*100,0) -> 80.558902 | F8: =H8+J8+L8 -> 1826029.2 | G8: =IF(ISNUMBER(F8/$B$8*100),F8/$B$8*100,0) -> 44.639082 | H8: 215363.13 | I8: =IF(ISNUMBER(H8/$B$8*100),H8/$B$8*100,0) -> 5.2647637 | J8: 1478512.4 | K8: =IF(ISNUMBER(J8/$B$8*100),J8/$B$8*100,0) -> 36.14369 | L8: 132153.73 | M8: =IF(ISNUMBER(L8/$B$8*100),L8/$B$8*100,0) -> 3.230628 | N8: 1469354.6 | O8: =IF(ISNUMBER(N8/$B$8*100),N8/$B$8*100,0) -> 35.91982 | P8: ='C03'!N8 -> 530626.36 | Q8: =IF(ISNUMBER(P8/$B$8*100),P8/$B$8*100,0) -> 12.971684 | R8: =B8-(D8+P8) -> 264641.19 | S8: =IF(ISNUMBER(R8/$B$8*100),R8/$B$8*100,0) -> 6.4694144
A10: Dominio
A11: Urbano | B11: ='C03'!B11 -> 2227420.7 | C11: =IF(ISNUMBER(B11/B$8*100),B11/B$8*100,0) -> 54.451492 | D11: =SUM(D12:D14) -> 1908620.3 | E11: =IF(ISNUMBER(D11/D$8*100),D11/D$8*100,0) -> 57.917997 | F11: =SUM(F12:F14) -> 1167158 | G11: =IF(ISNUMBER(F11/F$8*100),F11/F$8*100,0) -> 63.917816 | H11: =SUM(H12:H14) -> 172448.15 | I11: =IF(ISNUMBER(H11/H$8*100),H11/H$8*100,0) -> 80.073198 | J11: =SUM(J12:J14) -> 899252.43 | K11: =IF(ISNUMBER(J11/J$8*100),J11/J$8*100,0) -> 60.821435 | L11: =SUM(L12:L14) -> 95457.417 | M11: =IF(ISNUMBER(L11/L$8*100),L11/L$8*100,0) -> 72.232102 | N11: =SUM(N12:N14) -> 741462.32 | O11: =IF(ISNUMBER(N11/N$8*100),N11/N$8*100,0) -> 50.461768 | P11: ='C03'!N11 -> 184289.52 | Q11: =IF(ISNUMBER(P11/P$8*100),P11/P$8*100,0) -> 34.730562 | R11: =B11-(D11+P11) -> 134510.89 | S11: =IF(ISNUMBER(R11/R$8*100),R11/R$8*100,0) -> 50.827648
A12: Distrito Central | B12: ='C03'!B12 -> 476944.5 | C12: =IF(ISNUMBER(B12/B$8*100),B12/B$8*100,0) -> 11.659378 | D12: 398757.18 | E12: =IF(ISNUMBER(D12/D$8*100),D12/D$8*100,0) -> 12.100478 | F12: =H12+J12+L12 -> 257893.09 | G12: =IF(ISNUMBER(F12/F$8*100),F12/F$8*100,0) -> 14.123163 | H12: 48920.734 | I12: =IF(ISNUMBER(H12/H$8*100),H12/H$8*100,0) -> 22.715464 | J12: 185715.87 | K12: =IF(ISNUMBER(J12/J$8*100),J12/J$8*100,0) -> 12.560996 | L12: 23256.48 | M12: =IF(ISNUMBER(L12/L$8*100),L12/L$8*100,0) -> 17.598051 | N12: 140864.09 | O12: =IF(ISNUMBER(N12/N$8*100),N12/N$8*100,0) -> 9.5868001 | P12: ='C03'!N12 -> 33074.224 | Q12: =IF(ISNUMBER(P12/P$8*100),P12/P$8*100,0) -> 6.2330533 | R12: =B12-(D12+P12) -> 45113.092 | S12: =IF(ISNUMBER(R12/R$8*100),R12/R$8*100,0) -> 17.04689
A13: San Pedro Sula | B13: ='C03'!B13 -> 274052.2 | C13: =IF(ISNUMBER(B13/B$8*100),B13/B$8*100,0) -> 6.6994758 | D13: 232620.56 | E13: =IF(ISNUMBER(D13/D$8*100),D13/D$8*100,0) -> 7.0589822 | F13: =H13+J13+L13 -> 152872.43 | G13: =IF(ISNUMBER(F13/F$8*100),F13/F$8*100,0) -> 8.3718504 | H13: 10001.307 | I13: =IF(ISNUMBER(H13/H$8*100),H13/H$8*100,0) -> 4.6439271 | J13: 134361.82 | K13: =IF(ISNUMBER(J13/J$8*100),J13/J$8*100,0) -> 9.0876358 | L13: 8509.3085 | M13: =IF(ISNUMBER(L13/L$8*100),L13/L$8*100,0) -> 6.4389469 | N13: 79748.125 | O13: =IF(ISNUMBER(N13/N$8*100),N13/N$8*100,0) -> 5.4274253 | P13: ='C03'!N13 -> 15624.992 | Q13: =IF(ISNUMBER(P13/P$8*100),P13/P$8*100,0) -> 2.9446317 | R13: =B13-(D13+P13) -> 25806.651 | S13: =IF(ISNUMBER(R13/R$8*100),R13/R$8*100,0) -> 9.7515623
A14: Resto urbano | B14: ='C03'!B14 -> 1476424 | C14: =IF(ISNUMBER(B14/B$8*100),B14/B$8*100,0) -> 36.092639 | D14: 1277242.6 | E14: =IF(ISNUMBER(D14/D$8*100),D14/D$8*100,0) -> 38.758538 | F14: =H14+J14+L14 -> 756392.47 | G14: =IF(ISNUMBER(F14/F$8*100),F14/F$8*100,0) -> 41.422802 | H14: 113526.1 | I14: =IF(ISNUMBER(H14/H$8*100),H14/H$8*100,0) -> 52.713807 | J14: 579174.74 | K14: =IF(ISNUMBER(J14/J$8*100),J14/J$8*100,0) -> 39.172804 | L14: 63691.628 | M14: =IF(ISNUMBER(L14/L$8*100),L14/L$8*100,0) -> 48.195104 | N14: 520850.11 | O14: =IF(ISNUMBER(N14/N$8*100),N14/N$8*100,0) -> 35.447543 | P14: ='C03'!N14 -> 135590.3 | Q14: =IF(ISNUMBER(P14/P$8*100),P14/P$8*100,0) -> 25.552877 | R14: =B14-(D14+P14) -> 63591.151 | S14: =IF(ISNUMBER(R14/R$8*100),R14/R$8*100,0) -> 24.029196
A15: Rural | B15: ='C03'!B15 -> 1863230.7 | C15: =IF(ISNUMBER(B15/B$8*100),B15/B$8*100,0) -> 45.548508 | D15: 1386763.5 | E15: =IF(ISNUMBER(D15/D$8*100),D15/D$8*100,0) -> 42.082003 | F15: =H15+J15+L15 -> 658871.22 | G15: =IF(ISNUMBER(F15/F$8*100),F15/F$8*100,0) -> 36.082184 | H15: 42914.984 | I15: =IF(ISNUMBER(H15/H$8*100),H15/H$8*100,0) -> 19.926802 | J15: 579259.92 | K15: =IF(ISNUMBER(J15/J$8*100),J15/J$8*100,0) -> 39.178565 | L15: 36696.313 | M15: =IF(ISNUMBER(L15/L$8*100),L15/L$8*100,0) -> 27.767898 | N15: 727892.3 | O15: =IF(ISNUMBER(N15/N$8*100),N15/N$8*100,0) -> 49.538232 | P15: ='C03'!N15 -> 346336.85 | Q15: =IF(ISNUMBER(P15/P$8*100),P15/P$8*100,0) -> 65.269438 | R15: =B15-(D15+P15) -> 130130.3 | S15: =IF(ISNUMBER(R15/R$8*100),R15/R$8*100,0) -> 49.172352
B16: ='C03'!B16 -> 0 | F16: =H16+J16+L16 -> 0
A17: Nivel Educativo
A18: Sin Nivel | B18: ='C03'!B18 -> 373555.17 | C18: =IF(ISNUMBER(B18/B$8*100),B18/B$8*100,0) -> 9.1319237 | D18: 318723.44 | E18: =IF(ISNUMBER(D18/D$8*100),D18/D$8*100,0) -> 9.6718153 | F18: =H18+J18+L18 -> 122943.48 | G18: =IF(ISNUMBER(F18/F$8*100),F18/F$8*100,0) -> 6.7328319 | H18: 1754.4881 | I18: =IF(ISNUMBER(H18/H$8*100),H18/H$8*100,0) -> 0.81466503 | J18: 104416.57 | K18: =IF(ISNUMBER(J18/J$8*100),J18/J$8*100,0) -> 7.0622726 | L18: 16772.415 | M18: =IF(ISNUMBER(L18/L$8*100),L18/L$8*100,0) -> 12.691594 | N18: 195779.96 | O18: =IF(ISNUMBER(N18/N$8*100),N18/N$8*100,0) -> 13.324214 | P18: ='C03'!N18 -> 26388.474 | Q18: =IF(ISNUMBER(P18/P$8*100),P18/P$8*100,0) -> 4.97308 | R18: =B18-(D18+P18) -> 28443.255 | S18: =IF(ISNUMBER(R18/R$8*100),R18/R$8*100,0) -> 10.747857
A19: Primaria | B19: ='C03'!B19 -> 2244815.6 | C19: =IF(ISNUMBER(B19/B$8*100),B19/B$8*100,0) -> 54.876728 | D19: 1777663.2 | E19: =IF(ISNUMBER(D19/D$8*100),D19/D$8*100,0) -> 53.944042 | F19: =H19+J19+L19 -> 874861.06 | G19: =IF(ISNUMBER(F19/F$8*100),F19/F$8*100,0) -> 47.910573 | H19: 29656.521 | I19: =IF(ISNUMBER(H19/H$8*100),H19/H$8*100,0) -> 13.770473 | J19: 761079.65 | K19: =IF(ISNUMBER(J19/J$8*100),J19/J$8*100,0) -> 51.476043 | L19: 84124.887 | M19: =IF(ISNUMBER(L19/L$8*100),L19/L$8*100,0) -> 63.656839 | N19: 902802.18 | O19: =IF(ISNUMBER(N19/N$8*100),N19/N$8*100,0) -> 61.442089 | P19: ='C03'!N19 -> 346317.73 | Q19: =IF(ISNUMBER(P19/P$8*100),P19/P$8*100,0) -> 65.265835 | R19: =B19-(D19+P19) -> 120834.66 | S19: =IF(ISNUMBER(R19/R$8*100),R19/R$8*100,0) -> 45.659806
A20: Secundaria | B20: ='C03'!B20 -> 1044987.4 | C20: =IF(ISNUMBER(B20/B$8*100),B20/B$8*100,0) -> 25.545746 | D20: 860933.99 | E20: =IF(ISNUMBER(D20/D$8*100),D20/D$8*100,0) -> 26.125454 | F20: =H20+J20+L20 -> 562017.88 | G20: =IF(ISNUMBER(F20/F$8*100),F20/F$8*100,0) -> 30.778143 | H20: 84327.919 | I20: =IF(ISNUMBER(H20/H$8*100),H20/H$8*100,0) -> 39.156155 | J20: 447904.03 | K20: =IF(ISNUMBER(J20/J$8*100),J20/J$8*100,0) -> 30.294236 | L20: 29785.928 | M20: =IF(ISNUMBER(L20/L$8*100),L20/L$8*100,0) -> 22.538848 | N20: 298916.11 | O20: =IF(ISNUMBER(N20/N$8*100),N20/N$8*100,0) -> 20.343361 | P20: ='C03'!N20 -> 129537.11 | Q20: =IF(ISNUMBER(P20/P$8*100),P20/P$8*100,0) -> 24.412113 | R20: =B20-(D20+P20) -> 54516.337 | S20: =IF(ISNUMBER(R20/R$8*100),R20/R$8*100,0) -> 20.600095
A21: Superior | B21: ='C03'!B21 -> 407705.71 | C21: =IF(ISNUMBER(B21/B$8*100),B21/B$8*100,0) -> 9.9667673 | D21: 322189.26 | E21: =IF(ISNUMBER(D21/D$8*100),D21/D$8*100,0) -> 9.7769873 | F21: =H21+J21+L21 -> 256218.88 | G21: =IF(ISNUMBER(F21/F$8*100),F21/F$8*100,0) -> 14.031477 | H21: 98185.053 | I21: =IF(ISNUMBER(H21/H$8*100),H21/H$8*100,0) -> 45.590466 | J21: 157287.23 | K21: =IF(ISNUMBER(J21/J$8*100),J21/J$8*100,0) -> 10.638208 | L21: 746.59648 | M21: =IF(ISNUMBER(L21/L$8*100),L21/L$8*100,0) -> 0.56494545 | N21: 65970.383 | O21: =IF(ISNUMBER(N21/N$8*100),N21/N$8*100,0) -> 4.4897523 | P21: ='C03'!N21 -> 27638.623 | Q21: =IF(ISNUMBER(P21/P$8*100),P21/P$8*100,0) -> 5.2086788 | R21: =B21-(D21+P21) -> 57877.824 | S21: =IF(ISNUMBER(R21/R$8*100),R21/R$8*100,0) -> 21.8703
A22: No sabe, no responde | B22: ='C03'!B22 -> 19587.472 | C22: =IF(ISNUMBER(B22/B$8*100),B22/B$8*100,0) -> 0.47883503 | D22: 15873.917 | E22: =IF(ISNUMBER(D22/D$8*100),D22/D$8*100,0) -> 0.48170161 | F22: =H22+J22+L22 -> 9987.9252 | G22: =IF(ISNUMBER(F22/F$8*100),F22/F$8*100,0) -> 0.54697511 | H22: 1439.1468 | I22: =IF(ISNUMBER(H22/H$8*100),H22/H$8*100,0) -> 0.66824195 | J22: 7824.8752 | K22: =IF(ISNUMBER(J22/J$8*100),J22/J$8*100,0) -> 0.52923976 | L22: 723.90321 | M22: =IF(ISNUMBER(L22/L$8*100),L22/L$8*100,0) -> 0.54777357 | N22: 5885.992 | O22: =IF(ISNUMBER(N22/N$8*100),N22/N$8*100,0) -> 0.40058348 | P22: ='C03'!N22 -> 744.43572 | Q22: =IF(ISNUMBER(P22/P$8*100),P22/P$8*100,0) -> 0.14029377 | R22: =B22-(D22+P22) -> 2969.1191 | S22: =IF(ISNUMBER(R22/R$8*100),R22/R$8*100,0) -> 1.1219414
F23: =H23+J23+L23 -> 0 | P23: ='C03'!N23 -> 0 | R23: =B23-(D23+P23) -> 0
A24: Rango de Edad
A25: De 10 a 11 años | B25: ='C03'!B25 -> 36038.435 | C25: =IF(ISNUMBER(B25/B$8*100),B25/B$8*100,0) -> 0.88099503 | D25: 7068.791 | E25: =IF(ISNUMBER(D25/D$8*100),D25/D$8*100,0) -> 0.21450585 | F25: =H25+J25+L25 -> 3855.7071 | G25: =IF(ISNUMBER(F25/F$8*100),F25/F$8*100,0) -> 0.21115254 | H25: 186.64912 | I25: =IF(ISNUMBER(H25/H$8*100),H25/H$8*100,0) -> 0.086667166 | J25: 3669.058 | K25: =IF(ISNUMBER(J25/J$8*100),J25/J$8*100,0) -> 0.24815876 | L25: 0 | M25: =IF(ISNUMBER(L25/L$8*100),L25/L$8*100,0) -> 0 | N25: 3213.0839 | O25: =IF(ISNUMBER(N25/N$8*100),N25/N$8*100,0) -> 0.21867314 | P25: ='C03'!N25 -> 28969.644 | Q25: =IF(ISNUMBER(P25/P$8*100),P25/P$8*100,0) -> 5.4595185 | R25: =B25-(D25+P25) -> 0 | S25: =IF(ISNUMBER(R25/R$8*100),R25/R$8*100,0) -> 0
A26: De 12 a 14 años | B26: ='C03'!B26 -> 136362.34 | C26: =IF(ISNUMBER(B26/B$8*100),B26/B$8*100,0) -> 3.3335115 | D26: 38904.033 | E26: =IF(ISNUMBER(D26/D$8*100),D26/D$8*100,0) -> 1.1805615 | F26: =H26+J26+L26 -> 31420.303 | G26: =IF(ISNUMBER(F26/F$8*100),F26/F$8*100,0) -> 1.72069 | H26: 0 | I26: =IF(ISNUMBER(H26/H$8*100),H26/H$8*100,0) -> 0 | J26: 27914.904 | K26: =IF(ISNUMBER(J26/J$8*100),J26/J$8*100,0) -> 1.8880399 | L26: 3505.3991 | M26: =IF(ISNUMBER(L26/L$8*100),L26/L$8*100,0) -> 2.6525162 | N26: 7483.7302 | O26: =IF(ISNUMBER(N26/N$8*100),N26/N$8*100,0) -> 0.5093209 | P26: ='C03'!N26 -> 96842.592 | Q26: =IF(ISNUMBER(P26/P$8*100),P26/P$8*100,0) -> 18.250618 | R26: =B26-(D26+P26) -> 615.70995 | S26: =IF(ISNUMBER(R26/R$8*100),R26/R$8*100,0) -> 0.2326584
A27: De 15 a 18 años | B27: ='C03'!B27 -> 307284.12 | C27: =IF(ISNUMBER(B27/B$8*100),B27/B$8*100,0) -> 7.5118627 | D27: 177601.88 | E27: =IF(ISNUMBER(D27/D$8*100),D27/D$8*100,0) -> 5.3894142 | F27: =H27+J27+L27 -> 149745.68 | G27: =IF(ISNUMBER(F27/F$8*100),F27/F$8*100,0) -> 8.200618 | H27: 966.31492 | I27: =IF(ISNUMBER(H27/H$8*100),H27/H$8*100,0) -> 0.44869097 | J27: 135927.7 | K27: =IF(ISNUMBER(J27/J$8*100),J27/J$8*100,0) -> 9.1935448 | L27: 12851.67 | M27: =IF(ISNUMBER(L27/L$8*100),L27/L$8*100,0) -> 9.7247877 | N27: 27856.204 | O27: =IF(ISNUMBER(N27/N$8*100),N27/N$8*100,0) -> 1.8958122 | P27: ='C03'!N27 -> 122442.46 | Q27: =IF(ISNUMBER(P27/P$8*100),P27/P$8*100,0) -> 23.075081 | R27: =B27-(D27+P27) -> 7239.7694 | S27: =IF(ISNUMBER(R27/R$8*100),R27/R$8*100,0) -> 2.7356926
A28: De 19 a 24 años | B28: ='C03'!B28 -> 653214.06 | C28: =IF(ISNUMBER(B28/B$8*100),B28/B$8*100,0) -> 15.968461 | D28: 521759.51 | E28: =IF(ISNUMBER(D28/D$8*100),D28/D$8*100,0) -> 15.833042 | F28: =H28+J28+L28 -> 400342.89 | G28: =IF(ISNUMBER(F28/F$8*100),F28/F$8*100,0) -> 21.924232 | H28: 24850.83 | I28: =IF(ISNUMBER(H28/H$8*100),H28/H$8*100,0) -> 11.539036 | J28: 350438.33 | K28: =IF(ISNUMBER(J28/J$8*100),J28/J$8*100,0) -> 23.70209 | L28: 25053.724 | M28: =IF(ISNUMBER(L28/L$8*100),L28/L$8*100,0) -> 18.958015 | N28: 121416.62 | O28: =IF(ISNUMBER(N28/N$8*100),N28/N$8*100,0) -> 8.263262 | P28: ='C03'!N28 -> 107671.71 | Q28: =IF(ISNUMBER(P28/P$8*100),P28/P$8*100,0) -> 20.291436 | R28: =B28-(D28+P28) -> 23782.848 | S28: =IF(ISNUMBER(R28/R$8*100),R28/R$8*100,0) -> 8.9868277
A29: De 25 a 29 años | B29: ='C03'!B29 -> 478492.74 | C29: =IF(ISNUMBER(B29/B$8*100),B29/B$8*100,0) -> 11.697226 | D29: 402573.06 | E29: =IF(ISNUMBER(D29/D$8*100),D29/D$8*100,0) -> 12.216272 | F29: =H29+J29+L29 -> 275716.46 | G29: =IF(ISNUMBER(F29/F$8*100),F29/F$8*100,0) -> 15.099236 | H29: 24753.853 | I29: =IF(ISNUMBER(H29/H$8*100),H29/H$8*100,0) -> 11.494007 | J29: 233730.71 | K29: =IF(ISNUMBER(J29/J$8*100),J29/J$8*100,0) -> 15.808506 | L29: 17231.9 | M29: =IF(ISNUMBER(L29/L$8*100),L29/L$8*100,0) -> 13.039284 | N29: 126856.6 | O29: =IF(ISNUMBER(N29/N$8*100),N29/N$8*100,0) -> 8.6334911 | P29: ='C03'!N29 -> 42644.821 | Q29: =IF(ISNUMBER(P29/P$8*100),P29/P$8*100,0) -> 8.0366947 | R29: =B29-(D29+P29) -> 33274.856 | S29: =IF(ISNUMBER(R29/R$8*100),R29/R$8*100,0) -> 12.573574
A30: De 30 a 35 años | B30: ='C03'!B30 -> 517881.18 | C30: =IF(ISNUMBER(B30/B$8*100),B30/B$8*100,0) -> 12.660115 | D30: 446492.86 | E30: =IF(ISNUMBER(D30/D$8*100),D30/D$8*100,0) -> 13.54904 | F30: =H30+J30+L30 -> 270373.28 | G30: =IF(ISNUMBER(F30/F$8*100),F30/F$8*100,0) -> 14.806624 | H30: 33165.303 | I30: =IF(ISNUMBER(H30/H$8*100),H30/H$8*100,0) -> 15.399713 | J30: 216616.36 | K30: =IF(ISNUMBER(J30/J$8*100),J30/J$8*100,0) -> 14.650967 | L30: 20591.618 | M30: =IF(ISNUMBER(L30/L$8*100),L30/L$8*100,0) -> 15.581564 | N30: 176119.58 | O30: =IF(ISNUMBER(N30/N$8*100),N30/N$8*100,0) -> 11.986186 | P30: ='C03'!N30 -> 34809.903 | Q30: =IF(ISNUMBER(P30/P$8*100),P30/P$8*100,0) -> 6.5601534 | R30: =B30-(D30+P30) -> 36578.413 | S30: =IF(ISNUMBER(R30/R$8*100),R30/R$8*100,0) -> 13.821889
A31: De 36 a 44 años | B31: ='C03'!B31 -> 696933.12 | C31: =IF(ISNUMBER(B31/B$8*100),B31/B$8*100,0) -> 17.037216 | D31: 609679.52 | E31: =IF(ISNUMBER(D31/D$8*100),D31/D$8*100,0) -> 18.501017 | F31: =H31+J31+L31 -> 315503.44 | G31: =IF(ISNUMBER(F31/F$8*100),F31/F$8*100,0) -> 17.278116 | H31: 51597.248 | I31: =IF(ISNUMBER(H31/H$8*100),H31/H$8*100,0) -> 23.958255 | J31: 242193.59 | K31: =IF(ISNUMBER(J31/J$8*100),J31/J$8*100,0) -> 16.380897 | L31: 21712.602 | M31: =IF(ISNUMBER(L31/L$8*100),L31/L$8*100,0) -> 16.429807 | N31: 294176.08 | O31: =IF(ISNUMBER(N31/N$8*100),N31/N$8*100,0) -> 20.020768 | P31: ='C03'!N31 -> 32355.958 | Q31: =IF(ISNUMBER(P31/P$8*100),P31/P$8*100,0) -> 6.0976913 | R31: =B31-(D31+P31) -> 54897.646 | S31: =IF(ISNUMBER(R31/R$8*100),R31/R$8*100,0) -> 20.74418
A32: De 45 a 59 años | B32: ='C03'!B32 -> 818486.93 | C32: =IF(ISNUMBER(B32/B$8*100),B32/B$8*100,0) -> 20.008719 | D32: 722561.56 | E32: =IF(ISNUMBER(D32/D$8*100),D32/D$8*100,0) -> 21.926476 | F32: =H32+J32+L32 -> 299016.29 | G32: =IF(ISNUMBER(F32/F$8*100),F32/F$8*100,0) -> 16.37522 | H32: 64860.344 | I32: =IF(ISNUMBER(H32/H$8*100),H32/H$8*100,0) -> 30.116736 | J32: 212025.01 | K32: =IF(ISNUMBER(J32/J$8*100),J32/J$8*100,0) -> 14.340429 | L32: 22130.936 | M32: =IF(ISNUMBER(L32/L$8*100),L32/L$8*100,0) -> 16.746357 | N32: 423545.26 | O32: =IF(ISNUMBER(N32/N$8*100),N32/N$8*100,0) -> 28.825258 | P32: ='C03'!N32 -> 35690.236 | Q32: =IF(ISNUMBER(P32/P$8*100),P32/P$8*100,0) -> 6.7260579 | R32: =B32-(D32+P32) -> 60235.141 | S32: =IF(ISNUMBER(R32/R$8*100),R32/R$8*100,0) -> 22.76106
A33: De 60 años y más | B33: ='C03'!B33 -> 445958.47 | C33: =IF(ISNUMBER(B33/B$8*100),B33/B$8*100,0) -> 10.901894 | D33: 368742.63 | E33: =IF(ISNUMBER(D33/D$8*100),D33/D$8*100,0) -> 11.189672 | F33: =H33+J33+L33 -> 80055.165 | G33: =IF(ISNUMBER(F33/F$8*100),F33/F$8*100,0) -> 4.3841119 | H33: 14982.587 | I33: =IF(ISNUMBER(H33/H$8*100),H33/H$8*100,0) -> 6.9568949 | J33: 55996.697 | K33: =IF(ISNUMBER(J33/J$8*100),J33/J$8*100,0) -> 3.7873675 | L33: 9075.8812 | M33: =IF(ISNUMBER(L33/L$8*100),L33/L$8*100,0) -> 6.8676693 | N33: 288687.47 | O33: =IF(ISNUMBER(N33/N$8*100),N33/N$8*100,0) -> 19.647229 | P33: ='C03'!N33 -> 29199.036 | Q33: =IF(ISNUMBER(P33/P$8*100),P33/P$8*100,0) -> 5.5027488 | R33: =B33-(D33+P33) -> 48016.808 | S33: =IF(ISNUMBER(R33/R$8*100),R33/R$8*100,0) -> 18.144117
A35: Sexo
A36: Hombre | B36: ='C03'!B36 -> 2490998.3 | C36: =IF(ISNUMBER(B36/B$8*100),B36/B$8*100,0) -> 60.894906 | D36: 2014536.2 | E36: =IF(ISNUMBER(D36/D$8*100),D36/D$8*100,0) -> 61.132064 | F36: =H36+J36+L36 -> 1221036 | G36: =IF(ISNUMBER(F36/F$8*100),F36/F$8*100,0) -> 66.868373 | H36: 93105.099 | I36: =IF(ISNUMBER(H36/H$8*100),H36/H$8*100,0) -> 43.23168 | J36: 1111019.7 | K36: =IF(ISNUMBER(J36/J$8*100),J36/J$8*100,0) -> 75.144432 | L36: 16911.221 | M36: =IF(ISNUMBER(L36/L$8*100),L36/L$8*100,0) -> 12.796628 | N36: 793500.14 | O36: =IF(ISNUMBER(N36/N$8*100),N36/N$8*100,0) -> 54.003311 | P36: ='C03'!N36 -> 292290.84 | Q36: =IF(ISNUMBER(P36/P$8*100),P36/P$8*100,0) -> 55.084116 | R36: =B36-(D36+P36) -> 184171.33 | S36: =IF(ISNUMBER(R36/R$8*100),R36/R$8*100,0) -> 69.592842
A37: Mujer | B37: ='C03'!B37 -> 1599653.1 | C37: =IF(ISNUMBER(B37/B$8*100),B37/B$8*100,0) -> 39.105094 | D37: 1280847.7 | E37: =IF(ISNUMBER(D37/D$8*100),D37/D$8*100,0) -> 38.867936 | F37: =H37+J37+L37 -> 604993.19 | G37: =IF(ISNUMBER(F37/F$8*100),F37/F$8*100,0) -> 33.131627 | H37: 122258.03 | I37: =IF(ISNUMBER(H37/H$8*100),H37/H$8*100,0) -> 56.76832 | J37: 367492.65 | K37: =IF(ISNUMBER(J37/J$8*100),J37/J$8*100,0) -> 24.855568 | L37: 115242.51 | M37: =IF(ISNUMBER(L37/L$8*100),L37/L$8*100,0) -> 87.203372 | N37: 675854.48 | O37: =IF(ISNUMBER(N37/N$8*100),N37/N$8*100,0) -> 45.996689 | P37: ='C03'!N37 -> 238335.52 | Q37: =IF(ISNUMBER(P37/P$8*100),P37/P$8*100,0) -> 44.915884 | R37: =B37-(D37+P37) -> 80469.865 | S37: =IF(ISNUMBER(R37/R$8*100),R37/R$8*100,0) -> 30.407158
A39: No. de Salarios Mínimos 3/ | B39: ='C03'!B39 -> 3295010.5 | C39: =IF(ISNUMBER(B39/B$8*100),B39/B$8*100,0) -> 80.549776 | D39: 3295010.5 | E39: =IF(ISNUMBER(D39/D$8*100),D39/D$8*100,0) -> 99.988672 | F39: =H39+J39+L39 -> 1825655.9 | G39: =IF(ISNUMBER(F39/F$8*100),F39/F$8*100,0) -> 99.979557 | H39: 215363.13 | I39: =IF(ISNUMBER(H39/H$8*100),H39/H$8*100,0) -> 100 | J39: 1478139.1 | K39: =IF(ISNUMBER(J39/J$8*100),J39/J$8*100,0) -> 99.974752 | L39: 132153.73 | M39: =IF(ISNUMBER(L39/L$8*100),L39/L$8*100,0) -> 100 | N39: 1469354.6 | O39: =IF(ISNUMBER(N39/N$8*100),N39/N$8*100,0) -> 100 | P39: ='C03'!N39 -> 0 | Q39: =IF(ISNUMBER(P39/P$8*100),P39/P$8*100,0) -> 0 | R39: =B39-(D39+P39) -> 0 | S39: =IF(ISNUMBER(R39/R$8*100),R39/R$8*100,0) -> 0
A40: Menos de un salario | B40: ='C03'!B40 -> 2626954.2 | C40: =IF(ISNUMBER(B40/B$8*100),B40/B$8*100,0) -> 64.218482 | D40: =SUM(D41:D43) -> 2626954.2 | E40: =IF(ISNUMBER(D40/D$8*100),D40/D$8*100,0) -> 79.716183 | F40: =H40+J40+L40 -> 1359357.2 | G40: =IF(ISNUMBER(F40/F$8*100),F40/F$8*100,0) -> 74.443345 | H40: =SUM(H41:H43) -> 84716.13 | I40: =IF(ISNUMBER(H40/H$8*100),H40/H$8*100,0) -> 39.336413 | J40: =SUM(J41:J43) -> 1149300.1 | K40: =IF(ISNUMBER(J40/J$8*100),J40/J$8*100,0) -> 77.733544 | L40: =SUM(L41:L43) -> 125341.05 | M40: =IF(ISNUMBER(L40/L$8*100),L40/L$8*100,0) -> 94.84488 | N40: =SUM(N41:N43) -> 1267597 | O40: =IF(ISNUMBER(N40/N$8*100),N40/N$8*100,0) -> 86.268962 | P40: ='C03'!N40 -> 0 | Q40: =IF(ISNUMBER(P40/P$8*100),P40/P$8*100,0) -> 0 | R40: =B40-(D40+P40) -> 0 | S40: =IF(ISNUMBER(R40/R$8*100),R40/R$8*100,0) -> 0
A41: Menos de 1 salario y trab <36 horas | B41: ='C03'!B41 -> 977007.02 | C41: =IF(ISNUMBER(B41/B$8*100),B41/B$8*100,0) -> 23.883898 | D41: 977007.02 | E41: =IF(ISNUMBER(D41/D$8*100),D41/D$8*100,0) -> 29.647746 | F41: =H41+J41+L41 -> 325967.45 | G41: =IF(ISNUMBER(F41/F$8*100),F41/F$8*100,0) -> 17.851163 | H41: 40832.892 | I41: =IF(ISNUMBER(H41/H$8*100),H41/H$8*100,0) -> 18.96002 | J41: 248807.08 | K41: =IF(ISNUMBER(J41/J$8*100),J41/J$8*100,0) -> 16.828204 | L41: 36327.474 | M41: =IF(ISNUMBER(L41/L$8*100),L41/L$8*100,0) -> 27.488799 | N41: 651039.58 | O41: =IF(ISNUMBER(N41/N$8*100),N41/N$8*100,0) -> 44.307859 | P41: ='C03'!N41 -> 0 | Q41: =IF(ISNUMBER(P41/P$8*100),P41/P$8*100,0) -> 0 | R41: =B41-(D41+P41) -> 0 | S41: =IF(ISNUMBER(R41/R$8*100),R41/R$8*100,0) -> 0
A42: Menos de 1 salario y trab >=36 horas | B42: ='C03'!B42 -> 1649947.2 | C42: =IF(ISNUMBER(B42/B$8*100),B42/B$8*100,0) -> 40.334583 | D42: 1649947.2 | E42: =IF(ISNUMBER(D42/D$8*100),D42/D$8*100,0) -> 50.068437 | F42: =H42+J42+L42 -> 1033389.8 | G42: =IF(ISNUMBER(F42/F$8*100),F42/F$8*100,0) -> 56.592182 | H42: 43883.237 | I42: =IF(ISNUMBER(H42/H$8*100),H42/H$8*100,0) -> 20.376393 | J42: 900492.97 | K42: =IF(ISNUMBER(J42/J$8*100),J42/J$8*100,0) -> 60.90534 | L42: 89013.573 | M42: =IF(ISNUMBER(L42/L$8*100),L42/L$8*100,0) -> 67.356081 | N42: 616557.41 | O42: =IF(ISNUMBER(N42/N$8*100),N42/N$8*100,0) -> 41.961103 | P42: ='C03'!N42 -> 0 | Q42: =IF(ISNUMBER(P42/P$8*100),P42/P$8*100,0) -> 0 | R42: =B42-(D42+P42) -> 0 | S42: =IF(ISNUMBER(R42/R$8*100),R42/R$8*100,0) -> 0
A43: Menos de 1 salario y no decl. horas | B43: ='C03'!B43 -> 0 | C43: =IF(ISNUMBER(B43/B$8*100),B43/B$8*100,0) -> 0 | D43: 0 | E43: =IF(ISNUMBER(D43/D$8*100),D43/D$8*100,0) -> 0 | F43: =H43+J43+L43 -> 0 | G43: =IF(ISNUMBER(F43/F$8*100),F43/F$8*100,0) -> 0 | H43: 0 | I43: =IF(ISNUMBER(H43/H$8*100),H43/H$8*100,0) -> 0 | J43: 0 | K43: =IF(ISNUMBER(J43/J$8*100),J43/J$8*100,0) -> 0 | L43: 0 | M43: =IF(ISNUMBER(L43/L$8*100),L43/L$8*100,0) -> 0 | N43: 0 | O43: =IF(ISNUMBER(N43/N$8*100),N43/N$8*100,0) -> 0 | P43: ='C03'!N43 -> 0 | Q43: =IF(ISNUMBER(P43/P$8*100),P43/P$8*100,0) -> 0 | R43: =B43-(D43+P43) -> 0 | S43: =IF(ISNUMBER(R43/R$8*100),R43/R$8*100,0) -> 0
A44: De 1 a 2 salarios | B44: ='C03'!B44 -> 542928.59 | C44: =IF(ISNUMBER(B44/B$8*100),B44/B$8*100,0) -> 13.272424 | D44: 542928.59 | E44: =IF(ISNUMBER(D44/D$8*100),D44/D$8*100,0) -> 16.475428 | F44: =H44+J44+L44 -> 392375.02 | G44: =IF(ISNUMBER(F44/F$8*100),F44/F$8*100,0) -> 21.487883 | H44: 100380.4 | I44: =IF(ISNUMBER(H44/H$8*100),H44/H$8*100,0) -> 46.609834 | J44: 285181.94 | K44: =IF(ISNUMBER(J44/J$8*100),J44/J$8*100,0) -> 19.288438 | L44: 6812.6827 | M44: =IF(ISNUMBER(L44/L$8*100),L44/L$8*100,0) -> 5.1551195 | N44: 150553.57 | O44: =IF(ISNUMBER(N44/N$8*100),N44/N$8*100,0) -> 10.246238 | P44: ='C03'!N44 -> 0 | Q44: =IF(ISNUMBER(P44/P$8*100),P44/P$8*100,0) -> 0 | R44: =B44-(D44+P44) -> 0 | S44: =IF(ISNUMBER(R44/R$8*100),R44/R$8*100,0) -> 0
A45: De 2 a 3 salarios | B45: ='C03'!B45 -> 76432.041 | C45: =IF(ISNUMBER(B45/B$8*100),B45/B$8*100,0) -> 1.8684565 | D45: 76432.041 | E45: =IF(ISNUMBER(D45/D$8*100),D45/D$8*100,0) -> 2.3193669 | F45: =H45+J45+L45 -> 45263.008 | G45: =IF(ISNUMBER(F45/F$8*100),F45/F$8*100,0) -> 2.4787669 | H45: 18804.709 | I45: =IF(ISNUMBER(H45/H$8*100),H45/H$8*100,0) -> 8.731629 | J45: 26458.299 | K45: =IF(ISNUMBER(J45/J$8*100),J45/J$8*100,0) -> 1.7895217 | L45: 0 | M45: =IF(ISNUMBER(L45/L$8*100),L45/L$8*100,0) -> 0 | N45: 31169.032 | O45: =IF(ISNUMBER(N45/N$8*100),N45/N$8*100,0) -> 2.1212736 | P45: ='C03'!N45 -> 0 | Q45: =IF(ISNUMBER(P45/P$8*100),P45/P$8*100,0) -> 0 | R45: =B45-(D45+P45) -> 0 | S45: =IF(ISNUMBER(R45/R$8*100),R45/R$8*100,0) -> 0
A46: De 3 a 4 salarios | B46: ='C03'!B46 -> 23597.475 | C46: =IF(ISNUMBER(B46/B$8*100),B46/B$8*100,0) -> 0.5768635 | D46: 23597.475 | E46: =IF(ISNUMBER(D46/D$8*100),D46/D$8*100,0) -> 0.71607667 | F46: =H46+J46+L46 -> 12622.491 | G46: =IF(ISNUMBER(F46/F$8*100),F46/F$8*100,0) -> 0.69125353 | H46: 3867.6265 | I46: =IF(ISNUMBER(H46/H$8*100),H46/H$8*100,0) -> 1.7958629 | J46: 8754.8648 | K46: =IF(ISNUMBER(J46/J$8*100),J46/J$8*100,0) -> 0.59214012 | L46: 0 | M46: =IF(ISNUMBER(L46/L$8*100),L46/L$8*100,0) -> 0 | N46: 10974.983 | O46: =IF(ISNUMBER(N46/N$8*100),N46/N$8*100,0) -> 0.74692544 | P46: ='C03'!N46 -> 0 | Q46: =IF(ISNUMBER(P46/P$8*100),P46/P$8*100,0) -> 0 | R46: =B46-(D46+P46) -> 0 | S46: =IF(ISNUMBER(R46/R$8*100),R46/R$8*100,0) -> 0
A47: De 4 salarios y más | B47: ='C03'!B47 -> 25098.216 | C47: =IF(ISNUMBER(B47/B$8*100),B47/B$8*100,0) -> 0.61355061 | D47: 25098.216 | E47: =IF(ISNUMBER(D47/D$8*100),D47/D$8*100,0) -> 0.76161739 | F47: =H47+J47+L47 -> 16038.168 | G47: =IF(ISNUMBER(F47/F$8*100),F47/F$8*100,0) -> 0.87830842 | H47: 7594.2672 | I47: =IF(ISNUMBER(H47/H$8*100),H47/H$8*100,0) -> 3.5262615 | J47: 8443.9013 | K47: =IF(ISNUMBER(J47/J$8*100),J47/J$8*100,0) -> 0.57110793 | L47: 0 | M47: =IF(ISNUMBER(L47/L$8*100),L47/L$8*100,0) -> 0 | N47: 9060.048 | O47: =IF(ISNUMBER(N47/N$8*100),N47/N$8*100,0) -> 0.6166005 | P47: ='C03'!N47 -> 0 | Q47: =IF(ISNUMBER(P47/P$8*100),P47/P$8*100,0) -> 0 | R47: =B47-(D47+P47) -> 0 | S47: =IF(ISNUMBER(R47/R$8*100),R47/R$8*100,0) -> 0
A49: Rama de Actividad
A50: Primaria | B50: ='C03'!B50 -> 1300827 | C50: =IF(ISNUMBER(B50/B$8*100),B50/B$8*100,0) -> 31.799998 | D50: 913135.89 | E50: =IF(ISNUMBER(D50/D$8*100),D50/D$8*100,0) -> 27.709546 | F50: =H50+J50+L50 -> 435197.19 | G50: =IF(ISNUMBER(F50/F$8*100),F50/F$8*100,0) -> 23.832981 | H50: 0 | I50: =IF(ISNUMBER(H50/H$8*100),H50/H$8*100,0) -> 0 | J50: 435197.19 | K50: =IF(ISNUMBER(J50/J$8*100),J50/J$8*100,0) -> 29.434802 | L50: 0 | M50: =IF(ISNUMBER(L50/L$8*100),L50/L$8*100,0) -> 0 | N50: 477938.7 | O50: =IF(ISNUMBER(N50/N$8*100),N50/N$8*100,0) -> 32.527117 | P50: ='C03'!N50 -> 257581.2 | Q50: =IF(ISNUMBER(P50/P$8*100),P50/P$8*100,0) -> 48.542858 | R50: =B50-(D50+P50) -> 130109.96 | S50: =IF(ISNUMBER(R50/R$8*100),R50/R$8*100,0) -> 49.164666
A51: Secundaria | B51: ='C03'!B51 -> 549797.23 | C51: =IF(ISNUMBER(B51/B$8*100),B51/B$8*100,0) -> 13.440335 | D51: 470879.26 | E51: =IF(ISNUMBER(D51/D$8*100),D51/D$8*100,0) -> 14.289056 | F51: =H51+J51+L51 -> 271556.5 | G51: =IF(ISNUMBER(F51/F$8*100),F51/F$8*100,0) -> 14.871421 | H51: 0 | I51: =IF(ISNUMBER(H51/H$8*100),H51/H$8*100,0) -> 0 | J51: 271556.5 | K51: =IF(ISNUMBER(J51/J$8*100),J51/J$8*100,0) -> 18.366874 | L51: 0 | M51: =IF(ISNUMBER(L51/L$8*100),L51/L$8*100,0) -> 0 | N51: 199322.76 | O51: =IF(ISNUMBER(N51/N$8*100),N51/N$8*100,0) -> 13.565327 | P51: ='C03'!N51 -> 60312.322 | Q51: =IF(ISNUMBER(P51/P$8*100),P51/P$8*100,0) -> 11.366251 | R51: =B51-(D51+P51) -> 18605.651 | S51: =IF(ISNUMBER(R51/R$8*100),R51/R$8*100,0) -> 7.0305196
A52: Terciaria | B52: ='C03'!B52 -> 2238786 | C52: =IF(ISNUMBER(B52/B$8*100),B52/B$8*100,0) -> 54.729328 | D52: 1910995.4 | E52: =IF(ISNUMBER(D52/D$8*100),D52/D$8*100,0) -> 57.99007 | F52: =H52+J52+L52 -> 1118902.2 | G52: =IF(ISNUMBER(F52/F$8*100),F52/F$8*100,0) -> 61.275155 | H52: 215363.13 | I52: =IF(ISNUMBER(H52/H$8*100),H52/H$8*100,0) -> 100 | J52: 771385.37 | K52: =IF(ISNUMBER(J52/J$8*100),J52/J$8*100,0) -> 52.173076 | L52: 132153.73 | M52: =IF(ISNUMBER(L52/L$8*100),L52/L$8*100,0) -> 100 | N52: 792093.17 | O52: =IF(ISNUMBER(N52/N$8*100),N52/N$8*100,0) -> 53.907556 | P52: ='C03'!N52 -> 212732.84 | Q52: =IF(ISNUMBER(P52/P$8*100),P52/P$8*100,0) -> 40.090891 | R52: =B52-(D52+P52) -> 115057.78 | S52: =IF(ISNUMBER(R52/R$8*100),R52/R$8*100,0) -> 43.476898
A53: No sabe, no responde | B53: ='C03'!B53 -> 1241.1006 | C53: =IF(ISNUMBER(B53/B$8*100),B53/B$8*100,0) -> 0.030339925 | D53: 373.29824 | E53: =IF(ISNUMBER(D53/D$8*100),D53/D$8*100,0) -> 0.011327914 | F53: =H53+J53+L53 -> 373.29824 | G53: =IF(ISNUMBER(F53/F$8*100),F53/F$8*100,0) -> 0.020443169 | H53: 0 | I53: =IF(ISNUMBER(H53/H$8*100),H53/H$8*100,0) -> 0 | J53: 373.29824 | K53: =IF(ISNUMBER(J53/J$8*100),J53/J$8*100,0) -> 0.025248233 | L53: 0 | M53: =IF(ISNUMBER(L53/L$8*100),L53/L$8*100,0) -> 0 | N53: 0 | O53: =IF(ISNUMBER(N53/N$8*100),N53/N$8*100,0) -> 0 | P53: ='C03'!N53 -> 0 | Q53: =IF(ISNUMBER(P53/P$8*100),P53/P$8*100,0) -> 0 | R53: =B53-(D53+P53) -> 867.80234 | S53: =IF(ISNUMBER(R53/R$8*100),R53/R$8*100,0) -> 0.32791658
A55: ='C01'!$A$46 -> Fuente: Instituto Nacional de Estadística (INE). Encuesta Permanente de Hogares de Propósitos Múltiples, LXI 2018.
A56: ='C02'!$A$46 -> (Promedio de salarios mínimos por rama)
A57: 1/ Porcentaje por columnas
A58: 2/ Porcentaje por filas
A59: 3/ No. de salarios mínimos (personas que declaran ingresos) y trabajan 36 Hrs. o mas en la ocupación principal
A61: Cuadro No. 4. Personas ocupadas y que declaran ingresos por categoría ocupacional, según dominio, nivel educativo, rango de edad,
A62: sexo, número de salarios mínimos devengados, rama de actividad y ocupación
A63: Ocupación Principal
A64: ....... Continuación
A65: Categorías | B65: Total Pers. Ocupadas | D65: Pers. que declaran Ing. | F65: Asalariados | N65: Cuenta propia | P65: Trab. fam. no remu. | R65: No Declaran Ingresos
F66: Total | H66: Público | J66: Privado | L66: Doméstico
B67: No. | C67: % 1/ | D67: No. | E67: % 1/ | F67: No. | G67: % 1/ | H67: No. | I67: % 1/ | J67: No. | K67: % 1/ | L67: No. | M67: % 1/ | N67: No. | O67: % 1/ | P67: No. | Q67: % 1/ | R67: No. | S67: % 1/
A69: Total Nacional 2/ | B69: =B8 -> 4090651.4 | C69: =C8 -> 100 | D69: =D8 -> 3295383.8 | E69: =E8 -> 80.558902 | F69: =F8 -> 1826029.2 | G69: =G8 -> 44.639082 | H69: =H8 -> 215363.13 | I69: =I8 -> 5.2647637 | ... S69: =S8 -> 6.4694144
A71: Rama de Actividad (1 Dig.)
A72: Agricultura, ganaderia, silvicultura y pesca | B72: ='C03'!B72 -> 1294551 | C72: =IF(ISNUMBER(B72/B$69*100),B72/B$69*100,0) -> 31.646574 | D72: 907167.71 | E72: =IF(ISNUMBER(D72/D$69*100),D72/D$69*100,0) -> 27.528438 | F72: =H72+J72+L72 -> 430813.14 | G72: =IF(ISNUMBER(F72/F$69*100),F72/F$69*100,0) -> 23.592894 | H72: 0 | I72: =IF(ISNUMBER(H72/H$69*100),H72/H$69*100,0) -> 0 | J72: 430813.14 | K72: =IF(ISNUMBER(J72/J$69*100),J72/J$69*100,0) -> 29.138285 | L72: 0 | M72: =IF(ISNUMBER(L72/L$69*100),L72/L$69*100,0) -> 0 | N72: 476354.57 | O72: =IF(ISNUMBER(N72/N$69*100),N72/N$69*100,0) -> 32.419306 | P72: ='C03'!N72 -> 257581.2 | Q72: =IF(ISNUMBER(P72/P$69*100),P72/P$69*100,0) -> 48.542858 | R72: =B72-(D72+P72) -> 129802.1 | S72: =IF(ISNUMBER(R72/R$8*100),R72/R$8*100,0) -> 49.048337
A73: Explotacion de minas y canteras | B73: ='C03'!B73 -> 6276.0282 | C73: =IF(ISNUMBER(B73/B$69*100),B73/B$69*100,0) -> 0.15342369 | D73: 5968.1732 | E73: =IF(ISNUMBER(D73/D$69*100),D73/D$69*100,0) -> 0.18110707 | F73: =H73+J73+L73 -> 4384.0486 | G73: =IF(ISNUMBER(F73/F$69*100),F73/F$69*100,0) -> 0.24008644 | H73: 0 | I73: =IF(ISNUMBER(H73/H$69*100),H73/H$69*100,0) -> 0 | J73: 4384.0486 | K73: =IF(ISNUMBER(J73/J$69*100),J73/J$69*100,0) -> 0.29651755 | L73: 0 | M73: =IF(ISNUMBER(L73/L$69*100),L73/L$69*100,0) -> 0 | N73: 1584.1246 | O73: =IF(ISNUMBER(N73/N$69*100),N73/N$69*100,0) -> 0.10781091 | P73: ='C03'!N73 -> 0 | Q73: =IF(ISNUMBER(P73/P$69*100),P73/P$69*100,0) -> 0 | R73: =B73-(D73+P73) -> 307.85497 | S73: =IF(ISNUMBER(R73/R$8*100),R73/R$8*100,0) -> 0.1163292
A74: Industria manufacturera | B74: ='C03'!B74 -> 549797.23 | C74: =IF(ISNUMBER(B74/B$69*100),B74/B$69*100,0) -> 13.440335 | D74: 470879.26 | E74: =IF(ISNUMBER(D74/D$69*100),D74/D$69*100,0) -> 14.289056 | F74: =H74+J74+L74 -> 271556.5 | G74: =IF(ISNUMBER(F74/F$69*100),F74/F$69*100,0) -> 14.871421 | H74: 0 | I74: =IF(ISNUMBER(H74/H$69*100),H74/H$69*100,0) -> 0 | J74: 271556.5 | K74: =IF(ISNUMBER(J74/J$69*100),J74/J$69*100,0) -> 18.366874 | L74: 0 | M74: =IF(ISNUMBER(L74/L$69*100),L74/L$69*100,0) -> 0 | N74: 199322.76 | O74: =IF(ISNUMBER(N74/N$69*100),N74/N$69*100,0) -> 13.565327 | P74: ='C03'!N74 -> 60312.322 | Q74: =IF(ISNUMBER(P74/P$69*100),P74/P$69*100,0) -> 11.366251 | R74: =B74-(D74+P74) -> 18605.651 | S74: =IF(ISNUMBER(R74/R$8*100),R74/R$8*100,0) -> 7.0305196
A75: Suministro de electricidad, gas, vapor y aire acondicionado | B75: ='C03'!B75 -> 4566.9373 | C75: =IF(ISNUMBER(B75/B$69*100),B75/B$69*100,0) -> 0.11164328 | D75: 4566.9373 | E75: =IF(ISNUMBER(D75/D$69*100),D75/D$69*100,0) -> 0.1385859 | F75: =H75+J75+L75 -> 3440.2554 | G75: =IF(ISNUMBER(F75/F$69*100),F75/F$69*100,0) -> 0.1884009 | H75: 1223.1048 | I75: =IF(ISNUMBER(H75/H$69*100),H75/H$69*100,0) -> 0.56792676 | J75: 2217.1506 | K75: =IF(ISNUMBER(J75/J$69*100),J75/J$69*100,0) -> 0.1499582 | L75: 0 | M75: =IF(ISNUMBER(L75/L$69*100),L75/L$69*100,0) -> 0 | N75: 1126.6819 | O75: =IF(ISNUMBER(N75/N$69*100),N75/N$69*100,0) -> 0.076678694 | P75: ='C03'!N75 -> 0 | Q75: =IF(ISNUMBER(P75/P$69*100),P75/P$69*100,0) -> 0 | R75: =B75-(D75+P75) -> 0 | S75: =IF(ISNUMBER(R75/R$8*100),R75/R$8*100,0) -> 0
A76: Suministro de agua, evacuacion de aguas residuales, gestion de desechos y descontaminacion | B76: ='C03'!B76 -> 18695.773 | C76: =IF(ISNUMBER(B76/B$69*100),B76/B$69*100,0) -> 0.45703657 | D76: 16273.144 | E76: =IF(ISNUMBER(D76/D$69*100),D76/D$69*100,0) -> 0.49381634 | F76: =H76+J76+L76 -> 7762.316 | G76: =IF(ISNUMBER(F76/F$69*100),F76/F$69*100,0) -> 0.42509265 | H76: 2288.0657 | I76: =IF(ISNUMBER(H76/H$69*100),H76/H$69*100,0) -> 1.0624222 | J76: 5474.2503 | K76: =IF(ISNUMBER(J76/J$69*100),J76/J$69*100,0) -> 0.37025395 | L76: 0 | M76: =IF(ISNUMBER(L76/L$69*100),L76/L$69*100,0) -> 0 | N76: 8510.8279 | O76: =IF(ISNUMBER(N76/N$69*100),N76/N$69*100,0) -> 0.57922218 | P76: ='C03'!N76 -> 867.80234 | Q76: =IF(ISNUMBER(P76/P$69*100),P76/P$69*100,0) -> 0.16354301 | R76: =B76-(D76+P76) -> 1554.8264 | S76: =IF(ISNUMBER(R76/R$8*100),R76/R$8*100,0) -> 0.58752244
A77: Construccion | B77: ='C03'!B77 -> 229957.19 | C77: =IF(ISNUMBER(B77/B$69*100),B77/B$69*100,0) -> 5.62153 | D77: 221019.47 | E77: =IF(ISNUMBER(D77/D$69*100),D77/D$69*100,0) -> 6.7069415 | F77: =H77+J77+L77 -> 173215.62 | G77: =IF(ISNUMBER(F77/F$69*100),F77/F$69*100,0) -> 9.4859175 | H77: 3026.9752 | I77: =IF(ISNUMBER(H77/H$69*100),H77/H$69*100,0) -> 1.4055215 | J77: 170188.65 | K77: =IF(ISNUMBER(J77/J$69*100),J77/J$69*100,0) -> 11.510803 | L77: 0 | M77: =IF(ISNUMBER(L77/L$69*100),L77/L$69*100,0) -> 0 | N77: 47803.842 | O77: =IF(ISNUMBER(N77/N$69*100),N77/N$69*100,0) -> 3.2533904 | P77: ='C03'!N77 -> 2696.9501 | Q77: =IF(ISNUMBER(P77/P$69*100),P77/P$69*100,0) -> 0.50825784 | R77: =B77-(D77+P77) -> 6240.7792 | S77: =IF(ISNUMBER(R77/R$8*100),R77/R$8*100,0) -> 2.358204
A78: Comercio al por mayor y al por menor, reparacion de vehiculos automotores y motocicletas | B78: ='C03'!B78 -> 749556.49 | C78: =IF(ISNUMBER(B78/B$69*100),B78/B$69*100,0) -> 18.323646 | D78: 582714.3 | E78: =IF(ISNUMBER(D78/D$69*100),D78/D$69*100,0) -> 17.682744 | F78: =H78+J78+L78 -> 229826.94 | G78: =IF(ISNUMBER(F78/F$69*100),F78/F$69*100,0) -> 12.586159 | H78: 350.60497 | I78: =IF(ISNUMBER(H78/H$69*100),H78/H$69*100,0) -> 0.16279712 | J78: 229476.34 | K78: =IF(ISNUMBER(J78/J$69*100),J78/J$69*100,0) -> 15.520759 | L78: 0 | M78: =IF(ISNUMBER(L78/L$69*100),L78/L$69*100,0) -> 0 | N78: 352887.35 | O78: =IF(ISNUMBER(N78/N$69*100),N78/N$69*100,0) -> 24.016486 | P78: ='C03'!N78 -> 130415.69 | Q78: =IF(ISNUMBER(P78/P$69*100),P78/P$69*100,0) -> 24.577688 | R78: =B78-(D78+P78) -> 36426.503 | S78: =IF(ISNUMBER(R78/R$8*100),R78/R$8*100,0) -> 13.764487
A79: Transporte y almacenamiento | B79: ='C03'!B79 -> 126517.74 | C79: =IF(ISNUMBER(B79/B$69*100),B79/B$69*100,0) -> 3.0928506 | D79: 118561.38 | E79: =IF(ISNUMBER(D79/D$69*100),D79/D$69*100,0) -> 3.5978018 | F79: =H79+J79+L79 -> 47366.064 | G79: =IF(ISNUMBER(F79/F$69*100),F79/F$69*100,0) -> 2.5939379 | H79: 2358.697 | I79: =IF(ISNUMBER(H79/H$69*100),H79/H$69*100,0) -> 1.0952186 | J79: 45007.367 | K79: =IF(ISNUMBER(J79/J$69*100),J79/J$69*100,0) -> 3.0440981 | L79: 0 | M79: =IF(ISNUMBER(L79/L$69*100),L79/L$69*100,0) -> 0 | N79: 71195.315 | O79: =IF(ISNUMBER(N79/N$69*100),N79/N$69*100,0) -> 4.845346 | P79: ='C03'!N79 -> 491.86755 | Q79: =IF(ISNUMBER(P79/P$69*100),P79/P$69*100,0) -> 0.092695648 | R79: =B79-(D79+P79) -> 7464.4914 | S79: =IF(ISNUMBER(R79/R$8*100),R79/R$8*100,0) -> 2.8206083
A80: Actividades de alojamiento y de servicios de comida | B80: ='C03'!B80 -> 210605.46 | C80: =IF(ISNUMBER(B80/B$69*100),B80/B$69*100,0) -> 5.1484578 | D80: 163136.81 | E80: =IF(ISNUMBER(D80/D$69*100),D80/D$69*100,0) -> 4.9504645 | F80: =H80+J80+L80 -> 77278.324 | G80: =IF(ISNUMBER(F80/F$69*100),F80/F$69*100,0) -> 4.232042 | H80: 0 | I80: =IF(ISNUMBER(H80/H$69*100),H80/H$69*100,0) -> 0 | J80: 77278.324 | K80: =IF(ISNUMBER(J80/J$69*100),J80/J$69*100,0) -> 5.2267621 | L80: 0 | M80: =IF(ISNUMBER(L80/L$69*100),L80/L$69*100,0) -> 0 | N80: 85858.482 | O80: =IF(ISNUMBER(N80/N$69*100),N80/N$69*100,0) -> 5.8432784 | P80: ='C03'!N80 -> 41842.805 | Q80: =IF(ISNUMBER(P80/P$69*100),P80/P$69*100,0) -> 7.8855495 | R80: =B80-(D80+P80) -> 5625.851 | S80: =IF(ISNUMBER(R80/R$8*100),R80/R$8*100,0) -> 2.125841
A81: Informacion y comunicaciones | B81: ='C03'!B81 -> 32714.935 | C81: =IF(ISNUMBER(B81/B$69*100),B81/B$69*100,0) -> 0.7997488 | D81: 29213.097 | E81: =IF(ISNUMBER(D81/D$69*100),D81/D$69*100,0) -> 0.88648542 | F81: =H81+J81+L81 -> 23752.845 | G81: =IF(ISNUMBER(F81/F$69*100),F81/F$69*100,0) -> 1.3007922 | H81: 2726.8949 | I81: =IF(ISNUMBER(H81/H$69*100),H81/H$69*100,0) -> 1.2661846 | J81: 21025.95 | K81: =IF(ISNUMBER(J81/J$69*100),J81/J$69*100,0) -> 1.4221017 | L81: 0 | M81: =IF(ISNUMBER(L81/L$69*100),L81/L$69*100,0) -> 0 | N81: 5460.2527 | O81: =IF(ISNUMBER(N81/N$69*100),N81/N$69*100,0) -> 0.37160891 | P81: ='C03'!N81 -> 0 | Q81: =IF(ISNUMBER(P81/P$69*100),P81/P$69*100,0) -> 0 | R81: =B81-(D81+P81) -> 3501.8381 | S81: =IF(ISNUMBER(R81/R$8*100),R81/R$8*100,0) -> 1.32324
A82: Actividades finacieras y de seguros | B82: ='C03'!B82 -> 44301.593 | C82: =IF(ISNUMBER(B82/B$69*100),B82/B$69*100,0) -> 1.082996 | D82: 35064.197 | E82: =IF(ISNUMBER(D82/D$69*100),D82/D$69*100,0) -> 1.0640399 | F82: =H82+J82+L82 -> 32207.36 | G82: =IF(ISNUMBER(F82/F$69*100),F82/F$69*100,0) -> 1.7637921 | H82: 1017.5723 | I82: =IF(ISNUMBER(H82/H$69*100),H82/H$69*100,0) -> 0.47249142 | J82: 31189.787 | K82: =IF(ISNUMBER(J82/J$69*100),J82/J$69*100,0) -> 2.1095385 | L82: 0 | M82: =IF(ISNUMBER(L82/L$69*100),L82/L$69*100,0) -> 0 | N82: 2856.8377 | O82: =IF(ISNUMBER(N82/N$69*100),N82/N$69*100,0) -> 0.19442806 | P82: ='C03'!N82 -> 223.97894 | Q82: =IF(ISNUMBER(P82/P$69*100),P82/P$69*100,0) -> 0.042210293 | R82: =B82-(D82+P82) -> 9013.4162 | S82: =IF(ISNUMBER(R82/R$8*100),R82/R$8*100,0) -> 3.4059007
A83: Actividades inmobiliarias | B83: ='C03'!B83 -> 5724.7299 | C83: =IF(ISNUMBER(B83/B$69*100),B83/B$69*100,0) -> 0.13994666 | D83: 5724.7299 | E83: =IF(ISNUMBER(D83/D$69*100),D83/D$69*100,0) -> 0.17371967 | F83: =H83+J83+L83 -> 4462.4743 | G83: =IF(ISNUMBER(F83/F$69*100),F83/F$69*100,0) -> 0.24438132 | H83: 186.64912 | I83: =IF(ISNUMBER(H83/H$69*100),H83/H$69*100,0) -> 0.086667166 | J83: 4275.8251 | K83: =IF(ISNUMBER(J83/J$69*100),J83/J$69*100,0) -> 0.2891978 | L83: 0 | M83: =IF(ISNUMBER(L83/L$69*100),L83/L$69*100,0) -> 0 | N83: 1262.2557 | O83: =IF(ISNUMBER(N83/N$69*100),N83/N$69*100,0) -> 0.085905449 | P83: ='C03'!N83 -> 0 | Q83: =IF(ISNUMBER(P83/P$69*100),P83/P$69*100,0) -> 0 | R83: =B83-(D83+P83) -> 0 | S83: =IF(ISNUMBER(R83/R$8*100),R83/R$8*100,0) -> 0
... A94: NS/NR | B94: ='C03'!B94 -> 1241.1006 | C94: =IF(ISNUMBER(B94/B$69*100),B94/B$69*100,0) -> 0.030339925 | D94: 373.29824 | E94: =IF(ISNUMBER(D94/D$69*100),D94/D$69*100,0) -> 0.011327914 | F94: =H94+J94+L94 -> 373.29824 | G94: =IF(ISNUMBER(F94/F$69*100),F94/F$69*100,0) -> 0.020443169 | H94: 0 | I94: =IF(ISNUMBER(H94/H$69*100),H94/H$69*100,0) -> 0 | J94: 373.29824 | K94: =IF(ISNUMBER(J94/J$69*100),J94/J$69*100,0) -> 0.025248233 | L94: 0 | M94: =IF(ISNUMBER(L94/L$69*100),L94/L$69*100,0) -> 0 | N94: 0 | O94: =IF(ISNUMBER(N94/N$69*100),N94/N$69*100,0) -> 0 | P94: ='C03'!N94 -> 0 | Q94: =IF(ISNUMBER(P94/P$69*100),P94/P$69*100,0) -> 0 | R94: =B94-(D94+P94) -> 867.80234 | S94: =IF(ISNUMBER(R94/R$8*100),R94/R$8*100,0) -> 0.32791658
A96: Ocupación (1 Dig.)
A97: Directores y gerentes | B97: ='C03'!B98 -> 114096.83 | C97: =IF(ISNUMBER(B97/B$69*100),B97/B$69*100,0) -> 2.7892093 | D97: 91983.006 | E97: =IF(ISNUMBER(D97/D$69*100),D97/D$69*100,0) -> 2.7912683 | F97: =H97+J97+L97 -> 48992.922 | G97: =IF(ISNUMBER(F97/F$69*100),F97/F$69*100,0) -> 2.6830306 | H97: 9802.2641 | I97: =IF(ISNUMBER(H97/H$69*100),H97/H$69*100,0) -> 4.5515052 | J97: 39190.658 | K97: =IF(ISNUMBER(J97/J$69*100),J97/J$69*100,0) -> 2.6506818 | L97: 0 | M97: =IF(ISNUMBER(L97/L$69*100),L97/L$69*100,0) -> 0 | N97: 42990.084 | O97: =IF(ISNUMBER(N97/N$69*100),N97/N$69*100,0) -> 2.92578 | P97: ='C03'!N98 -> 0 | Q97: =IF(ISNUMBER(P97/P$69*100),P97/P$69*100,0) -> 0 | R97: =B97-(D97+P97) -> 22113.823 | S97: =IF(ISNUMBER(R97/R$8*100),R97/R$8*100,0) -> 8.356153
A98: Profesionales cientificos e intelectuales | B98: ='C03'!B99 -> 108250.05 | C98: =IF(ISNUMBER(B98/B$69*100),B98/B$69*100,0) -> 2.6462791 | D98: 90817.911 | E98: =IF(ISNUMBER(D98/D$69*100),D98/D$69*100,0) -> 2.755913 | F98: =H98+J98+L98 -> 67780.375 | G98: =IF(ISNUMBER(F98/F$69*100),F98/F$69*100,0) -> 3.7118998 | H98: 67780.375 | I98: =IF(ISNUMBER(H98/H$69*100),H98/H$69*100,0) -> 31.472599 | J98: 0 | K98: =IF(ISNUMBER(J98/J$69*100),J98/J$69*100,0) -> 0 | L98: 0 | M98: =IF(ISNUMBER(L98/L$69*100),L98/L$69*100,0) -> 0 | N98: 23037.537 | O98: =IF(ISNUMBER(N98/N$69*100),N98/N$69*100,0) -> 1.5678677 | P98: ='C03'!N99 -> 4836.678 | Q98: =IF(ISNUMBER(P98/P$69*100),P98/P$69*100,0) -> 0.91150353 | R98: =B98-(D98+P98) -> 12595.466 | S98: =IF(ISNUMBER(R98/R$8*100),R98/R$8*100,0) -> 4.7594502
A99: Tecnicos y profesionales de nivel medio | B99: ='C03'!B100 -> 226905.48 | C99: =IF(ISNUMBER(B99/B$69*100),B99/B$69*100,0) -> 5.5469277 | D99: 201609.6 | E99: =IF(ISNUMBER(D99/D$69*100),D99/D$69*100,0) -> 6.1179399 | F99: =H99+J99+L99 -> 174612.66 | G99: =IF(ISNUMBER(F99/F$69*100),F99/F$69*100,0) -> 9.5624242 | H99: 64033.46 | I99: =IF(ISNUMBER(H99/H$69*100),H99/H$69*100,0) -> 29.732787 | J99: 110579.2 | K99: =IF(ISNUMBER(J99/J$69*100),J99/J$69*100,0) -> 7.4790852 | L99: 0 | M99: =IF(ISNUMBER(L99/L$69*100),L99/L$69*100,0) -> 0 | N99: 26996.942 | O99: =IF(ISNUMBER(N99/N$69*100),N99/N$69*100,0) -> 1.8373333 | P99: ='C03'!N100 -> 6696.1221 | Q99: =IF(ISNUMBER(P99/P$69*100),P99/P$69*100,0) -> 1.2619279 | R99: =B99-(D99+P99) -> 18599.752 | S99: =IF(ISNUMBER(R99/R$8*100),R99/R$8*100,0) -> 7.0282907
A100: Personal de apoyo administrativo | B100: ='C03'!B101 -> 110002.41 | C100: =IF(ISNUMBER(B100/B$69*100),B100/B$69*100,0) -> 2.6891172 | D100: 99815.566 | E100: =IF(ISNUMBER(D100/D$69*100),D100/D$69*100,0) -> 3.0289511 | F100: =H100+J100+L100 -> 94964.213 | G100: =IF(ISNUMBER(F100/F$69*100),F100/F$69*100,0) -> 5.2005856 | H100: 21545.975 | I100: =IF(ISNUMBER(H100/H$69*100),H100/H$69*100,0) -> 10.004487 | J100: 73418.237 | K100: =IF(ISNUMBER(J100/J$69*100),J100/J$69*100,0) -> 4.9656831 | L100: 0 | M100: =IF(ISNUMBER(L100/L$69*100),L100/L$69*100,0) -> 0 | N100: 4851.3538 | O100: =IF(ISNUMBER(N100/N$69*100),N100/N$69*100,0) -> 0.33016902 | P100: ='C03'!N101 -> 1975.4494 | Q100: =IF(ISNUMBER(P100/P$69*100),P100/P$69*100,0) -> 0.37228632 | R100: =B100-(D100+P100) -> 8211.3938 | S100: =IF(ISNUMBER(R100/R$8*100),R100/R$8*100,0) -> 3.1028404
A101: Trabajadores de los servicios y vendedores de comercios y mercados | B101: ='C03'!B102 -> 913910.55 | C101: =IF(ISNUMBER(B101/B$69*100),B101/B$69*100,0) -> 22.341443 | D101: 731579.92 | E101: =IF(ISNUMBER(D101/D$69*100),D101/D$69*100,0) -> 22.200143 | F101: =H101+J101+L101 -> 294672.66 | G101: =IF(ISNUMBER(F101/F$69*100),F101/F$69*100,0) -> 16.137346 | H101: 21905.481 | I101: =IF(ISNUMBER(H101/H$69*100),H101/H$69*100,0) -> 10.171417 | J101: 249869.25 | K101: =IF(ISNUMBER(J101/J$69*100),J101/J$69*100,0) -> 16.900045 | L101: 22897.931 | M101: =IF(ISNUMBER(L101/L$69*100),L101/L$69*100,0) -> 17.326738 | N101: 436907.26 | O101: =IF(ISNUMBER(N101/N$69*100),N101/N$69*100,0) -> 29.734637 | P101: ='C03'!N102 -> 155708.59 | Q101: =IF(ISNUMBER(P101/P$69*100),P101/P$69*100,0) -> 29.344299 | R101: =B101-(D101+P101) -> 26622.034 | S101: =IF(ISNUMBER(R101/R$8*100),R101/R$8*100,0) -> 10.059671
A102: Agricultores y trabajadores calificados agropecuarios forestales y pesqueros | B102: ='C03'!B103 -> 598975.26 | C102: =IF(ISNUMBER(B102/B$69*100),B102/B$69*100,0) -> 14.64254 | D102: 465556.75 | E102: =IF(ISNUMBER(D102/D$69*100),D102/D$69*100,0) -> 14.127543 | F102: =H102+J102+L102 -> 26935.038 | G102: =IF(ISNUMBER(F102/F$69*100),F102/F$69*100,0) -> 1.4750607 | H102: 0 | I102: =IF(ISNUMBER(H102/H$69*100),H102/H$69*100,0) -> 0 | J102: 26935.038 | K102: =IF(ISNUMBER(J102/J$69*100),J102/J$69*100,0) -> 1.8217662 | L102: 0 | M102: =IF(ISNUMBER(L102/L$69*100),L102/L$69*100,0) -> 0 | N102: 438621.72 | O102: =IF(ISNUMBER(N102/N$69*100),N102/N$69*100,0) -> 29.851318 | P102: ='C03'!N103 -> 6393.1537 | Q102: =IF(ISNUMBER(P102/P$69*100),P102/P$69*100,0) -> 1.2048315 | R102: =B102-(D102+P102) -> 127025.35 | S102: =IF(ISNUMBER(R102/R$8*100),R102/R$8*100,0) -> 47.999085
A103: Oficiales, operarios y artesanos de artes mecanicas y de otros oficios | B103: ='C03'!B104 -> 311635.23 | C103: =IF(ISNUMBER(B103/B$69*100),B103/B$69*100,0) -> 7.6182301 | D103: 243501.21 | E103: =IF(ISNUMBER(D103/D$69*100),D103/D$69*100,0) -> 7.3891608 | F103: =H103+J103+L103 -> 240525.18 | G103: =IF(ISNUMBER(F103/F$69*100),F103/F$69*100,0) -> 13.172033 | H103: 4686.4286 | I103: =IF(ISNUMBER(H103/H$69*100),H103/H$69*100,0) -> 2.1760589 | J103: 235838.75 | K103: =IF(ISNUMBER(J103/J$69*100),J103/J$69*100,0) -> 15.951084 | L103: 0 | M103: =IF(ISNUMBER(L103/L$69*100),L103/L$69*100,0) -> 0 | N103: 2976.0314 | O103: =IF(ISNUMBER(N103/N$69*100),N103/N$69*100,0) -> 0.20254003 | P103: ='C03'!N104 -> 61850.157 | Q103: =IF(ISNUMBER(P103/P$69*100),P103/P$69*100,0) -> 11.656066 | R103: =B103-(D103+P103) -> 6283.8674 | S103: =IF(ISNUMBER(R103/R$8*100),R103/R$8*100,0) -> 2.3744858
A104: Operadores de instalaciones y maquinas y ensambladores | B104: ='C03'!B105 -> 187441.99 | C104: =IF(ISNUMBER(B104/B$69*100),B104/B$69*100,0) -> 4.5822039 | D104: 171526.55 | E104: =IF(ISNUMBER(D104/D$69*100),D104/D$69*100,0) -> 5.2050554 | F104: =H104+J104+L104 -> 106034.74 | G104: =IF(ISNUMBER(F104/F$69*100),F104/F$69*100,0) -> 5.8068482 | H104: 3611.9938 | I104: =IF(ISNUMBER(H104/H$69*100),H104/H$69*100,0) -> 1.6771644 | J104: 102422.75 | K104: =IF(ISNUMBER(J104/J$69*100),J104/J$69*100,0) -> 6.9274193 | L104: 0 | M104: =IF(ISNUMBER(L104/L$69*100),L104/L$69*100,0) -> 0 | N104: 65491.81 | O104: =IF(ISNUMBER(N104/N$69*100),N104/N$69*100,0) -> 4.457182 | P104: ='C03'!N105 -> 6288.0667 | Q104: =IF(ISNUMBER(P104/P$69*100),P104/P$69*100,0) -> 1.1850272 | R104: =B104-(D104+P104) -> 9627.3667 | S104: =IF(ISNUMBER(R104/R$8*100),R104/R$8*100,0) -> 3.6378943
A105: Ocupaciones elementales | B105: ='C03'!B106 -> 1516922 | C105: =IF(ISNUMBER(B105/B$69*100),B105/B$69*100,0) -> 37.082652 | D105: 1197153.7 | E105: =IF(ISNUMBER(D105/D$69*100),D105/D$69*100,0) -> 36.328201 | F105: =H105+J105+L105 -> 769671.77 | G105: =IF(ISNUMBER(F105/F$69*100),F105/F$69*100,0) -> 42.150025 | H105: 20157.494 | I105: =IF(ISNUMBER(H105/H$69*100),H105/H$69*100,0) -> 9.3597703 | J105: 640258.47 | K105: =IF(ISNUMBER(J105/J$69*100),J105/J$69*100,0) -> 43.304236 | L105: 109255.8 | M105: =IF(ISNUMBER(L105/L$69*100),L105/L$69*100,0) -> 82.673262 | N105: 427481.89 | O105: =IF(ISNUMBER(N105/N$69*100),N105/N$69*100,0) -> 29.093173 | P105: ='C03'!N106 -> 286878.15 | Q105: =IF(ISNUMBER(P105/P$69*100),P105/P$69*100,0) -> 54.064059 | R105: =B105-(D105+P105) -> 32890.2 | S105: =IF(ISNUMBER(R105/R$8*100),R105/R$8*100,0) -> 12.428224
A106: Ocupaciones militares | B106: ='C03'!B107 -> 2511.594 | C106: =IF(ISNUMBER(B106/B$69*100),B106/B$69*100,0) -> 0.061398386 | D106: 1839.6571 | E106: =IF(ISNUMBER(D106/D$69*100),D106/D$69*100,0) -> 0.055825276 | F106: =H106+J106+L106 -> 1839.6571 | G106: =IF(ISNUMBER(F106/F$69*100),F106/F$69*100,0) -> 0.10074631 | H106: 1839.6571 | I106: =IF(ISNUMBER(H106/H$69*100),H106/H$69*100,0) -> 0.85421174 | J106: 0 | K106: =IF(ISNUMBER(J106/J$69*100),J106/J$69*100,0) -> 0 | L106: 0 | M106: =IF(ISNUMBER(L106/L$69*100),L106/L$69*100,0) -> 0 | N106: 0 | O106: =IF(ISNUMBER(N106/N$69*100),N106/N$69*100,0) -> 0 | P106: ='C03'!N107 -> 0 | Q106: =IF(ISNUMBER(P106/P$69*100),P106/P$69*100,0) -> 0 | R106: =B106-(D106+P106) -> 671.93683 | S106: =IF(ISNUMBER(R106/R$8*100),R106/R$8*100,0) -> 0.25390485
A107: Ocupaciones NO especificadas | B107: ='C03'!B108 -> 0 | C107: =IF(ISNUMBER(B107/B$69*100),B107/B$69*100,0) -> 0 | D107: 0 | E107: =IF(ISNUMBER(D107/D$69*100),D107/D$69*100,0) -> 0 | F107: =H107+J107+L107 -> 0 | G107: =IF(ISNUMBER(F107/F$69*100),F107/F$69*100,0) -> 0 | H107: 0 | I107: =IF(ISNUMBER(H107/H$69*100),H107/H$69*100,0) -> 0 | J107: 0 | K107: =IF(ISNUMBER(J107/J$69*100),J107/J$69*100,0) -> 0 | L107: 0 | M107: =IF(ISNUMBER(L107/L$69*100),L107/L$69*100,0) -> 0 | N107: 0 | O107: =IF(ISNUMBER(N107/N$69*100),N107/N$69*100,0) -> 0 | P107: ='C03'!N108 -> 0 | Q107: =IF(ISNUMBER(P107/P$69*100),P107/P$69*100,0) -> 0 | R107: =B107-(D107+P107) -> 0 | S107: =IF(ISNUMBER(R107/R$8*100),R107/R$8*100,0) -> 0
A108: NS/NR | B108: ='C03'!B109 -> 0 | C108: =IF(ISNUMBER(B108/B$69*100),B108/B$69*100,0) -> 0 | D108: 0 | E108: =IF(ISNUMBER(D108/D$69*100),D108/D$69*100,0) -> 0 | F108: =H108+J108+L108 -> 0 | G108: =IF(ISNUMBER(F108/F$69*100),F108/F$69*100,0) -> 0 | H108: 0 | I108: =IF(ISNUMBER(H108/H$69*100),H108/H$69*100,0) -> 0 | J108: 0 | K108: =IF(ISNUMBER(J108/J$69*100),J108/J$69*100,0) -> 0 | L108: 0 | M108: =IF(ISNUMBER(L108/L$69*100),L108/L$69*100,0) -> 0 | N108: 0 | O108: =IF(ISNUMBER(N108/N$69*100),N108/N$69*100,0) -> 0 | P108: ='C03'!N109 -> 0 | Q108: =IF(ISNUMBER(P108/P$69*100),P108/P$69*100,0) -> 0 | R108: =B108-(D108+P108) -> 0 | S108: =IF(ISNUMBER(R108/R$8*100),R108/R$8*100,0) -> 0
A110: ='C01'!$A$46 -> Fuente: Instituto Nacional de Estadística (INE). Encuesta Permanente de Hogares de Propósitos Múltiples, LXI 2018.
A111: ='C02'!$A$46 -> (Promedio de salarios mínimos por rama)
A112: 1/ Porcentaje por columnas
A113: 2/ Porcentaje por filas

Sheet C05
A1: Cuadro No. 5. Ingreso promedio de las personas ocupadas que declaran Ingreso por categoría ocupacional, según dominio,
A2: nivel educativo, rango de edad, sexo, número de salarios mínimos, rama de actividad y ocupación
A3: Ocupación Principal, Lps/Mes/Persona
A4: Categorías | B4: Ingreso Promedio
B5: Ingreso Promedio | C5: Asalariados | G5: Cuenta propia
C6: Total | D6: Público | E6: Privado | F6: Doméstico
A8: Total Nacional | B8: 5450.1323 | C8: 6790.1653 | D8: 12876.297 | E8: 6200.8167 | F8: 3465.4831 | G8: 3784.8166
A10: Dominio
A11: Urbano | B11: 7206.2019 | C11: 8409.683 | D11: 13966.515 | E11: 7825.9825 | F11: 3869.7386 | G11: 5311.7664
A12: Distrito Central | B12: 8543.584 | C12: 9872.13 | D12: 14235.685 | E12: 9332.001 | F12: 5006.4848 | G12: 6111.2903
A13: San Pedro Sula | B13: 9041.2389 | C13: 9987.1463 | D13: 19032.18 | E13: 9717.855 | F13: 3608.2852 | G13: 7227.9903
A14: Resto urbano | B14: 6454.459 | C14: 7592.2427 | D14: 13404.255 | E14: 6904.1762 | F14: 3489.5955 | G14: 4802.139
A15: Rural | B15: 3033.2314 | C15: 3921.2694 | D15: 8495.4017 | E15: 3677.8831 | F15: 2413.901 | G15: 2229.4
A17: Nivel Educativo
A18: Sin Nivel | B18: 2621.8427 | C18: 3410.4589 | D18: 7247.9355 | E18: 3349.8145 | F18: 3386.5789 | G18: 2126.6173
A19: Primaria | B19: 3811.2077 | C19: 4518.3383 | D19: 7624.5782 | E19: 4524.6016 | F19: 3366.6323 | G19: 3125.9624
A20: Secundaria | B20: 6691.9773 | C20: 7551.0711 | D20: 11118.635 | E20: 7133.2527 | F20: 3733.7408 | G20: 5076.7211
A21: Superior | B21: 13808.971 | C21: 14403.584 | D21: 15969.735 | E21: 13469.735 | F21: 5175 | G21: 11499.583
A22: No sabe, no responde | B22: 8765.2364 | C22: 9263.3038 | D22: 19903.538 | E22: 7795.1148 | F22: 3980.1891 | G22: 7920.0672
A24: Rango de Edad
A25: De 10 a 11 años | B25: 396.14596 | C25: 539.73939 | D25: 3000 | E25: 414.58316 | F25: 0 | G25: 223.83356
A26: De 12 a 14 años | B26: 1518.3985 | C26: 1677.2788 | D26: 0 | E26: 1753.211 | F26: 1072.5998 | G26: 851.34231
A27: De 15 a 18 años | B27: 2904.5057 | C27: 3129.4822 | D27: 5084.8382 | E27: 3146.886 | F27: 2798.3855 | G27: 1695.1069
A28: De 19 a 24 años | B28: 4840.4859 | C28: 5382.1936 | D28: 6205.3989 | E28: 5437.9074 | F28: 3786.3605 | G28: 3054.3314
A29: De 25 a 29 años | B29: 6075.0878 | C29: 7211.1868 | D29: 10677.528 | E29: 7124.1033 | F29: 3412.9292 | G29: 3605.8337
A30: De 30 a 35 años | B30: 6107.0276 | C30: 7637.9188 | D30: 10767.264 | E30: 7525.6348 | F30: 3778.9151 | G30: 3756.8513
A31: De 36 a 44 años | B31: 6184.3516 | C31: 7906.9341 | D31: 13305.215 | E31: 7161.4532 | F31: 3394.0827 | G31: 4336.8841
A32: De 45 a 59 años | B32: 6004.3731 | C32: 8631.2215 | D32: 16409.092 | E32: 6758.0277 | F32: 3782.2895 | G32: 4149.8595
A33: De 60 años y más | B33: 4272.8397 | C33: 7395.3553 | D33: 16097.053 | E33: 5741.3357 | F33: 3235.5054 | G33: 3406.9431
A35: Sexo
A36: Hombre | B36: 5620.8883 | C36: 6389.257 | D36: 12741.961 | E36: 5891.4737 | F36: 4117.2728 | G36: 4438.5245
A37: Mujer | B37: 5181.5648 | C37: 7599.3042 | D37: 12978.601 | E37: 7136.0358 | F37: 3369.8364 | G37: 3017.318
A39: No. de Salarios Mínimos 1/
A40: Menos de un salario | B40: 3192.6926 | C40: 4211.9132 | D40: 6017.5638 | E40: 4197.1613 | F40: 3126.7672 | G40: 2099.6914
A41: Menos de 1 salario y trab <36 horas | B41: 1890.7531 | C41: 2777.9966 | D41: 5156.1054 | E41: 2387.2545 | F41: 2205.7671 | G41: 1486.3207
A42: Menos de 1 salario y trab >=36 horas | B42: 3743.0404 | C42: 4542.1363 | D42: 6653.6317 | E42: 4534.9227 | F42: 3488.8069 | G42: 2540.4907
A43: Menos de 1 salario y no decl. horas | B43: 1010.964 | C43: 1100.0259 | D43: 0 | E43: 584.44319 | F43: 1768.7512 | G43: 510.79891
A44: De 1 a 2 salarios | B44: 11147.876 | C44: 11378.439 | D44: 12949.636 | E44: 10865.56 | F44: 9697.2421 | G44: 10546.98
A45: De 2 a 3 salarios | B45: 19806.993 | C45: 20789.663 | D45: 21238.213 | E45: 20470.865 | F45: 0 | G45: 18379.981
A46: De 3 a 4 salarios | B46: 28400.829 | C46: 30343.242 | D46: 31879.981 | E46: 29664.358 | F46: 0 | G46: 26166.832
A47: De 4 salarios y más | B47: 53210.394 | C47: 55103.735 | D47: 58034.175 | E47: 52468.158 | F47: 0 | G47: 49858.788
A49: Rama de Actividad
A50: Primaria | B50: 2535.3408 | C50: 3079.0517 | D50: 0 | E50: 3079.0517 | F50: 0 | G50: 2040.2533
A51: Secundaria | B51: 6164.8791 | C51: 8008.4593 | D51: 0 | E51: 8008.4593 | F51: 0 | G51: 3653.1932
A52: Terciaria | B52: 6667.2565 | C52: 7939.1559 | D52: 12876.297 | E52: 7327.1847 | F52: 3465.4831 | G52: 4870.5851
A53: No sabe, no responde | B53: 3100 | C53: 3100 | D53: 0 | E53: 3100 | F53: 0 | G53: 0
A55: ='C01'!$A$46 -> Fuente: Instituto Nacional de Estadística (INE). Encuesta Permanente de Hogares de Propósitos Múltiples, LXI 2018.
A56: ='C02'!$A$46 -> (Promedio de salarios mínimos por rama)
A57: 1/ No. de salarios mínimos (personas que declaran ingresos) y trabajan 36 Hrs. o mas
A59: Cuadro No. 5. Ingreso promedio de las personas ocupadas por categoría ocupacional, según dominio,
A60: nivel educativo, rango de edad, sexo, número de salarios mínimos, rama de actividad y ocupación
A61: Ocupación Principal, Lps/Mes/Persona
A62: ....... Continuación
A63: Categorías | B63: Ingreso Promedio
B64: Ingreso Promedio | C64: Asalariados | G64: Cuenta propia
C65: Total | D65: Público | E65: Privado | F65: Doméstico
A67: Total Nacional | B67: =B8 -> 5450.1323 | C67: =C8 -> 6790.1653 | D67: =D8 -> 12876.297 | E67: =E8 -> 6200.8167 | F67: =F8 -> 3465.4831 | G67: =G8 -> 3784.8166
A69: Rama de Actividad (1 Dig.)
A70: Agricultura, ganaderia, silvicultura y pesca | B70: 2522.9539 | C70: 3066.2484 | D70: 0 | E70: 3066.2484 | F70: 0 | G70: 2031.6006
A71: Explotacion de minas y canteras | B71: 4418.163 | C71: 4337.2158 | D71: 0 | E71: 4337.2158 | F71: 0 | G71: 4642.1839
A72: Industria manufacturera | B72: 6164.8791 | C72: 8008.4593 | D72: 0 | E72: 8008.4593 | F72: 0 | G72: 3653.1932
A73: Suministro de electricidad, gas, vapor y aire acondicionado | B73: 13520.4 | C73: 17857.748 | D73: 33700.712 | E73: 9117.8794 | F73: 0 | G73: 276.56956
A74: Suministro de agua, evacuacion de aguas residuales, gestion de desechos y descontaminacion | B74: 5570.0561 | C74: 9958.2056 | D74: 17309.416 | E74: 6885.6293 | F74: 0 | G74: 1567.8364
A75: Construccion | B75: 6040.5747 | C75: 5706.226 | D75: 11513.098 | E75: 5602.945 | F75: 0 | G75: 7252.0761
A76: Comercio al por mayor y al por menor, reparacion de vehiculos automotores y motocicletas | B76: 5615.2831 | C76: 6920.7563 | D76: 10000 | E76: 6916.0517 | F76: 0 | G76: 4765.0602
A77: Transporte y almacenamiento | B77: 7486.6175 | C77: 7277.0347 | D77: 10127.536 | E77: 7127.6488 | F77: 0 | G77: 7626.0525
A78: Actividades de alojamiento y de servicios de comida | B78: 5444.268 | C78: 6240.8234 | D78: 0 | E78: 6240.8234 | F78: 0 | G78: 4727.3154
A79: Informacion y comunicaciones | B79: 8466.3938 | C79: 9138.2136 | D79: 12267.112 | E79: 8732.4209 | F79: 0 | G79: 5543.8857
A80: Actividades finacieras y de seguros | B80: 10369.992 | C80: 10548.368 | D80: 12485.092 | E80: 10485.182 | F80: 0 | G80: 8359.0279
A81: Actividades inmobiliarias | B81: 10678.804 | C81: 8568.8553 | D81: 15000 | E81: 8288.1218 | F81: 0 | G81: 18138.14
... A92: NS/NR | B92: 3100 | C92: 3100 | D92: 0 | E92: 3100 | F92: 0 | G92: 0
A94: Ocupación (1 Dig.)
A95: Directores y gerentes | B95: 13135.559 | C95: 15393.614 | D95: 21221.172 | E95: 13936.04 | F95: 0 | G95: 10562.204
A96: Profesionales cientificos e intelectuales | B96: 15004.307 | C96: 15620.575 | D96: 15620.575 | E96: 0 | F96: 0 | G96: 13191.141
A97: Tecnicos y profesionales de nivel medio | B97: 10377.166 | C97: 10942.866 | D97: 11678.474 | E97: 10516.896 | F97: 0 | G97: 6718.2919
A98: Personal de apoyo administrativo | B98: 10722.881 | C98: 10974.038 | D98: 13381.642 | E98: 10267.48 | F98: 0 | G98: 5806.5463
A99: Trabajadores de los servicios y vendedores de comercios y mercados | B99: 5061.8119 | C99: 6373.103 | D99: 9246.6815 | E99: 6387.1054 | F99: 3471.2738 | G99: 4177.4099
A100: Agricultores y trabajadores calificados agropecuarios forestales y pesqueros | B100: 2192.3562 | C100: 4789.7653 | D100: 0 | E100: 4789.7653 | F100: 0 | G100: 2032.8536
A101: Oficiales, operarios y artesanos de artes mecanicas y de otros oficios | B101: 6604.5189 | C101: 6643.6782 | D101: 10918.593 | E101: 6558.73 | F101: 0 | G101: 3439.6327
A102: Operadores de instalaciones y maquinas y ensambladores | B102: 7569.504 | C102: 7896.4603 | D102: 10634.771 | E102: 7799.8923 | F102: 0 | G102: 7040.1443
A103: Ocupaciones elementales | B103: 3800.5615 | C103: 4085.1511 | D103: 6514.9706 | E103: 4114.6015 | F103: 3464.2694 | G103: 3288.1643
A104: Ocupaciones militares | B104: 25386.077 | C104: 25386.077 | D104: 25386.077 | E104: 0 | F104: 0 | G104: 0
A105: Ocupaciones NO especificadas | B105: 0 | C105: 0 | D105: 0 | E105: 0 | F105: 0 | G105: 0
A106: NS/NR | B106: 0 | C106: 0 | D106: 0 | E106: 0 | F106: 0 | G106: 0
A107: ='C01'!$A$46 -> Fuente: Instituto Nacional de Estadística (INE). Encuesta Permanente de Hogares de Propósitos Múltiples, LXI 2018.
A108: ='C02'!$A$46 -> (Promedio de salarios mínimos por rama)

Sheet C06
A1: Cuadro No. 6. Años de estudio promedio de las personas ocupadas por categoría ocupacional, según dominio, nivel educativo,rangos de edad, sexo, número de salarios mínimos devengados, rama de actividad y ocupación
A2: Ocupación Principal
A3: Categorías | B3: Declaran Ingresos | C3: Asalariados | G3: Cuenta Propia | H3: Trab. Fam. no Remu. | I3: No Declaran.
C4: Total | D4: Público | E4: Privado | F4: Doméstico
A6: Total Nacional | B6: 7.6701799 | C6: 8.5216814 | D6: 12.523348 | E6: 8.0703647 | F6: 6.4639497 | G6: 6.5332742 | H6: #REF! | I6: #REF!
A8: Dominios
A9: Urbano | B9: 8.8643132 | C9: 9.6008091 | D9: 12.777207 | E9: 9.264573 | F9: 6.5461569 | G9: 7.657889 | H9: =AVERAGE(H10:H12) -> #REF! | I9: =AVERAGE(I10:I12) -> #REF!
A10: Distrito Central | B10: 9.7583096 | C10: 10.429139 | D10: 12.408689 | E10: 10.302627 | F10: 6.8525933 | G10: 8.493422 | H10: #REF! | I10: #REF!
A11: San Pedro Sula | B11: 9.4643559 | C11: 9.9662095 | D11: 14.108197 | E11: 9.8755766 | F11: 6.2479339 | G11: 8.4737982 | H11: #REF! | I11: #REF!
A12: Resto urbano | B12: 8.4645694 | C12: 9.2370073 | D12: 12.817892 | E12: 8.7786192 | F12: 6.4745667 | G12: 7.2941323 | H12: #REF! | I12: #REF!
A13: Rural | B13: 5.8346293 | C13: 6.4458964 | D13: 11.489003 | E13: 6.0398443 | F13: 6.2465753 | G13: 5.2326044 | H13: #REF! | I13: #REF!
A15: Nivel Educativo | H15: #REF! | I15: #REF!
A16: Sin Nivel | B16: 0 | C16: 0 | D16: 0 | E16: 0 | F16: 0 | G16: 0 | H16: #REF! | I16: #REF!
A17: Primaria | B17: 4.8763923 | C17: 5.1609467 | D17: 5.3342519 | E17: 5.1581972 | F17: 5.1247264 | G17: 4.6006446 | H17: #REF! | I17: #REF!
A18: Secundaria | B18: 10.544511 | C18: 10.645529 | D18: 11.034741 | E18: 10.611776 | F18: 10.05118 | G18: 10.354578 | H18: #REF! | I18: #REF!
A19: Superior | B19: 15.412882 | C19: 15.327661 | D19: 15.978188 | E19: 14.926691 | F19: 14.25 | G19: 15.74387 | H19: #REF! | I19: #REF!
A20: No sabe, no responde | B20: 6.5544597 | C20: 10.741502 | D20: 12 | E20: 7 | F20: 0 | G20: 2.6055528 | H20: #REF! | I20: #REF!
A22: Rango de Edad | H22: #REF! | I22: #REF!
A23: De 10 a 11 años | B23: 3.7180065 | C23: 3.4273667 | D23: 7 | E23: 3.2289768 | F23: 0 | G23: 4.0389277 | H23: #REF! | I23: #REF!
A24: De 12 a 14 años | B24: 5.7995682 | C24: 5.8607534 | D24: 0 | E24: 5.8106211 | F24: 6.2971645 | G24: 5.5062565 | H24: #REF! | I24: #REF!
A25: De 15 a 18 años | B25: 7.101257 | C25: 7.0440116 | D25: 8.5983899 | E25: 7.0242304 | F25: 7.134003 | G25: 7.3994601 | H25: #REF! | I25: #REF!
A26: De 19 a 24 años | B26: 8.7836749 | C26: 8.9800762 | D26: 11.631841 | E26: 8.8708619 | F26: 7.7872544 | G26: 8.1322672 | H26: #REF! | I26: #REF!
A27: De 25 a 29 años | B27: 9.0867482 | C27: 9.6299751 | D27: 13.697238 | E27: 9.3987312 | F27: 6.5148947 | G27: 7.8871405 | H27: #REF! | I27: #REF!
A28: De 30 a 35 años | B28: 8.231211 | C28: 8.9741188 | D28: 13.204675 | E28: 8.516279 | F28: 6.1610773 | G28: 7.0780418 | H28: #REF! | I28: #REF!
A29: De 36 a 44 años | B29: 7.4300688 | C29: 8.2157568 | D29: 13.124613 | E29: 7.2703399 | F29: 5.9744189 | G29: 6.5703378 | H29: #REF! | I29: #REF!
A30: De 45 a 59 años | B30: 6.9732288 | C30: 8.1903679 | D30: 12.180168 | E30: 7.0377499 | F30: 5.4800785 | G30: 6.1070417 | H30: #REF! | I30: #REF!
A31: De 60 años y más | B31: 5.4585432 | C31: 6.8959836 | D31: 10.151931 | E31: 6.0021366 | F31: 4.7580659 | G31: 5.0346363 | H31: #REF! | I31: #REF!
A33: Sexo | H33: #REF! | I33: #REF!
A34: Hombre | B34: 7.2031925 | C34: 7.6994037 | D34: 11.508468 | E34: 7.3780739 | F34: 5.9849619 | G34: 6.3861119 | H34: #REF! | I34: #REF!
A35: Mujer | B35: 8.3843523 | C35: 10.103225 | D35: 13.280017 | E35: 10.038789 | F35: 6.5237211 | G35: 6.7015601 | H35: #REF! | I35: #REF!
A37: No. de Salarios Mínimos 1/ | H37: #REF! | I37: #REF!
A38: Menos de un salario | B38: 6.8182223 | C38: 7.4281111 | D38: 10.536131 | E38: 7.283913 | F38: 6.434676 | G38: 6.1176181 | H38: =AVERAGE(H39:H41) -> #REF! | I38: =AVERAGE(I39:I41) -> #REF!
A39: Menos de 1 salario y trab <36 horas | B39: 6.8942405 | C39: 8.0727417 | D39: 11.550181 | E39: 7.5039648 | F39: 6.654152 | G39: 6.3105356 | H39: #REF! | I39: #REF!
A40: Menos de 1 salario y trab >=36 horas | B40: 6.794183 | C40: 7.3034082 | D40: 9.77689 | E40: 7.2496782 | F40: 6.4443905 | G40: 5.9831915 | H40: #REF! | I40: #REF!
A41: Menos de 1 salario y no decl. horas | B41: 5.5763591 | C41: 5.4135253 | D41: 0 | E41: 6.1376182 | F41: 4.4743565 | G41: 6.490822 | H41: #REF! | I41: #REF!
A42: De 1 a 2 salarios | B42: 10.206176 | C42: 10.877511 | D42: 13.196839 | E42: 10.113125 | F42: 7.1083649 | G42: 8.3903656 | H42: #REF! | I42: #REF!
A43: De 2 a 3 salarios | B43: 12.626152 | C43: 13.919241 | D43: 15.279283 | E43: 12.952618 | F43: 0 | G43: 10.714247 | H43: #REF! | I43: #REF!
A44: De 3 a 4 salarios | B44: 13.160811 | C44: 15.744137 | D44: 17.259179 | E44: 15.046918 | F44: 0 | G44: 9.9509989 | H44: #REF! | I44: #REF!
A45: De 4 salarios y más | B45: 13.925245 | C45: 16.285329 | D45: 16.366182 | E45: 16.212611 | F45: 0 | G45: 9.5062118 | H45: #REF! | I45: #REF!
A47: Rama de Actividad | H47: #REF! | I47: #REF!
A48: Primaria | B48: 5.1116908 | C48: 5.390347 | D48: 0 | E48: 5.390347 | F48: 0 | G48: 4.8410778 | H48: #REF! | I48: #REF!
A49: Secundaria | B49: 7.945801 | C49: 8.8280632 | D49: 0 | E49: 8.8280632 | F49: 0 | G49: 6.6290722 | H49: #REF! | I49: #REF!
A50: Terciaria | B50: 8.6438899 | C50: 9.4972539 | D50: 12.523348 | E50: 9.0972981 | F50: 6.4639497 | G50: 7.378355 | H50: #REF! | I50: #REF!
A51: No sabe, no responde | B51: 12.5 | C51: 12.5 | D51: 0 | E51: 12.5 | F51: 0 | G51: 0 | H51: #REF! | I51: #REF!
A53: ='C01'!$A$46 -> Fuente: Instituto Nacional de Estadística (INE). Encuesta Permanente de Hogares de Propósitos Múltiples, LXI 2018.
A54: ='C02'!$A$46 -> (Promedio de salarios mínimos por rama)
A55: 1/ No. de salarios mínimos (personas que declaran ingresos) y trabajan 36 Hrs. o mas
A57: Cuadro No. 6. Años de estudio promedio de las personas ocupadas por categoría ocupacional, según dominio, nivel educativo,
A58: rangos de edad, sexo, número de salarios mínimos devengados, rama de actividad y ocupación
A59: Ocupación Principal
A60: ....... Continuación
A61: Categorías | B61: Declaran Ingresos | C61: Asalariados | G61: Cuenta Propia | H61: Trab. Fam. no Remu. | I61: No Declaran.
C62: Total | D62: Público | E62: Privado | F62: Doméstico | I62: Media
A64: Total Nacional | B64: =B6 -> 7.6701799 | C64: =C6 -> 8.5216814 | D64: =D6 -> 12.523348 | E64: =E6 -> 8.0703647 | F64: =F6 -> 6.4639497 | G64: =G6 -> 6.5332742 | H64: =H6 -> #REF! | I64: =I6 -> #REF!
A66: Rama de Actividad (1 Dig.) | H66: #REF! | I66: #REF!
A67: Agricultura, ganaderia, silvicultura y pesca | B67: 5.1065805 | C67: 5.3908593 | D67: 0 | E67: 5.3908593 | F67: 0 | G67: 4.8326122 | H67: #REF! | I67: #REF!
A68: Explotacion de minas y canteras | B68: 5.9562329 | C68: 5.3389804 | D68: 0 | E68: 5.3389804 | F68: 0 | G68: 8.5675145 | H68: #REF! | I68: #REF!
A69: Industria manufacturera | B69: 7.945801 | C69: 8.8280632 | D69: 0 | E69: 8.8280632 | F69: 0 | G69: 6.6290722 | H69: #REF! | I69: #REF!
A70: Suministro de electricidad, gas, vapor y aire acondicionado | B70: 9.7605504 | C70: 10.144974 | D70: 12.7483 | E70: 8.7088324 | F70: 0 | G70: 6.9574899 | H70: #REF! | I70: #REF!
A71: Suministro de agua, evacuacion de aguas residuales, gestion de desechos y descontaminacion | B71: 6.6603812 | C71: 8.0489005 | D71: 7.1209261 | E71: 8.4598769 | F71: 0 | G71: 4.837466 | H71: #REF! | I71: #REF!
A72: Construccion | B72: 6.8060666 | C72: 6.8006142 | D72: 8.6889479 | E72: 6.7645538 | F72: 0 | G72: 6.8259766 | H72: #REF! | I72: #REF!
A73: Comercio al por mayor y al por menor, reparacion de vehiculos automotores y motocicletas | B73: 7.9819207 | C73: 9.3969905 | D73: 6 | E73: 9.3994706 | F73: 0 | G73: 6.9926381 | H73: #REF! | I73: #REF!
A74: Transporte y almacenamiento | B74: 7.2994803 | C74: 7.9584289 | D74: 10.021223 | E74: 7.8707095 | F74: 0 | G74: 6.8527766 | H74: #REF! | I74: #REF!
A75: Actividades de alojamiento y de servicios de comida | B75: 7.8253816 | C75: 8.6803497 | D75: 0 | E75: 8.6803497 | F75: 0 | G75: 7.0038231 | H75: #REF! | I75: #REF!
A76: Informacion y comunicaciones | B76: 11.99754 | C76: 11.749245 | D76: 11.754281 | E76: 11.748592 | F76: 0 | G76: 13.077658 | H76: #REF! | I76: #REF!
A77: Actividades finacieras y de seguros | B77: 12.296026 | C77: 12.691198 | D77: 13.467407 | E77: 12.665874 | F77: 0 | G77: 7.3028736
A78: Actividades inmobiliarias | B78: 11.741485 | C78: 11.086356 | D78: 17 | E78: 10.798858 | F78: 0 | G78: 13.83098
A79: Actividades profesionales, cientificas y tecnicas | B79: 14.101242 | C79: 12.165939 | D79: 0 | E79: 12.165939 | F79: 0 | G79: 15.284973
A80: Actividades de servicios administrativos y de apoyo | B80: 8.4525458 | C80: 8.5697923 | D80: 0 | E80: 8.5697923 | F80: 0 | G80: 7.9615301
A81: Aministracion publica y defensa, planes de seguridad social de afiliacion obligatoria | B81: 11.568234 | C81: 11.568234 | D81: 11.557257 | E81: 12.742735 | F81: 0 | G81: 0
A82: Enseñanza | B82: 14.085817 | C82: 14.058187 | D82: 14.271432 | E82: 13.595122 | F82: 0 | G82: 17
A83: Actividades de atencion de la salud humana y de asistencia social | B83: 11.770195 | C83: 11.635343 | D83: 12.018922 | E83: 11.151076 | F83: 0 | G83: 13.481163
A84: Actividades artisticas, de entretenimiento y recreativas | B84: 9.3593439 | C84: 8.4942558 | D84: 12.853879 | E84: 7.9752343 | F84: 0 | G84: 10.466236
A85: Otras actividades de servicios | B85: 7.477351 | C85: 8.6403963 | D85: 9.657104 | E85: 8.6223527 | F85: 7 | G85: 7.2087341
A86: Actividades de los hogares como empleadores y actividades no diferenciadas de los hogares como productores de bienes y s | B86: 6.4948503 | C86: 6.4885283 | D86: 0 | E86: 7.231554 | F86: 6.4631821 | G86: 8.5
A87: Actividades de organizaciones y organos extraterritoriales | B87: 13.899981 | C87: 13.899981 | D87: 18 | E87: 13.794871 | F87: 0 | G87: 0
A88: Rama de actividad NO especificada | B88: 0 | C88: 0 | D88: 0 | E88: 0 | F88: 0 | G88: 0
A89: NS/NR | B89: 12.5 | C89: 12.5 | D89: 0 | E89: 12.5 | F89: 0 | G89: 0
A91: Ocupación (1 Dig.)
A92: Directores y gerentes | B92: 12.367478 | C92: 14.353578 | D92: 15.622926 | E92: 14.032516 | F92: 0 | G92: 10.076345
A93: Profesionales cientificos e intelectuales | B93: 16.054134 | C93: 16.041714 | D93: 16.041714 | E93: 0 | F93: 0 | G93: 16.090677
A94: Tecnicos y profesionales de nivel medio | B94: 10.993506 | C94: 11.200464 | D94: 11.87891 | E94: 10.806345 | F94: 0 | G94: 9.5559802
A95: Personal de apoyo administrativo | B95: 11.582989 | C95: 11.7118 | D95: 11.909263 | E95: 11.654748 | F95: 0 | G95: 8.9242094
A96: Trabajadores de los servicios y vendedores de comercios y mercados | B96: 7.7114378 | C96: 8.6694113 | D96: 8.5490649 | E96: 8.8699135 | F96: 6.5206634 | G96: 7.0338556
A97: Agricultores y trabajadores calificados agropecuarios forestales y pesqueros | B97: 4.8653611 | C97: 5.6803829 | D97: 0 | E97: 5.6803829 | F97: 0 | G97: 4.8172099
A98: Oficiales, operarios y artesanos de artes mecanicas y de otros oficios | B98: 7.6185802 | C98: 7.6310206 | D98: 8.4103343 | E98: 7.6147835 | F98: 0 | G98: 6.2661369
A99: Operadores de instalaciones y maquinas y ensambladores | B99: 7.6373124 | C99: 8.2623251 | D99: 7.7876648 | E99: 8.2796136 | F99: 0 | G99: 6.5813621
A100: Ocupaciones elementales | B100: 6.4884245 | C100: 6.5655766 | D100: 7.4132157 | E100: 6.5561577 | F100: 6.4512839 | G100: 6.3489326
A101: Ocupaciones militares | B101: 14.348941 | C101: 14.348941 | D101: 14.348941 | E101: 0 | F101: 0 | G101: 0
A102: Ocupaciones NO especificadas | B102: 0 | C102: 0 | D102: 0 | E102: 0 | F102: 0 | G102: 0
A103: NS/NR | B103: 0 | C103: 0 | D103: 0 | E103: 0 | F103: 0 | G103: 0
A105: ='C01'!$A$46 -> Fuente: Instituto Nacional de Estadística (INE). Encuesta Permanente de Hogares de Propósitos Múltiples, LXI 2018.
A106: ='C02'!$A$46 -> (Promedio de salarios mínimos por rama)
