Workbook

Sheet Portada

Sheet C01
A1: Cuadro No. 1. Población en Edad de Trabajar (PET), Población Económicamente Activa (PEA) y Tasa de Participación (TP)
A2: según dominio, quintil del ingreso de hogar, nivel educativo y rango de edad
A4: Categorías | B4: Población en Edad de Trabajar (PET) | H4: Población Económicamente Activa (PEA) | N4: Tasa de Participación (TP)
B5: Total | C5: % 1/ | D5: Hombre | E5: % 1/ | F5: Mujer | G5: % 1/ | H5: Total | I5: % 1/ | J5: Hombre | K5: % 1/ | L5: Mujer | M5: % 1/ | N5: Total | O5: Hombre | P5: Mujer
A7: Total Nacional 2/ | B7: 7179176.5 | C7: =SUM(E7,G7) -> 100 | D7: 3421949.7 | E7: =IF(ISNUMBER(D7/$B$7*100),D7/$B$7*100,0) -> 47.664933 | F7: 3757226.8 | G7: =IF(ISNUMBER(F7/$B$7*100),F7/$B$7*100,0) -> 52.335067 | H7: 4336377.9 | I7: =SUM(K7,M7) -> 100 | J7: 2609240 | K7: =IF(ISNUMBER(J7/$H$7*100),J7/$H$7*100,0) -> 60.170955 | L7: 1727137.9 | M7: =IF(ISNUMBER(L7/$H$7*100),L7/$H$7*100,0) -> 39.829045 | N7: =IF(ISNUMBER(H7/B7*100),H7/B7*100,0) -> 60.402163 | O7: =IF(ISNUMBER(J7/D7*100),J7/D7*100,0) -> 76.250098 | P7: =IF(ISNUMBER(L7/F7*100),L7/F7*100,0) -> 45.968423
A9: Dominio
A10: Urbano | B10: =SUM(B11:B13) -> 4001928.4 | C10: =IF(ISNUMBER(B10/B$7*100),B10/B$7*100,0) -> 55.743558 | D10: =SUM(D11:D13) -> 1827538 | E10: =IF(ISNUMBER(D10/D$7*100),D10/D$7*100,0) -> 53.406337 | F10: =SUM(F11:F13) -> 2174390.5 | G10: =IF(ISNUMBER(F10/F$7*100),F10/F$7*100,0) -> 57.872217 | H10: =SUM(H11:H13) -> 2420935 | I10: =IF(ISNUMBER(H10/H$7*100),H10/H$7*100,0) -> 55.828507 | J10: =SUM(J11:J13) -> 1295345.7 | K10: =IF(ISNUMBER(J10/J$7*100),J10/J$7*100,0) -> 49.644561 | L10: =SUM(L11:L13) -> 1125589.3 | M10: =IF(ISNUMBER(L10/L$7*100),L10/L$7*100,0) -> 65.170782 | N10: =IF(ISNUMBER(H10/B10*100),H10/B10*100,0) -> 60.494211 | O10: =IF(ISNUMBER(J10/D10*100),J10/D10*100,0) -> 70.879279 | P10: =IF(ISNUMBER(L10/F10*100),L10/F10*100,0) -> 51.765739
A11: Distrito Central | B11: 862972.21 | C11: =IF(ISNUMBER(B11/B$7*100),B11/B$7*100,0) -> 12.02049 | D11: 391496.53 | E11: =IF(ISNUMBER(D11/D$7*100),D11/D$7*100,0) -> 11.440745 | F11: 471475.68 | G11: =IF(ISNUMBER(F11/F$7*100),F11/F$7*100,0) -> 12.548502 | H11: 525921.23 | I11: =IF(ISNUMBER(H11/H$7*100),H11/H$7*100,0) -> 12.128123 | J11: 264705.78 | K11: =IF(ISNUMBER(J11/J$7*100),J11/J$7*100,0) -> 10.144938 | L11: 261215.44 | M11: =IF(ISNUMBER(L11/L$7*100),L11/L$7*100,0) -> 15.12418 | N11: =IF(ISNUMBER(H11/B11*100),H11/B11*100,0) -> 60.943009 | O11: =IF(ISNUMBER(J11/D11*100),J11/D11*100,0) -> 67.613826 | P11: =IF(ISNUMBER(L11/F11*100),L11/F11*100,0) -> 55.4038
A12: San Pedro Sula | B12: 492129.87 | C12: =IF(ISNUMBER(B12/B$7*100),B12/B$7*100,0) -> 6.8549628 | D12: 223783.34 | E12: =IF(ISNUMBER(D12/D$7*100),D12/D$7*100,0) -> 6.5396443 | F12: 268346.54 | G12: =IF(ISNUMBER(F12/F$7*100),F12/F$7*100,0) -> 7.1421437 | H12: 297219.16 | I12: =IF(ISNUMBER(H12/H$7*100),H12/H$7*100,0) -> 6.8540881 | J12: 160004.51 | K12: =IF(ISNUMBER(J12/J$7*100),J12/J$7*100,0) -> 6.1322268 | L12: 137214.65 | M12: =IF(ISNUMBER(L12/L$7*100),L12/L$7*100,0) -> 7.9446261 | N12: =IF(ISNUMBER(H12/B12*100),H12/B12*100,0) -> 60.394456 | O12: =IF(ISNUMBER(J12/D12*100),J12/D12*100,0) -> 71.499744 | P12: =IF(ISNUMBER(L12/F12*100),L12/F12*100,0) -> 51.133378
A13: Resto urbano | B13: 2646826.4 | C13: =IF(ISNUMBER(B13/B$7*100),B13/B$7*100,0) -> 36.868105 | D13: 1212258.1 | E13: =IF(ISNUMBER(D13/D$7*100),D13/D$7*100,0) -> 35.425948 | F13: 1434568.2 | G13: =IF(ISNUMBER(F13/F$7*100),F13/F$7*100,0) -> 38.181571 | H13: 1597794.6 | I13: =IF(ISNUMBER(H13/H$7*100),H13/H$7*100,0) -> 36.846296 | J13: 870635.44 | K13: =IF(ISNUMBER(J13/J$7*100),J13/J$7*100,0) -> 33.367396 | L13: 727159.19 | M13: =IF(ISNUMBER(L13/L$7*100),L13/L$7*100,0) -> 42.101976 | N13: =IF(ISNUMBER(H13/B13*100),H13/B13*100,0) -> 60.366432 | O13: =IF(ISNUMBER(J13/D13*100),J13/D13*100,0) -> 71.819312 | P13: =IF(ISNUMBER(L13/F13*100),L13/F13*100,0) -> 50.688366
A14: Rural | B14: 3177248.1 | C14: =IF(ISNUMBER(B14/B$7*100),B14/B$7*100,0) -> 44.256442 | D14: 1594411.7 | E14: =IF(ISNUMBER(D14/D$7*100),D14/D$7*100,0) -> 46.593663 | F14: 1582836.4 | G14: =IF(ISNUMBER(F14/F$7*100),F14/F$7*100,0) -> 42.127783 | H14: 1915442.9 | I14: =IF(ISNUMBER(H14/H$7*100),H14/H$7*100,0) -> 44.171493 | J14: 1313894.2 | K14: =IF(ISNUMBER(J14/J$7*100),J14/J$7*100,0) -> 50.355439 | L14: 601548.62 | M14: =IF(ISNUMBER(L14/L$7*100),L14/L$7*100,0) -> 34.829218 | N14: =IF(ISNUMBER(H14/B14*100),H14/B14*100,0) -> 60.286224 | O14: =IF(ISNUMBER(J14/D14*100),J14/D14*100,0) -> 82.40621 | P14: =IF(ISNUMBER(L14/F14*100),L14/F14*100,0) -> 38.004473
A16: Quintil de Ingreso
A17: Quintil 1 | B17: 1474407.9 | C17: =IF(ISNUMBER(B17/B$7*100),B17/B$7*100,0) -> 20.537285 | D17: 708344.59 | E17: =IF(ISNUMBER(D17/D$7*100),D17/D$7*100,0) -> 20.700029 | F17: 766063.33 | G17: =IF(ISNUMBER(F17/F$7*100),F17/F$7*100,0) -> 20.389063 | H17: 786205.66 | I17: =IF(ISNUMBER(H17/H$7*100),H17/H$7*100,0) -> 18.130469 | J17: 557760.82 | K17: =IF(ISNUMBER(J17/J$7*100),J17/J$7*100,0) -> 21.376371 | L17: 228444.84 | M17: =IF(ISNUMBER(L17/L$7*100),L17/L$7*100,0) -> 13.226786 | N17: =IF(ISNUMBER(H17/B17*100),H17/B17*100,0) -> 53.323483 | O17: =IF(ISNUMBER(J17/D17*100),J17/D17*100,0) -> 78.741452 | P17: =IF(ISNUMBER(L17/F17*100),L17/F17*100,0) -> 29.820621
A18: Quintil 2 | B18: 1467073.7 | C18: =IF(ISNUMBER(B18/B$7*100),B18/B$7*100,0) -> 20.435125 | D18: 709903.42 | E18: =IF(ISNUMBER(D18/D$7*100),D18/D$7*100,0) -> 20.745583 | F18: 757170.24 | G18: =IF(ISNUMBER(F18/F$7*100),F18/F$7*100,0) -> 20.15237 | H18: 860555.1 | I18: =IF(ISNUMBER(H18/H$7*100),H18/H$7*100,0) -> 19.845021 | J18: 547795.9 | K18: =IF(ISNUMBER(J18/J$7*100),J18/J$7*100,0) -> 20.994462 | L18: 312759.2 | M18: =IF(ISNUMBER(L18/L$7*100),L18/L$7*100,0) -> 18.108525 | N18: =IF(ISNUMBER(H18/B18*100),H18/B18*100,0) -> 58.657934 | O18: =IF(ISNUMBER(J18/D18*100),J18/D18*100,0) -> 77.164848 | P18: =IF(ISNUMBER(L18/F18*100),L18/F18*100,0) -> 41.306326
A19: Quintil 3 | B19: 1475050 | C19: =IF(ISNUMBER(B19/B$7*100),B19/B$7*100,0) -> 20.546228 | D19: 706381.48 | E19: =IF(ISNUMBER(D19/D$7*100),D19/D$7*100,0) -> 20.642661 | F19: 768668.47 | G19: =IF(ISNUMBER(F19/F$7*100),F19/F$7*100,0) -> 20.4584 | H19: 891273.69 | I19: =IF(ISNUMBER(H19/H$7*100),H19/H$7*100,0) -> 20.553414 | J19: 523725.94 | K19: =IF(ISNUMBER(J19/J$7*100),J19/J$7*100,0) -> 20.071973 | L19: 367547.75 | M19: =IF(ISNUMBER(L19/L$7*100),L19/L$7*100,0) -> 21.280742 | N19: =IF(ISNUMBER(H19/B19*100),H19/B19*100,0) -> 60.423289 | O19: =IF(ISNUMBER(J19/D19*100),J19/D19*100,0) -> 74.142083 | P19: =IF(ISNUMBER(L19/F19*100),L19/F19*100,0) -> 47.816161
A20: Quintil 4 | B20: 1428096.6 | C20: =IF(ISNUMBER(B20/B$7*100),B20/B$7*100,0) -> 19.892206 | D20: 675475.03 | E20: =IF(ISNUMBER(D20/D$7*100),D20/D$7*100,0) -> 19.739479 | F20: 752621.56 | G20: =IF(ISNUMBER(F20/F$7*100),F20/F$7*100,0) -> 20.031305 | H20: 887692.89 | I20: =IF(ISNUMBER(H20/H$7*100),H20/H$7*100,0) -> 20.470838 | J20: 508941.14 | K20: =IF(ISNUMBER(J20/J$7*100),J20/J$7*100,0) -> 19.50534 | L20: 378751.75 | M20: =IF(ISNUMBER(L20/L$7*100),L20/L$7*100,0) -> 21.929444 | N20: =IF(ISNUMBER(H20/B20*100),H20/B20*100,0) -> 62.159163 | O20: =IF(ISNUMBER(J20/D20*100),J20/D20*100,0) -> 75.345663 | P20: =IF(ISNUMBER(L20/F20*100),L20/F20*100,0) -> 50.324328
A21: Quintil 5 | B21: 1230235.1 | C21: =IF(ISNUMBER(B21/B$7*100),B21/B$7*100,0) -> 17.136159 | D21: 571524.37 | E21: =IF(ISNUMBER(D21/D$7*100),D21/D$7*100,0) -> 16.701718 | F21: 658710.73 | G21: =IF(ISNUMBER(F21/F$7*100),F21/F$7*100,0) -> 17.531833 | H21: 854707.12 | I21: =IF(ISNUMBER(H21/H$7*100),H21/H$7*100,0) -> 19.710162 | J21: 437473.99 | K21: =IF(ISNUMBER(J21/J$7*100),J21/J$7*100,0) -> 16.766338 | L21: 417233.13 | M21: =IF(ISNUMBER(L21/L$7*100),L21/L$7*100,0) -> 24.157488 | N21: =IF(ISNUMBER(H21/B21*100),H21/B21*100,0) -> 69.475104 | O21: =IF(ISNUMBER(J21/D21*100),J21/D21*100,0) -> 76.545116 | P21: =IF(ISNUMBER(L21/F21*100),L21/F21*100,0) -> 63.340873
A22: No Declaran Ingresos | B22: 104313.26 | C22: =IF(ISNUMBER(B22/B$7*100),B22/B$7*100,0) -> 1.4529975 | D22: 50320.786 | E22: =IF(ISNUMBER(D22/D$7*100),D22/D$7*100,0) -> 1.4705297 | F22: 53992.472 | G22: =IF(ISNUMBER(F22/F$7*100),F22/F$7*100,0) -> 1.4370299 | H22: 55943.434 | I22: =IF(ISNUMBER(H22/H$7*100),H22/H$7*100,0) -> 1.2900959 | J22: 33542.197 | K22: =IF(ISNUMBER(J22/J$7*100),J22/J$7*100,0) -> 1.285516 | L22: 22401.236 | M22: =IF(ISNUMBER(L22/L$7*100),L22/L$7*100,0) -> 1.2970149 | N22: =IF(ISNUMBER(H22/B22*100),H22/B22*100,0) -> 53.630224 | O22: =IF(ISNUMBER(J22/D22*100),J22/D22*100,0) -> 66.656743 | P22: =IF(ISNUMBER(L22/F22*100),L22/F22*100,0) -> 41.489555
A24: Nivel Educativo
A25: Sin Nivel | B25: 686250 | C25: =IF(ISNUMBER(B25/B$7*100),B25/B$7*100,0) -> 9.5588958 | D25: 323277 | E25: =IF(ISNUMBER(D25/D$7*100),D25/D$7*100,0) -> 9.4471582 | F25: 362973 | G25: =IF(ISNUMBER(F25/F$7*100),F25/F$7*100,0) -> 9.6606624 | H25: 379923 | I25: =IF(ISNUMBER(H25/H$7*100),H25/H$7*100,0) -> 8.7612982 | J25: 252613.92 | K25: =IF(ISNUMBER(J25/J$7*100),J25/J$7*100,0) -> 9.6815133 | L25: 127309.08 | M25: =IF(ISNUMBER(L25/L$7*100),L25/L$7*100,0) -> 7.3711011 | N25: =IF(ISNUMBER(H25/B25*100),H25/B25*100,0) -> 55.362186 | O25: =IF(ISNUMBER(J25/D25*100),J25/D25*100,0) -> 78.14163 | P25: =IF(ISNUMBER(L25/F25*100),L25/F25*100,0) -> 35.073981
A26: Primaria | B26: 4054508.3 | C26: =IF(ISNUMBER(B26/B$7*100),B26/B$7*100,0) -> 56.475952 | D26: 1999142.2 | E26: =IF(ISNUMBER(D26/D$7*100),D26/D$7*100,0) -> 58.421145 | F26: 2055366.1 | G26: =IF(ISNUMBER(F26/F$7*100),F26/F$7*100,0) -> 54.704339 | H26: 2331647.8 | I26: =IF(ISNUMBER(H26/H$7*100),H26/H$7*100,0) -> 53.769479 | J26: 1516090.7 | K26: =IF(ISNUMBER(J26/J$7*100),J26/J$7*100,0) -> 58.104688 | L26: 815557.06 | M26: =IF(ISNUMBER(L26/L$7*100),L26/L$7*100,0) -> 47.220147 | N26: =IF(ISNUMBER(H26/B26*100),H26/B26*100,0) -> 57.507536 | O26: =IF(ISNUMBER(J26/D26*100),J26/D26*100,0) -> 75.837064 | P26: =IF(ISNUMBER(L26/F26*100),L26/F26*100,0) -> 39.679407
A27: Secundaria | B27: 1809218.9 | C27: =IF(ISNUMBER(B27/B$7*100),B27/B$7*100,0) -> 25.200926 | D27: 822974.9 | E27: =IF(ISNUMBER(D27/D$7*100),D27/D$7*100,0) -> 24.049883 | F27: 986244.03 | G27: =IF(ISNUMBER(F27/F$7*100),F27/F$7*100,0) -> 26.249255 | H27: 1157709.3 | I27: =IF(ISNUMBER(H27/H$7*100),H27/H$7*100,0) -> 26.69761 | J27: 621216.7 | K27: =IF(ISNUMBER(J27/J$7*100),J27/J$7*100,0) -> 23.808339 | L27: 536492.56 | M27: =IF(ISNUMBER(L27/L$7*100),L27/L$7*100,0) -> 31.06252 | N27: =IF(ISNUMBER(H27/B27*100),H27/B27*100,0) -> 63.989451 | O27: =IF(ISNUMBER(J27/D27*100),J27/D27*100,0) -> 75.484282 | P27: =IF(ISNUMBER(L27/F27*100),L27/F27*100,0) -> 54.397548
A28: Superior | B28: 603296.62 | C28: =IF(ISNUMBER(B28/B$7*100),B28/B$7*100,0) -> 8.4034238 | D28: 261235.76 | E28: =IF(ISNUMBER(D28/D$7*100),D28/D$7*100,0) -> 7.6341205 | F28: 342060.86 | G28: =IF(ISNUMBER(F28/F$7*100),F28/F$7*100,0) -> 9.1040781 | H28: 446244.5 | I28: =IF(ISNUMBER(H28/H$7*100),H28/H$7*100,0) -> 10.29072 | J28: 204760.02 | K28: =IF(ISNUMBER(J28/J$7*100),J28/J$7*100,0) -> 7.8474968 | L28: 241484.48 | M28: =IF(ISNUMBER(L28/L$7*100),L28/L$7*100,0) -> 13.981772 | N28: =IF(ISNUMBER(H28/B28*100),H28/B28*100,0) -> 73.967678 | O28: =IF(ISNUMBER(J28/D28*100),J28/D28*100,0) -> 78.381315 | P28: =IF(ISNUMBER(L28/F28*100),L28/F28*100,0) -> 70.596934
A29: No sabe, no responde | B29: 25902.686 | C29: =IF(ISNUMBER(B29/B$7*100),B29/B$7*100,0) -> 0.36080302 | D29: 15319.841 | E29: =IF(ISNUMBER(D29/D$7*100),D29/D$7*100,0) -> 0.44769333 | F29: 10582.845 | G29: =IF(ISNUMBER(F29/F$7*100),F29/F$7*100,0) -> 0.28166639 | H29: 20853.327 | I29: =IF(ISNUMBER(H29/H$7*100),H29/H$7*100,0) -> 0.48089275 | J29: 14558.608 | K29: =IF(ISNUMBER(J29/J$7*100),J29/J$7*100,0) -> 0.55796353 | L29: 6294.7192 | M29: =IF(ISNUMBER(L29/L$7*100),L29/L$7*100,0) -> 0.36445956 | N29: =IF(ISNUMBER(H29/B29*100),H29/B29*100,0) -> 80.506427 | O29: =IF(ISNUMBER(J29/D29*100),J29/D29*100,0) -> 95.031064 | P29: =IF(ISNUMBER(L29/F29*100),L29/F29*100,0) -> 59.480406
A31: Rango de edad
A32: De 10 a 11 años | B32: 379504.04 | C32: =IF(ISNUMBER(B32/B$7*100),B32/B$7*100,0) -> 5.2861779 | D32: 193667.84 | E32: =IF(ISNUMBER(D32/D$7*100),D32/D$7*100,0) -> 5.6595758 | F32: 185836.2 | G32: =IF(ISNUMBER(F32/F$7*100),F32/F$7*100,0) -> 4.9461002 | H32: 36346.29 | I32: =IF(ISNUMBER(H32/H$7*100),H32/H$7*100,0) -> 0.83817166 | J32: 25012.063 | K32: =IF(ISNUMBER(J32/J$7*100),J32/J$7*100,0) -> 0.95859574 | L32: 11334.227 | M32: =IF(ISNUMBER(L32/L$7*100),L32/L$7*100,0) -> 0.65624332 | N32: =IF(ISNUMBER(H32/B32*100),H32/B32*100,0) -> 9.5773132 | O32: =IF(ISNUMBER(J32/D32*100),J32/D32*100,0) -> 12.914929 | P32: =IF(ISNUMBER(L32/F32*100),L32/F32*100,0) -> 6.0990415
A33: De 12 a 14 años | B33: 553253.48 | C33: =IF(ISNUMBER(B33/B$7*100),B33/B$7*100,0) -> 7.7063641 | D33: 282684.9 | E33: =IF(ISNUMBER(D33/D$7*100),D33/D$7*100,0) -> 8.2609309 | F33: 270568.58 | G33: =IF(ISNUMBER(F33/F$7*100),F33/F$7*100,0) -> 7.2012842 | H33: 138674.61 | I33: =IF(ISNUMBER(H33/H$7*100),H33/H$7*100,0) -> 3.1979365 | J33: 104019.75 | K33: =IF(ISNUMBER(J33/J$7*100),J33/J$7*100,0) -> 3.9865919 | L33: 34654.86 | M33: =IF(ISNUMBER(L33/L$7*100),L33/L$7*100,0) -> 2.0064906 | N33: =IF(ISNUMBER(H33/B33*100),H33/B33*100,0) -> 25.065294 | O33: =IF(ISNUMBER(J33/D33*100),J33/D33*100,0) -> 36.797066 | P33: =IF(ISNUMBER(L33/F33*100),L33/F33*100,0) -> 12.808161
A34: De 15 a 18 años | B34: 805951.01 | C34: =IF(ISNUMBER(B34/B$7*100),B34/B$7*100,0) -> 11.226232 | D34: 414873.42 | E34: =IF(ISNUMBER(D34/D$7*100),D34/D$7*100,0) -> 12.12389 | F34: 391077.58 | G34: =IF(ISNUMBER(F34/F$7*100),F34/F$7*100,0) -> 10.408676 | H34: 342390.76 | I34: =IF(ISNUMBER(H34/H$7*100),H34/H$7*100,0) -> 7.8957778 | J34: 238663.83 | K34: =IF(ISNUMBER(J34/J$7*100),J34/J$7*100,0) -> 9.1468717 | L34: 103726.93 | M34: =IF(ISNUMBER(L34/L$7*100),L34/L$7*100,0) -> 6.0057121 | N34: =IF(ISNUMBER(H34/B34*100),H34/B34*100,0) -> 42.482826 | O34: =IF(ISNUMBER(J34/D34*100),J34/D34*100,0) -> 57.526903 | P34: =IF(ISNUMBER(L34/F34*100),L34/F34*100,0) -> 26.523364
A35: De 19 a 24 años | B35: 1062571.3 | C35: =IF(ISNUMBER(B35/B$7*100),B35/B$7*100,0) -> 14.800741 | D35: 532270.48 | E35: =IF(ISNUMBER(D35/D$7*100),D35/D$7*100,0) -> 15.554597 | F35: 530300.82 | G35: =IF(ISNUMBER(F35/F$7*100),F35/F$7*100,0) -> 14.114155 | H35: 736913.44 | I35: =IF(ISNUMBER(H35/H$7*100),H35/H$7*100,0) -> 16.993755 | J35: 464202.13 | K35: =IF(ISNUMBER(J35/J$7*100),J35/J$7*100,0) -> 17.790703 | L35: 272711.3 | M35: =IF(ISNUMBER(L35/L$7*100),L35/L$7*100,0) -> 15.789782 | N35: =IF(ISNUMBER(H35/B35*100),H35/B35*100,0) -> 69.351905 | O35: =IF(ISNUMBER(J35/D35*100),J35/D35*100,0) -> 87.2117 | P35: =IF(ISNUMBER(L35/F35*100),L35/F35*100,0) -> 51.425774
A36: De 25 a 29 años | B36: 677083.45 | C36: =IF(ISNUMBER(B36/B$7*100),B36/B$7*100,0) -> 9.4312134 | D36: 318377.04 | E36: =IF(ISNUMBER(D36/D$7*100),D36/D$7*100,0) -> 9.3039663 | F36: 358706.41 | G36: =IF(ISNUMBER(F36/F$7*100),F36/F$7*100,0) -> 9.5471056 | H36: 519877.74 | I36: =IF(ISNUMBER(H36/H$7*100),H36/H$7*100,0) -> 11.988755 | J36: 304185.33 | K36: =IF(ISNUMBER(J36/J$7*100),J36/J$7*100,0) -> 11.658005 | L36: 215692.41 | M36: =IF(ISNUMBER(L36/L$7*100),L36/L$7*100,0) -> 12.48843 | N36: =IF(ISNUMBER(H36/B36*100),H36/B36*100,0) -> 76.78193 | O36: =IF(ISNUMBER(J36/D36*100),J36/D36*100,0) -> 95.542482 | P36: =IF(ISNUMBER(L36/F36*100),L36/F36*100,0) -> 60.130626
A37: De 30 a 34 años | B37: 602130.74 | C37: =IF(ISNUMBER(B37/B$7*100),B37/B$7*100,0) -> 8.387184 | D37: 275727.02 | E37: =IF(ISNUMBER(D37/D$7*100),D37/D$7*100,0) -> 8.0576 | F37: 326403.72 | G37: =IF(ISNUMBER(F37/F$7*100),F37/F$7*100,0) -> 8.6873575 | H37: 468795.74 | I37: =IF(ISNUMBER(H37/H$7*100),H37/H$7*100,0) -> 10.810768 | J37: 264875.67 | K37: =IF(ISNUMBER(J37/J$7*100),J37/J$7*100,0) -> 10.151449 | L37: 203920.07 | M37: =IF(ISNUMBER(L37/L$7*100),L37/L$7*100,0) -> 11.80682 | N37: =IF(ISNUMBER(H37/B37*100),H37/B37*100,0) -> 77.856138 | O37: =IF(ISNUMBER(J37/D37*100),J37/D37*100,0) -> 96.064461 | P37: =IF(ISNUMBER(L37/F37*100),L37/F37*100,0) -> 62.474799
A38: De 35 a 39 años | B38: 530555.69 | C38: =IF(ISNUMBER(B38/B$7*100),B38/B$7*100,0) -> 7.3902026 | D38: 233962.47 | E38: =IF(ISNUMBER(D38/D$7*100),D38/D$7*100,0) -> 6.8371101 | F38: 296593.22 | G38: =IF(ISNUMBER(F38/F$7*100),F38/F$7*100,0) -> 7.8939397 | H38: 411808.47 | I38: =IF(ISNUMBER(H38/H$7*100),H38/H$7*100,0) -> 9.4966003 | J38: 222585.93 | K38: =IF(ISNUMBER(J38/J$7*100),J38/J$7*100,0) -> 8.5306806 | L38: 189222.55 | M38: =IF(ISNUMBER(L38/L$7*100),L38/L$7*100,0) -> 10.955845 | N38: =IF(ISNUMBER(H38/B38*100),H38/B38*100,0) -> 77.618332 | O38: =IF(ISNUMBER(J38/D38*100),J38/D38*100,0) -> 95.137451 | P38: =IF(ISNUMBER(L38/F38*100),L38/F38*100,0) -> 63.798676
A39: De 40 a 44 años | B39: 499006.87 | C39: =IF(ISNUMBER(B39/B$7*100),B39/B$7*100,0) -> 6.9507537 | D39: 223024.14 | E39: =IF(ISNUMBER(D39/D$7*100),D39/D$7*100,0) -> 6.5174581 | F39: 275982.74 | G39: =IF(ISNUMBER(F39/F$7*100),F39/F$7*100,0) -> 7.345384 | H39: 387484.58 | I39: =IF(ISNUMBER(H39/H$7*100),H39/H$7*100,0) -> 8.9356738 | J39: 214724.82 | K39: =IF(ISNUMBER(J39/J$7*100),J39/J$7*100,0) -> 8.2294008 | L39: 172759.77 | M39: =IF(ISNUMBER(L39/L$7*100),L39/L$7*100,0) -> 10.002662 | N39: =IF(ISNUMBER(H39/B39*100),H39/B39*100,0) -> 77.651152 | O39: =IF(ISNUMBER(J39/D39*100),J39/D39*100,0) -> 96.278734 | P39: =IF(ISNUMBER(L39/F39*100),L39/F39*100,0) -> 62.598035
A40: De 45 a 49 años | B40: 418959.14 | C40: =IF(ISNUMBER(B40/B$7*100),B40/B$7*100,0) -> 5.8357548 | D40: 195387.56 | E40: =IF(ISNUMBER(D40/D$7*100),D40/D$7*100,0) -> 5.7098314 | F40: 223571.58 | G40: =IF(ISNUMBER(F40/F$7*100),F40/F$7*100,0) -> 5.9504414 | H40: 324671.89 | I40: =IF(ISNUMBER(H40/H$7*100),H40/H$7*100,0) -> 7.4871678 | J40: 187803.42 | K40: =IF(ISNUMBER(J40/J$7*100),J40/J$7*100,0) -> 7.1976292 | L40: 136868.47 | M40: =IF(ISNUMBER(L40/L$7*100),L40/L$7*100,0) -> 7.9245827 | N40: =IF(ISNUMBER(H40/B40*100),H40/B40*100,0) -> 77.494882 | O40: =IF(ISNUMBER(J40/D40*100),J40/D40*100,0) -> 96.118412 | P40: =IF(ISNUMBER(L40/F40*100),L40/F40*100,0) -> 61.219084
A41: De 50 a 54 años | B41: 380967.34 | C41: =IF(ISNUMBER(B41/B$7*100),B41/B$7*100,0) -> 5.3065604 | D41: 172428.04 | E41: =IF(ISNUMBER(D41/D$7*100),D41/D$7*100,0) -> 5.0388829 | F41: 208539.3 | G41: =IF(ISNUMBER(F41/F$7*100),F41/F$7*100,0) -> 5.5503517 | H41: 282224.45 | I41: =IF(ISNUMBER(H41/H$7*100),H41/H$7*100,0) -> 6.5082992 | J41: 162163.69 | K41: =IF(ISNUMBER(J41/J$7*100),J41/J$7*100,0) -> 6.2149779 | L41: 120060.76 | M41: =IF(ISNUMBER(L41/L$7*100),L41/L$7*100,0) -> 6.9514286 | N41: =IF(ISNUMBER(H41/B41*100),H41/B41*100,0) -> 74.081009 | O41: =IF(ISNUMBER(J41/D41*100),J41/D41*100,0) -> 94.047169 | P41: =IF(ISNUMBER(L41/F41*100),L41/F41*100,0) -> 57.572246
A42: De 55 a 59 años | B42: 320798.96 | C42: =IF(ISNUMBER(B42/B$7*100),B42/B$7*100,0) -> 4.4684646 | D42: 147284.58 | E42: =IF(ISNUMBER(D42/D$7*100),D42/D$7*100,0) -> 4.3041129 | F42: 173514.38 | G42: =IF(ISNUMBER(F42/F$7*100),F42/F$7*100,0) -> 4.6181504 | H42: 232261.13 | I42: =IF(ISNUMBER(H42/H$7*100),H42/H$7*100,0) -> 5.356109 | J42: 135975.4 | K42: =IF(ISNUMBER(J42/J$7*100),J42/J$7*100,0) -> 5.2113028 | L42: 96285.728 | M42: =IF(ISNUMBER(L42/L$7*100),L42/L$7*100,0) -> 5.5748721 | N42: =IF(ISNUMBER(H42/B42*100),H42/B42*100,0) -> 72.400835 | O42: =IF(ISNUMBER(J42/D42*100),J42/D42*100,0) -> 92.321545 | P42: =IF(ISNUMBER(L42/F42*100),L42/F42*100,0) -> 55.491496
A43: De 60 a 64 años | B43: 284352.86 | C43: =IF(ISNUMBER(B43/B$7*100),B43/B$7*100,0) -> 3.9608005 | D43: 133307.29 | E43: =IF(ISNUMBER(D43/D$7*100),D43/D$7*100,0) -> 3.8956531 | F43: 151045.57 | G43: =IF(ISNUMBER(F43/F$7*100),F43/F$7*100,0) -> 4.0201345 | H43: 179714.75 | I43: =IF(ISNUMBER(H43/H$7*100),H43/H$7*100,0) -> 4.1443517 | J43: 110860.6 | K43: =IF(ISNUMBER(J43/J$7*100),J43/J$7*100,0) -> 4.2487697 | L43: 68854.151 | M43: =IF(ISNUMBER(L43/L$7*100),L43/L$7*100,0) -> 3.9866041 | N43: =IF(ISNUMBER(H43/B43*100),H43/B43*100,0) -> 63.201316 | O43: =IF(ISNUMBER(J43/D43*100),J43/D43*100,0) -> 83.161692 | P43: =IF(ISNUMBER(L43/F43*100),L43/F43*100,0) -> 45.585018
A44: De 65 años y más | B44: 664041.61 | C44: =IF(ISNUMBER(B44/B$7*100),B44/B$7*100,0) -> 9.2495513 | D44: 298954.91 | E44: =IF(ISNUMBER(D44/D$7*100),D44/D$7*100,0) -> 8.7363913 | F44: 365086.7 | G44: =IF(ISNUMBER(F44/F$7*100),F44/F$7*100,0) -> 9.7169193 | H44: 275214.04 | I44: =IF(ISNUMBER(H44/H$7*100),H44/H$7*100,0) -> 6.3466341 | J44: 174167.35 | K44: =IF(ISNUMBER(J44/J$7*100),J44/J$7*100,0) -> 6.6750224 | L44: 101046.68 | M44: =IF(ISNUMBER(L44/L$7*100),L44/L$7*100,0) -> 5.8505278 | N44: =IF(ISNUMBER(H44/B44*100),H44/B44*100,0) -> 41.4453 | O44: =IF(ISNUMBER(J44/D44*100),J44/D44*100,0) -> 58.258736 | P44: =IF(ISNUMBER(L44/F44*100),L44/F44*100,0) -> 27.677449
A46: Fuente: Instituto Nacional de Estadística (INE). Encuesta Permanente de Hogares de Propósitos Múltiples, LXI 2018.
A47: 1/ Porcentaje por columnas
...

Sheet C02
A1: Cuadro No. 2. Tasa de Desempleo Abierto (TDA), Población en Edad de Trabajar (PET) y Población Económicamente Activa (PEA),
A2: según dominio, nivel educativo, rango de edad, sexo, rama de actividad y ocupación
A3: Categorías | B3: Población Total | E3: Población en Edad de Trabajar (PET) | H3: Población Económicamente Activa (PEA) | Q3: TDA | R3: MBT
H4: Total | K4: Ocupados | N4: Desocupados
B5: No. | C5: % 1/ | D5: AEP | E5: No. | F5: % 1/ | G5: AEP | H5: No. | I5: % 1/ | J5: AEP | K5: No. | L5: % 1/ | M5: AEP | N5: No. | O5: % 1/ | P5: AEP
A7: Total Nacional | B7: 9023838 | C7: =SUM(C10,C14) -> 100 | D7: 6.7716598 | E7: 7179176.5 | F7: =SUM(F10,F14) -> 100 | G7: 7.3740185 | H7: 4336377.9 | I7: =SUM(I10,I14) -> 100 | J7: 7.7901755 | K7: 4090651.4 | L7: =SUM(L10,L14) -> 100 | M7: 7.680421 | N7: 245726.5 | O7: =SUM(O10,O14) -> 100 | P7: 9.4894605 | Q7: =IF(ISNUMBER(N7/H7*100),N7/H7*100,0) -> 5.6666301 | R7: 3.2704987
A9: Dominio
A10: Urbano | B10: =SUM(B11:B13) -> 4926042 | C10: =IF(ISNUMBER(B10/B$7*100),B10/B$7*100,0) -> 54.589211 | D10: 7.8795903 | E10: =SUM(E11:E13) -> 4001928.4 | F10: =IF(ISNUMBER(E10/E$7*100),E10/E$7*100,0) -> 55.743558 | G10: 8.5082097 | H10: =SUM(H11:H13) -> 2420935 | I10: =IF(ISNUMBER(H10/H$7*100),H10/H$7*100,0) -> 55.828507 | J10: 9.1124341 | K10: =SUM(K11:K13) -> 2227420.7 | L10: =IF(ISNUMBER(K10/K$7*100),K10/K$7*100,0) -> 54.451492 | M10: 9.0330191 | N10: =SUM(N11:N13) -> 193514.29 | O10: =IF(ISNUMBER(N10/N$7*100),N10/N$7*100,0) -> 78.751903 | P10: 9.9887285 | Q10: =IF(ISNUMBER(N10/H10*100),N10/H10*100,0) -> 7.99337 | R10: 3.6025578
A11: Distrito Central | B11: 1029780.5 | C11: =IF(ISNUMBER(B11/B$7*100),B11/B$7*100,0) -> 11.41178 | D11: 9.1233781 | E11: 862972.21 | F11: =IF(ISNUMBER(E11/E$7*100),E11/E$7*100,0) -> 12.02049 | G11: 9.6896153 | H11: 525921.23 | I11: =IF(ISNUMBER(H11/H$7*100),H11/H$7*100,0) -> 12.128123 | J11: 10.278923 | K11: 476944.5 | L11: =IF(ISNUMBER(K11/K$7*100),K11/K$7*100,0) -> 11.659378 | M11: 10.175208 | N11: 48976.729 | O11: =IF(ISNUMBER(N11/N$7*100),N11/N$7*100,0) -> 19.931399 | P11: 11.270281 | Q11: =IF(ISNUMBER(N11/H11*100),N11/H11*100,0) -> 9.3125599 | R11: 4.5723692
A12: San Pedro Sula | B12: 602816.47 | C12: =IF(ISNUMBER(B12/B$7*100),B12/B$7*100,0) -> 6.680267 | D12: 8.3344113 | E12: 492129.87 | F12: =IF(ISNUMBER(E12/E$7*100),E12/E$7*100,0) -> 6.8549628 | G12: 8.9812303 | H12: 297219.16 | I12: =IF(ISNUMBER(H12/H$7*100),H12/H$7*100,0) -> 6.8540881 | J12: 9.7624067 | K12: 274052.2 | L12: =IF(ISNUMBER(K12/K$7*100),K12/K$7*100,0) -> 6.6994758 | M12: 9.7343094 | N12: 23166.961 | O12: =IF(ISNUMBER(N12/N$7*100),N12/N$7*100,0) -> 9.427946 | P12: 10.096112 | Q12: =IF(ISNUMBER(N12/H12*100),N12/H12*100,0) -> 7.7945719 | R12: 2.8243499
A13: Resto urbano | B13: 3293445 | C13: =IF(ISNUMBER(B13/B$7*100),B13/B$7*100,0) -> 36.497165 | D13: 7.3868176 | E13: 2646826.4 | F13: =IF(ISNUMBER(E13/E$7*100),E13/E$7*100,0) -> 36.868105 | G13: 8.020674 | H13: 1597794.6 | I13: =IF(ISNUMBER(H13/H$7*100),H13/H$7*100,0) -> 36.846296 | J13: 8.5935527 | K13: 1476424 | L13: =IF(ISNUMBER(K13/K$7*100),K13/K$7*100,0) -> 36.092639 | M13: 8.5181762 | N13: 121370.6 | O13: =IF(ISNUMBER(N13/N$7*100),N13/N$7*100,0) -> 49.392558 | P13: 9.4578151 | Q13: =IF(ISNUMBER(N13/H13*100),N13/H13*100,0) -> 7.5961328 | R13: 3.359752
A14: Rural | B14: 4097796 | C14: =IF(ISNUMBER(B14/B$7*100),B14/B$7*100,0) -> 45.410789 | D14: 5.2932991 | E14: 3177248.1 | F14: =IF(ISNUMBER(E14/E$7*100),E14/E$7*100,0) -> 44.256442 | G14: 5.8112988 | H14: 1915442.9 | I14: =IF(ISNUMBER(H14/H$7*100),H14/H$7*100,0) -> 44.171493 | J14: 5.9554826 | K14: 1863230.7 | L14: =IF(ISNUMBER(K14/K$7*100),K14/K$7*100,0) -> 45.548508 | M14: 5.9071771 | N14: 52212.204 | O14: =IF(ISNUMBER(N14/N$7*100),N14/N$7*100,0) -> 21.248097 | P14: 7.5416667 | Q14: =IF(ISNUMBER(N14/H14*100),N14/H14*100,0) -> 2.7258554 | R14: 2.0397868
A16: Nivel educativo 2/
A17: Sin Nivel | B17: 1807915.8 | C17: =IF(ISNUMBER(B17/B$7*100),B17/B$7*100,0) -> 20.034888 | D17: -3 | E17: 686250 | F17: =IF(ISNUMBER(E17/E$7*100),E17/E$7*100,0) -> 9.5588958 | G17: 0 | H17: 379923 | I17: =IF(ISNUMBER(H17/H$7*100),H17/H$7*100,0) -> 8.7612982 | J17: 0 | K17: 373555.17 | L17: =IF(ISNUMBER(K17/K$7*100),K17/K$7*100,0) -> 9.1319237 | M17: 0 | N17: 6367.8311 | O17: =IF(ISNUMBER(N17/N$7*100),N17/N$7*100,0) -> 2.5914304 | P17: 0 | Q17: =IF(ISNUMBER(N17/H17*100),N17/H17*100,0) -> 1.6760847 | R17: 1.1513272
A18: Primaria | B18: 4777340 | C18: =IF(ISNUMBER(B18/B$7*100),B18/B$7*100,0) -> 52.941332 | D18: 4.39778 | E18: 4054508.3 | F18: =IF(ISNUMBER(E18/E$7*100),E18/E$7*100,0) -> 56.475952 | G18: 4.9354634 | H18: 2331647.8 | I18: =IF(ISNUMBER(H18/H$7*100),H18/H$7*100,0) -> 53.769479 | J18: 4.9669165 | K18: 2244815.6 | L18: =IF(ISNUMBER(K18/K$7*100),K18/K$7*100,0) -> 54.876728 | M18: 4.9490022 | N18: 86832.183 | O18: =IF(ISNUMBER(N18/N$7*100),N18/N$7*100,0) -> 35.336923 | P18: 5.4300447 | Q18: =IF(ISNUMBER(N18/H18*100),N18/H18*100,0) -> 3.7240694 | R18: 2.333643
A19: Secundaria | B19: 1809382.9 | C19: =IF(ISNUMBER(B19/B$7*100),B19/B$7*100,0) -> 20.051145 | D19: 10.258305 | E19: 1809218.9 | F19: =IF(ISNUMBER(E19/E$7*100),E19/E$7*100,0) -> 25.200926 | G19: 10.25851 | H19: 1157709.3 | I19: =IF(ISNUMBER(H19/H$7*100),H19/H$7*100,0) -> 26.69761 | J19: 10.545748 | K19: 1044987.4 | L19: =IF(ISNUMBER(K19/K$7*100),K19/K$7*100,0) -> 25.545746 | M19: 10.527246 | N19: 112721.83 | O19: =IF(ISNUMBER(N19/N$7*100),N19/N$7*100,0) -> 45.872884 | P19: 10.71727 | Q19: =IF(ISNUMBER(N19/H19*100),N19/H19*100,0) -> 9.7366268 | R19: 3.3644533
A20: Superior | B20: 603296.62 | C20: =IF(ISNUMBER(B20/B$7*100),B20/B$7*100,0) -> 6.6855879 | D20: 15.120282 | E20: 603296.62 | F20: =IF(ISNUMBER(E20/E$7*100),E20/E$7*100,0) -> 8.4034238 | G20: 15.120282 | H20: 446244.5 | I20: =IF(ISNUMBER(H20/H$7*100),H20/H$7*100,0) -> 10.29072 | J20: 15.407019 | K20: 407705.71 | L20: =IF(ISNUMBER(K20/K$7*100),K20/K$7*100,0) -> 9.9667673 | M20: 15.440182 | N20: 38538.798 | O20: =IF(ISNUMBER(N20/N$7*100),N20/N$7*100,0) -> 15.683615 | P20: 15.056188 | Q20: =IF(ISNUMBER(N20/H20*100),N20/H20*100,0) -> 8.6362516 | R20: 5.5498832
A21: No sabe, no responde | B21: 25902.686 | C21: =IF(ISNUMBER(B21/B$7*100),B21/B$7*100,0) -> 0.28704733 | D21: 6.11581 | E21: 25902.686 | F21: =IF(ISNUMBER(E21/E$7*100),E21/E$7*100,0) -> 0.36080302 | G21: 6.11581 | H21: 20853.327 | I21: =IF(ISNUMBER(H21/H$7*100),H21/H$7*100,0) -> 0.48089275 | J21: 6.1679644 | K21: 19587.472 | L21: =IF(ISNUMBER(K21/K$7*100),K21/K$7*100,0) -> 0.47883503 | M21: 5.2912597 | N21: 1265.8548 | O21: =IF(ISNUMBER(N21/N$7*100),N21/N$7*100,0) -> 0.51514788 | P21: 9 | Q21: =IF(ISNUMBER(N21/H21*100),N21/H21*100,0) -> 6.0702776 | R21: 0.43310771
A23: Rango de Edad
A24: De 10 a 11 años | B24: 379504.04 | C24: =IF(ISNUMBER(B24/B$7*100),B24/B$7*100,0) -> 4.2055724 | D24: 3.9688575 | E24: 379504.04 | F24: =IF(ISNUMBER(E24/E$7*100),E24/E$7*100,0) -> 5.2861779 | G24: 3.9688575 | H24: 36346.29 | I24: =IF(ISNUMBER(H24/H$7*100),H24/H$7*100,0) -> 0.83817166 | J24: 3.8302235 | K24: 36038.435 | L24: =IF(ISNUMBER(K24/K$7*100),K24/K$7*100,0) -> 0.88099503 | M24: 3.8548635 | N24: 307.85497 | O24: =IF(ISNUMBER(N24/N$7*100),N24/N$7*100,0) -> 0.12528359 | P24: 1 | Q24: =IF(ISNUMBER(N24/H24*100),N24/H24*100,0) -> 0.84700521 | R24: 0.5
A25: De 12 a 14 años | B25: 553253.48 | C25: =IF(ISNUMBER(B25/B$7*100),B25/B$7*100,0) -> 6.1310219 | D25: 5.9025964 | E25: 553253.48 | F25: =IF(ISNUMBER(E25/E$7*100),E25/E$7*100,0) -> 7.7063641 | G25: 5.9025964 | H25: 138674.61 | I25: =IF(ISNUMBER(H25/H$7*100),H25/H$7*100,0) -> 3.1979365 | J25: 5.807638 | K25: 136362.34 | L25: =IF(ISNUMBER(K25/K$7*100),K25/K$7*100,0) -> 3.3335115 | M25: 5.8205533 | N25: 2312.2747 | O25: =IF(ISNUMBER(N25/N$7*100),N25/N$7*100,0) -> 0.94099527 | P25: 5.0644278 | Q25: =IF(ISNUMBER(N25/H25*100),N25/H25*100,0) -> 1.6674103 | R25: 1.617645
A26: De 15 a 18 años | B26: 805951.01 | C26: =IF(ISNUMBER(B26/B$7*100),B26/B$7*100,0) -> 8.931355 | D26: 7.9281784 | E26: 805951.01 | F26: =IF(ISNUMBER(E26/E$7*100),E26/E$7*100,0) -> 11.226232 | G26: 7.9281784 | H26: 342390.76 | I26: =IF(ISNUMBER(H26/H$7*100),H26/H$7*100,0) -> 7.8957778 | J26: 7.3702058 | K26: 307284.12 | L26: =IF(ISNUMBER(K26/K$7*100),K26/K$7*100,0) -> 7.5118627 | M26: 7.2362383 | N26: 35106.646 | O26: =IF(ISNUMBER(N26/N$7*100),N26/N$7*100,0) -> 14.286879 | P26: 8.5339452 | Q26: =IF(ISNUMBER(N26/H26*100),N26/H26*100,0) -> 10.253386 | R26: 1.9317545
A27: De 19 a 24 años | B27: 1062571.3 | C27: =IF(ISNUMBER(B27/B$7*100),B27/B$7*100,0) -> 11.775159 | D27: 8.9599698 | E27: 1062571.3 | F27: =IF(ISNUMBER(E27/E$7*100),E27/E$7*100,0) -> 14.800741 | G27: 8.9599698 | H27: 736913.44 | I27: =IF(ISNUMBER(H27/H$7*100),H27/H$7*100,0) -> 16.993755 | J27: 8.897617 | K27: 653214.06 | L27: =IF(ISNUMBER(K27/K$7*100),K27/K$7*100,0) -> 15.968461 | M27: 8.7455502 | N27: 83699.371 | O27: =IF(ISNUMBER(N27/N$7*100),N27/N$7*100,0) -> 34.062005 | P27: 10.04888 | Q27: =IF(ISNUMBER(N27/H27*100),N27/H27*100,0) -> 11.358101 | R27: 3.237385
A28: De 25 a 29 años | B28: 677083.45 | C28: =IF(ISNUMBER(B28/B$7*100),B28/B$7*100,0) -> 7.5032758 | D28: 8.9956405 | E28: 677083.45 | F28: =IF(ISNUMBER(E28/E$7*100),E28/E$7*100,0) -> 9.4312134 | G28: 8.9956405 | H28: 519877.74 | I28: =IF(ISNUMBER(H28/H$7*100),H28/H$7*100,0) -> 11.988755 | J28: 9.259164 | K28: 478492.74 | L28: =IF(ISNUMBER(K28/K$7*100),K28/K$7*100,0) -> 11.697226 | M28: 9.1509346 | N28: 41385.003 | O28: =IF(ISNUMBER(N28/N$7*100),N28/N$7*100,0) -> 16.841897 | P28: 10.468896 | Q28: =IF(ISNUMBER(N28/H28*100),N28/H28*100,0) -> 7.960526 | R28: 4.1601369
A29: De 30 a 35 años | B29: 705099.9 | C29: =IF(ISNUMBER(B29/B$7*100),B29/B$7*100,0) -> 7.8137473 | D29: 8.1867448 | E29: 705099.9 | F29: =IF(ISNUMBER(E29/E$7*100),E29/E$7*100,0) -> 9.8214593 | G29: 8.1867448 | H29: 549074.82 | I29: =IF(ISNUMBER(H29/H$7*100),H29/H$7*100,0) -> 12.662061 | J29: 8.4541738 | K29: 517881.18 | L29: =IF(ISNUMBER(K29/K$7*100),K29/K$7*100,0) -> 12.660115 | M29: 8.3148441 | N29: 31193.641 | O29: =IF(ISNUMBER(N29/N$7*100),N29/N$7*100,0) -> 12.694456 | P29: 10.725916 | Q29: =IF(ISNUMBER(N29/H29*100),N29/H29*100,0) -> 5.6811276 | R29: 3.5986313
A30: De 36 a 44 años | B30: 926593.41 | C30: =IF(ISNUMBER(B30/B$7*100),B30/B$7*100,0) -> 10.268285 | D30: 7.3265985 | E30: 926593.41 | F30: =IF(ISNUMBER(E30/E$7*100),E30/E$7*100,0) -> 12.906681 | G30: 7.3265985 | H30: 719013.99 | I30: =IF(ISNUMBER(H30/H$7*100),H30/H$7*100,0) -> 16.580981 | J30: 7.599399 | K30: 696933.12 | L30: =IF(ISNUMBER(K30/K$7*100),K30/K$7*100,0) -> 17.037216 | M30: 7.568601 | N30: 22080.866 | O30: =IF(ISNUMBER(N30/N$7*100),N30/N$7*100,0) -> 8.9859525 | P30: 8.5301238 | Q30: =IF(ISNUMBER(N30/H30*100),N30/H30*100,0) -> 3.0709926 | R30: 3.9453773
A31: De 45 a 59 años | B31: 1120725.4 | C31: =IF(ISNUMBER(B31/B$7*100),B31/B$7*100,0) -> 12.419609 | D31: 6.8347406 | E31: 1120725.4 | F31: =IF(ISNUMBER(E31/E$7*100),E31/E$7*100,0) -> 15.61078 | G31: 6.8347406 | H31: 839157.46 | I31: =IF(ISNUMBER(H31/H$7*100),H31/H$7*100,0) -> 19.351576 | J31: 7.1587414 | K31: 818486.93 | L31: =IF(ISNUMBER(K31/K$7*100),K31/K$7*100,0) -> 20.008719 | M31: 7.1410336 | N31: 20670.528 | O31: =IF(ISNUMBER(N31/N$7*100),N31/N$7*100,0) -> 8.4120062 | P31: 7.8553999 | Q31: =IF(ISNUMBER(N31/H31*100),N31/H31*100,0) -> 2.4632478 | R31: 2.5480718
A32: De 60 años y más | B32: 948394.47 | C32: =IF(ISNUMBER(B32/B$7*100),B32/B$7*100,0) -> 10.509879 | D32: 5.8294225 | E32: 948394.47 | F32: =IF(ISNUMBER(E32/E$7*100),E32/E$7*100,0) -> 13.210352 | G32: 5.8294225 | H32: 454928.79 | I32: =IF(ISNUMBER(H32/H$7*100),H32/H$7*100,0) -> 10.490986 | J32: 5.5293597 | K32: 445958.47 | L32: =IF(ISNUMBER(K32/K$7*100),K32/K$7*100,0) -> 10.901894 | M32: 5.5097181 | N32: 8970.3123 | O32: =IF(ISNUMBER(N32/N$7*100),N32/N$7*100,0) -> 3.6505271 | P32: 6.2488978 | Q32: =IF(ISNUMBER(N32/H32*100),N32/H32*100,0) -> 1.9718058 | R32: 4.0979938
A34: Sexo
A35: Hombre | B35: 4381576.7 | C35: =IF(ISNUMBER(B35/B$7*100),B35/B$7*100,0) -> 48.555578 | D35: 6.5486111 | E35: 3421949.7 | F35: =IF(ISNUMBER(E35/E$7*100),E35/E$7*100,0) -> 47.664933 | G35: 7.1749382 | H35: 2609240 | I35: =IF(ISNUMBER(H35/H$7*100),H35/H$7*100,0) -> 60.170955 | J35: 7.3028071 | K35: 2490998.3 | L35: =IF(ISNUMBER(K35/K$7*100),K35/K$7*100,0) -> 60.894906 | M35: 7.2125761 | N35: 118241.65 | O35: =IF(ISNUMBER(N35/N$7*100),N35/N$7*100,0) -> 48.119209 | P35: 9.0630078 | Q35: =IF(ISNUMBER(N35/H35*100),N35/H35*100,0) -> 4.5316509 | R35: 3.0261389
A36: Mujer | B36: 4642261.3 | C36: =IF(ISNUMBER(B36/B$7*100),B36/B$7*100,0) -> 51.444422 | D36: 6.977946 | E36: 3757226.8 | F36: =IF(ISNUMBER(E36/E$7*100),E36/E$7*100,0) -> 52.335067 | G36: 7.5554259 | H36: 1727137.9 | I36: =IF(ISNUMBER(H36/H$7*100),H36/H$7*100,0) -> 39.829045 | J36: 8.5061746 | K36: 1599653.1 | L36: =IF(ISNUMBER(K36/K$7*100),K36/K$7*100,0) -> 39.105094 | M36: 8.3896599 | N36: 127484.85 | O36: =IF(ISNUMBER(N36/N$7*100),N36/N$7*100,0) -> 51.880791 | P36: 9.8803025 | Q36: =IF(ISNUMBER(N36/H36*100),N36/H36*100,0) -> 7.381278 | R36: 3.4971413
A38: Rama de Actividad
A39: Primaria | B39: 1310750 | C39: =IF(ISNUMBER(B39/B$7*100),B39/B$7*100,0) -> 14.525416 | D39: 5.3244069 | E39: 1301134.9 | F39: =IF(ISNUMBER(E39/E$7*100),E39/E$7*100,0) -> 18.123735 | G39: 5.3535971 | H39: 1300827 | I39: =IF(ISNUMBER(H39/H$7*100),H39/H$7*100,0) -> 29.998009 | J39: 5.3534116 | K39: 1300827 | L39: =IF(ISNUMBER(K39/K$7*100),K39/K$7*100,0) -> 31.799998 | M39: 5.3534116 | N39: 0 | O39: =IF(ISNUMBER(N39/N$7*100),N39/N$7*100,0) -> 0 | P39: 0 | Q39: =IF(ISNUMBER(N39/H39*100),N39/H39*100,0) -> 0 | R39: 0
A40: Secundaria | B40: 555761.45 | C40: =IF(ISNUMBER(B40/B$7*100),B40/B$7*100,0) -> 6.1588146 | D40: 7.9166939 | E40: 550321.13 | F40: =IF(ISNUMBER(E40/E$7*100),E40/E$7*100,0) -> 7.6655189 | G40: 7.9689934 | H40: 549797.23 | I40: =IF(ISNUMBER(H40/H$7*100),H40/H$7*100,0) -> 12.67872 | J40: 7.9679465 | K40: 549797.23 | L40: =IF(ISNUMBER(K40/K$7*100),K40/K$7*100,0) -> 13.440335 | M40: 7.9679465 | N40: 0 | O40: =IF(ISNUMBER(N40/N$7*100),N40/N$7*100,0) -> 0 | P40: 0 | Q40: =IF(ISNUMBER(N40/H40*100),N40/H40*100,0) -> 0 | R40: 0
A41: Terciaria | B41: 2251284.1 | C41: =IF(ISNUMBER(B41/B$7*100),B41/B$7*100,0) -> 24.948188 | D41: 8.749469 | E41: 2238786 | F41: =IF(ISNUMBER(E41/E$7*100),E41/E$7*100,0) -> 31.18444 | G41: 8.7887251 | H41: 2238786 | I41: =IF(ISNUMBER(H41/H$7*100),H41/H$7*100,0) -> 51.628019 | J41: 8.7887251 | K41: 2238786 | L41: =IF(ISNUMBER(K41/K$7*100),K41/K$7*100,0) -> 54.729328 | M41: 8.7887251 | N41: 0 | O41: =IF(ISNUMBER(N41/N$7*100),N41/N$7*100,0) -> 0 | P41: 0 | Q41: =IF(ISNUMBER(N41/H41*100),N41/H41*100,0) -> 0 | R41: 0
A42: No sabe, no responde | B42: 1241.1006 | C42: =IF(ISNUMBER(B42/B$7*100),B42/B$7*100,0) -> 0.013753578 | D42: 14.65429 | E42: 1241.1006 | F42: =IF(ISNUMBER(E42/E$7*100),E42/E$7*100,0) -> 0.017287506 | G42: 14.65429 | H42: 1241.1006 | I42: =IF(ISNUMBER(H42/H$7*100),H42/H$7*100,0) -> 0.028620674 | J42: 14.65429 | K42: 1241.1006 | L42: =IF(ISNUMBER(K42/K$7*100),K42/K$7*100,0) -> 0.030339925 | M42: 14.65429 | N42: 0 | O42: =IF(ISNUMBER(N42/N$7*100),N42/N$7*100,0) -> 0 | P42: 0 | Q42: =IF(ISNUMBER(N42/H42*100),N42/H42*100,0) -> 0 | R42: 0
A43: Busca trabajo por primera vez | B43: 101302.68 | C43: =IF(ISNUMBER(B43/B$7*100),B43/B$7*100,0) -> 1.1226119 | D43: 9.1823489 | E43: 100686.97 | F43: =IF(ISNUMBER(E43/E$7*100),E43/E$7*100,0) -> 1.4024864 | G43: 9.2118408 | H43: 54128.359 | I43: =IF(ISNUMBER(H43/H$7*100),H43/H$7*100,0) -> 1.248239 | J43: 10.656365 | K43: 0 | L43: =IF(ISNUMBER(K43/K$7*100),K43/K$7*100,0) -> 0 | M43: 0 | N43: 54128.359 | O43: =IF(ISNUMBER(N43/N$7*100),N43/N$7*100,0) -> 22.027889 | P43: 10.656365 | Q43: =IF(ISNUMBER(N43/H43*100),N43/H43*100,0) -> 100 | R43: 3.9323257
A45: ='C01'!A46 -> Fuente: Instituto Nacional de Estadística (INE). Encuesta Permanente de Hogares de Propósitos Múltiples, LXI 2018.
A46: (Promedio de salarios mínimos por rama)
A47: AEP= Años de Estudio Promedio
...

Sheet C02 (2)
A1: Cuadro No. 2. Tasa de Desempleo Abierto (TDA), Población en Edad de Trabajar (PET) y Población Económicamente Activa (PEA),
A2: según dominio, nivel educativo, rango de edad, sexo, rama de actividad y ocupación
A3: Categorías | B3: Población Económicamente Activa (PEA) | K3: TDA | L3: MBT
B4: Total | E4: Ocupados | H4: Desocupados
B5: No. | C5: % 1/ | D5: AEP | E5: No. | F5: % 1/ | G5: AEP | H5: No. | I5: % 1/ | J5: AEP
A7: Total Nacional | B7: =SUM(B10:B33) -> 4144779.8 | C7: ='C02'!I7 -> 100 | D7: ='C02'!J7 -> 7.7901755 | E7: =SUM(E10:E33) -> 4090651.4 | F7: ='C02'!L7 -> 100 | G7: ='C02'!M7 -> 7.680421 | H7: =SUM(H10:H33) -> 54128.359 | I7: ='C02'!O7 -> 100 | J7: ='C02'!P7 -> 9.4894605 | K7: ='C02'!Q7 -> 5.6666301 | L7: ='C02'!R7 -> 3.2704987
A9: Rama de Actividad
A10: Agricultura, ganaderia, silvicultura y pesca | B10: 1294551 | C10: =IF(ISNUMBER(B10/B$7*100),B10/B$7*100,0) -> 31.233289 | D10: 5.3510345 | E10: 1294551 | F10: =IF(ISNUMBER(E10/E$7*100),E10/E$7*100,0) -> 31.646574 | G10: 5.3510345 | H10: 0 | I10: =IF(ISNUMBER(H10/H$7*100),H10/H$7*100,0) -> 0 | J10: 0 | K10: =IF(ISNUMBER(H10/B10*100),H10/B10*100,0) -> 0 | L10: 0
A11: Explotacion de minas y canteras | B11: 6276.0282 | C11: =IF(ISNUMBER(B11/B$7*100),B11/B$7*100,0) -> 0.15142006 | D11: 5.8935965 | E11: 6276.0282 | F11: =IF(ISNUMBER(E11/E$7*100),E11/E$7*100,0) -> 0.15342369 | G11: 5.8935965 | H11: 0 | I11: =IF(ISNUMBER(H11/H$7*100),H11/H$7*100,0) -> 0 | J11: 0 | K11: =IF(ISNUMBER(H11/B11*100),H11/B11*100,0) -> 0 | L11: 0
A12: Industria manufacturera | B12: 549797.23 | C12: =IF(ISNUMBER(B12/B$7*100),B12/B$7*100,0) -> 13.264812 | D12: 7.9679465 | E12: 549797.23 | F12: =IF(ISNUMBER(E12/E$7*100),E12/E$7*100,0) -> 13.440335 | G12: 7.9679465 | H12: 0 | I12: =IF(ISNUMBER(H12/H$7*100),H12/H$7*100,0) -> 0 | J12: 0 | K12: =IF(ISNUMBER(H12/B12*100),H12/B12*100,0) -> 0 | L12: 0
A13: Suministro de electricidad, gas, vapor y aire acondicionado | B13: 4566.9373 | C13: =IF(ISNUMBER(B13/B$7*100),B13/B$7*100,0) -> 0.11018528 | D13: 9.7605504 | E13: 4566.9373 | F13: =IF(ISNUMBER(E13/E$7*100),E13/E$7*100,0) -> 0.11164328 | G13: 9.7605504 | H13: 0 | I13: =IF(ISNUMBER(H13/H$7*100),H13/H$7*100,0) -> 0 | J13: 0 | K13: =IF(ISNUMBER(H13/B13*100),H13/B13*100,0) -> 0 | L13: 0
A14: Suministro de agua, evacuacion de aguas residuales, gestion de desechos y descontaminacion | B14: 18695.773 | C14: =IF(ISNUMBER(B14/B$7*100),B14/B$7*100,0) -> 0.45106794 | D14: 6.8016641 | E14: 18695.773 | F14: =IF(ISNUMBER(E14/E$7*100),E14/E$7*100,0) -> 0.45703657 | G14: 6.8016641 | H14: 0 | I14: =IF(ISNUMBER(H14/H$7*100),H14/H$7*100,0) -> 0 | J14: 0 | K14: =IF(ISNUMBER(H14/B14*100),H14/B14*100,0) -> 0 | L14: 0
A15: Construccion | B15: 229957.19 | C15: =IF(ISNUMBER(B15/B$7*100),B15/B$7*100,0) -> 5.5481162 | D15: 6.9397813 | E15: 229957.19 | F15: =IF(ISNUMBER(E15/E$7*100),E15/E$7*100,0) -> 5.62153 | G15: 6.9397813 | H15: 0 | I15: =IF(ISNUMBER(H15/H$7*100),H15/H$7*100,0) -> 0 | J15: 0 | K15: =IF(ISNUMBER(H15/B15*100),H15/B15*100,0) -> 0 | L15: 0
A16: Comercio al por mayor y al por menor, reparacion de vehiculos automotores y motocicletas | B16: 749556.49 | C16: =IF(ISNUMBER(B16/B$7*100),B16/B$7*100,0) -> 18.08435 | D16: 8.0794472 | E16: 749556.49 | F16: =IF(ISNUMBER(E16/E$7*100),E16/E$7*100,0) -> 18.323646 | G16: 8.0794472 | H16: 0 | I16: =IF(ISNUMBER(H16/H$7*100),H16/H$7*100,0) -> 0 | J16: 0 | K16: =IF(ISNUMBER(H16/B16*100),H16/B16*100,0) -> 0 | L16: 0
A17: Transporte y almacenamiento | B17: 126517.74 | C17: =IF(ISNUMBER(B17/B$7*100),B17/B$7*100,0) -> 3.0524599 | D17: 7.4293044 | E17: 126517.74 | F17: =IF(ISNUMBER(E17/E$7*100),E17/E$7*100,0) -> 3.0928506 | G17: 7.4293044 | H17: 0 | I17: =IF(ISNUMBER(H17/H$7*100),H17/H$7*100,0) -> 0 | J17: 0 | K17: =IF(ISNUMBER(H17/B17*100),H17/B17*100,0) -> 0 | L17: 0
A18: Actividades de alojamiento y de servicios de comida | B18: 210605.46 | C18: =IF(ISNUMBER(B18/B$7*100),B18/B$7*100,0) -> 5.081222 | D18: 8.0508795 | E18: 210605.46 | F18: =IF(ISNUMBER(E18/E$7*100),E18/E$7*100,0) -> 5.1484578 | G18: 8.0508795 | H18: 0 | I18: =IF(ISNUMBER(H18/H$7*100),H18/H$7*100,0) -> 0 | J18: 0 | K18: =IF(ISNUMBER(H18/B18*100),H18/B18*100,0) -> 0 | L18: 0
A19: Informacion y comunicaciones | B19: 32714.935 | C19: =IF(ISNUMBER(B19/B$7*100),B19/B$7*100,0) -> 0.78930456 | D19: 12.120009 | E19: 32714.935 | F19: =IF(ISNUMBER(E19/E$7*100),E19/E$7*100,0) -> 0.7997488 | G19: 12.120009 | H19: 0 | I19: =IF(ISNUMBER(H19/H$7*100),H19/H$7*100,0) -> 0 | J19: 0 | K19: =IF(ISNUMBER(H19/B19*100),H19/B19*100,0) -> 0 | L19: 0
A20: Actividades finacieras y de seguros | B20: 44301.593 | C20: =IF(ISNUMBER(B20/B$7*100),B20/B$7*100,0) -> 1.0688528 | D20: 12.965003 | E20: 44301.593 | F20: =IF(ISNUMBER(E20/E$7*100),E20/E$7*100,0) -> 1.082996 | G20: 12.965003 | H20: 0 | I20: =IF(ISNUMBER(H20/H$7*100),H20/H$7*100,0) -> 0 | J20: 0 | K20: =IF(ISNUMBER(H20/B20*100),H20/B20*100,0) -> 0 | L20: 0
A21: Actividades inmobiliarias | B21: 5724.7299 | C21: =IF(ISNUMBER(B21/B$7*100),B21/B$7*100,0) -> 0.13811904 | D21: 11.741485 | E21: 5724.7299 | F21: =IF(ISNUMBER(E21/E$7*100),E21/E$7*100,0) -> 0.13994666 | G21: 11.741485 | H21: 0 | I21: =IF(ISNUMBER(H21/H$7*100),H21/H$7*100,0) -> 0 | J21: 0 | K21: =IF(ISNUMBER(H21/B21*100),H21/B21*100,0) -> 0 | L21: 0
... A33: NS/NR | B33: 1241.1006 | C33: =IF(ISNUMBER(B33/B$7*100),B33/B$7*100,0) -> 0.029943704 | D33: 14.65429 | E33: 1241.1006 | F33: =IF(ISNUMBER(E33/E$7*100),E33/E$7*100,0) -> 0.030339925 | G33: 14.65429 | H33: 0 | I33: =IF(ISNUMBER(H33/H$7*100),H33/H$7*100,0) -> 0 | J33: 0 | K33: =IF(ISNUMBER(H33/B33*100),H33/B33*100,0) -> 0 | L33: 0
A35: Ocupación
A36: Directores y gerentes | B36: 114096.83 | C36: =IF(ISNUMBER(B36/B$7*100),B36/B$7*100,0) -> 2.7527839 | D36: 12.796603 | E36: 114096.83 | F36: =IF(ISNUMBER(E36/E$7*100),E36/E$7*100,0) -> 2.7892093 | G36: 12.796603 | H36: 0 | I36: =IF(ISNUMBER(H36/H$7*100),H36/H$7*100,0) -> 0 | J36: 0 | K36: =IF(ISNUMBER(H36/B36*100),H36/B36*100,0) -> 0 | L36: 0
A37: Profesionales cientificos e intelectuales | B37: 108250.05 | C37: =IF(ISNUMBER(B37/B$7*100),B37/B$7*100,0) -> 2.6117203 | D37: 16.094874 | E37: 108250.05 | F37: =IF(ISNUMBER(E37/E$7*100),E37/E$7*100,0) -> 2.6462791 | G37: 16.094874 | H37: 0 | I37: =IF(ISNUMBER(H37/H$7*100),H37/H$7*100,0) -> 0 | J37: 0 | K37: =IF(ISNUMBER(H37/B37*100),H37/B37*100,0) -> 0 | L37: 0
A38: Tecnicos y profesionales de nivel medio | B38: 226905.48 | C38: =IF(ISNUMBER(B38/B$7*100),B38/B$7*100,0) -> 5.4744881 | D38: 11.076788 | E38: 226905.48 | F38: =IF(ISNUMBER(E38/E$7*100),E38/E$7*100,0) -> 5.5469277 | G38: 11.076788 | H38: 0 | I38: =IF(ISNUMBER(H38/H$7*100),H38/H$7*100,0) -> 0 | J38: 0 | K38: =IF(ISNUMBER(H38/B38*100),H38/B38*100,0) -> 0 | L38: 0
A39: Personal de apoyo administrativo | B39: 110002.41 | C39: =IF(ISNUMBER(B39/B$7*100),B39/B$7*100,0) -> 2.6539989 | D39: 11.663359 | E39: 110002.41 | F39: =IF(ISNUMBER(E39/E$7*100),E39/E$7*100,0) -> 2.6891172 | G39: 11.663359 | H39: 0 | I39: =IF(ISNUMBER(H39/H$7*100),H39/H$7*100,0) -> 0 | J39: 0 | K39: =IF(ISNUMBER(H39/B39*100),H39/B39*100,0) -> 0 | L39: 0
A40: Trabajadores de los servicios y vendedores de comercios y mercados | B40: 913910.55 | C40: =IF(ISNUMBER(B40/B$7*100),B40/B$7*100,0) -> 22.049677 | D40: 7.8003521 | E40: 913910.55 | F40: =IF(ISNUMBER(E40/E$7*100),E40/E$7*100,0) -> 22.341443 | G40: 7.8003521 | H40: 0 | I40: =IF(ISNUMBER(H40/H$7*100),H40/H$7*100,0) -> 0 | J40: 0 | K40: =IF(ISNUMBER(H40/B40*100),H40/B40*100,0) -> 0 | L40: 0
A41: Agricultores y trabajadores calificados agropecuarios forestales y pesqueros | B41: 598975.26 | C41: =IF(ISNUMBER(B41/B$7*100),B41/B$7*100,0) -> 14.451317 | D41: 4.9209503 | E41: 598975.26 | F41: =IF(ISNUMBER(E41/E$7*100),E41/E$7*100,0) -> 14.64254 | G41: 4.9209503 | H41: 0 | I41: =IF(ISNUMBER(H41/H$7*100),H41/H$7*100,0) -> 0 | J41: 0 | K41: =IF(ISNUMBER(H41/B41*100),H41/B41*100,0) -> 0 | L41: 0
A42: Oficiales, operarios y artesanos de artes mecanicas y de otros oficios | B42: 311635.23 | C42: =IF(ISNUMBER(B42/B$7*100),B42/B$7*100,0) -> 7.5187405 | D42: 7.5608888 | E42: 311635.23 | F42: =IF(ISNUMBER(E42/E$7*100),E42/E$7*100,0) -> 7.6182301 | G42: 7.5608888 | H42: 0 | I42: =IF(ISNUMBER(H42/H$7*100),H42/H$7*100,0) -> 0 | J42: 0 | K42: =IF(ISNUMBER(H42/B42*100),H42/B42*100,0) -> 0 | L42: 0
A43: Operadores de instalaciones y maquinas y ensambladores | B43: 187441.99 | C43: =IF(ISNUMBER(B43/B$7*100),B43/B$7*100,0) -> 4.522363 | D43: 7.666355 | E43: 187441.99 | F43: =IF(ISNUMBER(E43/E$7*100),E43/E$7*100,0) -> 4.5822039 | G43: 7.666355 | H43: 0 | I43: =IF(ISNUMBER(H43/H$7*100),H43/H$7*100,0) -> 0 | J43: 0 | K43: =IF(ISNUMBER(H43/B43*100),H43/B43*100,0) -> 0 | L43: 0
A44: Ocupaciones elementales | B44: 1516922 | C44: =IF(ISNUMBER(B44/B$7*100),B44/B$7*100,0) -> 36.598374 | D44: 6.5924965 | E44: 1516922 | F44: =IF(ISNUMBER(E44/E$7*100),E44/E$7*100,0) -> 37.082652 | G44: 6.5924965 | H44: 0 | I44: =IF(ISNUMBER(H44/H$7*100),H44/H$7*100,0) -> 0 | J44: 0 | K44: =IF(ISNUMBER(H44/B44*100),H44/B44*100,0) -> 0 | L44: 0
A45: Ocupaciones militares | B45: 2511.594 | C45: =IF(ISNUMBER(B45/B$7*100),B45/B$7*100,0) -> 0.06059656 | D45: 14.790656 | E45: 2511.594 | F45: =IF(ISNUMBER(E45/E$7*100),E45/E$7*100,0) -> 0.061398386 | G45: 14.790656 | H45: 0 | I45: =IF(ISNUMBER(H45/H$7*100),H45/H$7*100,0) -> 0 | J45: 0 | K45: =IF(ISNUMBER(H45/B45*100),H45/B45*100,0) -> 0 | L45: 0
A46: Ocupaciones NO especificadas | B46: 0 | C46: =IF(ISNUMBER(B46/B$7*100),B46/B$7*100,0) -> 0 | D46: 0 | E46: 0 | F46: =IF(ISNUMBER(E46/E$7*100),E46/E$7*100,0) -> 0 | G46: 0 | H46: 0 | I46: =IF(ISNUMBER(H46/H$7*100),H46/H$7*100,0) -> 0 | J46: 0 | K46: =IF(ISNUMBER(H46/B46*100),H46/B46*100,0) -> 0 | L46: 0
A47: Busca trabajo por primera vez | B47: 54128.359 | C47: =IF(ISNUMBER(B47/B$7*100),B47/B$7*100,0) -> 1.3059405 | D47: 10.656365 | E47: 0 | F47: =IF(ISNUMBER(E47/E$7*100),E47/E$7*100,0) -> 0 | G47: 0 | H47: 54128.359 | I47: =IF(ISNUMBER(H47/H$7*100),H47/H$7*100,0) -> 100 | J47: 10.656365 | K47: =IF(ISNUMBER(H47/B47*100),H47/B47*100,0) -> 100 | L47: 3.9323257
A48: NS/NR | B48: 0 | D48: 0 | E48: 0 | F48: =IF(ISNUMBER(E48/E$7*100),E48/E$7*100,0) -> 0 | G48: 0 | H48: 0 | I48: =IF(ISNUMBER(H48/H$7*100),H48/H$7*100,0) -> 0 | J48: 0 | K48: =IF(ISNUMBER(H48/B48*100),H48/B48*100,0) -> 0 | L48: 0
A50: ='C02'!A45 -> Fuente: Instituto Nacional de Estadística (INE). Encuesta Permanente de Hogares de Propósitos Múltiples, LXI 2018.
A51: (Promedio de salarios mínimos por rama)
A52: AEP= Años de Estudio Promedio
A53: TDA= Tasa de Desempleo Abierto
A54: MBT= Meses promedio en Busca de Trabajo
A55: 1/ Porcentaje por columna
...

Sheet C03
A1: Cuadro No. 3. Personas ocupadas por categoría ocupacional, según dominio, nivel educativo, rango de edad, sexo.
A2: número de salarios mínimos, rama de actividad y ocupación
A3: Ocupación Principal
A4: Categorías | B4: Total Ocupados | D4: Asalariados | L4: Cuenta propia | N4: Trab. fam. no remu.
D5: Total Asalariados | F5: Público | H5: Privado | J5: Doméstico
B6: No. | C6: % 1/ | D6: No. | E6: % 1/ | F6: No. | G6: % 1/ | H6: No. | I6: % 1/ | J6: No. | K6: % 1/ | L6: No. | M6: % 1/ | N6: No. | O6: % 1/
A8: Total Nacional 2/ | B8: 4090651.4 | C8: =SUM(E8,M8,O8) -> 100 | D8: =F8+H8+J8 -> 1908586 | E8: =IF(ISNUMBER(D8/$B$8*100),D8/$B$8*100,0) -> 46.657264 | F8: 236186.72 | G8: =IF(ISNUMBER(F8/$B$8*100),F8/$B$8*100,0) -> 5.7738169 | H8: 1538312 | I8: =IF(ISNUMBER(H8/$B$8*100),H8/$B$8*100,0) -> 37.605551 | J8: 134087.29 | K8: =IF(ISNUMBER(J8/$B$8*100),J8/$B$8*100,0) -> 3.2778958 | L8: 1651439 | M8: =IF(ISNUMBER(L8/$B$8*100),L8/$B$8*100,0) -> 40.371053 | N8: 530626.36 | O8: =IF(ISNUMBER(N8/$B$8*100),N8/$B$8*100,0) -> 12.971684
A10: Dominio
A11: Urbano | B11: =SUM(B12:B14) -> 2227420.7 | C11: =IF(ISNUMBER(B11/B$8*100),B11/B$8*100,0) -> 54.451492 | D11: =SUM(D12:D14) -> 1244296.5 | E11: =IF(ISNUMBER(D11/D$8*100),D11/D$8*100,0) -> 65.19468 | F11: =SUM(F12:F14) -> 191978.75 | G11: =IF(ISNUMBER(F11/F$8*100),F11/F$8*100,0) -> 81.282616 | H11: =SUM(H12:H14) -> 955388.59 | I11: =IF(ISNUMBER(H11/H$8*100),H11/H$8*100,0) -> 62.106296 | J11: =SUM(J12:J14) -> 96929.196 | K11: =IF(ISNUMBER(J11/J$8*100),J11/J$8*100,0) -> 72.28813 | L11: =SUM(L12:L14) -> 798834.68 | M11: =IF(ISNUMBER(L11/L$8*100),L11/L$8*100,0) -> 48.372036 | N11: =SUM(N12:N14) -> 184289.52 | O11: =IF(ISNUMBER(N11/N$8*100),N11/N$8*100,0) -> 34.730562
A12: Distrito Central | B12: 476944.5 | C12: =IF(ISNUMBER(B12/B$8*100),B12/B$8*100,0) -> 11.659378 | D12: =F12+H12+J12 -> 292348.52 | E12: =IF(ISNUMBER(D12/D$8*100),D12/D$8*100,0) -> 15.317545 | F12: 62452.796 | G12: =IF(ISNUMBER(F12/F$8*100),F12/F$8*100,0) -> 26.442128 | H12: 205855.31 | I12: =IF(ISNUMBER(H12/H$8*100),H12/H$8*100,0) -> 13.381896 | J12: 24040.407 | K12: =IF(ISNUMBER(J12/J$8*100),J12/J$8*100,0) -> 17.928923 | L12: 151521.76 | M12: =IF(ISNUMBER(L12/L$8*100),L12/L$8*100,0) -> 9.1751347 | N12: 33074.224 | O12: =IF(ISNUMBER(N12/N$8*100),N12/N$8*100,0) -> 6.2330533
A13: San Pedro Sula | B13: 274052.2 | C13: =IF(ISNUMBER(B13/B$8*100),B13/B$8*100,0) -> 6.6994758 | D13: =F13+H13+J13 -> 168103.93 | E13: =IF(ISNUMBER(D13/D$8*100),D13/D$8*100,0) -> 8.8077735 | F13: 10771.899 | G13: =IF(ISNUMBER(F13/F$8*100),F13/F$8*100,0) -> 4.5607557 | H13: 148658.77 | I13: =IF(ISNUMBER(H13/H$8*100),H13/H$8*100,0) -> 9.6637593 | J13: 8673.2644 | K13: =IF(ISNUMBER(J13/J$8*100),J13/J$8*100,0) -> 6.4683717 | L13: 90323.277 | M13: =IF(ISNUMBER(L13/L$8*100),L13/L$8*100,0) -> 5.4693679 | N13: 15624.992 | O13: =IF(ISNUMBER(N13/N$8*100),N13/N$8*100,0) -> 2.9446317
A14: Resto urbano | B14: 1476424 | C14: =IF(ISNUMBER(B14/B$8*100),B14/B$8*100,0) -> 36.092639 | D14: =F14+H14+J14 -> 783844.09 | E14: =IF(ISNUMBER(D14/D$8*100),D14/D$8*100,0) -> 41.069362 | F14: 118754.05 | G14: =IF(ISNUMBER(F14/F$8*100),F14/F$8*100,0) -> 50.279732 | H14: 600874.51 | I14: =IF(ISNUMBER(H14/H$8*100),H14/H$8*100,0) -> 39.06064 | J14: 64215.525 | K14: =IF(ISNUMBER(J14/J$8*100),J14/J$8*100,0) -> 47.890836 | L14: 556989.64 | M14: =IF(ISNUMBER(L14/L$8*100),L14/L$8*100,0) -> 33.727533 | N14: 135590.3 | O14: =IF(ISNUMBER(N14/N$8*100),N14/N$8*100,0) -> 25.552877
A15: Rural | B15: 1863230.7 | C15: =IF(ISNUMBER(B15/B$8*100),B15/B$8*100,0) -> 45.548508 | D15: =F15+H15+J15 -> 664289.46 | E15: =IF(ISNUMBER(D15/D$8*100),D15/D$8*100,0) -> 34.80532 | F15: 44207.974 | G15: =IF(ISNUMBER(F15/F$8*100),F15/F$8*100,0) -> 18.717384 | H15: 582923.39 | I15: =IF(ISNUMBER(H15/H$8*100),H15/H$8*100,0) -> 37.893704 | J15: 37158.095 | K15: =IF(ISNUMBER(J15/J$8*100),J15/J$8*100,0) -> 27.71187 | L15: 852604.35 | M15: =IF(ISNUMBER(L15/L$8*100),L15/L$8*100,0) -> 51.627964 | N15: 346336.85 | O15: =IF(ISNUMBER(N15/N$8*100),N15/N$8*100,0) -> 65.269438
D16: =F16+H16+J16 -> 0
A17: Nivel Educativo
A18: Sin Nivel | B18: 373555.17 | C18: =IF(ISNUMBER(B18/B$8*100),B18/B$8*100,0) -> 9.1319237 | D18: =F18+H18+J18 -> 123587.75 | E18: =IF(ISNUMBER(D18/D$8*100),D18/D$8*100,0) -> 6.4753567 | F18: 1754.4881 | G18: =IF(ISNUMBER(F18/F$8*100),F18/F$8*100,0) -> 0.74283944 | H18: 105060.85 | I18: =IF(ISNUMBER(H18/H$8*100),H18/H$8*100,0) -> 6.829619 | J18: 16772.415 | K18: =IF(ISNUMBER(J18/J$8*100),J18/J$8*100,0) -> 12.508579 | L18: 223578.94 | M18: =IF(ISNUMBER(L18/L$8*100),L18/L$8*100,0) -> 13.538431 | N18: 26388.474 | O18: =IF(ISNUMBER(N18/N$8*100),N18/N$8*100,0) -> 4.97308
A19: Primaria | B19: 2244815.6 | C19: =IF(ISNUMBER(B19/B$8*100),B19/B$8*100,0) -> 54.876728 | D19: =F19+H19+J19 -> 885155.48 | E19: =IF(ISNUMBER(D19/D$8*100),D19/D$8*100,0) -> 46.377553 | F19: 30608.65 | G19: =IF(ISNUMBER(F19/F$8*100),F19/F$8*100,0) -> 12.959513 | H19: 770048.64 | I19: =IF(ISNUMBER(H19/H$8*100),H19/H$8*100,0) -> 50.058028 | J19: 84498.186 | K19: =IF(ISNUMBER(J19/J$8*100),J19/J$8*100,0) -> 63.017296 | L19: 1013342.4 | M19: =IF(ISNUMBER(L19/L$8*100),L19/L$8*100,0) -> 61.361177 | N19: 346317.73 | O19: =IF(ISNUMBER(N19/N$8*100),N19/N$8*100,0) -> 65.265835
A20: Secundaria | B20: 1044987.4 | C20: =IF(ISNUMBER(B20/B$8*100),B20/B$8*100,0) -> 25.545746 | D20: =F20+H20+J20 -> 588712.76 | E20: =IF(ISNUMBER(D20/D$8*100),D20/D$8*100,0) -> 30.845493 | F20: 91600.762 | G20: =IF(ISNUMBER(F20/F$8*100),F20/F$8*100,0) -> 38.783197 | H20: 465765.8 | I20: =IF(ISNUMBER(H20/H$8*100),H20/H$8*100,0) -> 30.27772 | J20: 31346.191 | K20: =IF(ISNUMBER(J20/J$8*100),J20/J$8*100,0) -> 23.377451 | L20: 326737.57 | M20: =IF(ISNUMBER(L20/L$8*100),L20/L$8*100,0) -> 19.785022 | N20: 129537.11 | O20: =IF(ISNUMBER(N20/N$8*100),N20/N$8*100,0) -> 24.412113
A21: Superior | B21: 407705.71 | C21: =IF(ISNUMBER(B21/B$8*100),B21/B$8*100,0) -> 9.9667673 | D21: =F21+H21+J21 -> 299168.68 | E21: =IF(ISNUMBER(D21/D$8*100),D21/D$8*100,0) -> 15.674886 | F21: 110783.67 | G21: =IF(ISNUMBER(F21/F$8*100),F21/F$8*100,0) -> 46.905124 | H21: 187638.41 | I21: =IF(ISNUMBER(H21/H$8*100),H21/H$8*100,0) -> 12.197682 | J21: 746.59648 | K21: =IF(ISNUMBER(J21/J$8*100),J21/J$8*100,0) -> 0.55679884 | L21: 80898.402 | M21: =IF(ISNUMBER(L21/L$8*100),L21/L$8*100,0) -> 4.8986611 | N21: 27638.623 | O21: =IF(ISNUMBER(N21/N$8*100),N21/N$8*100,0) -> 5.2086788
A22: No sabe, no responde | B22: 19587.472 | C22: =IF(ISNUMBER(B22/B$8*100),B22/B$8*100,0) -> 0.47883503 | D22: =F22+H22+J22 -> 11961.337 | E22: =IF(ISNUMBER(D22/D$8*100),D22/D$8*100,0) -> 0.62671195 | F22: 1439.1468 | G22: =IF(ISNUMBER(F22/F$8*100),F22/F$8*100,0) -> 0.60932586 | H22: 9798.2866 | I22: =IF(ISNUMBER(H22/H$8*100),H22/H$8*100,0) -> 0.63695055 | J22: 723.90321 | K22: =IF(ISNUMBER(J22/J$8*100),J22/J$8*100,0) -> 0.53987459 | L22: 6881.6997 | M22: =IF(ISNUMBER(L22/L$8*100),L22/L$8*100,0) -> 0.41670928 | N22: 744.43572 | O22: =IF(ISNUMBER(N22/N$8*100),N22/N$8*100,0) -> 0.14029377
D23: =F23+H23+J23 -> 0
A24: Rango de Edad
A25: De 10 a 11 años | B25: 36038.435 | C25: =IF(ISNUMBER(B25/B$8*100),B25/B$8*100,0) -> 0.88099503 | D25: =F25+H25+J25 -> 3855.7071 | E25: =IF(ISNUMBER(D25/D$8*100),D25/D$8*100,0) -> 0.20201904 | F25: 186.64912 | G25: =IF(ISNUMBER(F25/F$8*100),F25/F$8*100,0) -> 0.079026086 | H25: 3669.058 | I25: =IF(ISNUMBER(H25/H$8*100),H25/H$8*100,0) -> 0.23851195 | J25: 0 | K25: =IF(ISNUMBER(J25/J$8*100),J25/J$8*100,0) -> 0 | L25: 3213.0839 | M25: =IF(ISNUMBER(L25/L$8*100),L25/L$8*100,0) -> 0.19456267 | N25: 28969.644 | O25: =IF(ISNUMBER(N25/N$8*100),N25/N$8*100,0) -> 5.4595185
A26: De 12 a 14 años | B26: 136362.34 | C26: =IF(ISNUMBER(B26/B$8*100),B26/B$8*100,0) -> 3.3335115 | D26: =F26+H26+J26 -> 31420.303 | E26: =IF(ISNUMBER(D26/D$8*100),D26/D$8*100,0) -> 1.6462608 | F26: 0 | G26: =IF(ISNUMBER(F26/F$8*100),F26/F$8*100,0) -> 0 | H26: 27914.904 | I26: =IF(ISNUMBER(H26/H$8*100),H26/H$8*100,0) -> 1.8146451 | J26: 3505.3991 | K26: =IF(ISNUMBER(J26/J$8*100),J26/J$8*100,0) -> 2.6142665 | L26: 8099.4401 | M26: =IF(ISNUMBER(L26/L$8*100),L26/L$8*100,0) -> 0.49044742 | N26: 96842.592 | O26: =IF(ISNUMBER(N26/N$8*100),N26/N$8*100,0) -> 18.250618
A27: De 15 a 18 años | B27: 307284.12 | C27: =IF(ISNUMBER(B27/B$8*100),B27/B$8*100,0) -> 7.5118627 | D27: =F27+H27+J27 -> 150293.03 | E27: =IF(ISNUMBER(D27/D$8*100),D27/D$8*100,0) -> 7.8745748 | F27: 966.31492 | G27: =IF(ISNUMBER(F27/F$8*100),F27/F$8*100,0) -> 0.40913177 | H27: 136475.05 | I27: =IF(ISNUMBER(H27/H$8*100),H27/H$8*100,0) -> 8.8717405 | J27: 12851.67 | K27: =IF(ISNUMBER(J27/J$8*100),J27/J$8*100,0) -> 9.5845546 | L27: 34548.621 | M27: =IF(ISNUMBER(L27/L$8*100),L27/L$8*100,0) -> 2.0920313 | N27: 122442.46 | O27: =IF(ISNUMBER(N27/N$8*100),N27/N$8*100,0) -> 23.075081
A28: De 19 a 24 años | B28: 653214.06 | C28: =IF(ISNUMBER(B28/B$8*100),B28/B$8*100,0) -> 15.968461 | D28: =F28+H28+J28 -> 408390.65 | E28: =IF(ISNUMBER(D28/D$8*100),D28/D$8*100,0) -> 21.39755 | F28: 26362.906 | G28: =IF(ISNUMBER(F28/F$8*100),F28/F$8*100,0) -> 11.161892 | H28: 355801.69 | I28: =IF(ISNUMBER(H28/H$8*100),H28/H$8*100,0) -> 23.129358 | J28: 26226.053 | K28: =IF(ISNUMBER(J28/J$8*100),J28/J$8*100,0) -> 19.55894 | L28: 137151.71 | M28: =IF(ISNUMBER(L28/L$8*100),L28/L$8*100,0) -> 8.3049815 | N28: 107671.71 | O28: =IF(ISNUMBER(N28/N$8*100),N28/N$8*100,0) -> 20.291436
A29: De 25 a 29 años | B29: 478492.74 | C29: =IF(ISNUMBER(B29/B$8*100),B29/B$8*100,0) -> 11.697226 | D29: =F29+H29+J29 -> 290049.57 | E29: =IF(ISNUMBER(D29/D$8*100),D29/D$8*100,0) -> 15.197092 | F29: 25985.737 | G29: =IF(ISNUMBER(F29/F$8*100),F29/F$8*100,0) -> 11.002201 | H29: 246831.93 | I29: =IF(ISNUMBER(H29/H$8*100),H29/H$8*100,0) -> 16.045635 | J29: 17231.9 | K29: =IF(ISNUMBER(J29/J$8*100),J29/J$8*100,0) -> 12.851255 | L29: 145798.35 | M29: =IF(ISNUMBER(L29/L$8*100),L29/L$8*100,0) -> 8.828564 | N29: 42644.821 | O29: =IF(ISNUMBER(N29/N$8*100),N29/N$8*100,0) -> 8.0366947
A30: De 30 a 35 años | B30: 517881.18 | C30: =IF(ISNUMBER(B30/B$8*100),B30/B$8*100,0) -> 12.660115 | D30: =F30+H30+J30 -> 289606.24 | E30: =IF(ISNUMBER(D30/D$8*100),D30/D$8*100,0) -> 15.173864 | F30: 39294.009 | G30: =IF(ISNUMBER(F30/F$8*100),F30/F$8*100,0) -> 16.636841 | H30: 229720.61 | I30: =IF(ISNUMBER(H30/H$8*100),H30/H$8*100,0) -> 14.933291 | J30: 20591.618 | K30: =IF(ISNUMBER(J30/J$8*100),J30/J$8*100,0) -> 15.356875 | L30: 193465.03 | M30: =IF(ISNUMBER(L30/L$8*100),L30/L$8*100,0) -> 11.714936 | N30: 34809.903 | O30: =IF(ISNUMBER(N30/N$8*100),N30/N$8*100,0) -> 6.5601534
A31: De 36 a 44 años | B31: 696933.12 | C31: =IF(ISNUMBER(B31/B$8*100),B31/B$8*100,0) -> 17.037216 | D31: =F31+H31+J31 -> 334059.4 | E31: =IF(ISNUMBER(D31/D$8*100),D31/D$8*100,0) -> 17.502978 | F31: 54983.939 | G31: =IF(ISNUMBER(F31/F$8*100),F31/F$8*100,0) -> 23.279861 | H31: 256952.23 | I31: =IF(ISNUMBER(H31/H$8*100),H31/H$8*100,0) -> 16.703518 | J31: 22123.23 | K31: =IF(ISNUMBER(J31/J$8*100),J31/J$8*100,0) -> 16.499125 | L31: 330517.77 | M31: =IF(ISNUMBER(L31/L$8*100),L31/L$8*100,0) -> 20.013925 | N31: 32355.958 | O31: =IF(ISNUMBER(N31/N$8*100),N31/N$8*100,0) -> 6.0976913
A32: De 45 a 59 años | B32: 818486.93 | C32: =IF(ISNUMBER(B32/B$8*100),B32/B$8*100,0) -> 20.008719 | D32: =F32+H32+J32 -> 317970.61 | E32: =IF(ISNUMBER(D32/D$8*100),D32/D$8*100,0) -> 16.660009 | F32: 72427.469 | G32: =IF(ISNUMBER(F32/F$8*100),F32/F$8*100,0) -> 30.665344 | H32: 223061.6 | I32: =IF(ISNUMBER(H32/H$8*100),H32/H$8*100,0) -> 14.500413 | J32: 22481.54 | K32: =IF(ISNUMBER(J32/J$8*100),J32/J$8*100,0) -> 16.766347 | L32: 464826.09 | M32: =IF(ISNUMBER(L32/L$8*100),L32/L$8*100,0) -> 28.14673 | N32: 35690.236 | O32: =IF(ISNUMBER(N32/N$8*100),N32/N$8*100,0) -> 6.7260579
A33: De 60 años y más | B33: 445958.47 | C33: =IF(ISNUMBER(B33/B$8*100),B33/B$8*100,0) -> 10.901894 | D33: =F33+H33+J33 -> 82940.499 | E33: =IF(ISNUMBER(D33/D$8*100),D33/D$8*100,0) -> 4.3456516 | F33: 15979.694 | G33: =IF(ISNUMBER(F33/F$8*100),F33/F$8*100,0) -> 6.765704 | H33: 57884.923 | I33: =IF(ISNUMBER(H33/H$8*100),H33/H$8*100,0) -> 3.7628858 | J33: 9075.8812 | K33: =IF(ISNUMBER(J33/J$8*100),J33/J$8*100,0) -> 6.7686364 | L33: 333818.94 | M33: =IF(ISNUMBER(L33/L$8*100),L33/L$8*100,0) -> 20.213822 | N33: 29199.036 | O33: =IF(ISNUMBER(N33/N$8*100),N33/N$8*100,0) -> 5.5027488
A35: Sexo
