Workbook

Sheet Portada

Sheet Cuadro01
A3: Cuadro 1. Hogares por nivel de pobreza según dominio 1/
A4: (Valor Absoluto)
A6: Dominio | B6: Total | C6: No pobres | D6: Pobres 2/ | H6: Costo canasta básica
D7: Total | E7: Relativa 3/ | F7: Extrema 4/ | H7: Alimentos (Lps/mes/persona) 5/ | I7: Básica (Lps/mes/persona) 6/
A9: Total Nacional | B9: =+B11+B15 -> 1983402.9 | C9: =+C11+C15 -> 775404.2 | D9: =+D11+D15 -> 1207998.7 | E9: =+E11+E15 -> 446297.15 | F9: =+F11+F15 -> 761701.58
A11: Urbano | B11: =+B12+B13+B14 -> 1122054.4 | C11: =+C12+C13+C14 -> 455427.35 | D11: =+D12+D13+D14 -> 666627.02 | E11: =+E12+E13+E14 -> 356148.18 | F11: =+F12+F13+F14 -> 310478.85 | H11: 1649.013 | I11: 3298.0261
A12: Distrito Central | B12: =[1]Pobreza!C7 -> 289260.98 | C12: =[1]Pobreza!E7 -> 144620.18 | D12: =[1]Pobreza!G7 -> 144640.8 | E12: =[1]Pobreza!I7 -> 88606.919 | F12: =[1]Pobreza!K7 -> 56033.877
A13: San Pedro Sula | B13: =[1]Pobreza!C8 -> 181083.64 | C13: =[1]Pobreza!E8 -> 93690.921 | D13: =[1]Pobreza!G8 -> 87392.718 | E13: =[1]Pobreza!I8 -> 55695.877 | F13: =[1]Pobreza!K8 -> 31696.841
A14: Resto urbano | B14: =[1]Pobreza!C9 -> 651709.76 | C14: =[1]Pobreza!E9 -> 217116.25 | D14: =[1]Pobreza!G9 -> 434593.51 | E14: =[1]Pobreza!I9 -> 211845.38 | F14: =[1]Pobreza!K9 -> 222748.13
A15: Rural | B15: =[1]Pobreza!C10 -> 861348.56 | C15: =[1]Pobreza!E10 -> 319976.85 | D15: =[1]Pobreza!G10 -> 541371.71 | E15: =[1]Pobreza!I10 -> 90148.973 | F15: =[1]Pobreza!K10 -> 451222.74 | H15: 1252.3045 | I15: 1671.8265
A17: =[2]Resumen!A49 -> Fuente: Instituto Nacional de Estadística (INE). LIV Encuesta Permanente de Hogares de Propósitos Múltiples, Junio 2016.
A20: Hogares por nivel de pobreza según dominio
A21: (Porcentaje)
A23: Dominio | B23: Total | C23: No pobres | D23: Pobres
D24: Total | E24: Relativa | F24: Extrema
A26: Total Nacional | B26: 100 | C26: =+C9/$B9*100 -> 39.094638 | D26: =+D9/$B9*100 -> 60.905362 | E26: =+E9/$B9*100 -> 22.501588 | F26: =+F9/$B9*100 -> 38.403774
A28: Urbano | B28: 100 | C28: =+C11/$B11*100 -> 40.588706 | D28: =+D11/$B11*100 -> 59.411294 | E28: =+E11/$B11*100 -> 31.740724 | F28: =+F11/$B11*100 -> 27.67057
A29: Distrito Central | B29: 100 | C29: =+C12/$B12*100 -> 49.996436 | D29: =+D12/$B12*100 -> 50.003564 | E29: =+E12/$B12*100 -> 30.632172 | F29: =+F12/$B12*100 -> 19.371392
A30: San Pedro Sula | B30: 100 | C30: =+C13/$B13*100 -> 51.739032 | D30: =+D13/$B13*100 -> 48.260968 | E30: =+E13/$B13*100 -> 30.75699 | F30: =+F13/$B13*100 -> 17.503978
A31: Resto urbano | B31: 100 | C31: =+C14/$B14*100 -> 33.314868 | D31: =+D14/$B14*100 -> 66.685132 | E31: =+E14/$B14*100 -> 32.506094 | F31: =+F14/$B14*100 -> 34.179038
A32: Rural | B32: 100 | C32: =+C15/$B15*100 -> 37.148358 | D32: =+D15/$B15*100 -> 62.851642 | E32: =+E15/$B15*100 -> 10.466027 | F32: =+F15/$B15*100 -> 52.385615
A34: =A17 -> Fuente: Instituto Nacional de Estadística (INE). LIV Encuesta Permanente de Hogares de Propósitos Múltiples, Junio 2016.
A37: 1. Pobreza medida por el Método de la Línea de Pobreza, definida como el costo de la Canasta Básica.
A38: 2. Pobres: Hogares cuyos ingresos percápita, se encuentran por debajo de la Línea de Pobreza.
A39: 3. Pobreza relativa: Hogares cuyo ingreso es menor que el costo de la Canasta Básica 6/ y mayor que el costo da la Canasta Básica de Alimentos 5/.
A40: 4. Pobreza extrema: Hogares que tienen un ingreso percápita inferior al costo de la Canasta Básica de Alimentos.
A41: 5. Canasta Básica de Alimentos: Es la canasta de alimentos observada, ajustada para satisfacer los requerimientos nutricionales necesarios para desarrollar un nivel de actividad medio.
A42: 6. Canasta Básica: Además de los alimentos básicos, satisface necesidades básicas como ser vivienda, educación, salud, transporte etc.

Sheet Cuadro02
A3: Cuadro 2. Personas que viven en hogares por nivel de pobreza según dominio
A4: (Valor Absoluto)
A6: Dominio | B6: Total | C6: No pobres | D6: Pobreza | H6: Costo canasta básica
D7: Total | E7: Relativa | F7: Extrema | H7: Alimentos (Lps/mes/persona) | I7: Básica (Lps/mes/persona)
A9: Total Nacional | B9: =+B11+B15 -> 8680049.1 | C9: =+C11+C15 -> 2980170.1 | D9: =+D11+D15 -> 5699879 | E9: =+E11+E15 -> 2013237.8 | F9: =+F11+F15 -> 3686641.2
A11: Urbano | B11: =+B12+B13+B14 -> 4687942.2 | C11: =+C12+C13+C14 -> 1664394.3 | D11: =+D12+D13+D14 -> 3023548 | E11: =+E12+E13+E14 -> 1577419.4 | F11: =+F12+F13+F14 -> 1446128.6 | H11: 1649.013 | I11: 3298.0261
A12: Distrito Central | B12: =[1]Pobreza!D7 -> 1225406.1 | C12: =[1]Pobreza!F7 -> 561802.5 | D12: =[1]Pobreza!H7 -> 663603.56 | E12: =[1]Pobreza!J7 -> 401596.74 | F12: =[1]Pobreza!L7 -> 262006.82
A13: San Pedro Sula | B13: =[1]Pobreza!D8 -> 722770.3 | C13: =[1]Pobreza!F8 -> 349941.35 | D13: =[1]Pobreza!H8 -> 372828.94 | E13: =[1]Pobreza!J8 -> 239414.06 | F13: =[1]Pobreza!L8 -> 133414.88
A14: Resto urbano | B14: =[1]Pobreza!D9 -> 2739765.9 | C14: =[1]Pobreza!F9 -> 752650.4 | D14: =[1]Pobreza!H9 -> 1987115.5 | E14: =[1]Pobreza!J9 -> 936408.58 | F14: =[1]Pobreza!L9 -> 1050706.9
A15: Rural | B15: =[1]Pobreza!D10 -> 3992106.9 | C15: =[1]Pobreza!F10 -> 1315775.8 | D15: =[1]Pobreza!H10 -> 2676331 | E15: =[1]Pobreza!J10 -> 435818.42 | F15: =[1]Pobreza!L10 -> 2240512.6 | H15: 1252.3045 | I15: 1671.8265
A17: =Cuadro01!A17 -> Fuente: Instituto Nacional de Estadística (INE). LIV Encuesta Permanente de Hogares de Propósitos Múltiples, Junio 2016.
A20: Personas que viven en hogares por nivel de pobreza según dominio
A21: (Porcentaje)
A23: Dominio | B23: Total | C23: No pobres | D23: Pobres
D24: Total | E24: Relativa | F24: Extrema
A26: Total Nacional | B26: 100 | C26: =+C9/$B9*100 -> 34.333563 | D26: =+D9/$B9*100 -> 65.666437 | E26: =+E9/$B9*100 -> 23.193853 | F26: =+F9/$B9*100 -> 42.472585
A28: Urbano | B28: 100 | C28: =+C11/$B11*100 -> 35.503728 | D28: =+D11/$B11*100 -> 64.496272 | E28: =+E11/$B11*100 -> 33.648439 | F28: =+F11/$B11*100 -> 30.847833
A29: Distrito Central | B29: 100 | C29: =+C12/$B12*100 -> 45.846231 | D29: =+D12/$B12*100 -> 54.153769 | E29: =+E12/$B12*100 -> 32.772544 | F29: =+F12/$B12*100 -> 21.381225
A30: San Pedro Sula | B30: 100 | C30: =+C13/$B13*100 -> 48.416676 | D30: =+D13/$B13*100 -> 51.583324 | E30: =+E13/$B13*100 -> 33.124502 | F30: =+F13/$B13*100 -> 18.458822
A31: Resto urbano | B31: 100 | C31: =+C14/$B14*100 -> 27.47134 | D31: =+D14/$B14*100 -> 72.52866 | E31: =+E14/$B14*100 -> 34.178416 | F31: =+F14/$B14*100 -> 38.350244
A32: Rural | B32: 100 | C32: =+C15/$B15*100 -> 32.959434 | D32: =+D15/$B15*100 -> 67.040566 | E32: =+E15/$B15*100 -> 10.917003 | F32: =+F15/$B15*100 -> 56.123563
A34: =A17 -> Fuente: Instituto Nacional de Estadística (INE). LIV Encuesta Permanente de Hogares de Propósitos Múltiples, Junio 2016.

Sheet Cuadro03 
A1: Cuadro 3. Hogares por nivel de pobreza
A2: Periodo 2001- 2016
A3: (Valor Absoluto)
A5: Período | B5: Número de Hogares | F5: Pobreza | I5: Canasta Básica (Lps/mes/hogar)
B6: Total | C6: No pobres | D6: Pobres | F6: Relativa | G6: Extrema | I6: Urbano | J6: Rural
A8: 2001 | B8: 1235165.5 | C8: 448636.87 | D8: 786528.67 | F8: 240263.31 | G8: 546265.36 | I8: 1374 | J8: 738.6
A9: 2002 | B9: 1312021.6 | C9: 462357.32 | D9: 849664.31 | F9: 251847.71 | G9: 597816.6 | I9: 1398 | J9: 747.7
A10: 2003 | B10: 1357423.6 | C10: 471465.3 | D10: 885958.34 | F10: 252146.18 | G10: 633812.15 | I10: 1400 | J10: 750.65
A11: 2004 | B11: 1392151.4 | C11: 493021.75 | D11: 899129.62 | F11: 256456.7 | G11: 642672.92 | I11: 1516.92 | J11: 766.76
A12: 2005 | B12: 1459656.1 | C12: 530505.4 | D12: 929150.75 | F12: 256991.94 | G12: 672158.82 | I12: 1644.3 | J12: 836.2
A13: 2006 | B13: 1516226.9 | C13: 607336.29 | D13: 908890.65 | F13: 296483.26 | G13: 612407.4 | I13: 1775.1 | J13: 895.1
A14: 2007 | B14: 1608123.7 | C14: 671402.24 | D14: 936721.46 | F14: 334093.94 | G14: 602627.53 | I14: 1971.92 | J14: 1005.9
A15: 2008 | B15: 1650934.3 | C15: 674224.85 | D15: 976709.47 | F15: 378381.76 | G15: 598327.7 | I15: 2406.87 | J15: 1260.27
A16: 2009 | B16: 1688103.7 | C16: 696341.67 | D16: 991762.04 | F16: 376937.24 | G16: 614824.8 | I16: 2547.55 | J16: 1341.65
A17: 2010 | B17: =[3]Cuadro01!B7 -> 1732600.5 | C17: =[3]Cuadro01!C7 -> 693737.42 | D17: =[3]Cuadro01!D7 -> 1038863.1 | F17: =[3]Cuadro01!E7 -> 362130.2 | G17: =[3]Cuadro01!F7 -> 676732.85 | I17: 2647.08 | J17: 1379.02
A18: 2011 | B18: =[4]Cuadro01!B9 -> 1718337.8 | C18: =[4]Cuadro01!C9 -> 654172.45 | D18: =[4]Cuadro01!D9 -> 1064165.3 | F18: =[4]Cuadro01!E9 -> 348678.92 | G18: =[4]Cuadro01!F9 -> 715486.4 | I18: =[4]Cuadro01!I11 -> 2725.08 | J18: =[4]Cuadro01!I15 -> 1445.64
A19: 2012 | B19: =[5]Cuadro01!B9 -> 1814582.3 | C19: =[5]Cuadro01!C9 -> 607884.57 | D19: =[5]Cuadro01!D9 -> 1206697.7 | F19: =[5]Cuadro01!E9 -> 371794.36 | G19: =[5]Cuadro01!F9 -> 834903.36 | I19: =[5]Cuadro01!I11 -> 2806.6933 | J19: =[5]Cuadro01!I15 -> 1465.2059
A20: 2013 | B20: 1888051.9 | C20: 670096.77 | D20: 1217955.1 | F20: 414319.19 | G20: 803635.95 | I20: 2949.5885 | J20: 1529.181
A21: 2014 | B21: 1928248.9 | C21: 716519.53 | D21: 1211729.4 | F21: 445442.35 | G21: 766287.03 | I21: 3140.1415 | J21: 1631.3857
A22: 2015 | B22: 1938822.9 | C22: 702204.11 | D22: 1236618.8 | F22: 461174.86 | G22: 775443.94 | I22: 3266.38 | J22: 1668.34
A23: 2016 | B23: 1983402.9 | C23: 775404.2 | D23: 1207998.7 | F23: 446297.15 | G23: 761701.58 | I23: 3298.0261 | J23: 1671.8265
A24: =Cuadro01!A17 -> Fuente: Instituto Nacional de Estadística (INE). LIV Encuesta Permanente de Hogares de Propósitos Múltiples, Junio 2016.
A25: * Año 2000: Encuesta no realizada debido al cierre de la Dirección General de Estadística y Censo.
A26: Nota: Solo incluye los hogares que declaran ingreso
A28: Hogares por nivel de pobreza
A29: Periodo 2001- 2016
A30: (Porcentaje)
A32: Período | B32: Número de Hogares | F32: Pobreza
B33: Total | C33: No pobres | D33: Pobres | F33: Relativa | G33: Extrema
A35: 2001 | B35: 100 | C35: 36.322004 | D35: 63.677996 | F35: 19.451911 | G35: 44.226085
A36: 2002 | B36: 100 | C36: 35.240068 | D36: 64.759932 | F36: 19.195393 | G36: 45.564539
A37: 2003 | B37: 100 | C37: 34.732363 | D37: 65.267637 | F37: 18.575349 | G37: 46.692288
A38: 2004 | B38: 100 | C38: 35.414378 | D38: 64.585622 | F38: 18.42161 | G38: 46.164012
A39: 2005 | B39: 100 | C39: 36.344546 | D39: 63.655454 | F39: 17.606334 | G39: 46.04912
A40: 2006 | B40: 100 | C40: 40.055764 | D40: 59.944236 | F40: 19.554016 | G40: 40.39022
A41: 2007 | B41: 100 | C41: 41.750659 | D41: 58.249341 | F41: 20.775388 | G41: 37.473953
A42: 2008 | B42: 100 | C42: 40.838987 | D42: 59.161013 | F42: 22.91925 | G42: 36.241763
A43: 2009 | B43: 100 | C43: 41.249934 | D43: 58.750066 | F43: 22.329033 | G43: 36.421032
A44: 2010 | B44: 100 | C44: 40.040242 | D44: 59.959758 | F44: 20.900964 | G44: 39.058794
A45: 2011 | B45: =[4]Cuadro02!B32 -> 100 | C45: =[4]Cuadro01!C26 -> 38.070073 | D45: =[4]Cuadro01!D26 -> 61.929927 | F45: =[4]Cuadro01!E26 -> 20.291641 | G45: =[4]Cuadro01!F26 -> 41.638286
...

Sheet Cuadro04
A3: Cuadro 3. Personas que viven en Hogares con ingreso percapita, de un dolar o menos por dia.
A5: Dominio | B5: Total | C5: Vive con mas de 1 Dolar por dia | E5: Vive con 1 dolar o menos por dia
C6: No | D6: % | E6: No | F6: %
A8: Total | B8: =+B10+B14 -> 8680049.1 | C8: =+C10+C14 -> 6938354.9 | D8: =+C8/B8*100 -> 79.934512 | E8: =+E10+E14 -> 1741694.2 | F8: =+E8/B8*100 -> 20.065488
A10: Urbano | B10: =+B11+B12+B13 -> 4687942.2 | C10: =+C11+C12+C13 -> 4254040.6 | D10: =+C10/B10*100 -> 90.744306 | E10: =+E11+E12+E13 -> 433901.58 | F10: =+E10/B10*100 -> 9.2556939
A11: Distrito Central | B11: =[1]Pobreza!C18 -> 1225406.1 | C11: =[1]Pobreza!D18 -> 1148117.2 | D11: =+C11/B11*100 -> 93.692799 | E11: =[1]Pobreza!E18 -> 77288.818 | F11: =+E11/B11*100 -> 6.3072005
A12: San Pedro Sula | B12: =[1]Pobreza!C19 -> 722770.3 | C12: =[1]Pobreza!D19 -> 697680.4 | D12: =+C12/B12*100 -> 96.528648 | E12: =[1]Pobreza!E19 -> 25089.902 | F12: =+E12/B12*100 -> 3.4713521
A13: Resto Urbano | B13: =[1]Pobreza!C20 -> 2739765.9 | C13: =[1]Pobreza!D20 -> 2408243 | D13: =+C13/B13*100 -> 87.899592 | E13: =[1]Pobreza!E20 -> 331522.86 | F13: =+E13/B13*100 -> 12.100408
A14: Rural | B14: =[1]Pobreza!C21 -> 3992106.9 | C14: =[1]Pobreza!D21 -> 2684314.3 | D14: =+C14/B14*100 -> 67.240542 | E14: =[1]Pobreza!E21 -> 1307792.6 | F14: =+E14/B14*100 -> 32.759458
A16: =Cuadro01!A17 -> Fuente: Instituto Nacional de Estadística (INE). LIV Encuesta Permanente de Hogares de Propósitos Múltiples, Junio 2016.
A17: Tasa de cambio: 22.9008911363636 lempiras por un dólar Americano. Dato correspondiente al promedio de las subastas realizadas por el BCH del mes de Junio 2016

Sheet Cuadro 05
A1: Cuadro No. 5 Indicadores de Pobreza Serie 2001 -2016
A3: Indicador | B3: 2001 | C3: 2002 | D3: 2003 | E3: 2004 | F3: 2005 | G3: 2006 | H3: 2007 | I3: 2008 | J3: 2009 | K3: 2010 | L3: 2011 | M3: 2012 | N3: 2013 | O3: 2014 | P3: 2015 | Q3: 2016
A4: Total
A5: Hogares | B5: 1235165.5 | C5: 1312021.6 | D5: 1357423.6 | E5: 1396884 | F5: 1459656.1 | G5: 1516226.9 | H5: 1608123.7 | I5: 1650934.3 | J5: 1688103.7 | K5: 1733503 | L5: 1718337.8 | M5: 1814582.3 | N5: 1888051.9 | O5: 1928248.9 | P5: 1938822.9 | Q5: 1983402.9
A6: Incidencia | B6: 0.63677996 | C6: 0.64759932 | D6: 0.65051645 | E6: 0.64705605 | F6: 0.63655454 | G6: 0.59944236 | H6: 0.58249341 | I6: 0.59161013 | J6: 0.58750066 | K6: 0.59980606 | L6: 0.61929927 | M6: 0.66526443 | N6: 0.64508562 | O6: 0.62840921 | P6: 0.63781936 | Q6: 0.60905362
A7: Brecha | B7: 0.53284435 | C7: 0.53904312 | D7: 0.54946522 | E7: 0.55371094 | F7: 0.55449988 | G7: 0.52999327 | H7: 0.48694583 | I7: 0.46851331 | J7: 0.47177242 | K7: 0.49113478 | L7: 0.51196062 | M7: 0.52757417 | N7: 0.50364505 | O7: 0.49324495 | P7: 0.4972829 | Q7: 0.50714333
A8: Intensidad | B8: 0.33930461 | C8: 0.34908396 | D8: 0.35743616 | E8: 0.35828202 | F8: 0.35296942 | G8: 0.31770042 | H8: 0.28364274 | I8: 0.27717722 | J8: 0.27716661 | K8: 0.29458562 | L8: 0.31705684 | M8: 0.35097633 | N8: 0.32489418 | O8: 0.30995967 | P8: 0.31717666 | Q8: 0.30887748
A9: Severidad | B9: 0.22253175 | C9: 0.23045234 | D9: 0.24107078 | E9: 0.24539476 | F9: 0.24012383 | G9: 0.21150055 | H9: 0.17326254 | I9: 0.16690963 | J9: 0.16732256 | K9: 0.18163936 | L9: 0.203964 | M9: 0.22947199 | N9: 0.20566146 | O9: 0.19256184 | P9: 0.19753076 | Q9: 0.19744919
A10: Gini | B10: 0.56354679 | C10: 0.56265955 | D10: 0.5824426 | E10: 0.58189221 | F10: 0.59684274 | G10: 0.5859984 | H10: 0.59197946 | I10: 0.54693921 | J10: 0.52546072 | K10: 0.54044905 | L10: 0.55229249 | M10: 0.57364422 | N10: 0.54368904 | O10: 0.51985963 | P10: 0.50577033 | Q10: 0.51812142
A12: Urbano
A13: Hogares | B13: 612397.89 | C13: 646708.51 | D13: 663881.34 | E13: 679966.31 | F13: 723706.28 | G13: 743823.55 | H13: 789231.58 | I13: 817241.6 | J13: 828383.31 | K13: 848680.07 | L13: 840264.58 | M13: 887073.46 | N13: 927128.97 | O13: 1057487.3 | P13: 1093646.2 | Q13: 1122054.4
A14: Incidencia | B14: 0.55904325 | C14: 0.58003804 | D14: 0.57032446 | E14: 0.57124588 | F14: 0.57740137 | G14: 0.52860457 | H14: 0.51030162 | I14: 0.5515786 | J14: 0.52840806 | K14: 0.54328708 | L14: 0.58503244 | M14: 0.63626955 | N14: 0.60369284 | O14: 0.61043828 | P14: 0.62964685 | Q14: 0.59411294
A15: Brecha | B15: 0.47056908 | C15: 0.48724397 | D15: 0.50541254 | E15: 0.50200102 | F15: 0.49381344 | G15: 0.46123184 | H15: 0.44383621 | I15: 0.44339431 | J15: 0.42126328 | K15: 0.45135981 | L15: 0.48960874 | M15: 0.50371429 | N15: 0.47776989 | O15: 0.47728253 | P15: 0.47650948 | Q15: 0.47743407
A16: Intensidad | B16: 0.26306847 | C16: 0.28262004 | D16: 0.28824914 | E16: 0.28676601 | F16: 0.28512856 | G16: 0.24380926 | H16: 0.22649034 | I16: 0.24456681 | J16: 0.22259891 | K16: 0.24521795 | L16: 0.28643699 | M16: 0.32049806 | N16: 0.28842626 | O16: 0.29135153 | P16: 0.3000327 | Q16: 0.28364976
A17: Severidad | B17: 0.15790733 | C17: 0.17437325 | D17: 0.18534159 | E17: 0.18534562 | F17: 0.1777465 | G17: 0.1458068 | H17: 0.12857801 | I17: 0.14189966 | J17: 0.12358693 | K17: 0.14321155 | L17: 0.17889695 | M17: 0.20297171 | N17: 0.17530289 | O17: 0.17609198 | P17: 0.18191862 | Q17: 0.17409271
A19: Rural
A20: Hogares | B20: 622767.66 | C20: 665313.11 | D20: 693542.3 | E20: 716917.69 | F20: 735949.87 | G20: 772403.4 | H20: 818892.12 | I20: 833692.72 | J20: 859720.4 | K20: 884822.96 | L20: 878073.19 | M20: 927508.83 | N20: 960922.93 | O20: 870761.6 | P20: 845176.75 | Q20: 861348.56
A21: Incidencia | B21: 0.71322227 | C21: 0.71327133 | D21: 0.72727883 | E21: 0.71895882 | F21: 0.69472362 | G21: 0.66765906 | H21: 0.65207039 | I21: 0.63085172 | J21: 0.64443931 | K21: 0.65401637 | L21: 0.65209062 | M21: 0.69299526 | N21: 0.68502269 | O21: 0.65023383 | P21: 0.64839447 | Q21: 0.62851642
A22: Brecha | B22: 0.58084463 | C22: 0.57998868 | D22: 0.58253345 | E22: 0.5926792 | F22: 0.60409872 | G22: 0.58241928 | H22: 0.51946088 | I22: 0.49004246 | J22: 0.51167781 | K22: 0.52282596 | L22: 0.53115047 | M22: 0.54852593 | N22: 0.52564621 | O22: 0.51144392 | P22: 0.52338617 | Q22: 0.54372631
A23: Intensidad | B23: 0.41427133 | C23: 0.4136893 | D23: 0.42366425 | E23: 0.42611194 | F23: 0.41968165 | G23: 0.38885751 | H23: 0.33872506 | I23: 0.30914413 | J23: 0.32974529 | K23: 0.34193673 | L23: 0.34635824 | M23: 0.38012587 | N23: 0.36007958 | O23: 0.33255814 | P23: 0.3393607 | Q23: 0.34174091
A24: Severidad | B24: 0.28608009 | C24: 0.28496325 | D24: 0.29441658 | E24: 0.30234884 | F24: 0.30146342 | G24: 0.27476355 | H24: 0.21632858 | I24: 0.19142609 | J24: 0.209464 | K24: 0.21849749 | L24: 0.2279517 | M24: 0.25481698 | N24: 0.23495237 | O24: 0.21256349 | P24: 0.21773263 | Q24: 0.22787501
A26: =Cuadro01!A17 -> Fuente: Instituto Nacional de Estadística (INE). LIV Encuesta Permanente de Hogares de Propósitos Múltiples, Junio 2016.

Sheet Cuadro  06
B2: Cuadro No. 6 Indicadores de Ingreso y Desigualdad. Serie 2001-2016
B4: Año | C4: Coeficiente de GINI | D4: Ingreso Percapita de los Hogares( Lempiras) | E4: Ingreso percapita del Quintil I ( Lempiras) | F4: Ingreso percapita del Quintil V( Lempiras)
B5: 2001 | C5: 0.56354679 | D5: 1210.5449 | E5: 117.91467 | F5: 3679.7735
B6: 2002 | C6: 0.56265955 | D6: 1285.46 | E6: 170.23 | F6: 4100.51
B7: 2003 | C7: 0.5824426 | D7: 1350.484 | E7: 148.18 | F7: 4227.03
B8: 2004 | C8: 0.58189221 | D8: 1431.171 | E8: 147.9 | F8: 4532.32
B9: 2005 | C9: 0.59684274 | D9: 1594.578 | E9: 139.12599 | F9: 5066.6178
B10: 2006 | C10: 0.5859984 | D10: 1886.8468 | E10: 179.21943 | F10: 5874.48
B11: 2007 | C11: 0.59197946 | D11: 2367.9469 | E11: 283.89541 | F11: 7534.3551
B12: 2008 | C12: 0.54693921 | D12: 2499.8966 | E12: 399.65588 | F12: 7319.7672
B13: 2009 | C13: 0.52546072 | D13: 2578.6275 | E13: 390.39111 | F13: 7349.224
B14: 2010 | C14: 0.54044905 | D14: 2655.1609 | E14: 380.34606 | F14: 7761.3631
B15: 2011 | C15: 0.55229249 | D15: 2773.538 | E15: 345.83825 | F15: 8505.6622
B16: 2012 | C16: 0.57364422 | D16: 2549.9393 | E16: 318.00986 | F16: 7873.62
... B20: 2016 | C20: 0.51812142 | D20: 3103.3312 | E20: 431.81718 | F20: 8619.5769
B21: =Cuadro01!A17 -> Fuente: Instituto Nacional de Estadística (INE). LIV Encuesta Permanente de Hogares de Propósitos Múltiples, Junio 2016.
