Workbook

Sheet Portada

Sheet C01
A2: Cuadro No. 1. Población Económicamente Activa (PEA) en condición de empleo, según dominio, rama de actividad y ocupación
A4: Categorías | B4: PEA | D4: Ocupados | F4: Desocupados | I4: Subempleo Visible | L4: Subempleo Invisible
B5: No. | C5: AEP | D5: No. | E5: AEP | F5: No. | G5: AEP | H5: TDA | I5: No. | J5: AEP | K5: TSV | L5: No. | M5: AEP | N5: TSI
A7: Total Nacional | B7: 4336377.9 | C7: 7.7901755 | D7: 4090651.4 | E7: 7.680421 | F7: 245726.5 | G7: 9.4894605 | H7: =F7/B7*100 -> 5.6666301 | I7: 582825.65 | J7: 7.8353187 | K7: =IF(ISNUMBER(I7/D7*100),I7/D7*100,0) -> 14.247747 | L7: 1987242.5 | M7: 7.0019011 | N7: =IF(ISNUMBER(L7/D7*100),L7/D7*100,0) -> 48.580099
A9: Dominio
A10: Urbano | B10: =SUM(B11:B13) -> 2420935 | C10: 9.1124341 | D10: =SUM(D11:D13) -> 2227420.7 | E10: 9.0330191 | F10: =SUM(F11:F13) -> 193514.29 | G10: 9.9887285 | H10: =F10/B10*100 -> 7.99337 | I10: =SUM(I11:I13) -> 302092.7 | J10: 9.0196852 | K10: =IF(ISNUMBER(I10/D10*100),I10/D10*100,0) -> 13.562444 | L10: =SUM(L11:L13) -> 1035970.6 | M10: 8.2093335 | N10: =IF(ISNUMBER(L10/D10*100),L10/D10*100,0) -> 46.509876
A11: Distrito Central | B11: 525921.23 | C11: 10.278923 | D11: 476944.5 | E11: 10.175208 | F11: 48976.729 | G11: 11.270281 | H11: =F11/B11*100 -> 9.3125599 | I11: 70478.708 | J11: 10.332427 | K11: =IF(ISNUMBER(I11/D11*100),I11/D11*100,0) -> 14.77713 | L11: 202252.99 | M11: 9.2788462 | N11: =IF(ISNUMBER(L11/D11*100),L11/D11*100,0) -> 42.40598
A12: San Pedro Sula | B12: 297219.16 | C12: 9.7624067 | D12: 274052.2 | E12: 9.7343094 | F12: 23166.961 | G12: 10.096112 | H12: =F12/B12*100 -> 7.7945719 | I12: 21232.282 | J12: 8.7521912 | K12: =IF(ISNUMBER(I12/D12*100),I12/D12*100,0) -> 7.7475322 | L12: 126082.05 | M12: 8.7289606 | N12: =IF(ISNUMBER(L12/D12*100),L12/D12*100,0) -> 46.006581
A13: Resto urbano | B13: 1597794.6 | C13: 8.5935527 | D13: 1476424 | E13: 8.5181762 | F13: 121370.6 | G13: 9.4578151 | H13: =F13/B13*100 -> 7.5961328 | I13: 210381.71 | J13: 8.5911431 | K13: =IF(ISNUMBER(I13/D13*100),I13/D13*100,0) -> 14.249409 | L13: 707635.58 | M13: 7.8024406 | N13: =IF(ISNUMBER(L13/D13*100),L13/D13*100,0) -> 47.929021
A14: Rural | B14: 1915442.9 | C14: 5.9554826 | D14: 1863230.7 | E14: 5.9071771 | F14: 52212.204 | G14: 7.5416667 | H14: =F14/B14*100 -> 2.7258554 | I14: 280732.95 | J14: 6.4663438 | K14: =IF(ISNUMBER(I14/D14*100),I14/D14*100,0) -> 15.066999 | L14: 951271.87 | M14: 5.5358694 | N14: =IF(ISNUMBER(L14/D14*100),L14/D14*100,0) -> 51.054971
K15: =IF(ISNUMBER(I15/D15*100),I15/D15*100,0) -> 0 | N15: =IF(ISNUMBER(L15/D15*100),L15/D15*100,0) -> 0
A16: Rango de Edad
A17: De 10 a 11 años | B17: 36346.29 | C17: 3.8302235 | D17: 36038.435 | E17: 3.8548635 | F17: 307.85497 | G17: 1 | H17: =F17/B17*100 -> 0.84700521 | I17: 4011.5707 | J17: 2.9022286 | K17: =IF(ISNUMBER(I17/D17*100),I17/D17*100,0) -> 11.131368 | L17: 494.50409 | M17: 5.1323412 | N17: =IF(ISNUMBER(L17/D17*100),L17/D17*100,0) -> 1.3721575
A18: De 12 a 14 años | B18: 138674.61 | C18: 5.807638 | D18: 136362.34 | E18: 5.8205533 | F18: 2312.2747 | G18: 5.0644278 | H18: =F18/B18*100 -> 1.6674103 | I18: 22883.745 | J18: 5.835307 | K18: =IF(ISNUMBER(I18/D18*100),I18/D18*100,0) -> 16.781573 | L18: 20024.623 | M18: 5.7973207 | N18: =IF(ISNUMBER(L18/D18*100),L18/D18*100,0) -> 14.684863
A19: De 15 a 18 años | B19: 342390.76 | C19: 7.3702058 | D19: 307284.12 | E19: 7.2362383 | F19: 35106.646 | G19: 8.5339452 | H19: =F19/B19*100 -> 10.253386 | I19: 66493.777 | J19: 7.28798 | K19: =IF(ISNUMBER(I19/D19*100),I19/D19*100,0) -> 21.639184 | L19: 122355.17 | M19: 6.8513484 | N19: =IF(ISNUMBER(L19/D19*100),L19/D19*100,0) -> 39.818253
A20: De 19 a 24 años | B20: 736913.44 | C20: 8.897617 | D20: 653214.06 | E20: 8.7455502 | F20: 83699.371 | G20: 10.04888 | H20: =F20/B20*100 -> 11.358101 | I20: 96067.968 | J20: 8.9263988 | K20: =IF(ISNUMBER(I20/D20*100),I20/D20*100,0) -> 14.706966 | L20: 364147.57 | M20: 8.3250723 | N20: =IF(ISNUMBER(L20/D20*100),L20/D20*100,0) -> 55.747049
A21: De 25 a 29 años | B21: 519877.74 | C21: 9.259164 | D21: 478492.74 | E21: 9.1509346 | F21: 41385.003 | G21: 10.468896 | H21: =F21/B21*100 -> 7.960526 | I21: 64432.617 | J21: 9.618314 | K21: =IF(ISNUMBER(I21/D21*100),I21/D21*100,0) -> 13.465746 | L21: 256083.36 | M21: 8.2204841 | N21: =IF(ISNUMBER(L21/D21*100),L21/D21*100,0) -> 53.518755
A22: De 30 a 34 años | B22: 468795.74 | C22: 8.6196527 | D22: 441045.18 | E22: 8.4772154 | F22: 27750.563 | G22: 10.828399 | H22: =F22/B22*100 -> 5.9195425 | I22: 67172.056 | J22: 8.8030296 | K22: =IF(ISNUMBER(I22/D22*100),I22/D22*100,0) -> 15.230199 | L22: 225153.83 | M22: 7.400154 | N22: =IF(ISNUMBER(L22/D22*100),L22/D22*100,0) -> 51.05006
A23: De 35 a 39 años | B23: 411808.47 | C23: 7.7817847 | D23: 397448.01 | E23: 7.726378 | F23: 14360.465 | G23: 9.3186437 | H23: =F23/B23*100 -> 3.4871708 | I23: 59704.95 | J23: 7.0371195 | K23: =IF(ISNUMBER(I23/D23*100),I23/D23*100,0) -> 15.022078 | L23: 209921.53 | M23: 6.8635304 | N23: =IF(ISNUMBER(L23/D23*100),L23/D23*100,0) -> 52.817355
A24: De 40 a 44 años | B24: 387484.58 | C24: 7.3670782 | D24: 376321.11 | E24: 7.3504142 | F24: 11163.479 | G24: 7.8930978 | H24: =F24/B24*100 -> 2.8810125 | I24: 49910.631 | J24: 7.8259357 | K24: =IF(ISNUMBER(I24/D24*100),I24/D24*100,0) -> 13.262777 | L24: 200019.27 | M24: 6.2418382 | N24: =IF(ISNUMBER(L24/D24*100),L24/D24*100,0) -> 53.151224
A25: De 45 a 49 años | B25: 324671.89 | C25: 7.3643583 | D25: 315701.3 | E25: 7.3764944 | F25: 8970.5861 | G25: 6.9288159 | H25: =F25/B25*100 -> 2.7629698 | I25: 49052.492 | J25: 6.9769019 | K25: =IF(ISNUMBER(I25/D25*100),I25/D25*100,0) -> 15.537627 | L25: 155749.8 | M25: 6.2845691 | N25: =IF(ISNUMBER(L25/D25*100),L25/D25*100,0) -> 49.334545
A26: De 50 a 54 años | B26: 282224.45 | C26: 7.1404738 | D26: 276307.33 | E26: 7.1149095 | F26: 5917.121 | G26: 8.2849185 | H26: =F26/B26*100 -> 2.0966012 | I26: 33718.673 | J26: 7.0120375 | K26: =IF(ISNUMBER(I26/D26*100),I26/D26*100,0) -> 12.203322 | L26: 135572.22 | M26: 6.0119992 | N26: =IF(ISNUMBER(L26/D26*100),L26/D26*100,0) -> 49.065736
A27: De 55 a 59 años | B27: 232261.13 | C27: 6.8705963 | D27: 226478.31 | E27: 6.8184253 | F27: 5782.8209 | G27: 8.9114263 | H27: =F27/B27*100 -> 2.4897929 | I27: 24981.45 | J27: 7.2088491 | K27: =IF(ISNUMBER(I27/D27*100),I27/D27*100,0) -> 11.030394 | L27: 109723.06 | M27: 5.1792245 | N27: =IF(ISNUMBER(L27/D27*100),L27/D27*100,0) -> 48.447492
A28: De 60 a 64 años | B28: 179714.75 | C28: 5.9336232 | D28: 174825.2 | E28: 5.913349 | F28: 4889.5456 | G28: 6.5203934 | H28: =F28/B28*100 -> 2.7207258 | I28: 21590.391 | J28: 5.9892242 | K28: =IF(ISNUMBER(I28/D28*100),I28/D28*100,0) -> 12.349702 | L28: 74649.032 | M28: 5.2520637 | N28: =IF(ISNUMBER(L28/D28*100),L28/D28*100,0) -> 42.699239
A29: De 65 años y más | B29: 275214.04 | C29: 5.2178164 | D29: 271133.27 | E29: 5.2025037 | F29: 4080.7667 | G29: 5.9210146 | H29: =F29/B29*100 -> 1.4827611 | I29: 22805.326 | J29: 6.3255619 | K29: =IF(ISNUMBER(I29/D29*100),I29/D29*100,0) -> 8.4111131 | L29: 113348.53 | M29: 4.6847296 | N29: =IF(ISNUMBER(L29/D29*100),L29/D29*100,0) -> 41.805465
A31: Fuente: Instituto Nacional de Estadística (INE). Encuesta Permanente de Hogares de Propósitos Múltiples, LXI 2018.
A32: AEP: Años de Estudio Promedio
A33: TDA: Tasa de Desempleo Abierto
A34: TSV: Tasa de Subempleo Visible
A35: TSI: Tasa de Subempleo Invisible
A37: =A2 -> Cuadro No. 1. Población Económicamente Activa (PEA) en condición de empleo, según dominio, rama de actividad y ocupación
A38: ....... Continuación
A39: =A4 -> Categorías | B39: =B4 -> PEA | D39: =D4 -> Ocupados | F39: =F4 -> Desocupados | I39: =I4 -> Subempleo Visible | L39: =L4 -> Subempleo Invisible
B40: =B5 -> No. | C40: =C5 -> AEP | D40: =D5 -> No. | E40: =E5 -> AEP | F40: =F5 -> No. | G40: =G5 -> AEP | H40: =H5 -> TDA | I40: =I5 -> No. | ... N40: =N5 -> TSI
A42: =A7 -> Total Nacional | B42: =B7 -> 4336377.9 | C42: =C7 -> 7.7901755 | D42: =D7 -> 4090651.4 | E42: =E7 -> 7.680421 | F42: =F7 -> 245726.5 | G42: =G7 -> 9.4894605 | H42: =H7 -> 5.6666301 | ... N42: =N7 -> 48.580099
A44: Rama de Actividad
A45: Agricultura, ganaderia, silvicultura y pesca | B45: 1294551 | C45: 5.3510345 | D45: 1294551 | E45: 5.3510345 | F45: 0 | G45: 0 | H45: =F45/B45*100 -> 0 | I45: 165966.74 | J45: 5.8651875 | K45: =IF(ISNUMBER(I45/D45*100),I45/D45*100,0) -> 12.820409 | L45: 682742.07 | M45: 4.9987299 | N45: =IF(ISNUMBER(L45/D45*100),L45/D45*100,0) -> 52.73968
A46: Explotacion de minas y canteras | B46: 6276.0282 | C46: 5.8935965 | D46: 6276.0282 | E46: 5.8935965 | F46: 0 | G46: 0 | H46: =F46/B46*100 -> 0 | I46: 1052.2907 | J46: 4.5 | K46: =IF(ISNUMBER(I46/D46*100),I46/D46*100,0) -> 16.766826 | L46: 4384.0486 | M46: 5.5123077 | N46: =IF(ISNUMBER(L46/D46*100),L46/D46*100,0) -> 69.85387
A47: Industria manufacturera | B47: 549797.23 | C47: 7.9679465 | D47: 549797.23 | E47: 7.9679465 | F47: 0 | G47: 0 | H47: =F47/B47*100 -> 0 | I47: 72153.647 | J47: 7.4197966 | K47: =IF(ISNUMBER(I47/D47*100),I47/D47*100,0) -> 13.123683 | L47: 275320.78 | M47: 7.8455319 | N47: =IF(ISNUMBER(L47/D47*100),L47/D47*100,0) -> 50.076786
A48: Suministro de electricidad, gas, vapor y aire acondicionado | B48: 4566.9373 | C48: 9.7605504 | D48: 4566.9373 | E48: 9.7605504 | F48: 0 | G48: 0 | H48: =F48/B48*100 -> 0 | I48: 307.85497 | J48: 8 | K48: =IF(ISNUMBER(I48/D48*100),I48/D48*100,0) -> 6.7409503 | L48: 857.0049 | M48: 6 | N48: =IF(ISNUMBER(L48/D48*100),L48/D48*100,0) -> 18.765418
...

Sheet C02
A1: Cuadro No. 2. Población Económicamente Activa (PEA) en condición de empleo, según dominio, rango de edad, rama de actividad y ocupación
A2: HOMBRES
A3: Categorías | B3: PEA | D3: Ocupados | F3: Desocupados | I3: Subempleo Visible | L3: Subempleo Invisible
B4: No. | C4: AEP | D4: No. | E4: AEP | F4: No. | G4: AEP | H4: TDA | I4: No. | J4: AEP | K4: TSV | L4: No. | M4: AEP | N4: TSI
A6: Total Nacional | B6: 2609240 | C6: 7.3028071 | D6: 2490998.3 | E6: 7.2125761 | F6: 118241.65 | G6: 9.0630078 | H6: =F6/B6*100 -> 4.5316509 | I6: 250085.43 | J6: 7.6016499 | K6: =IF(ISNUMBER(I6/D6*100),I6/D6*100,0) -> 10.039566 | L6: 1392846.3 | M6: 6.5087595 | N6: =IF(ISNUMBER(L6/D6*100),L6/D6*100,0) -> 55.915186
A8: Dominio
A9: Urbano | B9: =SUM(B10:B12) -> 1295345.7 | C9: 8.7529251 | D9: =SUM(D10:D12) -> 1196652.9 | E9: 8.6985196 | F9: =SUM(F10:F12) -> 98692.856 | G9: 9.3894017 | H9: =F9/B9*100 -> 7.6190358 | I9: =SUM(I10:I12) -> 125034.74 | J9: 8.8308883 | K9: =IF(ISNUMBER(I9/D9*100),I9/D9*100,0) -> 10.448706 | L9: =SUM(L10:L12) -> 605291.75 | M9: 7.8510139 | N9: =IF(ISNUMBER(L9/D9*100),L9/D9*100,0) -> 50.582066
A10: Distrito Central | B10: 264705.78 | C10: 10.035513 | D10: 241411.97 | E10: 9.957587 | F10: 23293.81 | G10: 10.838576 | H10: =F10/B10*100 -> 8.7998872 | I10: 27736.059 | J10: 10.120192 | K10: =IF(ISNUMBER(I10/D10*100),I10/D10*100,0) -> 11.489099 | L10: 109357.72 | M10: 8.7839572 | N10: =IF(ISNUMBER(L10/D10*100),L10/D10*100,0) -> 45.299211
A11: San Pedro Sula | B11: 160004.51 | C11: 9.6062692 | D11: 150724.61 | E11: 9.5872766 | F11: 9279.901 | G11: 9.9157509 | H11: =F11/B11*100 -> 5.7997746 | I11: 8525.7041 | J11: 8.5235294 | K11: =IF(ISNUMBER(I11/D11*100),I11/D11*100,0) -> 5.6564778 | L11: 70337.059 | M11: 8.7342995 | N11: =IF(ISNUMBER(L11/D11*100),L11/D11*100,0) -> 46.665941
A12: Resto urbano | B12: 870635.44 | C12: 8.1882801 | D12: 804516.3 | E12: 8.1342422 | F12: 66119.145 | G12: 8.8123425 | H12: =F12/B12*100 -> 7.5943548 | I12: 88772.976 | J12: 8.4349785 | K12: =IF(ISNUMBER(I12/D12*100),I12/D12*100,0) -> 11.034329 | L12: 425596.97 | M12: 7.4511034 | N12: =IF(ISNUMBER(L12/D12*100),L12/D12*100,0) -> 52.900975
A13: Rural | B13: 1313894.2 | C13: 5.7214245 | D13: 1294345.5 | E13: 5.6953622 | F13: 19548.791 | G13: 7.3179487 | H13: =F13/B13*100 -> 1.4878512 | I13: 125050.69 | J13: 6.3000555 | K13: =IF(ISNUMBER(I13/D13*100),I13/D13*100,0) -> 9.6613072 | L13: 787554.6 | M13: 5.3449656 | N13: =IF(ISNUMBER(L13/D13*100),L13/D13*100,0) -> 60.845781
K14: =IF(ISNUMBER(I14/D14*100),I14/D14*100,0) -> 0 | N14: =IF(ISNUMBER(L14/D14*100),L14/D14*100,0) -> 0
A15: Rango de Edad
A16: De 10 a 11 años | B16: 25012.063 | C16: 3.687059 | D16: 24704.208 | E16: 3.7209667 | F16: 307.85497 | G16: 1 | H16: =F16/B16*100 -> 1.230826 | I16: 2403.2049 | J16: 2.6429261 | K16: =IF(ISNUMBER(I16/D16*100),I16/D16*100,0) -> 9.7279172 | L16: 0 | M16: 0 | N16: =IF(ISNUMBER(L16/D16*100),L16/D16*100,0) -> 0
A17: De 12 a 14 años | B17: 104019.75 | C17: 5.7098604 | D17: 102780.81 | E17: 5.7062845 | F17: 1238.9398 | G17: 6 | H17: =F17/B17*100 -> 1.1910621 | I17: 16040.419 | J17: 5.5909246 | K17: =IF(ISNUMBER(I17/D17*100),I17/D17*100,0) -> 15.606433 | L17: 15839.286 | M17: 5.6435858 | N17: =IF(ISNUMBER(L17/D17*100),L17/D17*100,0) -> 15.410743
A18: De 15 a 18 años | B18: 238663.83 | C18: 7.0298255 | D18: 222468.12 | E18: 6.9351947 | F18: 16195.712 | G18: 8.3341241 | H18: =F18/B18*100 -> 6.7859934 | I18: 42082.648 | J18: 7.0951605 | K18: =IF(ISNUMBER(I18/D18*100),I18/D18*100,0) -> 18.91626 | L18: 97007.971 | M18: 6.5995887 | N18: =IF(ISNUMBER(L18/D18*100),L18/D18*100,0) -> 43.605336
A19: De 19 a 24 años | B19: 464202.13 | C19: 8.2802245 | D19: 426294.03 | E19: 8.1536117 | F19: 37908.107 | G19: 9.6475791 | H19: =F19/B19*100 -> 8.1662931 | I19: 47664.168 | J19: 8.5899832 | K19: =IF(ISNUMBER(I19/D19*100),I19/D19*100,0) -> 11.181055 | L19: 261553.71 | M19: 7.7673613 | N19: =IF(ISNUMBER(L19/D19*100),L19/D19*100,0) -> 61.355238
A20: De 25 a 29 años | B20: 304185.33 | C20: 8.7004312 | D20: 287036.11 | E20: 8.578954 | F20: 17149.223 | G20: 10.642486 | H20: =F20/B20*100 -> 5.6377548 | I20: 23012.3 | J20: 9.1839352 | K20: =IF(ISNUMBER(I20/D20*100),I20/D20*100,0) -> 8.0172145 | L20: 177554.24 | M20: 7.647898 | N20: =IF(ISNUMBER(L20/D20*100),L20/D20*100,0) -> 61.857805
A21: De 30 a 34 años | B21: 264875.67 | C21: 7.932552 | D21: 250698.82 | E21: 7.8044819 | F21: 14176.848 | G21: 10.12755 | H21: =F21/B21*100 -> 5.3522649 | I21: 21807.274 | J21: 9.1972521 | K21: =IF(ISNUMBER(I21/D21*100),I21/D21*100,0) -> 8.6985946 | L21: 149558.64 | M21: 6.5676157 | N21: =IF(ISNUMBER(L21/D21*100),L21/D21*100,0) -> 59.656697
A22: De 35 a 39 años | B22: 222585.93 | C22: 7.0530426 | D22: 217828.99 | E22: 7.0040802 | F22: 4756.9432 | G22: 9.3540024 | H22: =F22/B22*100 -> 2.1371267 | I22: 18200.297 | J22: 6.6788618 | K22: =IF(ISNUMBER(I22/D22*100),I22/D22*100,0) -> 8.3553147 | L22: 141983.86 | M22: 6.2198249 | N22: =IF(ISNUMBER(L22/D22*100),L22/D22*100,0) -> 65.181345
A23: De 40 a 44 años | B23: 214724.82 | C23: 6.9352558 | D23: 209666.19 | E23: 6.8997987 | F23: 5058.6268 | G23: 8.3848443 | H23: =F23/B23*100 -> 2.355865 | I23: 12847.951 | J23: 7.4364733 | K23: =IF(ISNUMBER(I23/D23*100),I23/D23*100,0) -> 6.1278124 | L23: 134565.24 | M23: 5.8604129 | N23: =IF(ISNUMBER(L23/D23*100),L23/D23*100,0) -> 64.180707
A24: De 45 a 49 años | B24: 187803.42 | C24: 6.8465787 | D24: 182084.2 | E24: 6.8746151 | F24: 5719.2148 | G24: 5.9851708 | H24: =F24/B24*100 -> 3.0453199 | I24: 15979.435 | J24: 7.6248454 | K24: =IF(ISNUMBER(I24/D24*100),I24/D24*100,0) -> 8.7758492 | L24: 106758.66 | M24: 5.8215624 | N24: =IF(ISNUMBER(L24/D24*100),L24/D24*100,0) -> 58.631479
A25: De 50 a 54 años | B25: 162163.69 | C25: 6.7925236 | D25: 158360.86 | E25: 6.773831 | F25: 3802.8311 | G25: 7.4966005 | H25: =F25/B25*100 -> 2.3450571 | I25: 13855.244 | J25: 7.5933391 | K25: =IF(ISNUMBER(I25/D25*100),I25/D25*100,0) -> 8.7491595 | L25: 93908.563 | M25: 5.5854982 | N25: =IF(ISNUMBER(L25/D25*100),L25/D25*100,0) -> 59.300363
A26: De 55 a 59 años | B26: 135975.4 | C26: 6.8201744 | D26: 131916.48 | E26: 6.7376016 | F26: 4058.9131 | G26: 9.4988903 | H26: =F26/B26*100 -> 2.9850349 | I26: 11606.891 | J26: 6.4030797 | K26: =IF(ISNUMBER(I26/D26*100),I26/D26*100,0) -> 8.798666 | L26: 76234.204 | M26: 5.1070785 | N26: =IF(ISNUMBER(L26/D26*100),L26/D26*100,0) -> 57.789748
A27: De 60 a 64 años | B27: 110860.6 | C27: 6.2178146 | D27: 106381.68 | E27: 6.2272975 | F27: 4478.9175 | G27: 6.0463431 | H27: =F27/B27*100 -> 4.0401348 | I27: 11263.728 | J27: 6.7140891 | K27: =IF(ISNUMBER(I27/D27*100),I27/D27*100,0) -> 10.588033 | L27: 56686.859 | M27: 5.2844066 | N27: =IF(ISNUMBER(L27/D27*100),L27/D27*100,0) -> 53.286298
A28: De 65 años y más | B28: 174167.35 | C28: 4.9656934 | D28: 170777.84 | E28: 4.9284667 | F28: 3389.5155 | G28: 6.1817328 | H28: =F28/B28*100 -> 1.9461256 | I28: 13321.871 | J28: 6.3765887 | K28: =IF(ISNUMBER(I28/D28*100),I28/D28*100,0) -> 7.8007022 | L28: 81195.102 | M28: 3.9866501 | N28: =IF(ISNUMBER(L28/D28*100),L28/D28*100,0) -> 47.544285
A30: ='C01'!$A$31 -> Fuente: Instituto Nacional de Estadística (INE). Encuesta Permanente de Hogares de Propósitos Múltiples, LXI 2018.
A31: AEP: Años de Estudio Promedio
A32: TDA: Tasa de Desempleo Abierto
A33: TSV: Tasa de Subempleo Visible
A34: TSI: Tasa de Subempleo Invisible
A36: =A1 -> Cuadro No. 2. Población Económicamente Activa (PEA) en condición de empleo, según dominio, rango de edad, rama de actividad y ocupación
A37: Hombres
A38: ....... Continuación
A39: =A3 -> Categorías | B39: =B3 -> PEA | D39: =D3 -> Ocupados | F39: =F3 -> Desocupados | I39: =I3 -> Subempleo Visible | L39: =L3 -> Subempleo Invisible
B40: =B4 -> No. | C40: =C4 -> AEP | D40: =D4 -> No. | E40: =E4 -> AEP | F40: =F4 -> No. | G40: =G4 -> AEP | H40: =H4 -> TDA | I40: =I4 -> No. | ... N40: =N4 -> TSI
A42: =A6 -> Total Nacional | B42: =B6 -> 2609240 | C42: =C6 -> 7.3028071 | D42: =D6 -> 2490998.3 | E42: =E6 -> 7.2125761 | F42: =F6 -> 118241.65 | G42: =G6 -> 9.0630078 | H42: =H6 -> 4.5316509 | ... N42: =N6 -> 55.915186
A44: Rama de Actividad
A45: ='C01'!A45 -> Agricultura, ganaderia, silvicultura y pesca | B45: 1113762.3 | C45: 5.368536 | D45: 1113762.3 | E45: 5.368536 | F45: 0 | G45: 0 | H45: =F45/B45*100 -> 0 | I45: 119740.44 | J45: 5.9096178 | K45: =IF(ISNUMBER(I45/D45*100),I45/D45*100,0) -> 10.750987 | L45: 655713.8 | M45: 4.9662388 | N45: =IF(ISNUMBER(L45/D45*100),L45/D45*100,0) -> 58.873762
A46: ='C01'!A46 -> Explotacion de minas y canteras | B46: 5044.6083 | C46: 5.4599562 | D46: 5044.6083 | E46: 5.4599562 | F46: 0 | G46: 0 | H46: =F46/B46*100 -> 0 | I46: 1052.2907 | J46: 4.5 | K46: =IF(ISNUMBER(I46/D46*100),I46/D46*100,0) -> 20.859711 | L46: 3768.3386 | M46: 4.7810482 | N46: =IF(ISNUMBER(L46/D46*100),L46/D46*100,0) -> 74.700322
...

Sheet C03
A1: Cuadro No. 3. Población Económicamente Activa (PEA) en condición de empleo, según dominio, rama de actividad y ocupación
A2: Mujeres
A3: Categorías | B3: PEA | D3: Ocupados | F3: Desocupados | I3: Subempleo Visible | L3: Subempleo Invisible
B4: No. | C4: AEP | D4: No. | E4: AEP | F4: No. | G4: AEP | H4: TDA | I4: No. | J4: AEP | K4: TSV | L4: No. | M4: AEP | N4: TSI
A6: Total Nacional | B6: 1727137.9 | C6: 8.5061746 | D6: 1599653.1 | E6: 8.3896599 | F6: 127484.85 | G6: 9.8803025 | H6: =F6/B6*100 -> 7.381278 | I6: 332740.22 | J6: 8.0099387 | K6: =IF(ISNUMBER(I6/D6*100),I6/D6*100,0) -> 20.800774 | L6: 594396.14 | M6: 8.0893069 | N6: =IF(ISNUMBER(L6/D6*100),L6/D6*100,0) -> 37.157816
A8: Dominio
A9: Urbano | B9: =SUM(B10:B12) -> 1125589.3 | C9: 9.5245193 | D9: =SUM(D10:D12) -> 1030767.8 | E9: 9.4203604 | F9: =SUM(F10:F12) -> 94821.437 | G9: 10.602926 | H9: =F9/B9*100 -> 8.4241595 | I9: =SUM(I10:I12) -> 177057.96 | J9: 9.1510205 | K9: =IF(ISNUMBER(I9/D9*100),I9/D9*100,0) -> 17.177287 | L9: =SUM(L10:L12) -> 430678.87 | M9: 8.7095562 | N9: =IF(ISNUMBER(L9/D9*100),L9/D9*100,0) -> 41.782334
A10: Distrito Central | B10: 261215.44 | C10: 10.526724 | D10: 235532.52 | E10: 10.399867 | F10: 25682.919 | G10: 11.654867 | H10: =F10/B10*100 -> 9.8320829 | I10: 42742.648 | J10: 10.471622 | K10: =IF(ISNUMBER(I10/D10*100),I10/D10*100,0) -> 18.147238 | L10: 92895.267 | M10: 9.8713188 | N10: =IF(ISNUMBER(L10/D10*100),L10/D10*100,0) -> 39.440526
A11: San Pedro Sula | B11: 137214.65 | C11: 9.9442526 | D11: 123327.59 | E11: 9.9137293 | F11: 13887.06 | G11: 10.216646 | H11: =F11/B11*100 -> 10.120683 | I11: 12706.578 | J11: 8.9087248 | K11: =IF(ISNUMBER(I11/D11*100),I11/D11*100,0) -> 10.303111 | L11: 55744.988 | M11: 8.7221365 | N11: =IF(ISNUMBER(L11/D11*100),L11/D11*100,0) -> 45.200744
A12: Resto urbano | B12: 727159.19 | C12: 9.0756796 | D12: 671907.73 | E12: 8.9754929 | F12: 55251.458 | G12: 10.214702 | H12: =F12/B12*100 -> 7.5982616 | I12: 121608.73 | J12: 8.7021938 | K12: =IF(ISNUMBER(I12/D12*100),I12/D12*100,0) -> 18.099022 | L12: 282038.61 | M12: 8.3242201 | N12: =IF(ISNUMBER(L12/D12*100),L12/D12*100,0) -> 41.975795
A13: Rural | B13: 601548.62 | C13: 6.4517932 | D13: 568885.21 | E13: 6.3763986 | F13: 32663.413 | G13: 7.6726727 | H13: =F13/B13*100 -> 5.4298874 | I13: 155682.26 | J13: 6.6012146 | K13: =IF(ISNUMBER(I13/D13*100),I13/D13*100,0) -> 27.366199 | L13: 163717.28 | M13: 6.3819662 | N13: =IF(ISNUMBER(L13/D13*100),L13/D13*100,0) -> 28.778614
K14: =IF(ISNUMBER(I14/D14*100),I14/D14*100,0) -> 0 | N14: =IF(ISNUMBER(L14/D14*100),L14/D14*100,0) -> 0
A15: Rango de Edad
A16: De 10 a 11 años | B16: 11334.227 | C16: 4.1527799 | D16: 11334.227 | E16: 4.1527799 | F16: 0 | G16: 0 | H16: =F16/B16*100 -> 0 | I16: 1608.3658 | J16: 3.4052045 | K16: =IF(ISNUMBER(I16/D16*100),I16/D16*100,0) -> 14.190344 | L16: 494.50409 | M16: 5.1323412 | N16: =IF(ISNUMBER(L16/D16*100),L16/D16*100,0) -> 4.3629274
A17: De 12 a 14 años | B17: 34654.86 | C17: 6.103706 | D17: 33581.525 | E17: 6.1736191 | F17: 1073.3349 | G17: 3.9845061 | H17: =F17/B17*100 -> 3.0972131 | I17: 6843.3266 | J17: 6.4663114 | K17: =IF(ISNUMBER(I17/D17*100),I17/D17*100,0) -> 20.378248 | L17: 4185.3366 | M17: 6.3791262 | N17: =IF(ISNUMBER(L17/D17*100),L17/D17*100,0) -> 12.463212
A18: De 15 a 18 años | B18: 103726.93 | C18: 8.1360144 | D18: 84815.996 | E18: 8.0094636 | F18: 18910.934 | G18: 8.6998509 | H18: =F18/B18*100 -> 18.23146 | I18: 24411.129 | J18: 7.617466 | K18: =IF(ISNUMBER(I18/D18*100),I18/D18*100,0) -> 28.78128 | L18: 25347.197 | M18: 7.7984175 | N18: =IF(ISNUMBER(L18/D18*100),L18/D18*100,0) -> 29.884926
A19: De 19 a 24 años | B19: 272711.3 | C19: 9.9201517 | D19: 226920.04 | E19: 9.8260409 | F19: 45791.264 | G19: 10.381095 | H19: =F19/B19*100 -> 16.791113 | I19: 48403.8 | J19: 9.2476137 | K19: =IF(ISNUMBER(I19/D19*100),I19/D19*100,0) -> 21.330774 | L19: 102593.85 | M19: 9.7049783 | N19: =IF(ISNUMBER(L19/D19*100),L19/D19*100,0) -> 45.211455
A20: De 25 a 29 años | B20: 215692.41 | C20: 10.027964 | D20: 191456.63 | E20: 9.9870398 | F20: 24235.779 | G20: 10.345673 | H20: =F20/B20*100 -> 11.236269 | I20: 41420.317 | J20: 9.8637489 | K20: =IF(ISNUMBER(I20/D20*100),I20/D20*100,0) -> 21.634308 | L20: 78529.12 | M20: 9.459974 | N20: =IF(ISNUMBER(L20/D20*100),L20/D20*100,0) -> 41.016663
A21: De 30 a 34 años | B21: 203920.07 | C21: 9.4706699 | D21: 190346.35 | E21: 9.32134 | F21: 13573.716 | G21: 11.53912 | H21: =F21/B21*100 -> 6.6563902 | I21: 45364.782 | J21: 8.628243 | K21: =IF(ISNUMBER(I21/D21*100),I21/D21*100,0) -> 23.832756 | L21: 75595.191 | M21: 8.9552878 | N21: =IF(ISNUMBER(L21/D21*100),L21/D21*100,0) -> 39.714546
A22: De 35 a 39 años | B22: 189222.55 | C22: 8.5913652 | D22: 179619.02 | E22: 8.5537011 | F22: 9603.5216 | G22: 9.3023748 | H22: =F22/B22*100 -> 5.0752523 | I22: 41504.653 | J22: 7.1908777 | K22: =IF(ISNUMBER(I22/D22*100),I22/D22*100,0) -> 23.107048 | L22: 67937.663 | M22: 8.0830638 | N22: =IF(ISNUMBER(L22/D22*100),L22/D22*100,0) -> 37.8232
A23: De 40 a 44 años | B23: 172759.77 | C23: 7.9132131 | D23: 166654.92 | E23: 7.9294942 | F23: 6104.8524 | G23: 7.5156941 | H23: =F23/B23*100 -> 3.5337234 | I23: 37062.68 | J23: 7.9785399 | K23: =IF(ISNUMBER(I23/D23*100),I23/D23*100,0) -> 22.239176 | L23: 65454.029 | M23: 6.9896065 | N23: =IF(ISNUMBER(L23/D23*100),L23/D23*100,0) -> 39.275187
A24: De 45 a 49 años | B24: 136868.47 | C24: 8.0613372 | D24: 133617.1 | E24: 8.0449257 | F24: 3251.3713 | G24: 8.8201559 | H24: =F24/B24*100 -> 2.3755444 | I24: 33073.057 | J24: 6.6691845 | K24: =IF(ISNUMBER(I24/D24*100),I24/D24*100,0) -> 24.752114 | L24: 48991.141 | M24: 7.2299332 | N24: =IF(ISNUMBER(L24/D24*100),L24/D24*100,0) -> 36.665323
A25: De 50 a 54 años | B25: 120060.76 | C25: 7.589675 | D25: 117946.47 | E25: 7.5511227 | F25: 2114.2899 | G25: 9.8639258 | H25: =F25/B25*100 -> 1.7610166 | I25: 19863.429 | J25: 6.6614177 | K25: =IF(ISNUMBER(I25/D25*100),I25/D25*100,0) -> 16.841055 | L25: 41663.66 | M25: 6.9006306 | N25: =IF(ISNUMBER(L25/D25*100),L25/D25*100,0) -> 35.324211
A26: De 55 a 59 años | B26: 96285.728 | C26: 6.9357116 | D26: 94561.821 | E26: 6.9215887 | F26: 1723.9078 | G26: 7.685037 | H26: =F26/B26*100 -> 1.7904085 | I26: 13374.559 | J26: 7.8582444 | K26: =IF(ISNUMBER(I26/D26*100),I26/D26*100,0) -> 14.14372 | L26: 33488.853 | M26: 5.3256498 | N26: =IF(ISNUMBER(L26/D26*100),L26/D26*100,0) -> 35.414772
A27: De 60 a 64 años | B27: 68854.151 | C27: 5.4947567 | D27: 68443.523 | E27: 5.4520699 | F27: 410.62806 | G27: 16 | H27: =F27/B27*100 -> 0.59637372 | I27: 10326.663 | J27: 5.2649585 | K27: =IF(ISNUMBER(I27/D27*100),I27/D27*100,0) -> 15.08786 | L27: 17962.173 | M27: 5.1546303 | N27: =IF(ISNUMBER(L27/D27*100),L27/D27*100,0) -> 26.243787
A28: De 65 años y más | B28: 101046.68 | C28: 5.6371358 | D28: 100355.43 | E28: 5.648008 | F28: 691.25111 | G28: 4.1697161 | H28: =F28/B28*100 -> 0.68409085 | I28: 9483.4554 | J28: 6.2353253 | K28: =IF(ISNUMBER(I28/D28*100),I28/D28*100,0) -> 9.4498675 | L28: 32153.423 | M28: 6.1478064 | N28: =IF(ISNUMBER(L28/D28*100),L28/D28*100,0) -> 32.039544
A30: ='C01'!$A$31 -> Fuente: Instituto Nacional de Estadística (INE). Encuesta Permanente de Hogares de Propósitos Múltiples, LXI 2018.
A31: AEP: Años de Estudio Promedio
A32: TDA: Tasa de Desempleo Abierto
A33: TSV: Tasa de Subempleo Visible
A34: TSI: Tasa de Subempleo Invisible
A36: =A1 -> Cuadro No. 3. Población Económicamente Activa (PEA) en condición de empleo, según dominio, rama de actividad y ocupación
A37: =A2 -> Mujeres
A38: ....... Continuación
A39: =A3 -> Categorías | B39: =B3 -> PEA | D39: =D3 -> Ocupados | F39: =F3 -> Desocupados | I39: =I3 -> Subempleo Visible | L39: =L3 -> Subempleo Invisible
B40: =B4 -> No. | C40: =C4 -> AEP | D40: =D4 -> No. | E40: =E4 -> AEP | F40: =F4 -> No. | G40: =G4 -> AEP | H40: =H4 -> TDA | I40: =I4 -> No. | ... N40: =N4 -> TSI
A42: =A6 -> Total Nacional | B42: =B6 -> 1727137.9 | C42: =C6 -> 8.5061746 | D42: =D6 -> 1599653.1 | E42: =E6 -> 8.3896599 | F42: =F6 -> 127484.85 | G42: =G6 -> 9.8803025 | H42: =H6 -> 7.381278 | ... N42: =N6 -> 37.157816
A44: Rama de Actividad
A45: ='C02'!A45 -> Agricultura, ganaderia, silvicultura y pesca | B45: 180788.67 | C45: 5.2429065 | D45: 180788.67 | E45: 5.2429065 | F45: 0 | G45: 0 | H45: =F45/B45*100 -> 0 | I45: 46226.297 | J45: 5.7451898 | K45: =IF(ISNUMBER(I45/D45*100),I45/D45*100,0) -> 25.569244 | L45: 27028.273 | M45: 5.7272994 | N45: =IF(ISNUMBER(L45/D45*100),L45/D45*100,0) -> 14.950203
A46: ='C02'!A46 -> Explotacion de minas y canteras | B46: 1231.4199 | C46: 7.6666667 | D46: 1231.4199 | E46: 7.6666667 | F46: 0 | G46: 0 | H46: =F46/B46*100 -> 0 | I46: 0 | J46: 0 | K46: =IF(ISNUMBER(I46/D46*100),I46/D46*100,0) -> 0 | L46: 615.70995 | M46: 9 | N46: =IF(ISNUMBER(L46/D46*100),L46/D46*100,0) -> 50
...

Sheet C04
A1: Cuadro No. 4. Población con problemas de empleo y Años de Estudio Promedio (AEP), según dominio, rama de actividad y ocupación
A3: Categorías | B3: Total | C3: Desocupados | F3: Subempleo Visible | I3: Subempleo Invisible | L3: Potencialmente Activos | O3: Desalentados
C4: No. | D4: % 2/ | E4: AEP | F4: No. | G4: % 2/ | H4: AEP | I4: No. | J4: % 2/ | K4: AEP | L4: No. | M4: % 2/ | N4: AEP | O4: No. | P4: % 2/ | Q4: AEP
A6: Total Nacional | B6: =SUM(C6,F6,I6,L6,O6) -> 2978280.3 | C6: 245726.5 | D6: =IF(ISNUMBER(C6/$B6*100),C6/$B6*100,0) -> 8.250617 | E6: 9.4894605 | F6: 582825.65 | G6: =IF(ISNUMBER(F6/$B6*100),F6/$B6*100,0) -> 19.569201 | H6: 7.8353187 | I6: 1987242.5 | J6: =IF(ISNUMBER(I6/$B6*100),I6/$B6*100,0) -> 66.724496 | K6: 7.0019011 | L6: 40490.222 | M6: =IF(ISNUMBER(L6/$B6*100),L6/$B6*100,0) -> 1.3595168 | N6: 6.944556 | O6: 121995.41 | P6: =IF(ISNUMBER(O6/$B6*100),O6/$B6*100,0) -> 4.0961695 | Q6: 7.2960009
A8: Dominio
A9: Urbano | B9: =SUM(C9,F9,I9,L9,O9) -> 1595241.8 | C9: =SUM(C10:C12) -> 193514.29 | D9: =IF(ISNUMBER(C9/$B9*100),C9/$B9*100,0) -> 12.130719 | E9: 9.9887285 | F9: =SUM(F10:F12) -> 302092.7 | G9: =IF(ISNUMBER(F9/$B9*100),F9/$B9*100,0) -> 18.93711 | H9: 9.0196852 | I9: =SUM(I10:I12) -> 1035970.6 | J9: =IF(ISNUMBER(I9/$B9*100),I9/$B9*100,0) -> 64.941291 | K9: 8.2093335 | L9: =SUM(L10:L12) -> 12013.637 | M9: =IF(ISNUMBER(L9/$B9*100),L9/$B9*100,0) -> 0.75309189 | N9: 9.8378389 | O9: =SUM(O10:O12) -> 51650.547 | P9: =IF(ISNUMBER(O9/$B9*100),O9/$B9*100,0) -> 3.237788 | Q9: 8.882342
A10: Distrito Central | B10: =SUM(C10,F10,I10,L10,O10) -> 345543.52 | C10: 48976.729 | D10: =IF(ISNUMBER(C10/$B10*100),C10/$B10*100,0) -> 14.173824 | E10: 11.270281 | F10: 70478.708 | G10: =IF(ISNUMBER(F10/$B10*100),F10/$B10*100,0) -> 20.396478 | H10: 10.332427 | I10: 202252.99 | J10: =IF(ISNUMBER(I10/$B10*100),I10/$B10*100,0) -> 58.531842 | K10: 9.2788462 | L10: 4554.2385 | M10: =IF(ISNUMBER(L10/$B10*100),L10/$B10*100,0) -> 1.3179928 | N10: 13.745902 | O10: 19280.854 | P10: =IF(ISNUMBER(O10/$B10*100),O10/$B10*100,0) -> 5.5798628 | Q10: 9.4177732
A11: San Pedro Sula | B11: =SUM(C11,F11,I11,L11,O11) -> 174940.89 | C11: 23166.961 | D11: =IF(ISNUMBER(C11/$B11*100),C11/$B11*100,0) -> 13.242737 | E11: 10.096112 | F11: 21232.282 | G11: =IF(ISNUMBER(F11/$B11*100),F11/$B11*100,0) -> 12.136832 | H11: 8.7521912 | I11: 126082.05 | J11: =IF(ISNUMBER(I11/$B11*100),I11/$B11*100,0) -> 72.071228 | K11: 8.7289606 | L11: 1475.6026 | M11: =IF(ISNUMBER(L11/$B11*100),L11/$B11*100,0) -> 0.84348641 | N11: 6.2222222 | O11: 2983.9964 | P11: =IF(ISNUMBER(O11/$B11*100),O11/$B11*100,0) -> 1.705717 | Q11: 7.25
A12: Resto urbano | B12: =SUM(C12,F12,I12,L12,O12) -> 1074757.4 | C12: 121370.6 | D12: =IF(ISNUMBER(C12/$B12*100),C12/$B12*100,0) -> 11.292837 | E12: 9.4578151 | F12: 210381.71 | G12: =IF(ISNUMBER(F12/$B12*100),F12/$B12*100,0) -> 19.574809 | H12: 8.5911431 | I12: 707635.58 | J12: =IF(ISNUMBER(I12/$B12*100),I12/$B12*100,0) -> 65.841426 | K12: 7.8024406 | L12: 5983.7954 | M12: =IF(ISNUMBER(L12/$B12*100),L12/$B12*100,0) -> 0.55675778 | N12: 7.5911191 | O12: 29385.696 | P12: =IF(ISNUMBER(O12/$B12*100),O12/$B12*100,0) -> 2.7341702 | Q12: 8.6716865
A13: Rural | B13: =SUM(C13,F13,I13,L13,O13) -> 1383038.5 | C13: 52212.204 | D13: =IF(ISNUMBER(C13/$B13*100),C13/$B13*100,0) -> 3.7751809 | E13: 7.5416667 | F13: 280732.95 | G13: =IF(ISNUMBER(F13/$B13*100),F13/$B13*100,0) -> 20.298275 | H13: 6.4663438 | I13: 951271.87 | J13: =IF(ISNUMBER(I13/$B13*100),I13/$B13*100,0) -> 68.781302 | K13: 5.5358694 | L13: 28476.585 | M13: =IF(ISNUMBER(L13/$B13*100),L13/$B13*100,0) -> 2.0589872 | N13: 5.6029593 | O13: 70344.862 | P13: =IF(ISNUMBER(O13/$B13*100),O13/$B13*100,0) -> 5.0862549 | Q13: 6.0807484
A15: Rango de Edad
A16: De 10 a 11 años | B16: =SUM(C16,F16,I16,L16,O16) -> 6414.7757 | C16: 307.85497 | D16: =IF(ISNUMBER(C16/$B16*100),C16/$B16*100,0) -> 4.7991542 | E16: 1 | F16: 4011.5707 | G16: =IF(ISNUMBER(F16/$B16*100),F16/$B16*100,0) -> 62.536415 | H16: 2.9022286 | I16: 494.50409 | J16: =IF(ISNUMBER(I16/$B16*100),I16/$B16*100,0) -> 7.7088291 | K16: 5.1323412 | L16: 0 | M16: =IF(ISNUMBER(L16/$B16*100),L16/$B16*100,0) -> 0 | N16: 0 | O16: 1600.8459 | P16: =IF(ISNUMBER(O16/$B16*100),O16/$B16*100,0) -> 24.955602 | Q16: 3.0952381
A17: De 12 a 14 años | B17: =SUM(C17,F17,I17,L17,O17) -> 55431.266 | C17: 2312.2747 | D17: =IF(ISNUMBER(C17/$B17*100),C17/$B17*100,0) -> 4.1714268 | E17: 5.0644278 | F17: 22883.745 | G17: =IF(ISNUMBER(F17/$B17*100),F17/$B17*100,0) -> 41.283101 | H17: 5.835307 | I17: 20024.623 | J17: =IF(ISNUMBER(I17/$B17*100),I17/$B17*100,0) -> 36.12514 | K17: 5.7973207 | L17: 2770.6948 | M17: =IF(ISNUMBER(L17/$B17*100),L17/$B17*100,0) -> 4.9984331 | N17: 5.3333333 | O17: 7439.9285 | P17: =IF(ISNUMBER(O17/$B17*100),O17/$B17*100,0) -> 13.421899 | Q17: 5.3300417
A18: De 15 a 18 años | B18: =SUM(C18,F18,I18,L18,O18) -> 250322.61 | C18: 35106.646 | D18: =IF(ISNUMBER(C18/$B18*100),C18/$B18*100,0) -> 14.024561 | E18: 8.5339452 | F18: 66493.777 | G18: =IF(ISNUMBER(F18/$B18*100),F18/$B18*100,0) -> 26.563232 | H18: 7.28798 | I18: 122355.17 | J18: =IF(ISNUMBER(I18/$B18*100),I18/$B18*100,0) -> 48.878992 | K18: 6.8513484 | L18: 6994.1788 | M18: =IF(ISNUMBER(L18/$B18*100),L18/$B18*100,0) -> 2.7940659 | N18: 6.1884736 | O18: 19372.84 | P18: =IF(ISNUMBER(O18/$B18*100),O18/$B18*100,0) -> 7.7391491 | Q18: 6.8582148
A19: De 19 a 24 años | B19: =SUM(C19,F19,I19,L19,O19) -> 573094 | C19: 83699.371 | D19: =IF(ISNUMBER(C19/$B19*100),C19/$B19*100,0) -> 14.604824 | E19: 10.04888 | F19: 96067.968 | G19: =IF(ISNUMBER(F19/$B19*100),F19/$B19*100,0) -> 16.763039 | H19: 8.9263988 | I19: 364147.57 | J19: =IF(ISNUMBER(I19/$B19*100),I19/$B19*100,0) -> 63.540635 | K19: 8.3250723 | L19: 8379.0617 | M19: =IF(ISNUMBER(L19/$B19*100),L19/$B19*100,0) -> 1.4620746 | N19: 6.889017 | O19: 20800.031 | P19: =IF(ISNUMBER(O19/$B19*100),O19/$B19*100,0) -> 3.6294275 | Q19: 8.4238522
A20: De 25 a 29 años | B20: =SUM(C20,F20,I20,L20,O20) -> 379917.68 | C20: 41385.003 | D20: =IF(ISNUMBER(C20/$B20*100),C20/$B20*100,0) -> 10.89315 | E20: 10.468896 | F20: 64432.617 | G20: =IF(ISNUMBER(F20/$B20*100),F20/$B20*100,0) -> 16.959626 | H20: 9.618314 | I20: 256083.36 | J20: =IF(ISNUMBER(I20/$B20*100),I20/$B20*100,0) -> 67.404959 | K20: 8.2204841 | L20: 4502.4272 | M20: =IF(ISNUMBER(L20/$B20*100),L20/$B20*100,0) -> 1.185106 | N20: 6.9885598 | O20: 13514.278 | P20: =IF(ISNUMBER(O20/$B20*100),O20/$B20*100,0) -> 3.5571595 | Q20: 9.6113738
A21: De 30 a 34 años | B21: =SUM(C21,F21,I21,L21,O21) -> 338106.21 | C21: 27750.563 | D21: =IF(ISNUMBER(C21/$B21*100),C21/$B21*100,0) -> 8.2076467 | E21: 10.828399 | F21: 67172.056 | G21: =IF(ISNUMBER(F21/$B21*100),F21/$B21*100,0) -> 19.867146 | H21: 8.8030296 | I21: 225153.83 | J21: =IF(ISNUMBER(I21/$B21*100),I21/$B21*100,0) -> 66.592633 | K21: 7.400154 | L21: 4889.2784 | M21: =IF(ISNUMBER(L21/$B21*100),L21/$B21*100,0) -> 1.4460776 | N21: 10.778801 | O21: 13140.485 | P21: =IF(ISNUMBER(O21/$B21*100),O21/$B21*100,0) -> 3.8864963 | Q21: 7.1643823
A22: De 35 a 39 años | B22: =SUM(C22,F22,I22,L22,O22) -> 296316.27 | C22: 14360.465 | D22: =IF(ISNUMBER(C22/$B22*100),C22/$B22*100,0) -> 4.8463302 | E22: 9.3186437 | F22: 59704.95 | G22: =IF(ISNUMBER(F22/$B22*100),F22/$B22*100,0) -> 20.149063 | H22: 7.0371195 | I22: 209921.53 | J22: =IF(ISNUMBER(I22/$B22*100),I22/$B22*100,0) -> 70.843741 | K22: 6.8635304 | L22: 3733.3152 | M22: =IF(ISNUMBER(L22/$B22*100),L22/$B22*100,0) -> 1.259909 | N22: 5.9763018 | O22: 8596.0088 | P22: =IF(ISNUMBER(O22/$B22*100),O22/$B22*100,0) -> 2.9009574 | Q22: 7.8088817
A23: De 40 a 44 años | B23: =SUM(C23,F23,I23,L23,O23) -> 270299.13 | C23: 11163.479 | D23: =IF(ISNUMBER(C23/$B23*100),C23/$B23*100,0) -> 4.1300462 | E23: 7.8930978 | F23: 49910.631 | G23: =IF(ISNUMBER(F23/$B23*100),F23/$B23*100,0) -> 18.464962 | H23: 7.8259357 | I23: 200019.27 | J23: =IF(ISNUMBER(I23/$B23*100),I23/$B23*100,0) -> 73.999229 | K23: 6.2418382 | L23: 3433.0858 | M23: =IF(ISNUMBER(L23/$B23*100),L23/$B23*100,0) -> 1.2701061 | N23: 5.8890989 | O23: 5772.6638 | P23: =IF(ISNUMBER(O23/$B23*100),O23/$B23*100,0) -> 2.1356575 | Q23: 5.7160942
A24: De 45 a 49 años | B24: =SUM(C24,F24,I24,L24,O24) -> 223040.64 | C24: 8970.5861 | D24: =IF(ISNUMBER(C24/$B24*100),C24/$B24*100,0) -> 4.0219514 | E24: 6.9288159 | F24: 49052.492 | G24: =IF(ISNUMBER(F24/$B24*100),F24/$B24*100,0) -> 21.992625 | H24: 6.9769019 | I24: 155749.8 | J24: =IF(ISNUMBER(I24/$B24*100),I24/$B24*100,0) -> 69.830234 | K24: 6.2845691 | L24: 986.37164 | M24: =IF(ISNUMBER(L24/$B24*100),L24/$B24*100,0) -> 0.44223852 | N24: 5.6878915 | O24: 8281.3899 | P24: =IF(ISNUMBER(O24/$B24*100),O24/$B24*100,0) -> 3.7129511 | Q24: 5.8085328
A25: De 50 a 54 años | B25: =SUM(C25,F25,I25,L25,O25) -> 183378.77 | C25: 5917.121 | D25: =IF(ISNUMBER(C25/$B25*100),C25/$B25*100,0) -> 3.2267209 | E25: 8.2849185 | F25: 33718.673 | G25: =IF(ISNUMBER(F25/$B25*100),F25/$B25*100,0) -> 18.387447 | H25: 7.0120375 | I25: 135572.22 | J25: =IF(ISNUMBER(I25/$B25*100),I25/$B25*100,0) -> 73.930164 | K25: 6.0119992 | L25: 1889.8798 | M25: =IF(ISNUMBER(L25/$B25*100),L25/$B25*100,0) -> 1.0305882 | N25: 7.1689516 | O25: 6280.8698 | P25: =IF(ISNUMBER(O25/$B25*100),O25/$B25*100,0) -> 3.4250802 | Q25: 5.6149808
A26: De 55 a 59 años | B26: =SUM(C26,F26,I26,L26,O26) -> 145685.27 | C26: 5782.8209 | D26: =IF(ISNUMBER(C26/$B26*100),C26/$B26*100,0) -> 3.9693931 | E26: 8.9114263 | F26: 24981.45 | G26: =IF(ISNUMBER(F26/$B26*100),F26/$B26*100,0) -> 17.147547 | H26: 7.2088491 | I26: 109723.06 | J26: =IF(ISNUMBER(I26/$B26*100),I26/$B26*100,0) -> 75.315136 | K26: 5.1792245 | L26: 1277.8175 | M26: =IF(ISNUMBER(L26/$B26*100),L26/$B26*100,0) -> 0.87710827 | N26: 6.8190467 | O26: 3920.1217 | P26: =IF(ISNUMBER(O26/$B26*100),O26/$B26*100,0) -> 2.6908154 | Q26: 6.1258843
A27: De 60 a 64 años | B27: =SUM(C27,F27,I27,L27,O27) -> 106534.28 | C27: 4889.5456 | D27: =IF(ISNUMBER(C27/$B27*100),C27/$B27*100,0) -> 4.5896454 | E27: 6.5203934 | F27: 21590.391 | G27: =IF(ISNUMBER(F27/$B27*100),F27/$B27*100,0) -> 20.266144 | H27: 5.9892242 | I27: 74649.032 | J27: =IF(ISNUMBER(I27/$B27*100),I27/$B27*100,0) -> 70.070434 | K27: 5.2520637 | L27: 1018.401 | M27: =IF(ISNUMBER(L27/$B27*100),L27/$B27*100,0) -> 0.95593738 | N27: 7.8774152 | O27: 4386.9099 | P27: =IF(ISNUMBER(O27/$B27*100),O27/$B27*100,0) -> 4.1178388 | Q27: 7.8589428
A28: De 65 años y más | B28: =SUM(C28,F28,I28,L28,O28) -> 149739.36 | C28: 4080.7667 | D28: =IF(ISNUMBER(C28/$B28*100),C28/$B28*100,0) -> 2.7252464 | E28: 5.9210146 | F28: 22805.326 | G28: =IF(ISNUMBER(F28/$B28*100),F28/$B28*100,0) -> 15.230014 | H28: 6.3255619 | I28: 113348.53 | J28: =IF(ISNUMBER(I28/$B28*100),I28/$B28*100,0) -> 75.697213 | K28: 4.6847296 | L28: 615.70995 | M28: =IF(ISNUMBER(L28/$B28*100),L28/$B28*100,0) -> 0.41118777 | N28: 3 | O28: 8889.0357 | P28: =IF(ISNUMBER(O28/$B28*100),O28/$B28*100,0) -> 5.9363386 | Q28: 7.8675479
A30: ='C01'!$A$31 -> Fuente: Instituto Nacional de Estadística (INE). Encuesta Permanente de Hogares de Propósitos Múltiples, LXI 2018.
A31: AEP: Años de Estudio Promedio
A32: 2/ Porcentaje por filas
A34: =A1 -> Cuadro No. 4. Población con problemas de empleo y Años de Estudio Promedio (AEP), según dominio, rama de actividad y ocupación
A35: ....... Continuación
A36: =A3 -> Categorías | B36: Total | C36: Desocupados | F36: Subempleo Visible | I36: Subempleo Invisible | L36: Potencialmente Activos | O36: Desalentados
C37: No. | D37: % 2/ | E37: AEP | F37: No. | G37: % 2/ | H37: AEP | I37: No. | J37: % 2/ | K37: AEP | L37: No. | M37: % 2/ | N37: AEP | O37: No. | P37: % 2/ | Q37: AEP
A39: =A6 -> Total Nacional | B39: =B6 -> 2978280.3 | C39: =C6 -> 245726.5 | D39: =D6 -> 8.250617 | E39: =E6 -> 9.4894605 | F39: =F6 -> 582825.65 | G39: =G6 -> 19.569201 | H39: =H6 -> 7.8353187 | ... Q39: =Q6 -> 7.2960009
A41: Rama de Actividad
A42: Agricultura, ganaderia, silvicultura y pesca | B42: =SUM(C42,F42,I42,L42,O42) -> 848708.81 | C42: 0 | D42: =IF(ISNUMBER(C42/$B42*100),C42/$B42*100,0) -> 0 | E42: 0 | F42: 165966.74 | G42: =IF(ISNUMBER(F42/$B42*100),F42/$B42*100,0) -> 19.555204 | H42: 5.8651875 | I42: 682742.07 | J42: =IF(ISNUMBER(I42/$B42*100),I42/$B42*100,0) -> 80.444796 | K42: 4.9987299 | L42: 0 | M42: =IF(ISNUMBER(L42/$B42*100),L42/$B42*100,0) -> 0 | N42: 0 | O42: 0 | P42: =IF(ISNUMBER(O42/$B42*100),O42/$B42*100,0) -> 0 | Q42: 0
A43: Explotacion de minas y canteras | B43: =SUM(C43,F43,I43,L43,O43) -> 5436.3393 | C43: 0 | D43: =IF(ISNUMBER(C43/$B43*100),C43/$B43*100,0) -> 0 | E43: 0 | F43: 1052.2907 | G43: =IF(ISNUMBER(F43/$B43*100),F43/$B43*100,0) -> 19.356605 | H43: 4.5 | I43: 4384.0486 | J43: =IF(ISNUMBER(I43/$B43*100),I43/$B43*100,0) -> 80.643395 | K43: 5.5123077 | L43: 0 | M43: =IF(ISNUMBER(L43/$B43*100),L43/$B43*100,0) -> 0 | N43: 0 | O43: 0 | P43: =IF(ISNUMBER(O43/$B43*100),O43/$B43*100,0) -> 0 | Q43: 0
A44: Industria manufacturera | B44: =SUM(C44,F44,I44,L44,O44) -> 347474.43 | C44: 0 | D44: =IF(ISNUMBER(C44/$B44*100),C44/$B44*100,0) -> 0 | E44: 0 | F44: 72153.647 | G44: =IF(ISNUMBER(F44/$B44*100),F44/$B44*100,0) -> 20.765168 | H44: 7.4197966 | I44: 275320.78 | J44: =IF(ISNUMBER(I44/$B44*100),I44/$B44*100,0) -> 79.234832 | K44: 7.8455319 | L44: 0 | M44: =IF(ISNUMBER(L44/$B44*100),L44/$B44*100,0) -> 0 | N44: 0 | O44: 0 | P44: =IF(ISNUMBER(O44/$B44*100),O44/$B44*100,0) -> 0 | Q44: 0
A45: Suministro de electricidad, gas, vapor y aire acondicionado | B45: =SUM(C45,F45,I45,L45,O45) -> 1164.8599 | C45: 0 | D45: =IF(ISNUMBER(C45/$B45*100),C45/$B45*100,0) -> 0 | E45: 0 | F45: 307.85497 | G45: =IF(ISNUMBER(F45/$B45*100),F45/$B45*100,0) -> 26.428499 | H45: 8 | I45: 857.0049 | J45: =IF(ISNUMBER(I45/$B45*100),I45/$B45*100,0) -> 73.571501 | K45: 6 | L45: 0 | M45: =IF(ISNUMBER(L45/$B45*100),L45/$B45*100,0) -> 0 | N45: 0 | O45: 0 | P45: =IF(ISNUMBER(O45/$B45*100),O45/$B45*100,0) -> 0 | Q45: 0
A46: Suministro de agua, evacuacion de aguas residuales, gestion de desechos y descontaminacion | B46: =SUM(C46,F46,I46,L46,O46) -> 11414.87 | C46: 0 | D46: =IF(ISNUMBER(C46/$B46*100),C46/$B46*100,0) -> 0 | E46: 0 | F46: 2966.2294 | G46: =IF(ISNUMBER(F46/$B46*100),F46/$B46*100,0) -> 25.985661 | H46: 6.0160812 | I46: 8448.6407 | J46: =IF(ISNUMBER(I46/$B46*100),I46/$B46*100,0) -> 74.014339 | K46: 5.9832104 | L46: 0 | M46: =IF(ISNUMBER(L46/$B46*100),L46/$B46*100,0) -> 0 | N46: 0 | O46: 0 | P46: =IF(ISNUMBER(O46/$B46*100),O46/$B46*100,0) -> 0 | Q46: 0
A47: Construccion | B47: =SUM(C47,F47,I47,L47,O47) -> 179637.79 | C47: 0 | D47: =IF(ISNUMBER(C47/$B47*100),C47/$B47*100,0) -> 0 | E47: 0 | F47: 12159.964 | G47: =IF(ISNUMBER(F47/$B47*100),F47/$B47*100,0) -> 6.7691572 | H47: 7.8736321 | I47: 167477.82 | J47: =IF(ISNUMBER(I47/$B47*100),I47/$B47*100,0) -> 93.230843 | K47: 6.4210805 | L47: 0 | M47: =IF(ISNUMBER(L47/$B47*100),L47/$B47*100,0) -> 0 | N47: 0 | O47: 0 | P47: =IF(ISNUMBER(O47/$B47*100),O47/$B47*100,0) -> 0 | Q47: 0
A48: Comercio al por mayor y al por menor, reparacion de vehiculos automotores y motocicletas | B48: =SUM(C48,F48,I48,L48,O48) -> 459432.15 | C48: 0 | D48: =IF(ISNUMBER(C48/$B48*100),C48/$B48*100,0) -> 0 | E48: 0 | F48: 91583.465 | G48: =IF(ISNUMBER(F48/$B48*100),F48/$B48*100,0) -> 19.934057 | H48: 8.2811078 | I48: 367848.68 | J48: =IF(ISNUMBER(I48/$B48*100),I48/$B48*100,0) -> 80.065943 | K48: 7.7772118 | L48: 0 | M48: =IF(ISNUMBER(L48/$B48*100),L48/$B48*100,0) -> 0 | N48: 0 | O48: 0 | P48: =IF(ISNUMBER(O48/$B48*100),O48/$B48*100,0) -> 0 | Q48: 0
...

Sheet C05
A1: Cuadro No. 5 Población con problemas de empleo y Años de Estudio Promedio (AEP), según dominio, rama de actividad y ocupación
A2: Hombres
A3: Categorías | B3: Total | C3: Desocupados | F3: Subempleo Visible | I3: Subempleo Invisible | L3: Potencialmente Activos | O3: Desalentados
C4: No. | D4: % 2/ | E4: AEP | F4: No. | G4: % 2/ | H4: AEP | I4: No. | J4: % 2/ | K4: AEP | L4: No. | M4: % 2/ | N4: AEP | O4: No. | P4: % 2/ | Q4: AEP
A6: Total Nacional | B6: =+B9+B13 -> 1801130.8 | C6: 118241.65 | D6: =IF(ISNUMBER(C6/$B6*100),C6/$B6*100,0) -> 6.5648561 | E6: 9.0630078 | F6: 250085.43 | G6: =IF(ISNUMBER(F6/$B6*100),F6/$B6*100,0) -> 13.884912 | H6: 7.6016499 | I6: 1392846.3 | J6: =IF(ISNUMBER(I6/$B6*100),I6/$B6*100,0) -> 77.33177 | K6: 6.5087595 | L6: 12209.778 | M6: =IF(ISNUMBER(L6/$B6*100),L6/$B6*100,0) -> 0.6778951 | N6: 8.6029007 | O6: 27747.632 | P6: =IF(ISNUMBER(O6/$B6*100),O6/$B6*100,0) -> 1.5405673 | Q6: 7.7359854
A8: Dominio
A9: Urbano | B9: =SUM(C9,F9,I9,L9,O9) -> 855585.06 | C9: =SUM(C10:C12) -> 98692.856 | D9: =IF(ISNUMBER(C9/$B9*100),C9/$B9*100,0) -> 11.535131 | E9: 9.3894017 | F9: =SUM(F10:F12) -> 125034.74 | G9: =IF(ISNUMBER(F9/$B9*100),F9/$B9*100,0) -> 14.613946 | H9: 8.8308883 | I9: =SUM(I10:I12) -> 605291.75 | J9: =IF(ISNUMBER(I9/$B9*100),I9/$B9*100,0) -> 70.745946 | K9: 7.8510139 | L9: =SUM(L10:L12) -> 8300.0194 | M9: =IF(ISNUMBER(L9/$B9*100),L9/$B9*100,0) -> 0.97009869 | N9: 10.044027 | O9: =SUM(O10:O12) -> 18265.699 | P9: =IF(ISNUMBER(O9/$B9*100),O9/$B9*100,0) -> 2.1348782 | Q9: 9.0402839
A10: Distrito Central | B10: =SUM(C10,F10,I10,L10,O10) -> 173247.71 | C10: 23293.81 | D10: =IF(ISNUMBER(C10/$B10*100),C10/$B10*100,0) -> 13.445378 | E10: 10.838576 | F10: 27736.059 | G10: =IF(ISNUMBER(F10/$B10*100),F10/$B10*100,0) -> 16.009481 | H10: 10.120192 | I10: 109357.72 | J10: =IF(ISNUMBER(I10/$B10*100),I10/$B10*100,0) -> 63.122172 | K10: 8.7839572 | L10: 4180.9403 | M10: =IF(ISNUMBER(L10/$B10*100),L10/$B10*100,0) -> 2.413273 | N10: 14.169643 | O10: 8679.1841 | P10: =IF(ISNUMBER(O10/$B10*100),O10/$B10*100,0) -> 5.0096962 | Q10: 9.6960557
A11: San Pedro Sula | B11: =SUM(C11,F11,I11,L11,O11) -> 90274.09 | C11: 9279.901 | D11: =IF(ISNUMBER(C11/$B11*100),C11/$B11*100,0) -> 10.279695 | E11: 9.9157509 | F11: 8525.7041 | G11: =IF(ISNUMBER(F11/$B11*100),F11/$B11*100,0) -> 9.4442426 | H11: 8.5235294 | I11: 70337.059 | J11: =IF(ISNUMBER(I11/$B11*100),I11/$B11*100,0) -> 77.915002 | K11: 8.7342995 | L11: 1147.6909 | M11: =IF(ISNUMBER(L11/$B11*100),L11/$B11*100,0) -> 1.2713404 | N11: 7 | O11: 983.73509 | P11: =IF(ISNUMBER(O11/$B11*100),O11/$B11*100,0) -> 1.0897203 | Q11: 7
A12: Resto urbano | B12: =SUM(C12,F12,I12,L12,O12) -> 592063.26 | C12: 66119.145 | D12: =IF(ISNUMBER(C12/$B12*100),C12/$B12*100,0) -> 11.167581 | E12: 8.8123425 | F12: 88772.976 | G12: =IF(ISNUMBER(F12/$B12*100),F12/$B12*100,0) -> 14.993833 | H12: 8.4349785 | I12: 425596.97 | J12: =IF(ISNUMBER(I12/$B12*100),I12/$B12*100,0) -> 71.883699 | K12: 7.4511034 | L12: 2971.3882 | M12: =IF(ISNUMBER(L12/$B12*100),L12/$B12*100,0) -> 0.50187006 | N12: 5.4147602 | O12: 8602.7796 | P12: =IF(ISNUMBER(O12/$B12*100),O12/$B12*100,0) -> 1.453017 | Q12: 8.5737718
A13: Rural | B13: =SUM(C13,F13,I13,L13,O13) -> 945545.77 | C13: 19548.791 | D13: =IF(ISNUMBER(C13/$B13*100),C13/$B13*100,0) -> 2.0674611 | E13: 7.3179487 | F13: 125050.69 | G13: =IF(ISNUMBER(F13/$B13*100),F13/$B13*100,0) -> 13.225239 | H13: 6.3000555 | I13: 787554.6 | J13: =IF(ISNUMBER(I13/$B13*100),I13/$B13*100,0) -> 83.291007 | K13: 5.3449656 | L13: 3909.7582 | M13: =IF(ISNUMBER(L13/$B13*100),L13/$B13*100,0) -> 0.41349222 | N13: 5.2820513 | O13: 9481.9332 | P13: =IF(ISNUMBER(O13/$B13*100),O13/$B13*100,0) -> 1.0028 | Q13: 5.4563758
A15: Rango de Edad
A16: De 10 a 11 años | B16: =SUM(C16,F16,I16,L16,O16) -> 4311.9058 | C16: 307.85497 | D16: =IF(ISNUMBER(C16/$B16*100),C16/$B16*100,0) -> 7.1396499 | E16: 1 | F16: 2403.2049 | G16: =IF(ISNUMBER(F16/$B16*100),F16/$B16*100,0) -> 55.734171 | H16: 2.6429261 | I16: 0 | J16: =IF(ISNUMBER(I16/$B16*100),I16/$B16*100,0) -> 0 | K16: 0 | L16: 0 | M16: =IF(ISNUMBER(L16/$B16*100),L16/$B16*100,0) -> 0 | N16: 0 | O16: 1600.8459 | P16: =IF(ISNUMBER(O16/$B16*100),O16/$B16*100,0) -> 37.126179 | Q16: 3.0952381
A17: De 12 a 14 años | B17: =SUM(C17,F17,I17,L17,O17) -> 36517.297 | C17: 1238.9398 | D17: =IF(ISNUMBER(C17/$B17*100),C17/$B17*100,0) -> 3.3927478 | E17: 6 | F17: 16040.419 | G17: =IF(ISNUMBER(F17/$B17*100),F17/$B17*100,0) -> 43.925536 | H17: 5.5909246 | I17: 15839.286 | J17: =IF(ISNUMBER(I17/$B17*100),I17/$B17*100,0) -> 43.374749 | K17: 5.6435858 | L17: 307.85497 | M17: =IF(ISNUMBER(L17/$B17*100),L17/$B17*100,0) -> 0.84303877 | N17: 2 | O17: 3090.7977 | P17: =IF(ISNUMBER(O17/$B17*100),O17/$B17*100,0) -> 8.4639278 | Q17: 5.0390109
A18: De 15 a 18 años | B18: =SUM(C18,F18,I18,L18,O18) -> 162090.91 | C18: 16195.712 | D18: =IF(ISNUMBER(C18/$B18*100),C18/$B18*100,0) -> 9.9917461 | E18: 8.3341241 | F18: 42082.648 | G18: =IF(ISNUMBER(F18/$B18*100),F18/$B18*100,0) -> 25.962374 | H18: 7.0951605 | I18: 97007.971 | J18: =IF(ISNUMBER(I18/$B18*100),I18/$B18*100,0) -> 59.847879 | K18: 6.5995887 | L18: 2068.4992 | M18: =IF(ISNUMBER(L18/$B18*100),L18/$B18*100,0) -> 1.2761352 | N18: 6.0419619 | O18: 4736.0798 | P18: =IF(ISNUMBER(O18/$B18*100),O18/$B18*100,0) -> 2.9218664 | Q18: 6.9118414
A19: De 19 a 24 años | B19: =SUM(C19,F19,I19,L19,O19) -> 354400.37 | C19: 37908.107 | D19: =IF(ISNUMBER(C19/$B19*100),C19/$B19*100,0) -> 10.696407 | E19: 9.6475791 | F19: 47664.168 | G19: =IF(ISNUMBER(F19/$B19*100),F19/$B19*100,0) -> 13.449243 | H19: 8.5899832 | I19: 261553.71 | J19: =IF(ISNUMBER(I19/$B19*100),I19/$B19*100,0) -> 73.801762 | K19: 7.7673613 | L19: 2252.2042 | M19: =IF(ISNUMBER(L19/$B19*100),L19/$B19*100,0) -> 0.63549715 | N19: 7.1602357 | O19: 5022.1724 | P19: =IF(ISNUMBER(O19/$B19*100),O19/$B19*100,0) -> 1.4170901 | Q19: 8.5361618
A20: De 25 a 29 años | B20: =SUM(C20,F20,I20,L20,O20) -> 220291.05 | C20: 17149.223 | D20: =IF(ISNUMBER(C20/$B20*100),C20/$B20*100,0) -> 7.7848023 | E20: 10.642486 | F20: 23012.3 | G20: =IF(ISNUMBER(F20/$B20*100),F20/$B20*100,0) -> 10.446316 | H20: 9.1839352 | I20: 177554.24 | J20: =IF(ISNUMBER(I20/$B20*100),I20/$B20*100,0) -> 80.59984 | K20: 7.647898 | L20: 1175.6573 | M20: =IF(ISNUMBER(L20/$B20*100),L20/$B20*100,0) -> 0.53368364 | N20: 14.388219 | O20: 1399.6363 | P20: =IF(ISNUMBER(O20/$B20*100),O20/$B20*100,0) -> 0.63535774 | Q20: 9.8309282
A21: De 30 a 34 años | B21: =SUM(C21,F21,I21,L21,O21) -> 189359.39 | C21: 14176.848 | D21: =IF(ISNUMBER(C21/$B21*100),C21/$B21*100,0) -> 7.4867414 | E21: 10.12755 | F21: 21807.274 | G21: =IF(ISNUMBER(F21/$B21*100),F21/$B21*100,0) -> 11.516342 | H21: 9.1972521 | I21: 149558.64 | J21: =IF(ISNUMBER(I21/$B21*100),I21/$B21*100,0) -> 78.98137 | K21: 6.5676157 | L21: 3350.0035 | M21: =IF(ISNUMBER(L21/$B21*100),L21/$B21*100,0) -> 1.7691246 | N21: 12.351635 | O21: 466.6228 | P21: =IF(ISNUMBER(O21/$B21*100),O21/$B21*100,0) -> 0.2464218 | Q21: 7.2
A22: De 35 a 39 años | B22: =SUM(C22,F22,I22,L22,O22) -> 166967.54 | C22: 4756.9432 | D22: =IF(ISNUMBER(C22/$B22*100),C22/$B22*100,0) -> 2.8490228 | E22: 9.3540024 | F22: 18200.297 | G22: =IF(ISNUMBER(F22/$B22*100),F22/$B22*100,0) -> 10.9005 | H22: 6.6788618 | I22: 141983.86 | J22: =IF(ISNUMBER(I22/$B22*100),I22/$B22*100,0) -> 85.036806 | K22: 6.2198249 | L22: 713.10577 | M22: =IF(ISNUMBER(L22/$B22*100),L22/$B22*100,0) -> 0.42709245 | N22: 2.459836 | O22: 1313.3311 | P22: =IF(ISNUMBER(O22/$B22*100),O22/$B22*100,0) -> 0.78657867 | Q22: 6.620313
A23: De 40 a 44 años | B23: =SUM(C23,F23,I23,L23,O23) -> 153686.64 | C23: 5058.6268 | D23: =IF(ISNUMBER(C23/$B23*100),C23/$B23*100,0) -> 3.2915202 | E23: 8.3848443 | F23: 12847.951 | G23: =IF(ISNUMBER(F23/$B23*100),F23/$B23*100,0) -> 8.3598358 | H23: 7.4364733 | I23: 134565.24 | J23: =IF(ISNUMBER(I23/$B23*100),I23/$B23*100,0) -> 87.558192 | K23: 5.8604129 | L23: 841.52024 | M23: =IF(ISNUMBER(L23/$B23*100),L23/$B23*100,0) -> 0.54755589 | N23: 7.1089996 | O23: 373.29824 | P23: =IF(ISNUMBER(O23/$B23*100),O23/$B23*100,0) -> 0.2428957 | Q23: 10
A24: De 45 a 49 años | B24: =SUM(C24,F24,I24,L24,O24) -> 129564.89 | C24: 5719.2148 | D24: =IF(ISNUMBER(C24/$B24*100),C24/$B24*100,0) -> 4.4141703 | E24: 5.9851708 | F24: 15979.435 | G24: =IF(ISNUMBER(F24/$B24*100),F24/$B24*100,0) -> 12.333152 | H24: 7.6248454 | I24: 106758.66 | J24: =IF(ISNUMBER(I24/$B24*100),I24/$B24*100,0) -> 82.397834 | K24: 5.8215624 | L24: 491.86755 | M24: =IF(ISNUMBER(L24/$B24*100),L24/$B24*100,0) -> 0.37963028 | N24: 6 | O24: 615.70995 | P24: =IF(ISNUMBER(O24/$B24*100),O24/$B24*100,0) -> 0.47521358 | Q24: 8
A25: De 50 a 54 años | B25: =SUM(C25,F25,I25,L25,O25) -> 113736.97 | C25: 3802.8311 | D25: =IF(ISNUMBER(C25/$B25*100),C25/$B25*100,0) -> 3.3435311 | E25: 7.4966005 | F25: 13855.244 | G25: =IF(ISNUMBER(F25/$B25*100),F25/$B25*100,0) -> 12.181829 | H25: 7.5933391 | I25: 93908.563 | J25: =IF(ISNUMBER(I25/$B25*100),I25/$B25*100,0) -> 82.566433 | K25: 5.5854982 | L25: 658.45994 | M25: =IF(ISNUMBER(L25/$B25*100),L25/$B25*100,0) -> 0.57893218 | N25: 9.1180945 | O25: 1511.876 | P25: =IF(ISNUMBER(O25/$B25*100),O25/$B25*100,0) -> 1.329274 | Q25: 8.598908
A26: De 55 a 59 años | B26: =SUM(C26,F26,I26,L26,O26) -> 92530.587 | C26: 4058.9131 | D26: =IF(ISNUMBER(C26/$B26*100),C26/$B26*100,0) -> 4.3865636 | E26: 9.4988903 | F26: 11606.891 | G26: =IF(ISNUMBER(F26/$B26*100),F26/$B26*100,0) -> 12.543842 | H26: 6.4030797 | I26: 76234.204 | J26: =IF(ISNUMBER(I26/$B26*100),I26/$B26*100,0) -> 82.388113 | K26: 5.1070785 | L26: 163.95585 | M26: =IF(ISNUMBER(L26/$B26*100),L26/$B26*100,0) -> 0.17719097 | N26: 9 | O26: 466.6228 | P26: =IF(ISNUMBER(O26/$B26*100),O26/$B26*100,0) -> 0.50429033 | Q26: 10.2
A27: De 60 a 64 años | B27: =SUM(C27,F27,I27,L27,O27) -> 74586.305 | C27: 4478.9175 | D27: =IF(ISNUMBER(C27/$B27*100),C27/$B27*100,0) -> 6.0050133 | E27: 6.0463431 | F27: 11263.728 | G27: =IF(ISNUMBER(F27/$B27*100),F27/$B27*100,0) -> 15.101603 | H27: 6.7140891 | I27: 56686.859 | J27: =IF(ISNUMBER(I27/$B27*100),I27/$B27*100,0) -> 76.001699 | K27: 5.2844066 | L27: 186.64912 | M27: =IF(ISNUMBER(L27/$B27*100),L27/$B27*100,0) -> 0.25024583 | N27: 6 | O27: 1970.152 | P27: =IF(ISNUMBER(O27/$B27*100),O27/$B27*100,0) -> 2.6414393 | Q27: 9.5035345
A28: De 65 años y más | B28: =SUM(C28,F28,I28,L28,O28) -> 103086.98 | C28: 3389.5155 | D28: =IF(ISNUMBER(C28/$B28*100),C28/$B28*100,0) -> 3.2880153 | E28: 6.1817328 | F28: 13321.871 | G28: =IF(ISNUMBER(F28/$B28*100),F28/$B28*100,0) -> 12.922943 | H28: 6.3765887 | I28: 81195.102 | J28: =IF(ISNUMBER(I28/$B28*100),I28/$B28*100,0) -> 78.763686 | K28: 3.9866501 | L28: 0 | M28: =IF(ISNUMBER(L28/$B28*100),L28/$B28*100,0) -> 0 | N28: 0 | O28: 5180.4871 | P28: =IF(ISNUMBER(O28/$B28*100),O28/$B28*100,0) -> 5.0253556 | Q28: 9.3877918
A32: ='C01'!$A$31 -> Fuente: Instituto Nacional de Estadística (INE). Encuesta Permanente de Hogares de Propósitos Múltiples, LXI 2018.
A33: AEP: Años de Estudio Promedio
A34: 2/ Porcentaje por filas
A36: =A1 -> Cuadro No. 5 Población con problemas de empleo y Años de Estudio Promedio (AEP), según dominio, rama de actividad y ocupación
A37: Hombres
A38: ....... Continuación
A39: =A3 -> Categorías | B39: Total | C39: Desocupados | F39: Subempleo Visible | I39: Subempleo Invisible | L39: Potencialmente Activos | O39: Desalentados
C40: No. | D40: % 2/ | E40: AEP | F40: No. | G40: % 2/ | H40: AEP | I40: No. | J40: % 2/ | K40: AEP | L40: No. | M40: % 2/ | N40: AEP | O40: No. | P40: % 2/ | Q40: AEP
A42: =A6 -> Total Nacional | B42: =B6 -> 1801130.8 | C42: =C6 -> 118241.65 | D42: =D6 -> 6.5648561 | E42: =E6 -> 9.0630078 | F42: =F6 -> 250085.43 | G42: =G6 -> 13.884912 | H42: =H6 -> 7.6016499 | ... Q42: =Q6 -> 7.7359854
A44: Rama de Actividad
A45: Agricultura, ganaderia, silvicultura y pesca | B45: =SUM(C45,F45,I45,L45,O45) -> 775454.24 | C45: 0 | D45: =IF(ISNUMBER(C45/$B45*100),C45/$B45*100,0) -> 0 | E45: 0 | F45: 119740.44 | G45: =IF(ISNUMBER(F45/$B45*100),F45/$B45*100,0) -> 15.441329 | H45: 5.9096178 | I45: 655713.8 | J45: =IF(ISNUMBER(I45/$B45*100),I45/$B45*100,0) -> 84.558671 | K45: 4.9662388 | L45: 0 | M45: =IF(ISNUMBER(L45/$B45*100),L45/$B45*100,0) -> 0 | N45: 0 | O45: 0 | P45: =IF(ISNUMBER(O45/$B45*100),O45/$B45*100,0) -> 0 | Q45: 0
A46: Explotacion de minas y canteras | B46: =SUM(C46,F46,I46,L46,O46) -> 4820.6293 | C46: 0 | D46: =IF(ISNUMBER(C46/$B46*100),C46/$B46*100,0) -> 0 | E46: 0 | F46: 1052.2907 | G46: =IF(ISNUMBER(F46/$B46*100),F46/$B46*100,0) -> 21.828907 | H46: 4.5 | I46: 3768.3386 | J46: =IF(ISNUMBER(I46/$B46*100),I46/$B46*100,0) -> 78.171093 | K46: 4.7810482 | L46: 0 | M46: =IF(ISNUMBER(L46/$B46*100),L46/$B46*100,0) -> 0 | N46: 0 | O46: 0 | P46: =IF(ISNUMBER(O46/$B46*100),O46/$B46*100,0) -> 0 | Q46: 0
A47: Industria manufacturera | B47: =SUM(C47,F47,I47,L47,O47) -> 177681.54 | C47: 0 | D47: =IF(ISNUMBER(C47/$B47*100),C47/$B47*100,0) -> 0 | E47: 0 | F47: 16539.62 | G47: =IF(ISNUMBER(F47/$B47*100),F47/$B47*100,0) -> 9.3085755 | H47: 8.1100362 | I47: 161141.92 | J47: =IF(ISNUMBER(I47/$B47*100),I47/$B47*100,0) -> 90.691425 | K47: 8.0132791 | L47: 0 | M47: =IF(ISNUMBER(L47/$B47*100),L47/$B47*100,0) -> 0 | N47: 0 | O47: 0 | P47: =IF(ISNUMBER(O47/$B47*100),O47/$B47*100,0) -> 0 | Q47: 0
A48: Suministro de electricidad, gas, vapor y aire acondicionado | B48: =SUM(C48,F48,I48,L48,O48) -> 857.0049 | C48: 0 | D48: =IF(ISNUMBER(C48/$B48*100),C48/$B48*100,0) -> 0 | E48: 0 | F48: 0 | G48: =IF(ISNUMBER(F48/$B48*100),F48/$B48*100,0) -> 0 | H48: 0 | I48: 857.0049 | J48: =IF(ISNUMBER(I48/$B48*100),I48/$B48*100,0) -> 100 | K48: 6 | L48: 0 | M48: =IF(ISNUMBER(L48/$B48*100),L48/$B48*100,0) -> 0 | N48: 0 | O48: 0 | P48: =IF(ISNUMBER(O48/$B48*100),O48/$B48*100,0) -> 0 | Q48: 0
A49: Suministro de agua, evacuacion de aguas residuales, gestion de desechos y descontaminacion | B49: =SUM(C49,F49,I49,L49,O49) -> 9160.9945 | C49: 0 | D49: =IF(ISNUMBER(C49/$B49*100),C49/$B49*100,0) -> 0 | E49: 0 | F49: 1885.3746 | G49: =IF(ISNUMBER(F49/$B49*100),F49/$B49*100,0) -> 20.580458 | H49: 4.6313246 | I49: 7275.6199 | J49: =IF(ISNUMBER(I49/$B49*100),I49/$B49*100,0) -> 79.419542 | K49: 5.8229807 | L49: 0 | M49: =IF(ISNUMBER(L49/$B49*100),L49/$B49*100,0) -> 0 | N49: 0 | O49: 0 | P49: =IF(ISNUMBER(O49/$B49*100),O49/$B49*100,0) -> 0 | Q49: 0
...

Sheet C06
A1: Cuadro No. 6. Población con problemas de empleo y Años de Estudio Promedio (AEP), según dominio, rama de actividad y ocupación
A2: Mujeres
A3: Categorías | B3: Total | C3: Desocupados | F3: Subempleo Visible | I3: Subempleo Invisible | L3: Potencialmente Activos | O3: Desalentados
C4: No. | D4: % 1/ | E4: AEP | F4: No. | G4: % 1/ | H4: AEP | I4: No. | J4: % 1/ | K4: AEP | L4: No. | M4: % 1/ | N4: AEP | O4: No. | P4: % 1/ | Q4: AEP
A6: Total Nacional/2 | B6: =+B9+B13 -> 1177149.4 | C6: 127484.85 | D6: =IF(ISNUMBER(C6/$B6*100),C6/$B6*100,0) -> 10.829963 | E6: 9.8803025 | F6: 332740.22 | G6: =IF(ISNUMBER(F6/$B6*100),F6/$B6*100,0) -> 28.266608 | H6: 8.0099387 | I6: 594396.14 | J6: =IF(ISNUMBER(I6/$B6*100),I6/$B6*100,0) -> 50.494536 | K6: 8.0893069 | L6: 28280.444 | M6: =IF(ISNUMBER(L6/$B6*100),L6/$B6*100,0) -> 2.4024515 | N6: 6.1435921 | O6: 94247.776 | P6: =IF(ISNUMBER(O6/$B6*100),O6/$B6*100,0) -> 8.0064412 | Q6: 7.1658468
A8: Dominio
A9: Urbano | B9: =SUM(C9,F9,I9,L9,O9) -> 739656.73 | C9: =SUM(C10:C12) -> 94821.437 | D9: =IF(ISNUMBER(C9/$B9*100),C9/$B9*100,0) -> 12.819655 | E9: 10.602926 | F9: =SUM(F10:F12) -> 177057.96 | G9: =IF(ISNUMBER(F9/$B9*100),F9/$B9*100,0) -> 23.937855 | H9: 9.1510205 | I9: =SUM(I10:I12) -> 430678.87 | J9: =IF(ISNUMBER(I9/$B9*100),I9/$B9*100,0) -> 58.226857 | K9: 8.7095562 | L9: =SUM(L10:L12) -> 3713.6171 | M9: =IF(ISNUMBER(L9/$B9*100),L9/$B9*100,0) -> 0.50207305 | N9: 9.3156085 | O9: =SUM(O10:O12) -> 33384.848 | P9: =IF(ISNUMBER(O9/$B9*100),O9/$B9*100,0) -> 4.5135597 | Q9: 8.8028667
A10: Distrito Central | B10: =SUM(C10,F10,I10,L10,O10) -> 172295.8 | C10: 25682.919 | D10: =IF(ISNUMBER(C10/$B10*100),C10/$B10*100,0) -> 14.906294 | E10: 11.654867 | F10: 42742.648 | G10: =IF(ISNUMBER(F10/$B10*100),F10/$B10*100,0) -> 24.807713 | H10: 10.471622 | I10: 92895.267 | J10: =IF(ISNUMBER(I10/$B10*100),I10/$B10*100,0) -> 53.916152 | K10: 9.8713188 | L10: 373.29824 | M10: =IF(ISNUMBER(L10/$B10*100),L10/$B10*100,0) -> 0.21666125 | N10: 9 | O10: 10601.67 | P10: =IF(ISNUMBER(O10/$B10*100),O10/$B10*100,0) -> 6.1531795 | Q10: 9.1989051
A11: San Pedro Sula | B11: =SUM(C11,F11,I11,L11,O11) -> 84666.8 | C11: 13887.06 | D11: =IF(ISNUMBER(C11/$B11*100),C11/$B11*100,0) -> 16.402014 | E11: 10.216646 | F11: 12706.578 | G11: =IF(ISNUMBER(F11/$B11*100),F11/$B11*100,0) -> 15.007746 | H11: 8.9087248 | I11: 55744.988 | J11: =IF(ISNUMBER(I11/$B11*100),I11/$B11*100,0) -> 65.840434 | K11: 8.7221365 | L11: 327.9117 | M11: =IF(ISNUMBER(L11/$B11*100),L11/$B11*100,0) -> 0.38729667 | N11: 3.5 | O11: 2000.2614 | P11: =IF(ISNUMBER(O11/$B11*100),O11/$B11*100,0) -> 2.3625097 | Q11: 7.4130435
A12: Resto urbano | B12: =SUM(C12,F12,I12,L12,O12) -> 482694.12 | C12: 55251.458 | D12: =IF(ISNUMBER(C12/$B12*100),C12/$B12*100,0) -> 11.446474 | E12: 10.214702 | F12: 121608.73 | G12: =IF(ISNUMBER(F12/$B12*100),F12/$B12*100,0) -> 25.193746 | H12: 8.7021938 | I12: 282038.61 | J12: =IF(ISNUMBER(I12/$B12*100),I12/$B12*100,0) -> 58.43009 | K12: 8.3242201 | L12: 3012.4071 | M12: =IF(ISNUMBER(L12/$B12*100),L12/$B12*100,0) -> 0.624082 | N12: 10.101695 | O12: 20782.917 | P12: =IF(ISNUMBER(O12/$B12*100),O12/$B12*100,0) -> 4.305608 | Q12: 8.705767
