Workbook

Sheet Titulo

Sheet CUADRO 1
A1: Cuadro No. 1. Proporción de Hogares con acceso a tecnologías de información y comunicaciones, según dominio, rangos de edad del jefe, sexo del jefe, nivel educativo del jefe y quintil de ingreso del hogar
A2: Categorias | B2: Total Hogares | D2: Hogares que poseen:
D3: Radio, radiograbadora o equipo de sonido | F3: Televisor | H3: Computadora | J3: Telefono celular(movil) | L3: Servivio de Telefono fijo
B5: No. | C5: % /1 | D5: No. | E5: % /1 | F5: No. | G5: % /1 | H5: No. | I5: % /1 | J5: No. | K5: % /1 | L5: No. | M5: % /1
A7: Total Nacional 2/ | B7: 2986249.6 | C7: =+C10+C14 -> 100 | D7: 1197221.9 | E7: =+D7/$B7*100 -> 40.091154 | F7: 2265821.2 | G7: =+F7/$B7*100 -> 75.875144 | H7: 466424.5 | I7: =+H7/$B7*100 -> 15.619073 | J7: 2826903.4 | K7: =+J7/$B7*100 -> 94.664002 | L7: 91903.833 | M7: =+L7/$B7*100 -> 3.077567
A9: Dominio
A10: Urbano | B10: 1783620.3 | C10: =+B10/B$7*100 -> 59.727768 | D10: 774198.39 | E10: =+D10/D$7*100 -> 64.666239 | F10: 1556800.8 | G10: =+F10/F$7*100 -> 68.708014 | H10: 394796.44 | I10: =+H10/H$7*100 -> 84.643161 | J10: 1733189.7 | K10: =+J10/J$7*100 -> 61.310537 | L10: 83972.734 | M10: =+L10/L$7*100 -> 91.37022
A11: Distrito Central | B11: 360388.18 | C11: =+B11/B$7*100 -> 12.068254 | D11: 186336.6 | E11: =+D11/D$7*100 -> 15.564081 | F11: 336335.83 | G11: =+F11/F$7*100 -> 14.843882 | H11: 134425.73 | I11: =+H11/H$7*100 -> 28.82047 | J11: 351331.55 | K11: =+J11/J$7*100 -> 12.428141 | L11: 46520.277 | M11: =+L11/L$7*100 -> 50.61843
A12: San Pedro Sula | B12: 226345.01 | C12: =+B12/B$7*100 -> 7.5795743 | D12: 101255.54 | E12: =+D12/D$7*100 -> 8.4575413 | F12: 207314.42 | G12: =+F12/F$7*100 -> 9.1496371 | H12: 62796.843 | I12: =+H12/H$7*100 -> 13.463453 | J12: 221938.43 | K12: =+J12/J$7*100 -> 7.8509379 | L12: 8247.5357 | M12: =+L12/L$7*100 -> 8.9740933
A13: Resto Urbano | B13: 1196887.1 | C13: =+B13/B$7*100 -> 40.07994 | D13: 486606.26 | E13: =+D13/D$7*100 -> 40.644616 | F13: 1013150.5 | G13: =+F13/F$7*100 -> 44.714495 | H13: 197573.87 | I13: =+H13/H$7*100 -> 42.359239 | J13: 1159919.7 | K13: =+J13/J$7*100 -> 41.031458 | L13: 29204.921 | M13: =+L13/L$7*100 -> 31.777696
A14: Rural | B14: 1202629.4 | C14: =+B14/B$7*100 -> 40.272232 | D14: 423023.54 | E14: =+D14/D$7*100 -> 35.333761 | F14: 709020.45 | G14: =+F14/F$7*100 -> 31.291986 | H14: 71628.057 | I14: =+H14/H$7*100 -> 15.356839 | J14: 1093713.7 | K14: =+J14/J$7*100 -> 38.689463 | L14: 7931.099 | M14: =+L14/L$7*100 -> 8.6297804
A16: Rangos de edad del Jefe
A17: Menores de 15 Años
A18: De 15 - 29 Años | B18: 293973.37 | C18: =+B18/B$7*100 -> 9.844233 | D18: 100494.89 | E18: =+D18/D$7*100 -> 8.3940068 | F18: 194714.69 | G18: =+F18/F$7*100 -> 8.5935593 | H18: 38209.758 | I18: =+H18/H$7*100 -> 8.1920564 | J18: 283779.32 | K18: =+J18/J$7*100 -> 10.038522 | L18: 4557.5171 | M18: =+L18/L$7*100 -> 4.9590065
A19: De 30 - 44 Años | B19: 792541.47 | C19: =+B19/B$7*100 -> 26.539692 | D19: 333494.83 | E19: =+D19/D$7*100 -> 27.855724 | F19: 592907.38 | G19: =+F19/F$7*100 -> 26.167439 | H19: 141109.22 | I19: =+H19/H$7*100 -> 30.253389 | J19: 770771.68 | K19: =+J19/J$7*100 -> 27.265582 | L19: 17570.971 | M19: =+L19/L$7*100 -> 19.118866
A20: De 45 - 59 Años | B20: 870062.05 | C20: =+B20/B$7*100 -> 29.13561 | D20: 361573.9 | E20: =+D20/D$7*100 -> 30.201076 | F20: 668723.17 | G20: =+F20/F$7*100 -> 29.513501 | H20: 153311.39 | I20: =+H20/H$7*100 -> 32.869498 | J20: 839565.28 | K20: =+J20/J$7*100 -> 29.699115 | L20: 21053.534 | M20: =+L20/L$7*100 -> 22.908222
A21: 60 Años y mas | B21: 1029672.8 | C21: =+B21/B$7*100 -> 34.480465 | D21: 401658.31 | E21: =+D21/D$7*100 -> 33.549194 | F21: 809475.97 | G21: =+F21/F$7*100 -> 35.725501 | H21: 133794.13 | I21: =+H21/H$7*100 -> 28.685056 | J21: 932787.13 | K21: =+J21/J$7*100 -> 32.996781 | L21: 48721.81 | M21: =+L21/L$7*100 -> 53.013905
A23: Sexo Jefe de hogar
A24: Hombre | B24: 1784023.4 | C24: =+B24/B$7*100 -> 59.741269 | D24: 733946.55 | E24: =+D24/D$7*100 -> 61.304135 | F24: 1343108.7 | G24: =+F24/F$7*100 -> 59.276904 | H24: 284953.1 | I24: =+H24/H$7*100 -> 61.093081 | J24: 1691724.1 | K24: =+J24/J$7*100 -> 59.843719 | L24: 53489.153 | M24: =+L24/L$7*100 -> 58.201221
A25: Mujer | B25: 1202226.2 | C25: =+B25/B$7*100 -> 40.258731 | D25: 463275.39 | E25: =+D25/D$7*100 -> 38.695865 | F25: 922712.55 | G25: =+F25/F$7*100 -> 40.723096 | H25: 181471.4 | I25: =+H25/H$7*100 -> 38.906919 | J25: 1135179.3 | K25: =+J25/J$7*100 -> 40.156281 | L25: 38414.68 | M25: =+L25/L$7*100 -> 41.798779
A27: Nivel Educativo del Jefe
A28: Sin nivel | B28: 417897.18 | C28: =+B28/B$7*100 -> 13.994047 | D28: 142358.45 | E28: =+D28/D$7*100 -> 11.890732 | F28: 252451.88 | G28: =+F28/F$7*100 -> 11.141739 | H28: 18545.665 | I28: =+H28/H$7*100 -> 3.9761345 | J28: 362321.32 | K28: =+J28/J$7*100 -> 12.816898 | L28: 5772.7645 | M28: =+L28/L$7*100 -> 6.2813098
A29: Basica 1-6 | B29: 1547175.9 | C29: =+B29/B$7*100 -> 51.81 | D29: 592043.69 | E29: =+D29/D$7*100 -> 49.451457 | F29: 1114574.5 | G29: =+F29/F$7*100 -> 49.190754 | H29: 120015.68 | I29: =+H29/H$7*100 -> 25.730999 | J29: 1457681.3 | K29: =+J29/J$7*100 -> 51.564594 | L29: 25463.928 | M29: =+L29/L$7*100 -> 27.707145
A30: Basica 7-9 | B30: 250428.06 | C30: =+B30/B$7*100 -> 8.386039 | D30: 98200.871 | E30: =+D30/D$7*100 -> 8.2023949 | F30: 205928.74 | G30: =+F30/F$7*100 -> 9.0884815 | H30: 31635.319 | I30: =+H30/H$7*100 -> 6.7825167 | J30: 245597.3 | K30: =+J30/J$7*100 -> 8.6878561 | L30: 4510.4918 | M30: =+L30/L$7*100 -> 4.9078386
A31: Media | B31: 456755.99 | C31: =+B31/B$7*100 -> 15.295305 | D31: 206096.69 | E31: =+D31/D$7*100 -> 17.214577 | F31: 407061.49 | G31: =+F31/F$7*100 -> 17.965296 | H31: 126250.82 | I31: =+H31/H$7*100 -> 27.067793 | J31: 452271.26 | K31: =+J31/J$7*100 -> 15.998822 | L31: 26063.121 | M31: =+L31/L$7*100 -> 28.359123
A32: Superior | B32: 280252.28 | C32: =+B32/B$7*100 -> 9.3847573 | D32: 142116.12 | E32: =+D32/D$7*100 -> 11.870491 | F32: 260780.03 | G32: =+F32/F$7*100 -> 11.509294 | H32: 163902.12 | I32: =+H32/H$7*100 -> 35.140118 | J32: 279009.98 | K32: =+J32/J$7*100 -> 9.8698093 | L32: 29357.243 | M32: =+L32/L$7*100 -> 31.943437
A33: Ns/Nr | B33: 33740.192 | C33: =+B33/B$7*100 -> 1.1298517 | D33: 16406.116 | E33: =+D33/D$7*100 -> 1.3703487 | F33: 25024.528 | G33: =+F33/F$7*100 -> 1.1044353 | H33: 6074.8949 | I33: =+H33/H$7*100 -> 1.3024391 | J33: 30022.292 | K33: =+J33/J$7*100 -> 1.0620204 | L33: 736.28473 | M33: =+L33/L$7*100 -> 0.80114692
A36: Quintil de ingreso del hogar
A37: Quintil 1 | B37: 557467.7 | C37: =+B37/B$7*100 -> 18.66782 | D37: 189966.76 | E37: =+D37/D$7*100 -> 15.867297 | F37: 350907.28 | G37: =+F37/F$7*100 -> 15.48698 | H37: 37942.579 | I37: =+H37/H$7*100 -> 8.1347741 | J37: 501924.14 | K37: =+J37/J$7*100 -> 17.755263 | L37: 9864.3812 | M37: =+L37/L$7*100 -> 10.733373
A38: Quintil 2 | B38: 557421.62 | C38: =+B38/B$7*100 -> 18.666277 | D38: 210119.23 | E38: =+D38/D$7*100 -> 17.550566 | F38: 370849.12 | G38: =+F38/F$7*100 -> 16.367095 | H38: 40911.99 | I38: =+H38/H$7*100 -> 8.7714068 | J38: 519426.59 | K38: =+J38/J$7*100 -> 18.374402 | L38: 8345.202 | M38: =+L38/L$7*100 -> 9.0803634
A39: Quintil 3 | B39: 557580.23 | C39: =+B39/B$7*100 -> 18.671588 | D39: 212673.34 | E39: =+D39/D$7*100 -> 17.763903 | F39: 428649.89 | G39: =+F39/F$7*100 -> 18.918081 | H39: 65898.947 | I39: =+H39/H$7*100 -> 14.128535 | J39: 535652.16 | K39: =+J39/J$7*100 -> 18.948371 | L39: 12265.972 | M39: =+L39/L$7*100 -> 13.34653
A40: Quintil 4 | B40: 557536.1 | C40: =+B40/B$7*100 -> 18.67011 | D40: 243083.62 | E40: =+D40/D$7*100 -> 20.303973 | F40: 466554.36 | G40: =+F40/F$7*100 -> 20.590961 | H40: 104606.22 | I40: =+H40/H$7*100 -> 22.427258 | J40: 541848.99 | K40: =+J40/J$7*100 -> 19.167581 | L40: 18125.785 | M40: =+L40/L$7*100 -> 19.722556
A41: Quintil 5 | B41: 557544.37 | C41: =+B41/B$7*100 -> 18.670387 | D41: 267245.87 | E41: =+D41/D$7*100 -> 22.322166 | F41: 497169.2 | G41: =+F41/F$7*100 -> 21.942119 | H41: 179329.18 | I41: =+H41/H$7*100 -> 38.447634 | J41: 548108.47 | K41: =+J41/J$7*100 -> 19.389006 | L41: 33870.948 | M41: =+L41/L$7*100 -> 36.854772
A42: No Declaran Ingresos | B42: 198699.62 | C42: =+B42/B$7*100 -> 6.6538183 | D42: 74133.114 | E42: =+D42/D$7*100 -> 6.1920946 | F42: 151691.35 | G42: =+F42/F$7*100 -> 6.6947627 | H42: 37735.576 | I42: =+H42/H$7*100 -> 8.0903931 | J42: 179943.07 | K42: =+J42/J$7*100 -> 6.3653772 | L42: 9431.545 | M42: =+L42/L$7*100 -> 10.262407
A43: Fuente: Instituto Nacional de Estadística (INE). LXXXIV Encuesta Permanente de Hogares de Propósitos Múltiples, junio 2026.
A44: 1/ Porcentaje por columnas
A45: 2/ Porcentaje por filas
A46: /3 Nota este valor no necesariamente coincide con la sumatoria de los hogares con acceso a servicio de teléfono publico y privado, ya que el hogar puede contar con uno o ambos servicios de telefefonía

Sheet CUADRO 2
A1: Cuadro No. 2. Proporción de personas que en los últimos 3 meses tuvo acceso a internet, por frecuencia de uso y sitio en el cual tuvo acceso según dominio, rangos de edad , sexo, nivel educativo y quintil de ingreso del hogar
A2: Categorias | B2: Población de 5 años y más | D2: Total acceso | F2: Acceso a internet
F3: Frecuencia de uso | M3: Sitio en el cual tuvo acceso a internet
F4: Al menos una vez por día | H4: Al menos 1 vez por semana pero no todos los días | J4: Al menos 1 vez por mes pero no todas las semanas | M4: En Casa | O4: En su trabajo | Q4: En la escuela, colegio o universidad | S4: Casa de un familiar / amigo | U4: Hotel, Restaurante o local con red inalambrica | W4: Celular | Y4: Red publica (parque u otro lugar) | AA4: (En transporte o a pie)
B5: No. | C5: % /1 | D5: No. | E5: % /1 | F5: No. | G5: % /1 | H5: No. | I5: % /1 | J5: No. | K5: % /1 | M5: No. | N5: % /1 | O5: No. | P5: % /1 | Q5: No. | R5: % /1 | S5: No. | T5: % /1 | U5: No. | V5: % /1 | W5: No. | X5: % /1 | Y5: No. | Z5: % /1 | AA5: No. | AB5: % /1
A6: Total Nacional 2/ | B6: 9492235.9 | C6: =+C9+C13 -> 100 | D6: 6673196.3 | E6: =+D6/$B$6*100 -> 70.301628 | F6: 5949149.3 | G6: =+F6/$D6*100 -> 89.149921 | H6: 648496.89 | I6: =+H6/$D6*100 -> 9.7179351 | J6: 96533.166 | K6: =+J6/$D6*100 -> 1.4465806 | M6: 6479906 | N6: =+M6/$D6*100 -> 97.103483 | O6: 1609206.7 | P6: =+O6/$D6*100 -> 24.114482 | Q6: 358226.82 | R6: =+Q6/$D6*100 -> 5.3681444 | S6: 436654.36 | T6: =+S6/$D6*100 -> 6.5434065 | U6: 232616.01 | V6: =+U6/$D6*100 -> 3.4858259 | W6: 6230711 | X6: =+W6/$D6*100 -> 93.369215 | Y6: 222408.86 | Z6: =+Y6/$D6*100 -> 3.3328685 | AA6: 1324421.5 | AB6: =+AA6/$D6*100 -> 19.846884
A8: Dominio
A9: Urbano | B9: 5375333.3 | C9: =+B9/$B$6*100 -> 56.628736 | D9: 4271125.1 | E9: =+D9/D$6*100 -> 64.004187 | F9: 3996999.2 | G9: =+F9/F$6*100 -> 67.186063 | H9: 256965.2 | I9: =+H9/H$6*100 -> 39.624738 | J9: 29035.451 | K9: =+J9/J$6*100 -> 30.078213 | M9: 4180904.5 | N9: =+M9/M$6*100 -> 64.521067 | O9: 1201930.3 | P9: =+O9/O$6*100 -> 74.690854 | Q9: 283377.37 | R9: =+Q9/Q$6*100 -> 79.105571 | S9: 320158.21 | T9: =+S9/S$6*100 -> 73.32074 | U9: 205095.61 | V9: =+U9/U$6*100 -> 88.169172 | W9: 3999442.1 | X9: =+W9/W$6*100 -> 64.189176 | Y9: 179334.31 | Z9: =+Y9/Y$6*100 -> 80.63272 | AA9: 910288.57 | AB9: =+AA9/AA$6*100 -> 68.731031
A10: Distrito Central | B10: 1140246 | C10: =+B10/$B$6*100 -> 12.012406 | D10: 962048.15 | E10: =+D10/D$6*100 -> 14.416602 | F10: 902921.76 | G10: =+F10/F$6*100 -> 15.177326 | H10: 54669.882 | I10: =+H10/H$6*100 -> 8.4302458 | J10: 6693.0923 | K10: =+J10/J$6*100 -> 6.933464 | M10: 939433.48 | N10: =+M10/M$6*100 -> 14.49764 | O10: 303417.53 | P10: =+O10/O$6*100 -> 18.855099 | Q10: 99606.29 | R10: =+Q10/Q$6*100 -> 27.80537 | S10: 76106.824 | T10: =+S10/S$6*100 -> 17.429535 | U10: 54203.075 | V10: =+U10/U$6*100 -> 23.301524 | W10: 875579.99 | X10: =+W10/W$6*100 -> 14.05265 | Y10: 40862.382 | Z10: =+Y10/Y$6*100 -> 18.372641 | AA10: 156194.48 | AB10: =+AA10/AA$6*100 -> 11.793412
A11: San Pedro Sula | B11: 664851.1 | C11: =+B11/$B$6*100 -> 7.004157 | D11: 572097.97 | E11: =+D11/D$6*100 -> 8.5730726 | F11: 549027.09 | G11: =+F11/F$6*100 -> 9.2286656 | H11: 23461.907 | I11: =+H11/H$6*100 -> 3.6178905 | J11: 1377.42 | K11: =+J11/J$6*100 -> 1.4268878 | M11: 565134.5 | N11: =+M11/M$6*100 -> 8.7213379 | O11: 206860.45 | P11: =+O11/O$6*100 -> 12.854809 | Q11: 36369.048 | R11: =+Q11/Q$6*100 -> 10.15252 | S11: 82168.73 | T11: =+S11/S$6*100 -> 18.817797 | U11: 65583.525 | V11: =+U11/U$6*100 -> 28.1939 | W11: 552544.8 | X11: =+W11/W$6*100 -> 8.8680858 | Y11: 61851.863 | Z11: =+Y11/Y$6*100 -> 27.809982 | AA11: 142226.86 | AB11: =+AA11/AA$6*100 -> 10.738791
A12: Resto Urbano | B12: 3570236.2 | C12: =+B12/$B$6*100 -> 37.612173 | D12: 2736978.9 | E12: =+D12/D$6*100 -> 41.014513 | F12: 2545050.3 | G12: =+F12/F$6*100 -> 42.780072 | H12: 178833.41 | I12: =+H12/H$6*100 -> 27.576602 | J12: 20964.939 | K12: =+J12/J$6*100 -> 21.717861 | M12: 2676336.5 | N12: =+M12/M$6*100 -> 41.302089 | O12: 691652.27 | P12: =+O12/O$6*100 -> 42.980945 | Q12: 147402.03 | R12: =+Q12/Q$6*100 -> 41.147682 | S12: 161882.65 | T12: =+S12/S$6*100 -> 37.073408 | U12: 85309.008 | V12: =+U12/U$6*100 -> 36.673748 | W12: 2571317.3 | X12: =+W12/W$6*100 -> 41.268441 | Y12: 76620.068 | Z12: =+Y12/Y$6*100 -> 34.450097 | AA12: 611867.22 | AB12: =+AA12/AA$6*100 -> 46.198828
A13: Rural | B13: 4116902.7 | C13: =+B13/$B$6*100 -> 43.371264 | D13: 2402071.3 | E13: =+D13/D$6*100 -> 35.995813 | F13: 1952150.1 | G13: =+F13/F$6*100 -> 32.813937 | H13: 391531.69 | I13: =+H13/H$6*100 -> 60.375262 | J13: 67497.714 | K13: =+J13/J$6*100 -> 69.921787 | M13: 2299001.5 | N13: =+M13/M$6*100 -> 35.478933 | O13: 407276.48 | P13: =+O13/O$6*100 -> 25.309146 | Q13: 74849.447 | R13: =+Q13/Q$6*100 -> 20.894429 | S13: 116496.15 | T13: =+S13/S$6*100 -> 26.67926 | U13: 27520.399 | V13: =+U13/U$6*100 -> 11.830828 | W13: 2231268.9 | X13: =+W13/W$6*100 -> 35.810824 | Y13: 43074.548 | Z13: =+Y13/Y$6*100 -> 19.36728 | AA13: 414132.96 | AB13: =+AA13/AA$6*100 -> 31.268969
A15: Rangos de edad
A16: Menores de 15 | B16: 1868746 | C16: =+B16/$B$6*100 -> 19.687101 | D16: 747589.08 | E16: =+D16/D$6*100 -> 11.202864 | F16: 619452.31 | G16: =+F16/F$6*100 -> 10.412452 | H16: 121450.93 | I16: =+H16/H$6*100 -> 18.728066 | J16: 12194.599 | K16: =+J16/J$6*100 -> 12.632549 | M16: 720010.79 | N16: =+M16/M$6*100 -> 11.111439 | O16: 8379.1964 | P16: =+O16/O$6*100 -> 0.52070354 | Q16: 80883.417 | R16: =+Q16/Q$6*100 -> 22.578828 | S16: 23920.671 | T16: =+S16/S$6*100 -> 5.4781707 | U16: 5633.4395 | V16: =+U16/U$6*100 -> 2.4217764 | W16: 640227.09 | X16: =+W16/W$6*100 -> 10.275346 | Y16: 10726.722 | Z16: =+Y16/Y$6*100 -> 4.8229744 | AA16: 32710.258 | AB16: =+AA16/AA$6*100 -> 2.4697769
A17: De 15 a 29 | B17: 2495101.3 | C17: =+B17/$B$6*100 -> 26.285707 | D17: 2120657.2 | E17: =+D17/D$6*100 -> 31.778733 | F17: 1925178.9 | G17: =+F17/F$6*100 -> 32.360574 | H17: 173788.75 | I17: =+H17/H$6*100 -> 26.798702 | J17: 24504.947 | K17: =+J17/J$6*100 -> 25.385004 | M17: 2061457.9 | N17: =+M17/M$6*100 -> 31.813082 | O17: 519177.86 | P17: =+O17/O$6*100 -> 32.262968 | Q17: 217575.67 | R17: =+Q17/Q$6*100 -> 60.736846 | S17: 159443.38 | T17: =+S17/S$6*100 -> 36.514779 | U17: 79116.379 | V17: =+U17/U$6*100 -> 34.01158 | W17: 1998462.6 | X17: =+W17/W$6*100 -> 32.074391 | Y17: 71553.539 | Z17: =+Y17/Y$6*100 -> 32.172072 | AA17: 468865.12 | AB17: =+AA17/AA$6*100 -> 35.401502
A18: De 30 a 44 | B18: 1996650.5 | C18: =+B18/$B$6*100 -> 21.034565 | D18: 1698993.6 | E18: =+D18/D$6*100 -> 25.459967 | F18: 1532064.7 | G18: =+F18/F$6*100 -> 25.752669 | H18: 148447.89 | I18: =+H18/H$6*100 -> 22.891072 | J18: 21329.156 | K18: =+J18/J$6*100 -> 22.095158 | M18: 1650527.5 | N18: =+M18/M$6*100 -> 25.471473 | O18: 617894.11 | P18: =+O18/O$6*100 -> 38.397435 | Q18: 35658.36 | R18: =+Q18/Q$6*100 -> 9.9541292 | S18: 122117.96 | T18: =+S18/S$6*100 -> 27.966732 | U18: 73849.864 | V18: =+U18/U$6*100 -> 31.747542 | W18: 1610273.3 | X18: =+W18/W$6*100 -> 25.844134 | Y18: 67206.468 | Z18: =+Y18/Y$6*100 -> 30.217532 | AA18: 419245.17 | AB18: =+AA18/AA$6*100 -> 31.654964
A19: De 45 a 59 | B19: 1565332.7 | C19: =+B19/$B$6*100 -> 16.490663 | D19: 1229247.3 | E19: =+D19/D$6*100 -> 18.420667 | F19: 1110376.9 | G19: =+F19/F$6*100 -> 18.664465 | H19: 105645.01 | I19: =+H19/H$6*100 -> 16.29075 | J19: 16799.049 | K19: =+J19/J$6*100 -> 17.40236 | M19: 1198388.8 | N19: =+M19/M$6*100 -> 18.493923 | O19: 360168.1 | P19: =+O19/O$6*100 -> 22.381717 | Q19: 18391.075 | R19: =+Q19/Q$6*100 -> 5.1339192 | S19: 81394.548 | T19: =+S19/S$6*100 -> 18.640498 | U19: 47546.445 | V19: =+U19/U$6*100 -> 20.439885 | W19: 1159580.2 | X19: =+W19/W$6*100 -> 18.61072 | Y19: 44827.369 | Z19: =+Y19/Y$6*100 -> 20.155388 | AA19: 260087.44 | AB19: =+AA19/AA$6*100 -> 19.637814
A20: De 60 o más | B20: 1566405.4 | C20: =+B20/$B$6*100 -> 16.501965 | D20: 876709.14 | E20: =+D20/D$6*100 -> 13.137769 | F20: 762076.51 | G20: =+F20/F$6*100 -> 12.80984 | H20: 99164.313 | I20: =+H20/H$6*100 -> 15.291409 | J20: 21705.414 | K20: =+J20/J$6*100 -> 22.48493 | M20: 849521.04 | N20: =+M20/M$6*100 -> 13.110083 | O20: 103587.47 | P20: =+O20/O$6*100 -> 6.4371758 | Q20: 5718.2953 | R20: =+Q20/Q$6*100 -> 1.5962778 | S20: 49777.809 | T20: =+S20/S$6*100 -> 11.39982 | U20: 26469.878 | V20: =+U20/U$6*100 -> 11.379216 | W20: 822167.84 | X20: =+W20/W$6*100 -> 13.19541 | Y20: 28094.762 | Z20: =+Y20/Y$6*100 -> 12.632034 | AA20: 143513.55 | AB20: =+AA20/AA$6*100 -> 10.835942
A22: Sexo
A23: Hombre | B23: 4428787.3 | C23: =+B23/$B$6*100 -> 46.656945 | D23: 3044293 | E23: =+D23/D$6*100 -> 45.619713 | F23: 2705722.1 | G23: =+F23/F$6*100 -> 45.480825 | H23: 306706.73 | I23: =+H23/H$6*100 -> 47.29502 | J23: 42450.366 | K23: =+J23/J$6*100 -> 43.974903 | M23: 2945231 | N23: =+M23/M$6*100 -> 45.451754 | O23: 1041332.3 | P23: =+O23/O$6*100 -> 64.710906 | Q23: 165253.81 | R23: =+Q23/Q$6*100 -> 46.131055 | S23: 197065.63 | T23: =+S23/S$6*100 -> 45.130806 | U23: 107455.37 | V23: =+U23/U$6*100 -> 46.194313 | W23: 2827436.5 | X23: =+W23/W$6*100 -> 45.379034 | Y23: 102753.52 | Z23: =+Y23/Y$6*100 -> 46.20028 | AA23: 692014.03 | AB23: =+AA23/AA$6*100 -> 52.250286
A24: Mujer | B24: 5063448.7 | C24: =+B24/$B$6*100 -> 53.343055 | D24: 3628903.3 | E24: =+D24/D$6*100 -> 54.380287 | F24: 3243427.1 | G24: =+F24/F$6*100 -> 54.519175 | H24: 341790.16 | I24: =+H24/H$6*100 -> 52.70498 | J24: 54082.799 | K24: =+J24/J$6*100 -> 56.025097 | M24: 3534675.1 | N24: =+M24/M$6*100 -> 54.548246 | O24: 567874.48 | P24: =+O24/O$6*100 -> 35.289094 | Q24: 192973 | R24: =+Q24/Q$6*100 -> 53.868945 | S24: 239588.73 | T24: =+S24/S$6*100 -> 54.869194 | U24: 125160.64 | V24: =+U24/U$6*100 -> 53.805687 | W24: 3403274.5 | X24: =+W24/W$6*100 -> 54.620966 | Y24: 119655.34 | Z24: =+Y24/Y$6*100 -> 53.79972 | AA24: 632407.5 | AB24: =+AA24/AA$6*100 -> 47.749714
A26: Nivel educativo
A27: Sin nivel | B27: 1083571.1 | C27: =+B27/$B$6*100 -> 11.415341 | D27: 393118.97 | E27: =+D27/D$6*100 -> 5.8910147 | F27: 323069.92 | G27: =+F27/F$6*100 -> 5.4305231 | H27: 60387.98 | I27: =+H27/H$6*100 -> 9.3119923 | J27: 12763.951 | K27: =+J27/J$6*100 -> 13.222348 | M27: 374543.55 | N27: =+M27/M$6*100 -> 5.7800769 | O27: 63354.507 | P27: =+O27/O$6*100 -> 3.9370023 | Q27: 3667.1786 | R27: =+Q27/Q$6*100 -> 1.023703 | S27: 15267.125 | T27: =+S27/S$6*100 -> 3.4963868 | U27: 2928.6053 | V27: =+U27/U$6*100 -> 1.258987 | W27: 347908.01 | X27: =+W27/W$6*100 -> 5.583761 | Y27: 9556.3974 | Z27: =+Y27/Y$6*100 -> 4.2967701 | AA27: 38793.188 | AB27: =+AA27/AA$6*100 -> 2.9290665
A28: Basica 1-6 | B28: 4724015.5 | C28: =+B28/$B$6*100 -> 49.767152 | D28: 2956937 | E28: =+D28/D$6*100 -> 44.310655 | F28: 2525276.2 | G28: =+F28/F$6*100 -> 42.447686 | H28: 382401.76 | I28: =+H28/H$6*100 -> 58.9674 | J28: 62982.524 | K28: =+J28/J$6*100 -> 65.244441 | M28: 2844356.4 | N28: =+M28/M$6*100 -> 43.895025 | O28: 514140.26 | P28: =+O28/O$6*100 -> 31.94992 | Q28: 58878.172 | R28: =+Q28/Q$6*100 -> 16.436003 | S28: 136335.36 | T28: =+S28/S$6*100 -> 31.222719 | U28: 52720.059 | V28: =+U28/U$6*100 -> 22.663986 | W28: 2725390.8 | X28: =+W28/W$6*100 -> 43.741248 | Y28: 71466.133 | Z28: =+Y28/Y$6*100 -> 32.132772 | AA28: 503786.09 | AB28: =+AA28/AA$6*100 -> 38.038198
A29: Basica 7-9 | B29: 1172132.4 | C29: =+B29/$B$6*100 -> 12.348328 | D29: 954189.13 | E29: =+D29/D$6*100 -> 14.298832 | F29: 859476.18 | G29: =+F29/F$6*100 -> 14.447044 | H29: 87857.651 | I29: =+H29/H$6*100 -> 13.547891 | J29: 9554.1681 | K29: =+J29/J$6*100 -> 9.8972908 | M29: 925266.17 | N29: =+M29/M$6*100 -> 14.279006 | O29: 182922.89 | P29: =+O29/O$6*100 -> 11.367271 | Q29: 64304.848 | R29: =+Q29/Q$6*100 -> 17.950875 | S29: 58544.367 | T29: =+S29/S$6*100 -> 13.407485 | U29: 26795.746 | V29: =+U29/U$6*100 -> 11.519304 | W29: 896561.99 | X29: =+W29/W$6*100 -> 14.389401 | Y29: 27946.289 | Z29: =+Y29/Y$6*100 -> 12.565277 | AA29: 191993.13 | AB29: =+AA29/AA$6*100 -> 14.496377
A30: Media | B30: 1573826.3 | C30: =+B30/$B$6*100 -> 16.580144 | D30: 1471901.4 | E30: =+D30/D$6*100 -> 22.056917 | F30: 1379514.4 | G30: =+F30/F$6*100 -> 23.188432 | H30: 84152.069 | I30: =+H30/H$6*100 -> 12.97648 | J30: 8973.5389 | K30: =+J30/J$6*100 -> 9.2958093 | M30: 1446536.5 | N30: =+M30/M$6*100 -> 22.323418 | O30: 448169.11 | P30: =+O30/O$6*100 -> 27.850313 | Q30: 95825.661 | R30: =+Q30/Q$6*100 -> 26.749996 | S30: 122735.12 | T30: =+S30/S$6*100 -> 28.108072 | U30: 68629.35 | V30: =+U30/U$6*100 -> 29.503279 | W30: 1409772.3 | X30: =+W30/W$6*100 -> 22.626186 | Y30: 54158.158 | Z30: =+Y30/Y$6*100 -> 24.35072 | AA30: 348073.41 | AB30: =+AA30/AA$6*100 -> 26.281165
A31: Superior | B31: 849546.12 | C31: =+B31/$B$6*100 -> 8.9499052 | D31: 838322.21 | E31: =+D31/D$6*100 -> 12.562529 | F31: 809452.52 | G31: =+F31/F$6*100 -> 13.606189 | H31: 27170.913 | I31: =+H31/H$6*100 -> 4.1898293 | J31: 1698.778 | K31: =+J31/J$6*100 -> 1.759787 | M31: 831391.04 | N31: =+M31/M$6*100 -> 12.830295 | O31: 383952.97 | P31: =+O31/O$6*100 -> 23.859767 | Q31: 134969.19 | R31: =+Q31/Q$6*100 -> 37.677019 | S31: 100513.7 | T31: =+S31/S$6*100 -> 23.019053 | U31: 79470.517 | V31: =+U31/U$6*100 -> 34.163821 | W31: 797236.63 | X31: =+W31/W$6*100 -> 12.795275 | Y31: 58054.791 | Z31: =+Y31/Y$6*100 -> 26.102733 | AA31: 233092.63 | AB31: =+AA31/AA$6*100 -> 17.59958
A32: Ns/Nr | B32: 89144.358 | C32: =+B32/$B$6*100 -> 0.93912919 | D32: 58727.658 | E32: =+D32/D$6*100 -> 0.8800529 | F32: 52359.957 | G32: =+F32/F$6*100 -> 0.88012512 | H32: 6526.5208 | I32: =+H32/H$6*100 -> 1.0064074 | J32: 560.20477 | K32: =+J32/J$6*100 -> 0.58032362 | M32: 57812.368 | N32: =+M32/M$6*100 -> 0.89217911 | O32: 16666.997 | P32: =+O32/O$6*100 -> 1.0357275 | Q32: 581.77131 | R32: =+Q32/Q$6*100 -> 0.16240306 | S32: 3258.685 | T32: =+S32/S$6*100 -> 0.74628477 | U32: 2071.7289 | V32: =+U32/U$6*100 -> 0.89062183 | W32: 53841.351 | X32: =+W32/W$6*100 -> 0.86412852 | Y32: 1227.091 | Z32: =+Y32/Y$6*100 -> 0.55172759 | AA32: 8683.0799 | AB32: =+AA32/AA$6*100 -> 0.65561301
A34: Quintil de ingreso del hogar
A35: Quintil 1 | B35: 1929829.7 | C35: =+B35/$B$6*100 -> 20.330612 | D35: 1074745.6 | E35: =+D35/D$6*100 -> 16.105409 | F35: 882171.82 | G35: =+F35/F$6*100 -> 14.828537 | H35: 164483.55 | I35: =+H35/H$6*100 -> 25.363815 | J35: 31127.836 | K35: =+J35/J$6*100 -> 32.245743 | M35: 1029228.8 | N35: =+M35/M$6*100 -> 15.883391 | O35: 136981.8 | P35: =+O35/O$6*100 -> 8.5123806 | Q35: 44897.776 | R35: =+Q35/Q$6*100 -> 12.533338 | S35: 43746.376 | T35: =+S35/S$6*100 -> 10.018536 | U35: 17356.997 | V35: =+U35/U$6*100 -> 7.4616522 | W35: 1013754.3 | X35: =+W35/W$6*100 -> 16.270282 | Y35: 22257.516 | Z35: =+Y35/Y$6*100 -> 10.007477 | AA35: 199091.84 | AB35: =+AA35/AA$6*100 -> 15.032362
A36: Quintil 2 | B36: 1962170.3 | C36: =+B36/$B$6*100 -> 20.671319 | D36: 1217861.5 | E36: =+D36/D$6*100 -> 18.250048 | F36: 1034120.4 | G36: =+F36/F$6*100 -> 17.382659 | H36: 161167.93 | I36: =+H36/H$6*100 -> 24.852537 | J36: 28690.456 | K36: =+J36/J$6*100 -> 29.720828 | M36: 1162110.8 | N36: =+M36/M$6*100 -> 17.934069 | O36: 189851.08 | P36: =+O36/O$6*100 -> 11.797806 | Q36: 46801.988 | R36: =+Q36/Q$6*100 -> 13.064904 | S36: 61121.12 | T36: =+S36/S$6*100 -> 13.997598 | U36: 21632.334 | V36: =+U36/U$6*100 -> 9.2995898 | W36: 1132378.8 | X36: =+W36/W$6*100 -> 18.17415 | Y36: 25658.818 | Z36: =+Y36/Y$6*100 -> 11.536779 | AA36: 232221.6 | AB36: =+AA36/AA$6*100 -> 17.533813
A37: Quintil 3 | B37: 1888374.8 | C37: =+B37/$B$6*100 -> 19.893888 | D37: 1341942.2 | E37: =+D37/D$6*100 -> 20.109438 | F37: 1193646.4 | G37: =+F37/F$6*100 -> 20.064153 | H37: 136366.78 | I37: =+H37/H$6*100 -> 21.028132 | J37: 15922.029 | K37: =+J37/J$6*100 -> 16.493843 | M37: 1303172.8 | N37: =+M37/M$6*100 -> 20.110983 | O37: 278967.01 | P37: =+O37/O$6*100 -> 17.335685 | Q37: 63886.853 | R37: =+Q37/Q$6*100 -> 17.83419 | S37: 75005.675 | T37: =+S37/S$6*100 -> 17.177356 | U37: 35298.322 | V37: =+U37/U$6*100 -> 15.174503 | W37: 1244580.1 | X37: =+W37/W$6*100 -> 19.974928 | Y37: 36221.512 | Z37: =+Y37/Y$6*100 -> 16.286002 | AA37: 257557.52 | AB37: =+AA37/AA$6*100 -> 19.446794
A38: Quintil 4 | B38: 1766614 | C38: 18.611148 | D38: 1389293.8 | E38: 21.567615 | F38: 1318406.1 | G38: 22.161254 | H38: 100709.82 | I38: 15.529731 | J38: 12479.492 | K38: 12.927673 | M38: 1399683.4 | N38: 21.600365 | O38: 407372.1 | P38: 25.315088 | Q38: 87724.356 | R38: 24.488495 | S38: 113423.87 | T38: 25.975664 | U38: 58123.995 | V38: 24.9871 | W38: 1330810.6 | X38: 21.358888 | Y38: 53019.644 | Z38: 23.838818 | AA38: 291426.16 | AB38: 22.004034
A39: Quintil 5 | B39: 1381731.3 | C39: =+B39/$B$6*100 -> 14.556437 | D39: 1234884.1 | E39: =+D39/D$6*100 -> 18.505136 | F39: 1172711 | G39: =+F39/F$6*100 -> 19.712246 | H39: 59983.83 | I39: =+H39/H$6*100 -> 9.2496712 | J39: 4391.3951 | K39: =+J39/J$6*100 -> 4.549105 | M39: 1216446.9 | N39: =+M39/M$6*100 -> 18.7726 | O39: 510756.14 | P39: =+O39/O$6*100 -> 31.739622 | Q39: 91383.167 | R39: =+Q39/Q$6*100 -> 25.509862 | S39: 127360.61 | T39: =+S39/S$6*100 -> 29.167373 | U39: 91765.099 | V39: =+U39/U$6*100 -> 39.449177 | W39: 1152906.6 | X39: =+W39/W$6*100 -> 18.503612 | Y39: 80041.997 | Z39: =+Y39/Y$6*100 -> 35.988673 | AA39: 281166.97 | AB39: =+AA39/AA$6*100 -> 21.229417
A40: No Declaran Ingresos | B40: 563515.72 | C40: =+B40/$B$6*100 -> 5.9365963 | D40: 376427.7 | E40: =+D40/D$6*100 -> 5.6408905 | F40: 348093.63 | G40: =+F40/F$6*100 -> 5.8511498 | H40: 25784.973 | I40: =+H40/H$6*100 -> 3.9761136 | J40: 3921.9569 | K40: =+J40/J$6*100 -> 4.0628077 | M40: 369263.37 | N40: =+M40/M$6*100 -> 5.6985913 | O40: 85278.602 | P40: =+O40/O$6*100 -> 5.2994187 | Q40: 23532.675 | R40: =+Q40/Q$6*100 -> 6.5692109 | S40: 15996.715 | T40: =+S40/S$6*100 -> 3.6634731 | U40: 8439.2588 | V40: =+U40/U$6*100 -> 3.6279786 | W40: 356280.76 | X40: =+W40/W$6*100 -> 5.7181397 | Y40: 5209.3732 | Z40: =+Y40/Y$6*100 -> 2.3422508 | AA40: 62957.441 | AB40: =+AA40/AA$6*100 -> 4.7535803
A41: ='CUADRO 1'!A43 -> Fuente: Instituto Nacional de Estadística (INE). LXXXIV Encuesta Permanente de Hogares de Propósitos Múltiples, junio 2026.
A42: ='CUADRO 1'!A44 -> 1/ Porcentaje por columnas
A43: ='CUADRO 1'!A45 -> 2/ Porcentaje por filas

Sheet CUADRO 3
A1: Cuadro No. 3. Proporción de personas que en los últimos 3 meses tuvo acceso a internet, por razón de uso según dominio, rangos de edad , sexo, nivel educativo y quintil de ingreso del hogar
A2: Categorias | B2: Población total | D2: Total acceso | F2: Razón por la cual utilizó internet
F3: Comunicación (Llamadas nacionales e internacionales, comunicación por correo electrónico o chat, redes sociales) | H3: Busqueda de Información( noticias o navegación por la web en general) | J3: Compras, contratación o pedido de bienes o de servicios | L3: Operaciones de banca electrónica (Interbanca o servicios financieros, pago de servicios, transferencias ) | N3: Educación formal y actividades de capacitación (Clases virtuales, investigar o hacer tareas) | P3: Entretenimiento personal (Uso / descarga de videojuegos, películas, música o programas informáticos etc ) | R3: Actividades Laborales (trabajo desde casa, venta de productos en línea) | T3: Creación de contenido digital | V3: Uso de Inteligencia Artificial | X3: Otra razón
B4: No. | C4: % /1 | D4: No. | E4: % /1 | F4: No. | G4: % /1 | H4: No. | I4: % /1 | J4: No. | K4: % /1 | L4: No. | M4: % /1 | N4: No. | O4: % /1 | P4: No. | Q4: % /1 | R4: No. | S4: % /1 | T4: No. | U4: % /1 | V4: No. | W4: % /1 | X4: No. | Y4: % /1
A5: Total Nacional 2/ | B5: 9492235.9 | C5: =+C8+C12 -> 100 | D5: 6441573.3 | E5: =+D5/$B$5*100 -> 67.861496 | F5: 6242314.1 | G5: =+F5/$D5*100 -> 96.906669 | H5: 2726676 | I5: =+H5/$D5*100 -> 42.329348 | J5: 665538.39 | K5: =+J5/$D5*100 -> 10.331923 | L5: 610120.19 | M5: =+L5/$D5*100 -> 9.4716022 | N5: 990573.35 | O5: =+N5/$D5*100 -> 15.377817 | P5: 3192671.8 | Q5: =+P5/$D5*100 -> 49.563541 | R5: 435730.21 | S5: =+R5/$D5*100 -> 6.7643446 | T5: 100509.43 | U5: =+T5/$D5*100 -> 1.5603243 | V5: 84720.813 | W5: =+V5/$D5*100 -> 1.3152193 | X5: 222408.86 | Y5: =+X5/$D5*100 -> 3.4527102
A7: Dominio
A8: Urbano | B8: 5375333.3 | C8: =+B8/$B$5*100 -> 56.628736 | D8: 4125290.4 | E8: =+D8/D$5*100 -> 64.041659 | F8: 3985627.8 | G8: =+F8/F$5*100 -> 63.848563 | H8: 1910062.7 | I8: =+H8/H$5*100 -> 70.050959 | J8: 556669.52 | K8: =+J8/J$5*100 -> 83.641984 | L8: 544533.75 | M8: =+L8/L$5*100 -> 89.250243 | N8: 675384.26 | O8: =+N8/N$5*100 -> 68.181146 | P8: 2100259.1 | Q8: =+P8/P$5*100 -> 65.783744 | R8: 338946.12 | S8: =+R8/R$5*100 -> 77.788069 | T8: 86655.994 | U8: =+T8/T$5*100 -> 86.216777 | V8: 72007.666 | W8: =+V8/V$5*100 -> 84.994069 | X8: 179334.31 | Y8: =+X8/X$5*100 -> 80.63272
A9: Distrito Central | B9: 1140246 | C9: =+B9/$B$5*100 -> 12.012406 | D9: 931089.06 | E9: =+D9/D$5*100 -> 14.454374 | F9: 908556.9 | G9: =+F9/F$5*100 -> 14.554809 | H9: 461357.15 | I9: =+H9/H$5*100 -> 16.920131 | J9: 163085.94 | K9: =+J9/J$5*100 -> 24.504362 | L9: 159799.28 | M9: =+L9/L$5*100 -> 26.191443 | N9: 176323.89 | O9: =+N9/N$5*100 -> 17.800185 | P9: 392591.52 | Q9: =+P9/P$5*100 -> 12.296645 | R9: 110085.06 | S9: =+R9/R$5*100 -> 25.264501 | T9: 29203.944 | U9: =+T9/T$5*100 -> 29.055923 | V9: 33434.059 | W9: =+V9/V$5*100 -> 39.463808 | X9: 40862.382 | Y9: =+X9/X$5*100 -> 18.372641
A10: San Pedro Sula | B10: 664851.1 | C10: =+B10/$B$5*100 -> 7.004157 | D10: 568351.37 | E10: =+D10/D$5*100 -> 8.8231764 | F10: 542640.37 | G10: =+F10/F$5*100 -> 8.692936 | H10: 297081.36 | I10: =+H10/H$5*100 -> 10.895367 | J10: 134403.99 | K10: =+J10/J$5*100 -> 20.194776 | L10: 149717.93 | M10: =+L10/L$5*100 -> 24.539088 | N10: 85739.443 | O10: =+N10/N$5*100 -> 8.655537 | P10: 301727.25 | Q10: =+P10/P$5*100 -> 9.450619 | R10: 81446.674 | S10: =+R10/R$5*100 -> 18.691996 | T10: 26879.294 | U10: =+T10/T$5*100 -> 26.743056 | V10: 13258.523 | W10: =+V10/V$5*100 -> 15.649665 | X10: 61851.863 | Y10: =+X10/X$5*100 -> 27.809982
A11: Resto Urbano | B11: 3570236.2 | C11: =+B11/$B$5*100 -> 37.612173 | D11: 2625849.9 | E11: =+D11/D$5*100 -> 40.764109 | F11: 2534430.6 | G11: =+F11/F$5*100 -> 40.600818 | H11: 1151624.2 | I11: =+H11/H$5*100 -> 42.235461 | J11: 259179.59 | K11: =+J11/J$5*100 -> 38.942846 | L11: 235016.54 | M11: =+L11/L$5*100 -> 38.519712 | N11: 413320.93 | O11: =+N11/N$5*100 -> 41.725424 | P11: 1405940.3 | Q11: =+P11/P$5*100 -> 44.03648 | R11: 147414.38 | S11: =+R11/R$5*100 -> 33.831572 | T11: 30572.756 | U11: =+T11/T$5*100 -> 30.417798 | V11: 25315.084 | W11: =+V11/V$5*100 -> 29.880596 | X11: 76620.068 | Y11: =+X11/X$5*100 -> 34.450097
A12: Rural | B12: 4116902.7 | C12: =+B12/$B$5*100 -> 43.371264 | D12: 2316282.9 | E12: =+D12/D$5*100 -> 35.958341 | F12: 2256686.2 | G12: =+F12/F$5*100 -> 36.151437 | H12: 816613.31 | I12: =+H12/H$5*100 -> 29.949041 | J12: 108868.88 | K12: =+J12/J$5*100 -> 16.358016 | L12: 65586.44 | M12: =+L12/L$5*100 -> 10.749757 | N12: 315189.09 | O12: =+N12/N$5*100 -> 31.818854 | P12: 1092412.8 | Q12: =+P12/P$5*100 -> 34.216256 | R12: 96784.095 | S12: =+R12/R$5*100 -> 22.211931 | T12: 13853.439 | U12: =+T12/T$5*100 -> 13.783223 | V12: 12713.147 | W12: =+V12/V$5*100 -> 15.005931 | X12: 43074.548 | Y12: =+X12/X$5*100 -> 19.36728
A14: Rangos de edad
A15: Menores de 15 | B15: 1868746 | C15: =+B15/$B$5*100 -> 19.687101 | D15: 701258.72 | E15: =+D15/D$5*100 -> 10.886451 | F15: 441147.45 | G15: =+F15/F$5*100 -> 7.0670498 | H15: 266804.84 | I15: =+H15/H$5*100 -> 9.7849852 | J15: 21803.929 | K15: =+J15/J$5*100 -> 3.2761339 | L15: 3914.7201 | M15: =+L15/L$5*100 -> 0.64163097 | N15: 400632.36 | O15: =+N15/N$5*100 -> 40.444492 | P15: 348345.3 | Q15: =+P15/P$5*100 -> 10.910777 | R15: 4567.4697 | S15: =+R15/R$5*100 -> 1.0482334 | T15: 3039.5011 | U15: =+T15/T$5*100 -> 3.0240954 | V15: 2171.1296 | W15: =+V15/V$5*100 -> 2.5626874 | X15: 10726.722 | Y15: =+X15/X$5*100 -> 4.8229744
A16: De 15 a 29 | B16: 2495101.3 | C16: =+B16/$B$5*100 -> 26.285707 | D16: 2061548.3 | E16: =+D16/D$5*100 -> 32.003801 | F16: 2064674.9 | G16: =+F16/F$5*100 -> 33.075473 | H16: 952703.91 | I16: =+H16/H$5*100 -> 34.940122 | J16: 234989.8 | K16: =+J16/J$5*100 -> 35.308226 | L16: 202451.78 | M16: =+L16/L$5*100 -> 33.182278 | N16: 384411.45 | O16: =+N16/N$5*100 -> 38.806965 | P16: 1127589.7 | Q16: =+P16/P$5*100 -> 35.318059 | R16: 127264.67 | S16: =+R16/R$5*100 -> 29.207218 | T16: 39875.298 | U16: =+T16/T$5*100 -> 39.67319 | V16: 41828.361 | W16: =+V16/V$5*100 -> 49.372001 | X16: 71553.539 | Y16: =+X16/X$5*100 -> 32.172072
A17: De 30 a 44 | B17: 1996650.5 | C17: =+B17/$B$5*100 -> 21.034565 | D17: 1651022 | E17: =+D17/D$5*100 -> 25.630726 | F17: 1671202.4 | G17: =+F17/F$5*100 -> 26.772162 | H17: 756525.67 | I17: =+H17/H$5*100 -> 27.745345 | J17: 207373.72 | K17: =+J17/J$5*100 -> 31.158792 | L17: 231300.07 | M17: =+L17/L$5*100 -> 37.910575 | N17: 127548.18 | O17: =+N17/N$5*100 -> 12.876197 | P17: 853935.08 | Q17: =+P17/P$5*100 -> 26.746723 | R17: 174256.55 | S17: =+R17/R$5*100 -> 39.991844 | T17: 32982.199 | U17: =+T17/T$5*100 -> 32.815029 | V17: 23727.646 | W17: =+V17/V$5*100 -> 28.006868 | X17: 67206.468 | Y17: =+X17/X$5*100 -> 30.217532
A18: De 45 a 59 | B18: 1565332.7 | C18: =+B18/$B$5*100 -> 16.490663 | D18: 1192158.3 | E18: =+D18/D$5*100 -> 18.507253 | F18: 1208662.6 | G18: =+F18/F$5*100 -> 19.362413 | H18: 478947.32 | I18: =+H18/H$5*100 -> 17.565245 | J18: 133561.6 | K18: =+J18/J$5*100 -> 20.068203 | L18: 126081.59 | M18: =+L18/L$5*100 -> 20.665041 | N18: 59744.234 | O18: =+N18/N$5*100 -> 6.0312781 | P18: 539978.38 | Q18: =+P18/P$5*100 -> 16.913056 | R18: 101173.8 | S18: =+R18/R$5*100 -> 23.219369 | T18: 18184.525 | U18: =+T18/T$5*100 -> 18.092356 | V18: 13009.674 | W18: =+V18/V$5*100 -> 15.355936 | X18: 44827.369 | Y18: =+X18/X$5*100 -> 20.155388
A19: De 60 o más | B19: 1566405.4 | C19: =+B19/$B$5*100 -> 16.501965 | D19: 835586 | E19: =+D19/D$5*100 -> 12.971769 | F19: 856626.67 | G19: =+F19/F$5*100 -> 13.722902 | H19: 271694.24 | I19: =+H19/H$5*100 -> 9.9643025 | J19: 67809.343 | K19: =+J19/J$5*100 -> 10.188645 | L19: 46372.03 | M19: =+L19/L$5*100 -> 7.6004746 | N19: 18237.127 | O19: =+N19/N$5*100 -> 1.8410678 | P19: 322823.33 | Q19: =+P19/P$5*100 -> 10.111385 | R19: 28467.716 | S19: =+R19/R$5*100 -> 6.5333354 | T19: 6427.9096 | U19: =+T19/T$5*100 -> 6.3953296 | V19: 3984.0028 | W19: =+V19/V$5*100 -> 4.7025078 | X19: 28094.762 | Y19: =+X19/X$5*100 -> 12.632034
A21: Sexo
A22: Hombre | B22: 4428787.3 | C22: =+B22/$B$5*100 -> 46.656945 | D22: 2958920.5 | E22: =+D22/D$5*100 -> 45.934748 | F22: 2836236.7 | G22: =+F22/F$5*100 -> 45.435662 | H22: 1258373.8 | I22: =+H22/H$5*100 -> 46.15047 | J22: 311480.77 | K22: =+J22/J$5*100 -> 46.801323 | L22: 307439.86 | M22: =+L22/L$5*100 -> 50.390049 | N22: 420331.09 | O22: =+N22/N$5*100 -> 42.433111 | P22: 1489104.2 | Q22: =+P22/P$5*100 -> 46.641318 | R22: 254668.06 | S22: =+R22/R$5*100 -> 58.44627 | T22: 49123.722 | U22: =+T22/T$5*100 -> 48.874738 | V22: 40573.421 | W22: =+V22/V$5*100 -> 47.890736 | X22: 102753.52 | Y22: =+X22/X$5*100 -> 46.20028
A23: Mujer | B23: 5063448.7 | C23: =+B23/$B$5*100 -> 53.343055 | D23: 3482652.8 | E23: =+D23/D$5*100 -> 54.065252 | F23: 3406077.3 | G23: =+F23/F$5*100 -> 54.564338 | H23: 1468302.2 | I23: =+H23/H$5*100 -> 53.84953 | J23: 354057.62 | K23: =+J23/J$5*100 -> 53.198677 | L23: 302680.33 | M23: =+L23/L$5*100 -> 49.609951 | N23: 570242.26 | O23: =+N23/N$5*100 -> 57.566889 | P23: 1703567.6 | Q23: =+P23/P$5*100 -> 53.358682 | R23: 181062.16 | S23: =+R23/R$5*100 -> 41.55373 | T23: 51385.711 | U23: =+T23/T$5*100 -> 51.125262 | V23: 44147.392 | W23: =+V23/V$5*100 -> 52.109264 | X23: 119655.34 | Y23: =+X23/X$5*100 -> 53.79972
A25: Nivel educativo
A26: Sin nivel | B26: 1083571.1 | C26: =+B26/$B$5*100 -> 11.415341 | D26: 367852.34 | E26: =+D26/D$5*100 -> 5.7105978 | F26: 332404.38 | G26: =+F26/F$5*100 -> 5.3250186 | H26: 127432.31 | I26: =+H26/H$5*100 -> 4.6735408 | J26: 15212.574 | K26: =+J26/J$5*100 -> 2.2857546 | L26: 3638.8646 | M26: =+L26/L$5*100 -> 0.59641767 | N26: 19283.448 | O26: =+N26/N$5*100 -> 1.9466957 | P26: 139096.21 | Q26: =+P26/P$5*100 -> 4.3567337 | R26: 5579.2882 | S26: =+R26/R$5*100 -> 1.2804456 | T26: 1439.4612 | U26: =+T26/T$5*100 -> 1.4321653 | V26: 740.47936 | W26: =+V26/V$5*100 -> 0.87402296 | X26: 9556.3974 | Y26: =+X26/X$5*100 -> 4.2967701
A27: Basica 1-6 | B27: 4724015.5 | C27: =+B27/$B$5*100 -> 49.767152 | D27: 2831522.4 | E27: =+D27/D$5*100 -> 43.957 | F27: 2695851.1 | G27: =+F27/F$5*100 -> 43.186727 | H27: 954481.76 | I27: =+H27/H$5*100 -> 35.005324 | J27: 154270.58 | K27: =+J27/J$5*100 -> 23.179816 | L27: 87516.519 | M27: =+L27/L$5*100 -> 14.344144 | N27: 311312.64 | O27: =+N27/N$5*100 -> 31.42752 | P27: 1341149.6 | Q27: =+P27/P$5*100 -> 42.007123 | R27: 106709.69 | S27: =+R27/R$5*100 -> 24.489854 | T27: 17759.173 | U27: =+T27/T$5*100 -> 17.669161 | V27: 6983.6603 | W27: =+V27/V$5*100 -> 8.243146 | X27: 71466.133 | Y27: =+X27/X$5*100 -> 32.132772
A28: Basica 7-9 | B28: 1172132.4 | C28: =+B28/$B$5*100 -> 12.348328 | D28: 920150.21 | E28: =+D28/D$5*100 -> 14.284557 | F28: 877626.92 | G28: =+F28/F$5*100 -> 14.05932 | H28: 402494.56 | I28: =+H28/H$5*100 -> 14.761364 | J28: 63125.256 | K28: =+J28/J$5*100 -> 9.4848406 | L28: 51735.956 | M28: =+L28/L$5*100 -> 8.4796335 | N28: 223845.96 | O28: =+N28/N$5*100 -> 22.597616 | P28: 505822.34 | Q28: =+P28/P$5*100 -> 15.84323 | R28: 41730.833 | S28: =+R28/R$5*100 -> 9.5772181 | T28: 12529.268 | U28: =+T28/T$5*100 -> 12.465764 | V28: 5301.531 | W28: =+V28/V$5*100 -> 6.2576489 | X28: 27946.289 | Y28: =+X28/X$5*100 -> 12.565277
A29: Media | B29: 1573826.3 | C29: =+B29/$B$5*100 -> 16.580144 | D29: 1437243.5 | E29: =+D29/D$5*100 -> 22.311994 | F29: 1445479.7 | G29: =+F29/F$5*100 -> 23.156151 | H29: 702447.47 | I29: =+H29/H$5*100 -> 25.762044 | J29: 197866.93 | K29: =+J29/J$5*100 -> 29.730355 | L29: 189739.43 | M29: =+L29/L$5*100 -> 31.098698 | N29: 211357.29 | O29: =+N29/N$5*100 -> 21.336864 | P29: 745845.47 | Q29: =+P29/P$5*100 -> 23.361169 | R29: 133181.46 | S29: =+R29/R$5*100 -> 30.565119 | T29: 30730.87 | U29: =+T29/T$5*100 -> 30.57511 | V29: 25927.373 | W29: =+V29/V$5*100 -> 30.60331 | X29: 54158.158 | Y29: =+X29/X$5*100 -> 24.35072
A30: Superior | B30: 849546.12 | C30: =+B30/$B$5*100 -> 8.9499052 | D30: 827700.53 | E30: =+D30/D$5*100 -> 12.849354 | F30: 832250.83 | G30: =+F30/F$5*100 -> 13.332409 | H30: 522859.84 | I30: =+H30/H$5*100 -> 19.175723 | J30: 230822.32 | K30: =+J30/J$5*100 -> 34.682044 | L30: 275659.87 | M30: =+L30/L$5*100 -> 45.18124 | N30: 222366.46 | O30: =+N30/N$5*100 -> 22.448258 | P30: 437071.33 | Q30: =+P30/P$5*100 -> 13.689829 | R30: 146103.96 | S30: =+R30/R$5*100 -> 33.530831 | T30: 37813.437 | U30: =+T30/T$5*100 -> 37.621779 | V30: 45474.332 | W30: =+V30/V$5*100 -> 53.675514 | X30: 58054.791 | Y30: =+X30/X$5*100 -> 26.102733
A31: Ns/Nr | B31: 89144.358 | C31: =+B31/$B$5*100 -> 0.93912919 | D31: 57104.336 | E31: =+D31/D$5*100 -> 0.88649672 | F31: 58701.154 | G31: =+F31/F$5*100 -> 0.9403749 | H31: 16960.045 | I31: =+H31/H$5*100 -> 0.62200442 | J31: 4240.7422 | K31: =+J31/J$5*100 -> 0.63718971 | L31: 1829.5527 | M31: =+L31/L$5*100 -> 0.29986759 | N31: 2407.5446 | O31: =+N31/N$5*100 -> 0.24304556 | P31: 23686.888 | Q31: =+P31/P$5*100 -> 0.74191427 | R31: 2424.9804 | S31: =+R31/R$5*100 -> 0.55653254 | T31: 237.22347 | U31: =+T31/T$5*100 -> 0.2360211 | V31: 293.4373 | W31: =+V31/V$5*100 -> 0.34635798 | X31: 1227.091 | Y31: =+X31/X$5*100 -> 0.55172759
A34: Quintil de ingreso del hogar
A35: Quintil 1 | B35: 1929829.7 | C35: 20.330612 | D35: 1024046.6 | E35: 15.897462 | F35: 1001209.2 | G35: 16.039071 | H35: 380689.79 | I35: 13.96168 | J35: 49811.057 | K35: 7.4843251 | L35: 38851.372 | M35: 6.3678226 | N35: 153877.82 | O35: 15.534218 | P35: 481500.15 | Q35: 15.081417 | R35: 33790.63 | S35: 7.754943 | T35: 5818.7356 | U35: 5.7892433 | V35: 7331.2769 | W35: 8.6534544 | X35: 22257.516 | Y35: 10.007477
A36: Quintil 2 | B36: 1962170.3 | C36: 20.671319 | D36: 1165139.2 | E36: 18.087805 | F36: 1116476.6 | G36: 17.885621 | H36: 437123.46 | I36: 16.031368 | J36: 55463.782 | K36: 8.3336713 | L36: 38147.782 | M36: 6.2525028 | N36: 190264.66 | O36: 19.207528 | P36: 575058.72 | Q36: 18.011833 | R36: 45490.129 | S36: 10.439976 | T36: 6632.2371 | U36: 6.5986216 | V36: 5025.7872 | W36: 5.9321754 | X36: 25658.818 | Y36: 11.536779
A37: Quintil 3 | B37: 1888374.8 | C37: 19.893888 | D37: 1284488.6 | E37: 19.940604 | F37: 1241481.2 | G37: 19.888156 | H37: 515000.59 | I37: 18.887488 | J37: 91912.369 | K37: 13.810228 | L37: 74066.698 | M37: 12.13969 | N37: 201508.57 | O37: 20.34262 | P37: 638754.97 | Q37: 20.00691 | R37: 64286.174 | S37: 14.753665 | T37: 11177.508 | U37: 11.120855 | V37: 9151.1476 | W37: 10.801534 | X37: 36221.512 | Y37: 16.286002
A38: Quintil 4 | B38: 1766614 | C38: 18.611148 | D38: 1389293.8 | E38: 21.567615 | F38: 1342565.9 | G38: 21.507504 | H38: 606809.75 | I38: 22.25456 | J38: 170028.67 | K38: 25.547537 | L38: 144570.87 | M38: 23.695474 | N38: 205884.42 | O38: 20.784369 | P38: 700487.71 | Q38: 21.940486 | R38: 101699.22 | S38: 23.339952 | T38: 21770.826 | U38: 21.660481 | V38: 17439.173 | W38: 20.584284 | X38: 53019.644 | Y38: 23.838818
A39: Quintil 5 | B39: 1381731.3 | C39: 14.556437 | D39: 1211933.9 | E39: 18.814253 | F39: 1193684.6 | G39: 19.12247 | H39: 637795.27 | I39: 23.390945 | J39: 264835.54 | K39: 39.792677 | L39: 269051.76 | M39: 44.098157 | N39: 184226.79 | O39: 18.597996 | P39: 619140.99 | Q39: 19.392566 | R39: 170096.6 | S39: 39.037136 | T39: 51255.127 | U39: 50.99534 | V39: 40394.437 | W39: 47.679473 | X39: 80041.997 | Y39: 35.988673
A40: No Declaran Ingresos | B40: 563515.72 | C40: 5.9365963 | D40: 366671.12 | E40: 5.6922604 | F40: 346896.52 | G40: 5.5571783 | H40: 149257.12 | I40: 5.4739589 | J40: 33486.973 | K40: 5.0315614 | L40: 45431.705 | M40: 7.4463534 | N40: 54811.097 | O40: 5.5332699 | P40: 177729.29 | Q40: 5.5667885 | R40: 20367.46 | S40: 4.6743282 | T40: 3854.9988 | U40: 3.8354597 | V40: 5378.9909 | W40: 6.3490784 | X40: 5209.3732 | Y40: 2.3422508
A41: ='CUADRO 2'!A41 -> Fuente: Instituto Nacional de Estadística (INE). LXXXIV Encuesta Permanente de Hogares de Propósitos Múltiples, junio 2026.
A42: ='CUADRO 1'!A44 -> 1/ Porcentaje por columnas
A43: ='CUADRO 1'!A45 -> 2/ Porcentaje por filas
